{"text_format":"1","workbook":"xlsx","n_sheets":7,"sheets":["пр.взв","пр.хода","круги","медали","Ит.пр","наградной лист","Стартовый"],"not_rendered":{"charts":0,"images":1,"macros":1,"external_links":1,"defined_names":2,"comments":0,"pivot_tables":0},"unopened":[],"bounds":{"document_bytes":16777216,"sheet_cells":100000,"rows_first":2000,"rows_last":500,"rows_between":2000,"halvings":0,"cell_chars":16384,"cell_head_chars":4096},"cells_cut":0,"cells_raw":0,"read":"whole","date_system":"1900"}

{"sheet":"пр.взв","index":0,"n_rows":45,"n_cols":34,"rows_kept":45,"cut":false,"hidden":false,"merged":[[0,0,0,7],[2,0,2,7],[4,0,5,0],[4,1,5,1],[4,2,5,2],[4,3,5,3],[4,4,5,5],[1,0,1,7],[6,33,7,34],[38,9,39,9],[38,10,39,10],[38,11,39,11],[44,9,45,9],[44,10,45,10],[44,11,45,11],[42,9,43,9],[42,10,43,10],[42,11,43,11],[3,24,3,30],[4,16,4,18],[4,6,5,6],[4,7,5,7],[40,9,41,9],[40,10,41,10],[40,11,41,11]]}
["ПРОТОКОЛ ВЗВЕШИВАНИЯ "]
[{"$f":"[1]реквизиты!$A$2","v":"Чемпионат России по самбо среди мужчин, женщин и боевому самбо"}]
[{"$f":"[1]реквизиты!$A$3","v":"1-5 марта 2018г.                                              г.Хабаровск"}]
[null,null,null,"В.к. 100 кг.",null,null,null,null,null,null,null,null,null,null,null,null,null,null,null,null,null,null,null,null,"Мандатка"]
["№ п/п","№ п/ж","Ф.И.О.","Дата рожд., разряд","Округ, субъект, город, ведомство",null,"№ карточки","Тренер"]
[null,null,null,null,null,null,null,null,null,null,null,null,null,null,null,null,{"$f":"N7","v":"ЗМС"},{"$f":"N8","v":"КМС"},{"$f":"N9","v":"МС"},{"$f":"N10","v":"МСМК"},{"$f":"N11","v":""},{"$f":"N12","v":""},{"$f":"N13","v":""},null,"Субъект, город.",{"$f":"Q6","v":"ЗМС"},"КМС","МС","МСМК","","",""]
["1",1,"ТЕГЕТАЕВ Алан Дзамбалатович","25.12.1991, МС","ДВФО","Сахалинская обл., Южно-Сахалинск","-","Кардаш ВИ, Кундухов БГ",null,1,{"$f":"IFERROR(RIGHT(D7,LEN(D7)-FIND(\"*\",SUBSTITUTE(D7,\" \",\"*\",LEN(D7)-LEN(SUBSTITUTE(D7,\" \",\"\"))))),D7)","v":"МС"},{"$f":"IFERROR(LEFT(F7,FIND(\",\",F7)-1),F7)","v":"Сахалинская обл."},{"$f":"IFERROR(INDEX(субъект,MATCH(SUM(COUNTIF(M$6:M6,субъект)),COUNTIF(субъект,\"<\"&субъект),0)),\"\")","v":"Амурская обл."},{"$f":"IFERROR(INDEX(разряд,MATCH(SUM(COUNTIF(N$6:N6,разряд)),COUNTIF(разряд,\"<\"&разряд),0)),\"\")","v":"ЗМС"},1,{"$f":"M7","v":"Амурская обл."},{"$f":"SUMIFS($J$7:$J$54,$L$7:$L$54,P7,$K$7:$K$54,Q$6)","v":0},{"$f":"SUMIFS($J$7:$J$54,$L$7:$L$54,P7,$K$7:$K$54,R$6)","v":0},{"$f":"SUMIFS($J$7:$J$54,$L$7:$L$54,P7,$K$7:$K$54,S$6)","v":2},{"$f":"SUMIFS($J$7:$J$54,$L$7:$L$54,P7,$K$7:$K$54,T$6)","v":0},{"$f":"SUMIFS($J$7:$J$54,$L$7:$L$54,P7,$K$7:$K$54,U$6)","v":0},{"$f":"SUMIFS($J$7:$J$54,$L$7:$L$54,P7,$K$7:$K$54,V$6)","v":0},{"$f":"SUMIFS($J$7:$J$54,$L$7:$L$54,P7,$K$7:$K$54,W$6)","v":0},null,{"$f":"P7","v":"Амурская обл."},{"$f":"IF(Q7=0,\" \",Q7)","v":" "},{"$f":"IF(R7=0,\" \",R7)","v":" "},{"$f":"IF(S7=0,\" \",S7)","v":2},{"$f":"IF(T7=0,\" \",T7)","v":" "},{"$f":"IF(U7=0,\" \",U7)","v":" "}," "," ",null,{"$f":"SUM(Z7:AF38)","v":28}]
["2",2,"ТОРГАШОВ Дмитрий Сергеевич","16.03.1993, МСМК","УФО","Свердловская обл., В.Пышма, КС \"УГМК\"","-","Стенников ВГ, Мельников АН",null,1,{"$f":"IFERROR(RIGHT(D8,LEN(D8)-FIND(\"*\",SUBSTITUTE(D8,\" \",\"*\",LEN(D8)-LEN(SUBSTITUTE(D8,\" \",\"\"))))),D8)","v":"МСМК"},{"$f":"IFERROR(LEFT(F8,FIND(\",\",F8)-1),F8)","v":"Свердловская обл."},{"$f":"IFERROR(INDEX(субъект,MATCH(SUM(COUNTIF(M$6:M7,субъект)),COUNTIF(субъект,\"<\"&субъект),0)),\"\")","v":"Брянская обл."},{"$f":"IFERROR(INDEX(разряд,MATCH(SUM(COUNTIF(N$6:N7,разряд)),COUNTIF(разряд,\"<\"&разряд),0)),\"\")","v":"КМС"},2,"Брянская обл.",0,0,0,2,0,0,0,null,{"$f":"P8","v":"Брянская обл."},{"$f":"IF($Y$8=$Y$7,\" \",IF(Q8=0,\" \",Q8))","v":" "},{"$f":"IF($Y$8=$Y$7,\" \",IF(R8=0,\" \",R8))","v":" "},{"$f":"IF($Y$8=$Y$7,\" \",IF(S8=0,\" \",S8))","v":" "},{"$f":"IF($Y$8=$Y$7,\" \",IF(T8=0,\" \",T8))","v":2}," "," "," "]
["3",3,"МИНАКОВ Дмитрий Викторович","14.09.1987, МСМК","ЦФО","Брянская обл., Брянск","-","Самсонов ВВ, Портнов СВ",null,1,"МСМК","Брянская обл.",{"$f":"IFERROR(INDEX(субъект,MATCH(SUM(COUNTIF(M$6:M8,субъект)),COUNTIF(субъект,\"<\"&субъект),0)),\"\")","v":"Краснодарский край"},{"$f":"IFERROR(INDEX(разряд,MATCH(SUM(COUNTIF(N$6:N8,разряд)),COUNTIF(разряд,\"<\"&разряд),0)),\"\")","v":"МС"},3,"Краснодарский край",1,0,1,1,0,0,0,null,"Краснодарский край",{"$f":"IF(OR($Y9=$Y7,$Y9=$Y8),\" \",IF(Q9=0,\" \",Q9))","v":1},{"$f":"IF(OR($Y9=$Y7,$Y9=$Y8),\" \",IF(R9=0,\" \",R9))","v":" "},{"$f":"IF(OR($Y9=$Y7,$Y9=$Y8),\" \",IF(S9=0,\" \",S9))","v":1},{"$f":"IF(OR($Y9=$Y7,$Y9=$Y8),\" \",IF(T9=0,\" \",T9))","v":1}," "," "," "]
["4",4,"ЕФРЕМОВ Александр Юрьевич","08.09.1989, МСМК","ДВФО","Приморский край, Владивосток, Д","-","Иванов АН, Рыженко КВ",null,1,"МСМК","Приморский край",{"$f":"IFERROR(INDEX(субъект,MATCH(SUM(COUNTIF(M$6:M9,субъект)),COUNTIF(субъект,\"<\"&субъект),0)),\"\")","v":"Красноярский край"},{"$f":"IFERROR(INDEX(разряд,MATCH(SUM(COUNTIF(N$6:N9,разряд)),COUNTIF(разряд,\"<\"&разряд),0)),\"\")","v":"МСМК"},4,"Красноярский край",0,0,2,0,0,0,0,null,"Красноярский край",{"$f":"IF(OR($Y10=$Y8,$Y10=$Y9,$Y10=$Y7),\" \",IF(Q10=0,\" \",Q10))","v":" "},{"$f":"IF(OR($Y10=$Y8,$Y10=$Y9,$Y10=$Y7),\" \",IF(R10=0,\" \",R10))","v":" "},{"$f":"IF(OR($Y10=$Y8,$Y10=$Y9,$Y10=$Y7),\" \",IF(S10=0,\" \",S10))","v":2},{"$f":"IF(OR($Y10=$Y8,$Y10=$Y9,$Y10=$Y7),\" \",IF(T10=0,\" \",T10))","v":" "}," "," "," "]
["5",5,"СААКЯН Паруйр Рубикович","24.07.1994, МС","СФО","Красноярский край, Красноярск, Академия борьбы","-","Воробьев АА, Саградян ВО",null,1,"МС","Красноярский край",{"$f":"IFERROR(INDEX(субъект,MATCH(SUM(COUNTIF(M$6:M10,субъект)),COUNTIF(субъект,\"<\"&субъект),0)),\"\")","v":"Курганская обл."},{"$f":"IFERROR(INDEX(разряд,MATCH(SUM(COUNTIF(N$6:N10,разряд)),COUNTIF(разряд,\"<\"&разряд),0)),\"\")","v":""},5,"Курганская обл.",0,0,1,0,0,0,0,null,"Курганская обл.",{"$f":"IF(OR($Y11=$Y9,$Y11=$Y10,$Y11=$Y8,$Y11=$Y7),\" \",IF(Q11=0,\" \",Q11))","v":" "},{"$f":"IF(OR($Y11=$Y9,$Y11=$Y10,$Y11=$Y8,$Y11=$Y7),\" \",IF(R11=0,\" \",R11))","v":" "},{"$f":"IF(OR($Y11=$Y9,$Y11=$Y10,$Y11=$Y8,$Y11=$Y7),\" \",IF(S11=0,\" \",S11))","v":1},{"$f":"IF(OR($Y11=$Y9,$Y11=$Y10,$Y11=$Y8,$Y11=$Y7),\" \",IF(T11=0,\" \",T11))","v":" "}," "," "," "]
["6",6,"ИВАНОВ Дмитрий Андреевич","25.01.1993, МС","ДВФО","Амурская обл., Благовещенск","-","Тришин ВБ",null,1,"МС","Амурская обл.",{"$f":"IFERROR(INDEX(субъект,MATCH(SUM(COUNTIF(M$6:M11,субъект)),COUNTIF(субъект,\"<\"&субъект),0)),\"\")","v":"Москва"},{"$f":"IFERROR(INDEX(разряд,MATCH(SUM(COUNTIF(N$6:N11,разряд)),COUNTIF(разряд,\"<\"&разряд),0)),\"\")","v":""},6,"Москва",1,0,1,0,0,0,0,null,"Москва",{"$f":"IF(OR($Y12=$Y10,$Y12=$Y11,$Y12=$Y9,$Y12=$Y8,$Y12=$Y7),\" \",IF(Q12=0,\" \",Q12))","v":1},{"$f":"IF(OR($Y12=$Y10,$Y12=$Y11,$Y12=$Y9,$Y12=$Y8,$Y12=$Y7),\" \",IF(R12=0,\" \",R12))","v":" "},{"$f":"IF(OR($Y12=$Y10,$Y12=$Y11,$Y12=$Y9,$Y12=$Y8,$Y12=$Y7),\" \",IF(S12=0,\" \",S12))","v":1},{"$f":"IF(OR($Y12=$Y10,$Y12=$Y11,$Y12=$Y9,$Y12=$Y8,$Y12=$Y7),\" \",IF(T12=0,\" \",T12))","v":" "}," "," "," "]
["7",7,"БАШИН Павел Андреевич","05.06.1989, МС","ПФО","Пермский край, Кудымкар, МО","-","Никитин ВВ",null,1,"МС","Пермский край",{"$f":"IFERROR(INDEX(субъект,MATCH(SUM(COUNTIF(M$6:M12,субъект)),COUNTIF(субъект,\"<\"&субъект),0)),\"\")","v":"Московская обл."},{"$f":"IFERROR(INDEX(разряд,MATCH(SUM(COUNTIF(N$6:N12,разряд)),COUNTIF(разряд,\"<\"&разряд),0)),\"\")","v":""},7,"Московская обл.",0,0,1,0,0,0,0,null,"Московская обл.",{"$f":"IF(OR($Y13=$Y11,$Y13=$Y12,$Y13=$Y10,$Y13=$Y9,$Y13=$Y8,$Y13=$Y7),\" \",IF(Q13=0,\" \",Q13))","v":" "},{"$f":"IF(OR($Y13=$Y11,$Y13=$Y12,$Y13=$Y10,$Y13=$Y9,$Y13=$Y8,$Y13=$Y7),\" \",IF(R13=0,\" \",R13))","v":" "},{"$f":"IF(OR($Y13=$Y11,$Y13=$Y12,$Y13=$Y10,$Y13=$Y9,$Y13=$Y8,$Y13=$Y7),\" \",IF(S13=0,\" \",S13))","v":1},{"$f":"IF(OR($Y13=$Y11,$Y13=$Y12,$Y13=$Y10,$Y13=$Y9,$Y13=$Y8,$Y13=$Y7),\" \",IF(T13=0,\" \",T13))","v":" "}," "," "," "]
["8",8,"ШУЛЬГА Виталий Викторович","15.08.1988, МСМК","УФО","Свердловская обл., В.Пышма, КС \"УГМК\"","-","Стенников ВГ, Саркисян АА",null,1,"МСМК","Свердловская обл.",{"$f":"IFERROR(INDEX(субъект,MATCH(SUM(COUNTIF(M$6:M13,субъект)),COUNTIF(субъект,\"<\"&субъект),0)),\"\")","v":"Пензенская обл."},{"$f":"IFERROR(INDEX(разряд,MATCH(SUM(COUNTIF(N$6:N13,разряд)),COUNTIF(разряд,\"<\"&разряд),0)),\"\")","v":""},8,"Пензенская обл.",0,0,1,0,0,0,0,null,"Пензенская обл.",{"$f":"IF(OR($Y14=$Y12,$Y14=$Y13,$Y14=$Y11,$Y14=$Y10,$Y14=$Y9,$Y14=$Y7),\" \",IF(Q14=0,\" \",Q14))","v":" "},{"$f":"IF(OR($Y14=$Y12,$Y14=$Y13,$Y14=$Y11,$Y14=$Y10,$Y14=$Y9,$Y14=$Y7),\" \",IF(R14=0,\" \",R14))","v":" "},{"$f":"IF(OR($Y14=$Y12,$Y14=$Y13,$Y14=$Y11,$Y14=$Y10,$Y14=$Y9,$Y14=$Y7),\" \",IF(S14=0,\" \",S14))","v":1},{"$f":"IF(OR($Y14=$Y12,$Y14=$Y13,$Y14=$Y11,$Y14=$Y10,$Y14=$Y9,$Y14=$Y7),\" \",IF(T14=0,\" \",T14))","v":" "}," "," "," "]
["9",9,"ШХАЛАХОВ Рустам Сафарович","02.11.1993, МС","ЮФО","Краснодарский край, Туапсе, Д","-","Шхалахов АА, Паршин ЮА",null,1,"МС","Краснодарский край",{"$f":"IFERROR(INDEX(субъект,MATCH(SUM(COUNTIF(M$6:M14,субъект)),COUNTIF(субъект,\"<\"&субъект),0)),\"\")","v":"Пермский край"},{"$f":"IFERROR(INDEX(разряд,MATCH(SUM(COUNTIF(N$6:N14,разряд)),COUNTIF(разряд,\"<\"&разряд),0)),\"\")","v":""},9,"Пермский край",0,0,2,0,0,0,0,null,"Пермский край",{"$f":"IF(OR($Y15=$Y13,$Y15=$Y14,$Y15=$Y12,$Y15=$Y11,$Y15=$Y10,$Y15=$Y8,$Y15=$Y7),\" \",IF(Q15=0,\" \",Q15))","v":" "},{"$f":"IF(OR($Y15=$Y13,$Y15=$Y14,$Y15=$Y12,$Y15=$Y11,$Y15=$Y10,$Y15=$Y8,$Y15=$Y7),\" \",IF(R15=0,\" \",R15))","v":" "},{"$f":"IF(OR($Y15=$Y13,$Y15=$Y14,$Y15=$Y12,$Y15=$Y11,$Y15=$Y10,$Y15=$Y8,$Y15=$Y7),\" \",IF(S15=0,\" \",S15))","v":2},{"$f":"IF(OR($Y15=$Y13,$Y15=$Y14,$Y15=$Y12,$Y15=$Y11,$Y15=$Y10,$Y15=$Y8,$Y15=$Y7),\" \",IF(T15=0,\" \",T15))","v":" "}," "," "," "]
["10",10,"МИХАЙЛИН Вячеслав Вячеславович","06.10.1986, ЗМС","М","Москва, \"Самбо-70\", Д","-","Филимонов СН, Павлов ДА",null,1,"ЗМС","Москва",{"$f":"IFERROR(INDEX(субъект,MATCH(SUM(COUNTIF(M$6:M15,субъект)),COUNTIF(субъект,\"<\"&субъект),0)),\"\")","v":"Приморский край"},{"$f":"IFERROR(INDEX(разряд,MATCH(SUM(COUNTIF(N$6:N15,разряд)),COUNTIF(разряд,\"<\"&разряд),0)),\"\")","v":""},10,"Приморский край",0,0,1,1,0,0,0,null,"Приморский край",{"$f":"IF(OR($Y16=$Y14,$Y16=$Y15,$Y16=$Y13,$Y16=$Y12,$Y16=$Y11,$Y16=$Y9,$Y16=$Y8,$Y16=$Y7),\" \",IF(Q16=0,\" \",Q16))","v":" "},{"$f":"IF(OR($Y16=$Y14,$Y16=$Y15,$Y16=$Y13,$Y16=$Y12,$Y16=$Y11,$Y16=$Y9,$Y16=$Y8,$Y16=$Y7),\" \",IF(R16=0,\" \",R16))","v":" "},{"$f":"IF(OR($Y16=$Y14,$Y16=$Y15,$Y16=$Y13,$Y16=$Y12,$Y16=$Y11,$Y16=$Y9,$Y16=$Y8,$Y16=$Y7),\" \",IF(S16=0,\" \",S16))","v":1},{"$f":"IF(OR($Y16=$Y14,$Y16=$Y15,$Y16=$Y13,$Y16=$Y12,$Y16=$Y11,$Y16=$Y9,$Y16=$Y8,$Y16=$Y7),\" \",IF(T16=0,\" \",T16))","v":1}," "," "," "]
["11",11,"ИВАНОВ Анатолий Викторович","05.02.1987, МС","УФО","Курганская обл., Курган, ДЮСШ","-","Стенников МГ",null,1,"МС","Курганская обл.",{"$f":"IFERROR(INDEX(субъект,MATCH(SUM(COUNTIF(M$6:M16,субъект)),COUNTIF(субъект,\"<\"&субъект),0)),\"\")","v":"РСО-Алания"},{"$f":"IFERROR(INDEX(разряд,MATCH(SUM(COUNTIF(N$6:N16,разряд)),COUNTIF(разряд,\"<\"&разряд),0)),\"\")","v":""},11,"РСО-Алания",0,0,1,0,0,0,0,null,"РСО-Алания",{"$f":"IF(OR($Y17=$Y15,$Y17=$Y16,$Y17=$Y14,$Y17=$Y13,$Y17=$Y12,$Y17=$Y10,$Y17=$Y9,$Y17=$Y8,$Y17=$Y7),\" \",IF(Q17=0,\" \",Q17))","v":" "},{"$f":"IF(OR($Y17=$Y15,$Y17=$Y16,$Y17=$Y14,$Y17=$Y13,$Y17=$Y12,$Y17=$Y10,$Y17=$Y9,$Y17=$Y8,$Y17=$Y7),\" \",IF(R17=0,\" \",R17))","v":" "},{"$f":"IF(OR($Y17=$Y15,$Y17=$Y16,$Y17=$Y14,$Y17=$Y13,$Y17=$Y12,$Y17=$Y10,$Y17=$Y9,$Y17=$Y8,$Y17=$Y7),\" \",IF(S17=0,\" \",S17))","v":1},{"$f":"IF(OR($Y17=$Y15,$Y17=$Y16,$Y17=$Y14,$Y17=$Y13,$Y17=$Y12,$Y17=$Y10,$Y17=$Y9,$Y17=$Y8,$Y17=$Y7),\" \",IF(T17=0,\" \",T17))","v":" "}," "," "," "]
["12",12,"ГАЙБАЕВ Артём Римович","06.08.1994, МС","ПФО","Пензенская обл., Пенза, Д","-","Можаров ОВ, Парфенов АФ",null,1,"МС","Пензенская обл.",{"$f":"IFERROR(INDEX(субъект,MATCH(SUM(COUNTIF(M$6:M17,субъект)),COUNTIF(субъект,\"<\"&субъект),0)),\"\")","v":"Рязанская обл."},{"$f":"IFERROR(INDEX(разряд,MATCH(SUM(COUNTIF(N$6:N17,разряд)),COUNTIF(разряд,\"<\"&разряд),0)),\"\")","v":""},12,"Рязанская обл.",0,0,1,0,0,0,0,null,"Рязанская обл.",{"$f":"IF(OR($Y18=$Y16,$Y18=$Y17,$Y18=$Y15,$Y18=$Y14,$Y18=$Y13,$Y18=$Y11,$Y18=$Y10,$Y18=$Y9,$Y18=$Y8,$Y18=$Y7),\" \",IF(Q18=0,\" \",Q18))","v":" "},{"$f":"IF(OR($Y18=$Y16,$Y18=$Y17,$Y18=$Y15,$Y18=$Y14,$Y18=$Y13,$Y18=$Y11,$Y18=$Y10,$Y18=$Y9,$Y18=$Y8,$Y18=$Y7),\" \",IF(R18=0,\" \",R18))","v":" "},{"$f":"IF(OR($Y18=$Y16,$Y18=$Y17,$Y18=$Y15,$Y18=$Y14,$Y18=$Y13,$Y18=$Y11,$Y18=$Y10,$Y18=$Y9,$Y18=$Y8,$Y18=$Y7),\" \",IF(S18=0,\" \",S18))","v":1},{"$f":"IF(OR($Y18=$Y16,$Y18=$Y17,$Y18=$Y15,$Y18=$Y14,$Y18=$Y13,$Y18=$Y11,$Y18=$Y10,$Y18=$Y9,$Y18=$Y8,$Y18=$Y7),\" \",IF(T18=0,\" \",T18))","v":" "}," "," "," "]
["13",13,"АДАЕВ Исмаил Залимханович","09.04.1994, МС","УФО","ХМАО-Югра, Радужный","-","Саркисян АА",null,1,"МС","ХМАО-Югра",{"$f":"IFERROR(INDEX(субъект,MATCH(SUM(COUNTIF(M$6:M18,субъект)),COUNTIF(субъект,\"<\"&субъект),0)),\"\")","v":"Санкт-Петербург"},{"$f":"IFERROR(INDEX(разряд,MATCH(SUM(COUNTIF(N$6:N18,разряд)),COUNTIF(разряд,\"<\"&разряд),0)),\"\")","v":""},13,"Санкт-Петербург",1,0,0,0,0,0,0,null,"Санкт-Петербург",{"$f":"IF(Q19=0,\" \",Q19)","v":1}," "," "," "," "," "," "]
["14",14,"РЕНЕВ Дмитрий Сергеевич","25.05.1987, МС","ПФО","Пермский край, Пермь,  МО","-","Конкин СА, Оборин ЮМ",null,1,"МС","Пермский край",{"$f":"IFERROR(INDEX(субъект,MATCH(SUM(COUNTIF(M$6:M19,субъект)),COUNTIF(субъект,\"<\"&субъект),0)),\"\")","v":"Сахалинская обл."},{"$f":"IFERROR(INDEX(разряд,MATCH(SUM(COUNTIF(N$6:N19,разряд)),COUNTIF(разряд,\"<\"&разряд),0)),\"\")","v":""},14,"Сахалинская обл.",0,0,1,0,0,0,0,null,"Сахалинская обл."," "," ",1," "," "," "," "]
["15",15,"РОЖИН Григорий Алексеевич","09.05.1991, МС","ДВФО","Приморский край, Владивосток, Д","-","Иванов АН, Рыженко КВ",null,1,"МС","Приморский край",{"$f":"IFERROR(INDEX(субъект,MATCH(SUM(COUNTIF(M$6:M20,субъект)),COUNTIF(субъект,\"<\"&субъект),0)),\"\")","v":"Свердловская обл."},{"$f":"IFERROR(INDEX(разряд,MATCH(SUM(COUNTIF(N$6:N20,разряд)),COUNTIF(разряд,\"<\"&разряд),0)),\"\")","v":""},15,"Свердловская обл.",1,0,0,2,0,0,0,null,"Свердловская обл.",1," "," ",2," "," "," "]
["16",16,"ЧЕРНЫШЕНКО Лев Эдуардович","25.08.1999, КМС","ДВФО","Хабаровский край, Хабаровск, МО","-","Мурашко НП",null,1,"КМС","Хабаровский край",{"$f":"IFERROR(INDEX(субъект,MATCH(SUM(COUNTIF(M$6:M21,субъект)),COUNTIF(субъект,\"<\"&субъект),0)),\"\")","v":"Хабаровский край"},{"$f":"IFERROR(INDEX(разряд,MATCH(SUM(COUNTIF(N$6:N21,разряд)),COUNTIF(разряд,\"<\"&разряд),0)),\"\")","v":""},16,"Хабаровский край",0,2,0,0,0,0,0,null,"Хабаровский край"," ",2," "," "," "," "," "]
["17",17,"ТОНКОДУБОВ Илья Алексеевич","17.09.1996, МС","ЦФО","Московская обл., Серебряные Пруды","-","Щиголев СН",null,1,"МС",{"$f":"IFERROR(LEFT(F23,FIND(\",\",F23)-1),F23)","v":"Московская обл."},{"$f":"IFERROR(INDEX(субъект,MATCH(SUM(COUNTIF(M$6:M22,субъект)),COUNTIF(субъект,\"<\"&субъект),0)),\"\")","v":"ХМАО-Югра"},{"$f":"IFERROR(INDEX(разряд,MATCH(SUM(COUNTIF(N$6:N22,разряд)),COUNTIF(разряд,\"<\"&разряд),0)),\"\")","v":""},17,"ХМАО-Югра",0,0,1,0,0,0,0,null,{"$f":"P23","v":"ХМАО-Югра"},{"$f":"IF(Q23=0,\" \",Q23)","v":" "},{"$f":"IF(R23=0,\" \",R23)","v":" "},{"$f":"IF(S23=0,\" \",S23)","v":1},{"$f":"IF(T23=0,\" \",T23)","v":" "},{"$f":"IF(U23=0,\" \",U23)","v":" "}," "," "]
["18",18,"ПЕВНЕВ Александр Андреевич","24.06.1994, МС","СФО","Красноярский край, Красноярск, Академия борьбы","-","Ледже АВ, Калентьев ВИ",null,1,"МС",{"$f":"IFERROR(LEFT(F24,FIND(\",\",F24)-1),F24)","v":"Красноярский край"},{"$f":"IFERROR(INDEX(субъект,MATCH(SUM(COUNTIF(M$6:M23,субъект)),COUNTIF(субъект,\"<\"&субъект),0)),\"\")","v":""},{"$f":"IFERROR(INDEX(разряд,MATCH(SUM(COUNTIF(N$6:N23,разряд)),COUNTIF(разряд,\"<\"&разряд),0)),\"\")","v":""},18,"",0,0,0,0,0,0,0,null,{"$f":"P24","v":""},{"$f":"IF(Q24=0,\" \",Q24)","v":" "}," "," "," "," "," "," "]
["19",19,"ЛОЕВЕЦ Александр Игоревич","12.12.1996, МС","ДВФО","Амурская обл., Благовещенск","-","Курашов ВИ, Магдыч МВ",null,1,"МС","Амурская обл.",{"$f":"IFERROR(INDEX(субъект,MATCH(SUM(COUNTIF(M$6:M24,субъект)),COUNTIF(субъект,\"<\"&субъект),0)),\"\")","v":""},{"$f":"IFERROR(INDEX(разряд,MATCH(SUM(COUNTIF(N$6:N24,разряд)),COUNTIF(разряд,\"<\"&разряд),0)),\"\")","v":""},19,"",0,0,0,0,0,0,0,null,""," "," "," "," "," "," "," "]
["20",20,"ОСИПЕНКО Виктор Иванович","08.01.1991, МСМК","ЦФО","Брянская обл., Брянск","-","Портнов СВ, Зубов РП",null,1,"МСМК","Брянская обл.",{"$f":"IFERROR(INDEX(субъект,MATCH(SUM(COUNTIF(M$6:M25,субъект)),COUNTIF(субъект,\"<\"&субъект),0)),\"\")","v":""},{"$f":"IFERROR(INDEX(разряд,MATCH(SUM(COUNTIF(N$6:N25,разряд)),COUNTIF(разряд,\"<\"&разряд),0)),\"\")","v":""},20,"",0,0,0,0,0,0,0,null,""," "," "," "," "," "," "," "]
["21",21,"ЧЕРНОСКУЛОВ Альсим Леонидович","11.05.1983, ЗМС","УФО","Свердловская обл., В.Пышма, КС \"УГМК\"","-","Стенников ВГ, Мельников АН",null,1,"ЗМС","Свердловская обл.",{"$f":"IFERROR(INDEX(субъект,MATCH(SUM(COUNTIF(M$6:M26,субъект)),COUNTIF(субъект,\"<\"&субъект),0)),\"\")","v":""},{"$f":"IFERROR(INDEX(разряд,MATCH(SUM(COUNTIF(N$6:N26,разряд)),COUNTIF(разряд,\"<\"&разряд),0)),\"\")","v":""},21,"",0,0,0,0,0,0,0,null,""," "," "," "," "," "," "," "]
["22",22,"ШЕВЦОВ Данила Михайлович","15.06.1999, КМС","ДВФО","Хабаровский край, Хабаровск, МО","-","Мурашко НП",null,1,"КМС","Хабаровский край",{"$f":"IFERROR(INDEX(субъект,MATCH(SUM(COUNTIF(M$6:M27,субъект)),COUNTIF(субъект,\"<\"&субъект),0)),\"\")","v":""},{"$f":"IFERROR(INDEX(разряд,MATCH(SUM(COUNTIF(N$6:N27,разряд)),COUNTIF(разряд,\"<\"&разряд),0)),\"\")","v":""},22,"",0,0,0,0,0,0,0,null,""," "," "," "," "," "," "," "]
["23",23,"ЕЛИСЕЕВ Дмитрий Михайлович","25.09.1992, ЗМС","СПб","Санкт-Петербург, КШВСМ-Д","-","Савельев АВ",null,1,"ЗМС","Санкт-Петербург",{"$f":"IFERROR(INDEX(субъект,MATCH(SUM(COUNTIF(M$6:M28,субъект)),COUNTIF(субъект,\"<\"&субъект),0)),\"\")","v":""},{"$f":"IFERROR(INDEX(разряд,MATCH(SUM(COUNTIF(N$6:N28,разряд)),COUNTIF(разряд,\"<\"&разряд),0)),\"\")","v":""},23,"",0,0,0,0,0,0,0,null,""," "," "," "," "," "," "," "]
["24",24,"КУРГИНЯН Эдуард Славикович","16.12.1986, ЗМС","ЮФО","Краснодарский край, Армавир, Д","-","Бабоян РМ",null,1,"ЗМС","Краснодарский край",{"$f":"IFERROR(INDEX(субъект,MATCH(SUM(COUNTIF(M$6:M29,субъект)),COUNTIF(субъект,\"<\"&субъект),0)),\"\")","v":""},{"$f":"IFERROR(INDEX(разряд,MATCH(SUM(COUNTIF(N$6:N29,разряд)),COUNTIF(разряд,\"<\"&разряд),0)),\"\")","v":""},24,"",0,0,0,0,0,0,0,null,""," "," "," "," "," "," "," "]
["25",25,"КИСЕЛЕВ Руслан Владимирович","16.01.1992, МС","М","Москва, \"Самбо-70\", Д","-","Конин ВИ, Богомолов ВА",null,1,"МС","Москва",{"$f":"IFERROR(INDEX(субъект,MATCH(SUM(COUNTIF(M$6:M30,субъект)),COUNTIF(субъект,\"<\"&субъект),0)),\"\")","v":""},{"$f":"IFERROR(INDEX(разряд,MATCH(SUM(COUNTIF(N$6:N30,разряд)),COUNTIF(разряд,\"<\"&разряд),0)),\"\")","v":""},25,"",0,0,0,0,0,0,0,null,""," "," "," "," "," "," "," "]
["26",26,"ШАМХАЛОВ Руслан Хайбулаевич","06.05.1991, МС","ЦФО","Рязанская обл., Рязань, ПР","-","Гаврюшин ЮА, Гришакин КВ",null,1,"МС","Рязанская обл.",{"$f":"IFERROR(INDEX(субъект,MATCH(SUM(COUNTIF(M$6:M31,субъект)),COUNTIF(субъект,\"<\"&субъект),0)),\"\")","v":""},{"$f":"IFERROR(INDEX(разряд,MATCH(SUM(COUNTIF(N$6:N31,разряд)),COUNTIF(разряд,\"<\"&разряд),0)),\"\")","v":""},26,"",0,0,0,0,0,0,0,null,""," "," "," "," "," "," "," "]
["27",27,"БАЯЛИЕВ Мовладий Хусеевич","06.04.1984, МСМК","ЮФО","Краснодарский край, Армавир, Д","-","Бабоян РМ",null,1,"МСМК","Краснодарский край",{"$f":"IFERROR(INDEX(субъект,MATCH(SUM(COUNTIF(M$6:M32,субъект)),COUNTIF(субъект,\"<\"&субъект),0)),\"\")","v":""},{"$f":"IFERROR(INDEX(разряд,MATCH(SUM(COUNTIF(N$6:N32,разряд)),COUNTIF(разряд,\"<\"&разряд),0)),\"\")","v":""},27,"",0,0,0,0,0,0,0,null,""," "," "," "," "," "," "," "]
["28",28,"БИТИЕВ Давид Мурманович","06.01.1988, МС","СКФО","РСО-Алания, Д","-","Лолаев Т, Гасиев М.",null,1,"МС","РСО-Алания",{"$f":"IFERROR(INDEX(субъект,MATCH(SUM(COUNTIF(M$6:M33,субъект)),COUNTIF(субъект,\"<\"&субъект),0)),\"\")","v":""},{"$f":"IFERROR(INDEX(разряд,MATCH(SUM(COUNTIF(N$6:N33,разряд)),COUNTIF(разряд,\"<\"&разряд),0)),\"\")","v":""},28,"",0,0,0,0,0,0,0,null,""," "," "," "," "," "," "," "]
["29",null,null,null,null,null,null,null,null,1,0,0,{"$f":"IFERROR(INDEX(субъект,MATCH(SUM(COUNTIF(M$6:M34,субъект)),COUNTIF(субъект,\"<\"&субъект),0)),\"\")","v":""},{"$f":"IFERROR(INDEX(разряд,MATCH(SUM(COUNTIF(N$6:N34,разряд)),COUNTIF(разряд,\"<\"&разряд),0)),\"\")","v":""},29,"",0,0,0,0,0,0,0,null,""," "," "," "," "," "," "," "]
["30",null,null,null,null,null,null,null,null,1,0,0,{"$f":"IFERROR(INDEX(субъект,MATCH(SUM(COUNTIF(M$6:M35,субъект)),COUNTIF(субъект,\"<\"&субъект),0)),\"\")","v":""},{"$f":"IFERROR(INDEX(разряд,MATCH(SUM(COUNTIF(N$6:N35,разряд)),COUNTIF(разряд,\"<\"&разряд),0)),\"\")","v":""},30,"",0,0,0,0,0,0,0,null,""," "," "," "," "," "," "," "]
["31",null,null,null,null,null,null,null,null,1,0,0,{"$f":"IFERROR(INDEX(субъект,MATCH(SUM(COUNTIF(M$6:M36,субъект)),COUNTIF(субъект,\"<\"&субъект),0)),\"\")","v":""},{"$f":"IFERROR(INDEX(разряд,MATCH(SUM(COUNTIF(N$6:N36,разряд)),COUNTIF(разряд,\"<\"&разряд),0)),\"\")","v":""},31,"",0,0,0,0,0,0,0,null,""," "," "," "," "," "," "," "]
["32",null,null,null,null,null,null,null,null,1,0,0,{"$f":"IFERROR(INDEX(субъект,MATCH(SUM(COUNTIF(M$6:M37,субъект)),COUNTIF(субъект,\"<\"&субъект),0)),\"\")","v":""},{"$f":"IFERROR(INDEX(разряд,MATCH(SUM(COUNTIF(N$6:N37,разряд)),COUNTIF(разряд,\"<\"&разряд),0)),\"\")","v":""},32,"",0,0,0,0,0,0,0,null,""," "," "," "," "," "," "," "]
["гл.судья:"]
[]
["гл.секретарь:"]
[]
["судьи:"]
[]
["врач:"]

{"sheet":"пр.хода","index":1,"n_rows":44,"n_cols":34,"rows_kept":44,"cut":false,"hidden":false,"merged":[[2,2,2,19],[22,22,23,22],[24,21,25,21],[6,23,7,23],[16,22,17,22],[14,21,15,21],[16,21,17,21],[12,22,13,22],[16,23,17,23],[24,23,25,23],[22,23,23,23],[6,21,7,21],[8,3,9,3],[18,23,19,23],[10,23,11,23],[12,23,13,23],[6,22,7,22],[8,22,9,22],[6,20,7,20],[10,22,11,22],[14,22,15,22],[18,22,19,22],[4,8,5,8],[3,20,4,20],[39,16,40,19],[8,21,9,21],[18,21,19,21],[20,20,21,20],[20,21,21,21],[22,20,23,20],[22,21,23,21],[10,20,11,20],[10,21,11,21],[8,20,9,20],[12,20,13,20],[18,20,19,20],[16,20,17,20],[18,3,19,3],[20,3,21,3],[22,3,23,3],[25,10,26,13],[23,11,23,12],[19,11,19,12],[32,3,33,3],[24,3,25,3],[30,21,31,21],[32,20,33,20],[32,21,33,21],[26,20,27,20],[26,21,27,21],[28,20,29,20],[28,21,29,21],[24,20,25,20],[17,10,18,13],[26,3,27,3],[28,3,29,3],[31,9,32,9],[30,20,31,20],[30,3,31,3],[36,3,37,3],[36,20,37,20],[36,21,37,21],[34,3,35,3],[34,20,35,20],[34,21,35,21],[24,0,25,0],[24,1,25,1],[24,2,25,2],[36,0,37,0],[36,1,37,1],[36,2,37,2],[30,0,31,0],[30,1,31,1],[30,2,31,2],[32,0,33,0],[32,1,33,1],[32,2,33,2],[34,0,35,0],[26,0,27,0],[26,1,27,1],[26,2,27,2],[28,0,29,0],[28,1,29,1],[28,2,29,2],[34,1,35,1],[34,2,35,2],[18,0,19,0],[18,1,19,1],[18,2,19,2],[20,0,21,0],[20,1,21,1],[20,2,21,2],[22,0,23,0],[22,1,23,1],[22,2,23,2],[6,2,7,2],[6,3,7,3],[14,0,15,0],[12,0,13,0],[12,1,13,1],[10,1,11,1],[10,0,11,0],[14,1,15,1],[16,0,17,0],[16,1,17,1],[16,2,17,2],[16,3,17,3],[36,23,37,23],[36,22,37,22],[20,23,21,23],[32,23,33,23],[26,23,27,23],[28,23,29,23],[34,23,35,23],[26,22,27,22],[28,22,29,22],[30,23,31,23],[20,22,21,22],[34,22,35,22],[32,22,33,22],[24,22,25,22],[30,22,31,22],[8,23,9,23],[14,23,15,23],[0,0,0,23],[3,21,4,22],[1,0,1,23],[4,23,5,23],[4,15,5,18],[2,21,2,22],[4,0,5,0],[3,5,3,18],[15,11,15,12],[14,20,15,20],[12,21,13,21],[14,2,15,2],[10,3,11,3],[12,3,13,3],[10,2,11,2],[12,2,13,2],[14,3,15,3],[8,0,9,0],[8,1,9,1],[8,2,9,2],[6,0,7,0],[6,1,7,1]]}
["ВСЕРОССИЙСКАЯ ФЕДЕРАЦИЯ САМБО"]
["ПРОТОКОЛ ХОДА СОРЕВНОВАНИЙ        "]
[null,null,{"$f":"[1]реквизиты!$A$2","v":"Чемпионат России по самбо среди мужчин, женщин и боевому самбо"}]
[null,null,null,null,null,{"$f":"[1]реквизиты!$A$3","v":"1-5 марта 2018г.                                              г.Хабаровск"},null,null,null,null,null,null,null,null,null,null,null,null,null,null,{"$f":"AG5&\" \"&AH5","v":"28 участников"},{"$f":"HYPERLINK(пр.взв!D4)","v":"В.к. 100 кг."}]
["А",null,null,null,null,null,null,null,"А1",null,{"$f":"AE7","v":5},null,null,null,null,{"$f":"IFERROR(VLOOKUP(O6,пр.взв!$B$7:$H$38,2,0),\"\")","v":"КИСЕЛЕВ Руслан Владимирович"},null,null,null,null,null,null,null,"Б",null,null,null,null,null,null,null,null,{"$f":"пр.взв!AH7","v":28},"участников"]
[null,null,null,null,null,null,null,null,null,null,null,13,null,null,{"$f":"O11","v":25},null,null,null,null,null,null,null,null,null,null,null,null,null,null,null,"ут"]
[1,{"$f":"IFERROR(VLOOKUP(A7,пр.взв!$B$7:$H$38,2,0),\"\")","v":"ТЕГЕТАЕВ Алан Дзамбалатович"},{"$f":"IFERROR(VLOOKUP(A7,пр.взв!$B$7:$H$38,3,0),\"\")","v":"25.12.1991, МС"},{"$f":"IFERROR(VLOOKUP(A7,пр.взв!$B$7:$H$38,5,0),\"\")","v":"Сахалинская обл., Южно-Сахалинск"},null,null,null,null,null,null,{"$f":"AE8","v":13},"4\\0",25,null,null,null,"3 м",null,null,null,{"$f":"IFERROR(VLOOKUP(X7,пр.взв!$B$7:$H$38,2,0),\"\")","v":"ТОРГАШОВ Дмитрий Сергеевич"},{"$f":"IFERROR(VLOOKUP(X7,пр.взв!$B$7:$H$38,3,0),\"\")","v":"16.03.1993, МСМК"},{"$f":"IFERROR(VLOOKUP(X7,пр.взв!$B$7:$H$38,5,0),\"\")","v":"Свердловская обл., В.Пышма, КС \"УГМК\""},2,null,null,null,null,null,{"$f":"IF(K5=L6,K7,K5)","v":5},{"$f":"IF(I14=\"\",\" \",IF(I14=A7,A9,IF(I14=A9,A7,IF(I14=A11,A13,IF(I14=A13,A11,IF(I14=A15,A17,IF(I14=A17,A15,IF(I14=A19,A21,A19))))))))","v":5}]
[null,null,null,null,17,null,null,null,null,null,null,{"$f":"AE11","v":25},"4\\0",null,null,null,null,null,null,2,null,null,null,null,null,null,null,null,null,{"$f":"IF(K9=L10,K11,K9)","v":7},{"$f":"IF(I14=\"\",\" \",IF(E8=I14,E12,IF(E12=I14,E8,IF(E16=I14,E20,E16))))","v":13}]
[17,{"$f":"IFERROR(VLOOKUP(A9,пр.взв!$B$7:$H$38,2,0),\"\")","v":"ТОНКОДУБОВ Илья Алексеевич"},{"$f":"IFERROR(VLOOKUP(A9,пр.взв!$B$7:$H$38,3,0),\"\")","v":"17.09.1996, МС"},{"$f":"IFERROR(VLOOKUP(A9,пр.взв!$B$7:$H$38,5,0),\"\")","v":"Московская обл., Серебряные Пруды"},"4\\0",null,null,null,null,null,{"$f":"AE9","v":7},null,null,25,null,null,null,null,null,"3\\0",{"$f":"IFERROR(VLOOKUP(X9,пр.взв!$B$7:$H$38,2,0),\"\")","v":"ПЕВНЕВ Александр Андреевич"},{"$f":"IFERROR(VLOOKUP(X9,пр.взв!$B$7:$H$38,3,0),\"\")","v":"24.06.1994, МС"},{"$f":"IFERROR(VLOOKUP(X9,пр.взв!$B$7:$H$38,5,0),\"\")","v":"Красноярский край, Красноярск, Академия борьбы"},18,null,null,null,null,null,{"$f":"IF(K33=L34,K35,K33)","v":18},{"$f":"IF(I30=\"\",\" \",IF(I30=A23,A25,IF(I30=A25,A23,IF(I30=A27,A29,IF(I30=A29,A27,IF(I30=A31,A33,IF(I30=A33,A31,IF(I30=A35,A37,A35))))))))","v":7}]
[null,null,null,null,null,null,25,null,null,null,null,15,null,"3\\0",null,null,null,2,null,null,null,null,null,null,null,null,null,null,null,{"$f":"IF(K37=L38,K39,K37)","v":4},{"$f":"IF(I30=\"\",\" \",IF(E24=I30,E28,IF(E28=I30,E24,IF(E32=I30,E36,E32))))","v":15}]
[9,{"$f":"IFERROR(VLOOKUP(A11,пр.взв!$B$7:$H$38,2,0),\"\")","v":"ШХАЛАХОВ Рустам Сафарович"},{"$f":"IFERROR(VLOOKUP(A11,пр.взв!$B$7:$H$38,3,0),\"\")","v":"02.11.1993, МС"},{"$f":"IFERROR(VLOOKUP(A11,пр.взв!$B$7:$H$38,5,0),\"\")","v":"Краснодарский край, Туапсе, Д"},null,null,"3\\0",null,null,null,{"$f":"AE10","v":15},null,27,null,25,null,null,"3\\0",null,null,{"$f":"IFERROR(VLOOKUP(X11,пр.взв!$B$7:$H$38,2,0),\"\")","v":"МИХАЙЛИН Вячеслав Вячеславович"},{"$f":"IFERROR(VLOOKUP(X11,пр.взв!$B$7:$H$38,3,0),\"\")","v":"06.10.1986, ЗМС"},{"$f":"IFERROR(VLOOKUP(X11,пр.взв!$B$7:$H$38,5,0),\"\")","v":"Москва, \"Самбо-70\", Д"},10,null,null,{"$f":"IF(OR(I14=A7,I14=A9),\" \",IF(E8=A7,A9,A7))","v":1},{"$f":"IF(AA11=\" \",AA12,AA11)","v":1},null,null,{"$f":"IF(I14=\"\",\" \",IF(I14=G10,G18,G10))","v":25}]
[null,null,null,null,25,null,null,null,null,null,null,{"$f":"AE12","v":27},"3\\0",null,"4\\0",null,null,null,null,10,null,null,null,null,null,null,{"$f":"IF(OR(I14=A11,I14=A13),\" \",IF(E12=A11,A13,A11))","v":9},{"$f":"IF(OR(AA11=\" \",AA12=\" \"),AA13,AA12)","v":9},{"$f":"IF(AND(OR(E8=I14,E12=I14),E16=G18),E20,IF(AND(OR(E8=I14,E12=I14),E20=G18),E16,IF(E8=G10,E12,E8)))","v":17},{"$f":"IF(L6=M7,L8,L6)","v":13},{"$f":"IF(I30=\"\",\" \",IF(I30=G26,G34,G26))","v":27}]
[25,{"$f":"IFERROR(VLOOKUP(A13,пр.взв!$B$7:$H$38,2,0),\"\")","v":"КИСЕЛЕВ Руслан Владимирович"},{"$f":"IFERROR(VLOOKUP(A13,пр.взв!$B$7:$H$38,3,0),\"\")","v":"16.01.1992, МС"},{"$f":"IFERROR(VLOOKUP(A13,пр.взв!$B$7:$H$38,5,0),\"\")","v":"Москва, \"Самбо-70\", Д"},"2\\0",null,null,null,null,null,null,null,null,{"$f":"AE13","v":2},null,null,null,null,null,"4\\0",{"$f":"IFERROR(VLOOKUP(X13,пр.взв!$B$7:$H$38,2,0),\"\")","v":"ШАМХАЛОВ Руслан Хайбулаевич"},{"$f":"IFERROR(VLOOKUP(X13,пр.взв!$B$7:$H$38,3,0),\"\")","v":"06.05.1991, МС"},{"$f":"IFERROR(VLOOKUP(X13,пр.взв!$B$7:$H$38,5,0),\"\")","v":"Рязанская обл., Рязань, ПР"},26,null,null,{"$f":"IF(OR(I14=A15,I14=A17),\" \",IF(E16=A15,A17,A15))","v":" "},{"$f":"IF(OR(AA11=\" \",AA12=\" \",AA13=\" \"),AA14,AA13)","v":29},null,{"$f":"IF(L10=M11,L12,L10)","v":15},{"$f":"IF(N22=\"\",\" \",IF(N22=P14,P30,P14))","v":2}]
[null,null,null,null,null,null,null,null,21,null,null,null,null,null,null,2,null,null,null,null,null,null,null,null,null,null,{"$f":"IF(OR(I14=A19,I14=A21),\" \",IF(E20=A19,A21,A19))","v":29},null,null,{"$f":"IF(L34=M35,L36,L34)","v":6},{"$f":"IF(K17=\"\",\"\",IF(K22=K17,N22,K22))","v":20}]
[5,{"$f":"IFERROR(VLOOKUP(A15,пр.взв!$B$7:$H$38,2,0),\"\")","v":"СААКЯН Паруйр Рубикович"},{"$f":"IFERROR(VLOOKUP(A15,пр.взв!$B$7:$H$38,3,0),\"\")","v":"24.07.1994, МС"},{"$f":"IFERROR(VLOOKUP(A15,пр.взв!$B$7:$H$38,5,0),\"\")","v":"Красноярский край, Красноярск, Академия борьбы"},null,null,null,null,"3\\0",null,null,null,null,null,null,"4\\0",null,null,null,null,{"$f":"IFERROR(VLOOKUP(X15,пр.взв!$B$7:$H$38,2,0),\"\")","v":"ИВАНОВ Дмитрий Андреевич"},{"$f":"IFERROR(VLOOKUP(X15,пр.взв!$B$7:$H$38,3,0),\"\")","v":"25.01.1993, МС"},{"$f":"IFERROR(VLOOKUP(X15,пр.взв!$B$7:$H$38,5,0),\"\")","v":"Амурская обл., Благовещенск"},6,null,null,null,null,null,{"$f":"IF(L38=M39,L40,L38)","v":24}]
[null,null,null,null,21,null,null,null,null,null,null,"1 место",null,null,null,null,null,null,null,6,null,null,null,null,null,null,{"$f":"IF(OR(I$30=A23,I$30=A25),\" \",IF(E24=A23,A25,A23))","v":3},{"$f":"IF(AA16=\" \",AA17,AA16)","v":3}]
[21,{"$f":"IFERROR(VLOOKUP(A17,пр.взв!$B$7:$H$38,2,0),\"\")","v":"ЧЕРНОСКУЛОВ Альсим Леонидович"},{"$f":"IFERROR(VLOOKUP(A17,пр.взв!$B$7:$H$38,3,0),\"\")","v":"11.05.1983, ЗМС"},{"$f":"IFERROR(VLOOKUP(A17,пр.взв!$B$7:$H$38,5,0),\"\")","v":"Свердловская обл., В.Пышма, КС \"УГМК\""},"3\\0",null,null,null,null,null,21,null,null,null,null,null,null,null,null,"4\\0",{"$f":"IFERROR(VLOOKUP(X17,пр.взв!$B$7:$H$38,2,0),\"\")","v":"ШЕВЦОВ Данила Михайлович"},{"$f":"IFERROR(VLOOKUP(X17,пр.взв!$B$7:$H$38,3,0),\"\")","v":"15.06.1999, КМС"},{"$f":"IFERROR(VLOOKUP(X17,пр.взв!$B$7:$H$38,5,0),\"\")","v":"Хабаровский край, Хабаровск, МО"},22,null,null,{"$f":"IF(OR(I$30=A27,I$30=A29),\" \",IF(E28=A27,A29,A27))","v":11},{"$f":"IF(OR(AA16=\" \",AA17=\" \"),AA18,AA17)","v":11},{"$f":"IF(AND(OR(E24=I30,E28=I30),E32=G34),E36,IF(AND(OR(E24=I30,E28=I30),E36=G34),E32,IF(E24=G26,E28,E24)))","v":19},{"$f":"IF(M7=N9,M11,M7)","v":27}]
[null,null,null,null,null,null,21,null,null,null,{"$f":"IFERROR(VLOOKUP(K17,пр.взв!$B$7:$H$38,2,0),\"\")","v":"ЧЕРНОСКУЛОВ Альсим Леонидович"},null,null,null,null,null,null,6,null,null,null,null,null,null,null,null,{"$f":"IF(OR(I$30=A31,I$30=A33),\" \",IF(E32=A31,A33,A31))","v":" "},{"$f":"IF(OR(AA16=\" \",AA17=\" \",AA18=\" \"),AA19,AA18)","v":31},null,{"$f":"IF(M35=N37,M39,M35)","v":12}]
[13,{"$f":"IFERROR(VLOOKUP(A19,пр.взв!$B$7:$H$38,2,0),\"\")","v":"АДАЕВ Исмаил Залимханович"},{"$f":"IFERROR(VLOOKUP(A19,пр.взв!$B$7:$H$38,3,0),\"\")","v":"09.04.1994, МС"},{"$f":"IFERROR(VLOOKUP(A19,пр.взв!$B$7:$H$38,5,0),\"\")","v":"ХМАО-Югра, Радужный"},null,null,"4\\0",null,null,null,null,null,null,null,null,null,null,"4\\0",null,null,{"$f":"IFERROR(VLOOKUP(X19,пр.взв!$B$7:$H$38,2,0),\"\")","v":"РЕНЕВ Дмитрий Сергеевич"},{"$f":"IFERROR(VLOOKUP(X19,пр.взв!$B$7:$H$38,3,0),\"\")","v":"25.05.1987, МС"},{"$f":"IFERROR(VLOOKUP(X19,пр.взв!$B$7:$H$38,5,0),\"\")","v":"Пермский край, Пермь,  МО"},14,null,null,{"$f":"IF(OR(I$30=A35,I$30=A37),\" \",IF(E36=A35,A37,A35))","v":31}]
[null,null,null,null,13,null,null,null,null,null,"2\\0",null,null,null,null,null,null,null,null,14,null,null,null,null,null,null,null,null,null,{"$f":"IF(N9=O11,N13,N9)","v":2},{"$f":"IF(P14=\"\",\" \",IF(P14=X7,X9,IF(P14=X9,X7,IF(P14=X11,X13,IF(P14=X13,X11,IF(P14=X15,X17,IF(P14=X17,X15,IF(P14=X19,X21,X19))))))))","v":18}]
[29,{"$f":"IFERROR(VLOOKUP(A21,пр.взв!$B$7:$H$38,2,0),\"\")","v":""},{"$f":"IFERROR(VLOOKUP(A21,пр.взв!$B$7:$H$38,3,0),\"\")","v":""},{"$f":"IFERROR(VLOOKUP(A21,пр.взв!$B$7:$H$38,5,0),\"\")","v":""},null,null,null,null,null,null,null,null,null,null,null,null,null,null,null,null,{"$f":"IFERROR(VLOOKUP(X21,пр.взв!$B$7:$H$38,2,0),\"\")","v":""},{"$f":"IFERROR(VLOOKUP(X21,пр.взв!$B$7:$H$38,3,0),\"\")","v":""},{"$f":"IFERROR(VLOOKUP(X21,пр.взв!$B$7:$H$38,5,0),\"\")","v":""},30,null,null,{"$f":"IF(OR(P14=X7,P14=X9),\" \",IF(T8=X7,X9,X7))","v":" "},{"$f":"IF(AA21=\" \",AA22,AA21)","v":26},null,{"$f":"IF(N37=O39,N41,N37)","v":10},{"$f":"IF(P14=\"\",\" \",IF(P14=T8,T12,IF(P14=T12,T8,IF(P14=T16,T20,T16))))","v":10}]
[null,null,null,null,null,null,null,null,null,null,21,null,null,20,null,null,null,null,null,null,null,null,null,null,null,null,{"$f":"IF(OR(P14=X11,P14=X13),\" \",IF(T12=X11,X13,X11))","v":26},{"$f":"IF(OR(AA21=\" \",AA22=\" \"),AA23,AA22)","v":22},{"$f":"IF(AND(OR(T8=P14,T12=P14),T16=R18),T20,IF(AND(OR(T8=P14,T12=P14),T20=R18),T16,IF(T8=R10,T12,T8)))","v":14},null,{"$f":"IF(P30=\"\",\" \",IF(P30=X23,X25,IF(P30=X25,X23,IF(P30=X27,X29,IF(P30=X29,X27,IF(P30=X31,X33,IF(P30=X33,X31,IF(P30=X35,X37,X35))))))))","v":4}]
[3,{"$f":"IFERROR(VLOOKUP(A23,пр.взв!$B$7:$H$38,2,0),\"\")","v":"МИНАКОВ Дмитрий Викторович"},{"$f":"IFERROR(VLOOKUP(A23,пр.взв!$B$7:$H$38,3,0),\"\")","v":"14.09.1987, МСМК"},{"$f":"IFERROR(VLOOKUP(A23,пр.взв!$B$7:$H$38,5,0),\"\")","v":"Брянская обл., Брянск"},null,null,null,null,null,null,"2\\0",null,null,"4\\0",null,null,null,null,null,null,{"$f":"IFERROR(VLOOKUP(X23,пр.взв!$B$7:$H$38,2,0),\"\")","v":"ЕФРЕМОВ Александр Юрьевич"},{"$f":"IFERROR(VLOOKUP(X23,пр.взв!$B$7:$H$38,3,0),\"\")","v":"08.09.1989, МСМК"},{"$f":"IFERROR(VLOOKUP(X23,пр.взв!$B$7:$H$38,5,0),\"\")","v":"Приморский край, Владивосток, Д"},4,null,null,{"$f":"IF(OR(P14=X15,P14=X17),\" \",IF(T16=X15,X17,X15))","v":22},{"$f":"IF(OR(AA21=\" \",AA22=\" \",AA23=\" \"),AA24,AA23)","v":30},null,null,{"$f":"IF(P30=\"\",\" \",IF(P30=T24,T28,IF(P30=T28,T24,IF(P30=T32,T36,T32))))","v":12}]
[null,null,null,null,19,null,null,null,null,null,null,"2 место",null,null,null,null,null,null,null,20,null,null,null,null,null,null,{"$f":"IF(OR(P14=X19,P14=X21),\" \",IF(T20=X19,X21,X19))","v":30},null,null,null,{"$f":"IF(P14=\"\",\" \",IF(P14=R10,R18,R10))","v":6}]
[19,{"$f":"IFERROR(VLOOKUP(A25,пр.взв!$B$7:$H$38,2,0),\"\")","v":"ЛОЕВЕЦ Александр Игоревич"},{"$f":"IFERROR(VLOOKUP(A25,пр.взв!$B$7:$H$38,3,0),\"\")","v":"12.12.1996, МС"},{"$f":"IFERROR(VLOOKUP(A25,пр.взв!$B$7:$H$38,5,0),\"\")","v":"Амурская обл., Благовещенск"},"3\\1",null,null,null,null,null,{"$f":"AE14","v":20},null,null,null,null,null,null,null,null,"3\\0",{"$f":"IFERROR(VLOOKUP(X25,пр.взв!$B$7:$H$38,2,0),\"\")","v":"ОСИПЕНКО Виктор Иванович"},{"$f":"IFERROR(VLOOKUP(X25,пр.взв!$B$7:$H$38,3,0),\"\")","v":"08.01.1991, МСМК"},{"$f":"IFERROR(VLOOKUP(X25,пр.взв!$B$7:$H$38,5,0),\"\")","v":"Брянская обл., Брянск"},20,null,null,null,null,null,null,{"$f":"IF(P30=\"\",\" \",IF(P30=R26,R34,R26))","v":24}]
[null,null,null,null,null,null,27,null,null,null,{"$f":"IFERROR(VLOOKUP(K25,пр.взв!$B$7:$H$38,2,0),\"\")","v":"ОСИПЕНКО Виктор Иванович"},null,null,null,null,null,null,20,null,null,null,null,null,null,null,null,{"$f":"IF(OR(P30=X23,P30=X25),\" \",IF(T24=X23,X25,X23))","v":" "},{"$f":"IF(AA26=\" \",AA27,AA26)","v":28},null,null,{"$f":"IF(K22=\"\",\" \",IF(K22=I14,I30,I14))","v":23}]
[11,{"$f":"IFERROR(VLOOKUP(A27,пр.взв!$B$7:$H$38,2,0),\"\")","v":"ИВАНОВ Анатолий Викторович"},{"$f":"IFERROR(VLOOKUP(A27,пр.взв!$B$7:$H$38,3,0),\"\")","v":"05.02.1987, МС"},{"$f":"IFERROR(VLOOKUP(A27,пр.взв!$B$7:$H$38,5,0),\"\")","v":"Курганская обл., Курган, ДЮСШ"},null,null,"3\\0",null,null,null,null,null,null,null,null,null,null,"3\\0",null,null,{"$f":"IFERROR(VLOOKUP(X27,пр.взв!$B$7:$H$38,2,0),\"\")","v":"ГАЙБАЕВ Артём Римович"},{"$f":"IFERROR(VLOOKUP(X27,пр.взв!$B$7:$H$38,3,0),\"\")","v":"06.08.1994, МС"},{"$f":"IFERROR(VLOOKUP(X27,пр.взв!$B$7:$H$38,5,0),\"\")","v":"Пензенская обл., Пенза, Д"},12,null,null,{"$f":"IF(OR(P30=X27,P30=X29),\" \",IF(T28=X27,X29,X27))","v":28},{"$f":"IF(OR(AA26=\" \",AA27=\" \"),AA28,AA27)","v":8},{"$f":"IF(AND(OR(T24=P30,T28=P30),T32=R34),T36,IF(AND(OR(T24=P30,T28=P30),T36=R34),T32,IF(T24=R26,T28,T24)))","v":16}]
[null,null,null,null,27,null,null,null,null,null,null,null,null,null,null,null,null,null,null,12,null,null,null,null,null,null,{"$f":"IF(OR(P30=X31,P30=X33),\" \",IF(T32=X31,X33,X31))","v":8},{"$f":"IF(OR(AA26=\" \",AA27=\" \",AA28=\" \"),AA29,AA28)","v":32}]
[27,{"$f":"IFERROR(VLOOKUP(A29,пр.взв!$B$7:$H$38,2,0),\"\")","v":"БАЯЛИЕВ Мовладий Хусеевич"},{"$f":"IFERROR(VLOOKUP(A29,пр.взв!$B$7:$H$38,3,0),\"\")","v":"06.04.1984, МСМК"},{"$f":"IFERROR(VLOOKUP(A29,пр.взв!$B$7:$H$38,5,0),\"\")","v":"Краснодарский край, Армавир, Д"},"2\\0",null,null,null,null,null,null,null,null,null,null,null,null,null,null,"3\\0",{"$f":"IFERROR(VLOOKUP(X29,пр.взв!$B$7:$H$38,2,0),\"\")","v":"БИТИЕВ Давид Мурманович"},{"$f":"IFERROR(VLOOKUP(X29,пр.взв!$B$7:$H$38,3,0),\"\")","v":"06.01.1988, МС"},{"$f":"IFERROR(VLOOKUP(X29,пр.взв!$B$7:$H$38,5,0),\"\")","v":"РСО-Алания, Д"},28,null,null,{"$f":"IF(OR(P30=X35,P30=X37),\" \",IF(T36=X35,X37,X35))","v":32}]
[null,null,null,null,null,null,null,null,23,null,null,null,null,null,null,20]
[7,{"$f":"IFERROR(VLOOKUP(A31,пр.взв!$B$7:$H$38,2,0),\"\")","v":"БАШИН Павел Андреевич"},{"$f":"IFERROR(VLOOKUP(A31,пр.взв!$B$7:$H$38,3,0),\"\")","v":"05.06.1989, МС"},{"$f":"IFERROR(VLOOKUP(A31,пр.взв!$B$7:$H$38,5,0),\"\")","v":"Пермский край, Кудымкар, МО"},null,null,null,null,"4\\0",null,null,null,null,null,null,"3\\0",null,null,null,null,{"$f":"IFERROR(VLOOKUP(X31,пр.взв!$B$7:$H$38,2,0),\"\")","v":"ШУЛЬГА Виталий Викторович"},{"$f":"IFERROR(VLOOKUP(X31,пр.взв!$B$7:$H$38,3,0),\"\")","v":"15.08.1988, МСМК"},{"$f":"IFERROR(VLOOKUP(X31,пр.взв!$B$7:$H$38,5,0),\"\")","v":"Свердловская обл., В.Пышма, КС \"УГМК\""},8]
[null,null,null,null,23,null,null,null,null,"Б1",null,null,null,null,null,null,null,null,null,24]
[23,{"$f":"IFERROR(VLOOKUP(A33,пр.взв!$B$7:$H$38,2,0),\"\")","v":"ЕЛИСЕЕВ Дмитрий Михайлович"},{"$f":"IFERROR(VLOOKUP(A33,пр.взв!$B$7:$H$38,3,0),\"\")","v":"25.09.1992, ЗМС"},{"$f":"IFERROR(VLOOKUP(A33,пр.взв!$B$7:$H$38,5,0),\"\")","v":"Санкт-Петербург, КШВСМ-Д"},"4\\0",null,null,null,null,null,{"$f":"AE20","v":18},null,null,null,null,null,null,null,null,"3\\0",{"$f":"IFERROR(VLOOKUP(X33,пр.взв!$B$7:$H$38,2,0),\"\")","v":"КУРГИНЯН Эдуард Славикович"},{"$f":"IFERROR(VLOOKUP(X33,пр.взв!$B$7:$H$38,3,0),\"\")","v":"16.12.1986, ЗМС"},{"$f":"IFERROR(VLOOKUP(X33,пр.взв!$B$7:$H$38,5,0),\"\")","v":"Краснодарский край, Армавир, Д"},24]
[null,null,null,null,null,null,23,null,null,null,null,10,null,null,null,null,null,24]
[15,{"$f":"IFERROR(VLOOKUP(A35,пр.взв!$B$7:$H$38,2,0),\"\")","v":"РОЖИН Григорий Алексеевич"},{"$f":"IFERROR(VLOOKUP(A35,пр.взв!$B$7:$H$38,3,0),\"\")","v":"09.05.1991, МС"},{"$f":"IFERROR(VLOOKUP(A35,пр.взв!$B$7:$H$38,5,0),\"\")","v":"Приморский край, Владивосток, Д"},null,null,"4\\0",null,null,null,{"$f":"AE21","v":10},"3\\0",10,null,null,null,null,"3\\0",null,null,{"$f":"IFERROR(VLOOKUP(X35,пр.взв!$B$7:$H$38,2,0),\"\")","v":"ЧЕРНЫШЕНКО Лев Эдуардович"},{"$f":"IFERROR(VLOOKUP(X35,пр.взв!$B$7:$H$38,3,0),\"\")","v":"25.08.1999, КМС"},{"$f":"IFERROR(VLOOKUP(X35,пр.взв!$B$7:$H$38,5,0),\"\")","v":"Хабаровский край, Хабаровск, МО"},16]
[null,null,null,null,15,null,null,null,null,null,null,{"$f":"AE24","v":6},"3\\0",null,null,null,null,null,null,16]
[31,{"$f":"IFERROR(VLOOKUP(A37,пр.взв!$B$7:$H$38,2,0),\"\")","v":""},{"$f":"IFERROR(VLOOKUP(A37,пр.взв!$B$7:$H$38,3,0),\"\")","v":""},{"$f":"IFERROR(VLOOKUP(A37,пр.взв!$B$7:$H$38,5,0),\"\")","v":""},null,null,null,null,null,null,{"$f":"AE22","v":4},null,null,10,null,null,null,null,null,null,{"$f":"IFERROR(VLOOKUP(X37,пр.взв!$B$7:$H$38,2,0),\"\")","v":""},{"$f":"IFERROR(VLOOKUP(X37,пр.взв!$B$7:$H$38,3,0),\"\")","v":""},{"$f":"IFERROR(VLOOKUP(X37,пр.взв!$B$7:$H$38,5,0),\"\")","v":""},32]
[null,null,null,null,null,null,null,null,null,null,null,12,null,"3\\0"]
[null,null,null,null,null,null,null,null,null,null,{"$f":"AE23","v":12},"3\\0",12,null,23,{"$f":"O39","v":23}]
[{"$f":"[1]реквизиты!$A$6","v":"Гл. судья, судья ВК"},null,null,null,null,{"$f":"[1]реквизиты!$G$6","v":"С.Г. Шкедов"},null,null,null,null,null,{"$f":"AE25","v":24},null,null,"3\\0",null,{"$f":"IFERROR(VLOOKUP(P39,пр.взв!$B$7:$H$38,2,0),\"\")","v":"ЕЛИСЕЕВ Дмитрий Михайлович"}]
[null,null,null,null,null,{"$f":"[1]реквизиты!$G$7","v":"/г. Владивосток/"},null,null,null,null,null,null,null,{"$f":"AE26","v":23}]
[{"$f":"[1]реквизиты!$A$8","v":"Гл. секретарь, судья ВК"},null,null,null,null,{"$f":"[1]реквизиты!$G$8","v":"Р.М. Закиров"},null,null,null,null,null,null,null,null,null,null,null,"3 м"]
[null,null,null,null,null,{"$f":"[1]реквизиты!$G$9","v":"/г. Пермь/"}]
[""]

{"sheet":"круги","index":2,"n_rows":103,"n_cols":20,"rows_kept":103,"cut":false,"hidden":false,"merged":[[99,14,99,15],[37,14,37,15],[57,4,57,5],[57,14,57,15],[69,4,69,5],[69,14,69,15],[77,4,77,5],[77,14,77,15],[90,4,90,5],[90,14,90,15],[49,14,50,14],[47,14,48,14],[45,14,46,14],[43,14,44,14],[41,14,42,14],[91,10,94,10],[99,4,99,5],[97,6,98,6],[97,7,98,7],[95,6,96,6],[95,7,96,7],[95,8,96,8],[95,9,96,9],[91,6,92,6],[25,4,26,4],[19,4,20,4],[17,4,18,4],[27,14,28,14],[25,14,26,14],[19,14,20,14],[17,14,18,14],[27,6,28,6],[27,7,28,7],[19,13,20,13],[17,7,18,7],[17,8,18,8],[19,12,20,12],[17,13,18,13],[100,16,101,16],[100,17,101,17],[100,18,101,18],[100,10,103,10],[100,11,101,11],[100,12,101,12],[100,13,101,13],[100,19,101,19],[102,11,103,11],[102,12,103,12],[102,13,103,13],[102,15,103,15],[102,16,103,16],[102,17,103,17],[102,18,103,18],[102,19,103,19],[100,15,101,15],[102,14,103,14],[100,14,101,14],[95,16,96,16],[95,17,96,17],[95,18,96,18],[95,10,98,10],[95,11,96,11],[95,12,96,12],[95,13,96,13],[95,14,96,14],[95,19,96,19],[97,11,98,11],[97,12,98,12],[97,13,98,13],[97,15,98,15],[97,16,98,16],[97,17,98,17],[97,18,98,18],[97,19,98,19],[95,15,96,15],[97,14,98,14],[91,19,92,19],[93,11,94,11],[93,12,94,12],[93,13,94,13],[93,15,94,15],[93,16,94,16],[93,17,94,17],[93,18,94,18],[93,19,94,19],[91,15,92,15],[91,16,92,16],[91,17,92,17],[91,18,92,18],[91,11,92,11],[91,12,92,12],[91,13,92,13],[93,14,94,14],[91,14,92,14],[100,0,103,0],[100,1,101,1],[100,2,101,2],[100,3,101,3],[100,5,101,5],[100,6,101,6],[100,7,101,7],[100,8,101,8],[100,9,101,9],[102,1,103,1],[102,2,103,2],[102,3,103,3],[102,5,103,5],[102,6,103,6],[102,7,103,7],[102,8,103,8],[102,9,103,9],[102,4,103,4],[100,4,101,4],[91,1,92,1],[91,2,92,2],[91,3,92,3],[93,1,94,1],[93,2,94,2],[93,3,94,3],[91,5,92,5],[95,0,98,0],[95,1,96,1],[95,2,96,2],[95,3,96,3],[97,1,98,1],[97,2,98,2],[97,3,98,3],[93,5,94,5],[91,0,94,0],[95,5,96,5],[97,5,98,5],[91,7,92,7],[91,8,92,8],[91,9,92,9],[93,9,94,9],[93,6,94,6],[93,7,94,7],[93,8,94,8],[97,8,98,8],[97,9,98,9],[86,18,87,18],[86,19,87,19],[88,1,89,1],[88,2,89,2],[88,3,89,3],[88,5,89,5],[88,6,89,6],[88,7,89,7],[86,7,87,7],[86,8,87,8],[88,8,89,8],[88,9,89,9],[88,18,89,18],[88,19,89,19],[88,13,89,13],[88,15,89,15],[88,16,89,16],[88,17,89,17],[88,11,89,11],[88,12,89,12],[86,15,87,15],[86,16,87,16],[86,17,87,17],[86,9,87,9],[86,10,89,10],[86,11,87,11],[86,12,87,12],[88,14,89,14],[86,14,87,14],[86,0,89,0],[86,1,87,1],[86,2,87,2],[86,3,87,3],[86,5,87,5],[86,6,87,6],[88,4,89,4],[86,4,87,4],[86,13,87,13],[84,4,85,4],[84,13,85,13],[84,15,85,15],[84,16,85,16],[84,17,85,17],[82,18,83,18],[82,19,83,19],[84,18,85,18],[84,19,85,19],[84,14,85,14],[82,14,83,14],[80,18,81,18],[80,19,81,19],[82,0,85,0],[82,1,83,1],[82,2,83,2],[82,3,83,3],[82,5,83,5],[82,6,83,6],[84,8,85,8],[84,9,85,9],[82,13,83,13],[82,15,83,15],[82,16,83,16],[82,17,83,17],[82,9,83,9],[82,10,85,10],[82,11,83,11],[82,12,83,12],[84,1,85,1],[84,2,85,2],[84,3,85,3],[84,5,85,5],[84,6,85,6],[84,7,85,7],[80,13,81,13],[80,16,81,16],[80,17,81,17],[80,9,81,9],[80,10,81,10],[80,11,81,11],[80,12,81,12],[84,11,85,11],[84,12,85,12],[80,14,81,15],[80,6,81,6],[80,7,81,7],[80,8,81,8],[80,0,81,0],[80,1,81,1],[80,2,81,2],[80,3,81,3],[80,4,81,5],[82,7,83,7],[82,8,83,8],[73,18,74,18],[73,19,74,19],[75,1,76,1],[75,2,76,2],[75,3,76,3],[75,5,76,5],[75,6,76,6],[75,7,76,7],[75,8,76,8],[75,9,76,9],[75,18,76,18],[75,19,76,19],[75,13,76,13],[75,15,76,15],[75,16,76,16],[75,17,76,17],[75,4,76,4],[75,14,76,14],[73,14,74,14],[73,0,76,0],[73,1,74,1],[73,2,74,2],[73,3,74,3],[73,5,74,5],[73,6,74,6],[73,7,74,7],[73,8,74,8],[73,13,74,13],[73,9,74,9],[73,10,76,10],[73,11,74,11],[73,12,74,12],[75,11,76,11],[75,12,76,12],[73,4,74,4],[71,0,72,0],[71,1,72,1],[71,2,72,2],[71,3,72,3],[71,4,72,5],[71,13,72,13],[71,16,72,16],[71,17,72,17],[71,9,72,9],[71,10,72,10],[71,11,72,11],[71,12,72,12],[71,14,72,15],[67,18,68,18],[67,19,68,19],[67,13,68,13],[67,15,68,15],[67,16,68,16],[67,17,68,17],[67,11,68,11],[67,12,68,12],[71,6,72,6],[71,7,72,7],[71,8,72,8],[71,18,72,18],[71,19,72,19],[67,14,68,14],[67,2,68,2],[67,3,68,3],[67,5,68,5],[67,6,68,6],[67,7,68,7],[65,7,66,7],[65,8,66,8],[67,8,68,8],[67,9,68,9],[67,4,68,4],[65,4,66,4],[61,18,62,18],[61,19,62,19],[63,18,64,18],[63,19,64,19],[63,14,64,14],[61,14,62,14],[65,0,68,0],[65,1,66,1],[65,2,66,2],[65,3,66,3],[65,5,66,5],[65,6,66,6],[65,13,66,13],[65,15,66,15],[65,16,66,16],[65,17,66,17],[65,9,66,9],[65,10,68,10],[65,11,66,11],[65,12,66,12],[65,14,66,14],[65,18,66,18],[65,19,66,19],[67,1,68,1],[59,18,60,18],[59,19,60,19],[61,0,64,0],[61,1,62,1],[61,2,62,2],[61,3,62,3],[61,5,62,5],[61,6,62,6],[63,8,64,8],[63,9,64,9],[61,13,62,13],[61,15,62,15],[61,16,62,16],[61,17,62,17],[61,9,62,9],[61,10,64,10],[61,11,62,11],[61,12,62,12],[63,1,64,1],[63,2,64,2],[63,3,64,3],[63,5,64,5],[63,6,64,6],[63,7,64,7],[59,13,60,13],[97,4,98,4],[95,4,96,4],[93,4,94,4],[91,4,92,4],[82,4,83,4],[59,16,60,16],[59,17,60,17],[59,9,60,9],[59,10,60,10],[59,11,60,11],[59,12,60,12],[59,14,60,15],[63,11,64,11],[63,12,64,12],[63,13,64,13],[63,15,64,15],[63,16,64,16],[63,17,64,17],[73,15,74,15],[73,16,74,16],[73,17,74,17],[78,0,78,9],[78,10,78,19],[59,0,60,0],[59,1,60,1],[59,2,60,2],[59,3,60,3],[59,6,60,6],[59,4,60,5],[59,7,60,7],[59,8,60,8],[61,7,62,7],[61,8,62,8],[53,10,56,10],[53,11,54,11],[53,12,54,12],[55,11,56,11],[55,12,56,12],[53,13,54,13],[53,15,54,15],[55,6,56,6],[55,7,56,7],[55,13,56,13],[55,15,56,15],[55,8,56,8],[55,9,56,9],[55,14,56,14],[53,14,54,14],[53,0,56,0],[53,1,54,1],[53,2,54,2],[53,3,54,3],[53,5,54,5],[53,6,54,6],[55,1,56,1],[55,2,56,2],[55,3,56,3],[55,5,56,5],[51,13,52,13],[51,15,52,15],[51,11,52,11],[51,12,52,12],[51,18,52,18],[51,19,52,19],[53,18,54,18],[53,19,54,19],[55,18,56,18],[55,19,56,19],[53,16,54,16],[53,17,54,17],[55,16,56,16],[55,17,56,17],[51,14,52,14],[51,3,52,3],[51,5,52,5],[51,6,52,6],[51,7,52,7],[49,7,50,7],[49,8,50,8],[51,8,52,8],[51,9,52,9],[53,7,54,7],[53,8,54,8],[53,9,54,9],[45,18,46,18],[45,19,46,19],[47,18,48,18],[47,19,48,19],[49,0,52,0],[49,1,50,1],[49,2,50,2],[49,3,50,3],[49,5,50,5],[49,6,50,6],[49,13,50,13],[49,15,50,15],[49,16,50,16],[49,17,50,17],[49,9,50,9],[49,10,52,10],[49,11,50,11],[49,12,50,12],[51,16,52,16],[51,17,52,17],[49,18,50,18],[49,19,50,19],[51,1,52,1],[51,2,52,2],[47,2,48,2],[47,3,48,3],[47,5,48,5],[47,6,48,6],[47,7,48,7],[47,13,48,13],[47,15,48,15],[47,16,48,16],[47,17,48,17],[43,15,44,15],[43,16,44,16],[43,17,44,17],[47,11,48,11],[47,12,48,12],[43,18,44,18],[43,19,44,19],[45,0,48,0],[45,1,46,1],[45,2,46,2],[45,3,46,3],[45,5,46,5],[45,6,46,6],[47,8,48,8],[47,9,48,9],[45,13,46,13],[45,15,46,15],[45,16,46,16],[45,17,46,17],[45,9,46,9],[45,10,48,10],[45,11,46,11],[45,12,46,12],[47,1,48,1],[43,3,44,3],[43,5,44,5],[43,6,44,6],[43,7,44,7],[43,8,44,8],[43,9,44,9],[45,7,46,7],[45,8,46,8],[43,13,44,13],[39,18,40,18],[39,19,40,19],[41,0,44,0],[41,1,42,1],[41,2,42,2],[41,3,42,3],[41,5,42,5],[41,6,42,6],[41,7,42,7],[41,8,42,8],[41,13,42,13],[41,15,42,15],[41,16,42,16],[41,17,42,17],[41,9,42,9],[41,10,44,10],[41,11,42,11],[41,12,42,12],[43,11,44,11],[43,12,44,12],[41,18,42,18],[41,19,42,19],[43,1,44,1],[43,2,44,2],[35,16,36,16],[35,17,36,17],[35,8,36,8],[35,9,36,9],[39,0,40,0],[39,1,40,1],[39,2,40,2],[39,3,40,3],[39,6,40,6],[39,4,40,5],[39,7,40,7],[39,8,40,8],[39,13,40,13],[39,16,40,16],[39,17,40,17],[39,9,40,9],[39,10,40,10],[39,11,40,11],[39,12,40,12],[35,6,36,6],[39,14,40,15],[35,14,36,14],[35,15,36,15],[37,4,37,5],[35,18,36,18],[35,19,36,19],[33,0,36,0],[33,1,34,1],[33,2,34,2],[33,3,34,3],[33,5,34,5],[33,6,34,6],[35,1,36,1],[35,2,36,2],[35,3,36,3],[35,5,36,5],[33,16,34,16],[33,17,34,17],[33,9,34,9],[33,10,36,10],[33,11,34,11],[33,12,34,12],[35,11,36,11],[35,12,36,12],[33,13,34,13],[33,15,34,15],[35,7,36,7],[35,13,36,13],[31,18,32,18],[31,19,32,19],[33,18,34,18],[33,19,34,19],[29,18,30,18],[29,19,30,19],[31,1,32,1],[31,2,32,2],[31,3,32,3],[31,5,32,5],[31,6,32,6],[31,7,32,7],[29,7,30,7],[29,8,30,8],[31,8,32,8],[31,9,32,9],[33,14,34,14],[31,14,32,14],[29,14,30,14],[31,15,32,15],[33,7,34,7],[33,8,34,8],[31,13,32,13],[31,11,32,11],[27,16,28,16],[27,17,28,17],[27,8,28,8],[27,9,28,9],[29,0,32,0],[29,1,30,1],[29,2,30,2],[29,3,30,3],[29,5,30,5],[29,6,30,6],[29,4,30,4],[31,4,32,4],[29,13,30,13],[29,15,30,15],[29,16,30,16],[29,17,30,17],[29,9,30,9],[29,10,32,10],[29,11,30,11],[29,12,30,12],[31,16,32,16],[31,17,32,17],[31,12,32,12],[27,4,28,4],[27,18,28,18],[27,19,28,19],[25,0,28,0],[25,1,26,1],[25,2,26,2],[25,3,26,3],[25,5,26,5],[25,6,26,6],[27,1,28,1],[27,2,28,2],[27,3,28,3],[27,5,28,5],[25,16,26,16],[25,17,26,17],[25,9,26,9],[25,10,28,10],[25,11,26,11],[25,12,26,12],[27,11,28,11],[27,12,28,12],[25,13,26,13],[25,15,26,15],[27,13,28,13],[27,15,28,15],[23,18,24,18],[23,19,24,19],[25,18,26,18],[25,19,26,19],[21,18,22,18],[21,19,22,19],[23,1,24,1],[23,2,24,2],[23,3,24,3],[23,5,24,5],[23,6,24,6],[23,7,24,7],[21,7,22,7],[21,8,22,8],[23,8,24,8],[23,9,24,9],[23,14,24,14],[21,14,22,14],[23,15,24,15],[25,7,26,7],[25,8,26,8],[23,13,24,13],[23,11,24,11],[23,12,24,12],[21,15,22,15],[21,16,22,16],[21,17,22,17],[21,9,22,9],[21,10,24,10],[21,11,22,11],[21,12,22,12],[23,16,24,16],[23,17,24,17],[21,0,24,0],[21,1,22,1],[21,2,22,2],[21,3,22,3],[21,5,22,5],[21,6,22,6],[21,4,22,4],[23,4,24,4],[21,13,22,13],[17,15,18,15],[19,6,20,6],[19,7,20,7],[19,15,20,15],[19,16,20,16],[19,17,20,17],[19,8,20,8],[19,9,20,9],[15,18,16,18],[15,19,16,19],[17,18,18,18],[17,19,18,19],[15,14,16,14],[19,18,20,18],[19,19,20,19],[17,0,20,0],[17,1,18,1],[17,2,18,2],[17,3,18,3],[17,5,18,5],[17,6,18,6],[19,1,20,1],[19,2,20,2],[19,3,20,3],[19,5,20,5],[17,16,18,16],[17,17,18,17],[17,9,18,9],[17,10,20,10],[17,11,18,11],[17,12,18,12],[19,11,20,11],[13,0,16,0],[13,18,14,18],[13,19,14,19],[15,1,16,1],[15,2,16,2],[15,3,16,3],[15,5,16,5],[15,6,16,6],[15,7,16,7],[13,7,14,7],[13,8,14,8],[15,8,16,8],[15,9,16,9],[13,16,14,16],[13,17,14,17],[13,9,14,9],[13,10,16,10],[13,11,14,11],[13,12,14,12],[15,16,16,16],[15,17,16,17],[13,14,14,14],[13,15,14,15],[15,13,16,13],[15,15,16,15],[13,1,14,1],[13,2,14,2],[13,3,14,3],[13,5,14,5],[13,6,14,6],[13,4,14,4],[15,4,16,4],[13,13,14,13],[15,11,16,11],[15,12,16,12],[11,11,12,11],[11,12,12,12],[9,13,10,13],[9,15,10,15],[11,6,12,6],[11,7,12,7],[11,13,12,13],[11,15,12,15],[11,14,12,14],[11,8,12,8],[11,9,12,9],[11,17,12,17],[9,18,10,18],[9,19,10,19],[11,18,12,18],[11,19,12,19],[9,16,10,16],[9,17,10,17],[11,16,12,16],[9,0,12,0],[9,1,10,1],[9,2,10,2],[9,3,10,3],[9,5,10,5],[9,6,10,6],[11,1,12,1],[11,2,12,2],[11,3,12,3],[11,5,12,5],[11,4,12,4],[9,4,10,4],[9,9,10,9],[9,10,12,10],[9,11,10,11],[9,12,10,12],[5,0,8,0],[5,1,6,1],[5,2,6,2],[5,3,6,3],[5,5,6,5],[5,6,6,6],[5,4,6,4],[7,4,8,4],[5,13,6,13],[5,9,6,9],[5,10,8,10],[5,11,6,11],[5,12,6,12],[7,1,8,1],[7,2,8,2],[7,3,8,3],[7,5,8,5],[7,6,8,6],[7,7,8,7],[5,7,6,7],[5,8,6,8],[7,8,8,8],[7,9,8,9],[7,13,8,13],[3,0,4,0],[3,1,4,1],[3,2,4,2],[3,3,4,3],[3,13,4,13],[3,9,4,9],[3,10,4,10],[3,11,4,11],[3,12,4,12],[3,4,4,5],[0,1,0,9],[0,11,0,19],[3,6,4,6],[3,7,4,7],[3,8,4,8],[3,16,4,16],[3,17,4,17],[3,18,4,18],[3,19,4,19],[3,14,4,15],[1,4,1,5],[1,14,1,15],[5,16,6,16],[5,17,6,17],[7,16,8,16],[7,17,8,17],[5,18,6,18],[5,19,6,19],[9,7,10,7],[9,8,10,8],[7,15,8,15],[9,14,10,14],[7,14,8,14],[7,11,8,11],[7,12,8,12],[7,18,8,18],[7,19,8,19],[5,14,6,14],[5,15,6,15],[63,4,64,4],[61,4,62,4],[35,4,36,4],[33,4,34,4],[55,4,56,4],[53,4,54,4],[51,4,52,4],[49,4,50,4],[47,4,48,4],[45,4,46,4],[43,4,44,4],[41,4,42,4]]}
[null,"ВСТРЕЧИ ПО КРУГАМ",null,null,null,null,null,null,null,null,null,"ВСТРЕЧИ ПО КРУГАМ"]
[null,0,"КОВЕР",null,"В.к.  кг.",null,null,null,null,null,null,{"$f":"B2","v":0},"КОВЕР",null,"В.к.  кг."]
[null,"A"," (Круг)","1/16",null,null,null,null,null,null,null,"Б"," (Круг)","1/16"]
["№ встр","№ п/ж","Ф.И.О.","Д. р., разряд","Вед., регион",null,"Оценки","Очки","Рез-т","Время","№ встр","№ п/ж","Ф.И.О.","Д. р., разряд","Вед., регион",null,"Оценки","Очки","Рез-т","Время"]
[null,"№ j",null,null,null,null,null,null,null,"tame",null,"№ j",null,null,null,null,null,null,null,"tame"]
[1,1,{"$f":"IFERROR(VLOOKUP(B6,пр.взв!$B$7:$H$38,2,0),\"\")","v":"ТЕГЕТАЕВ Алан Дзамбалатович"},{"$f":"IFERROR(VLOOKUP(B6,пр.взв!$B$7:$H$38,3,0),\"\")","v":"25.12.1991, МС"},{"$f":"IFERROR(VLOOKUP(B6,пр.взв!$B$7:$H$38,4,0),\"\")","v":"ДВФО"},{"$f":"IFERROR(VLOOKUP(B6,пр.взв!$B$7:$H$38,5,0),\"\")","v":"Сахалинская обл., Южно-Сахалинск"},null,null,null,null,9,2,{"$f":"IFERROR(VLOOKUP(L6,пр.взв!$B$7:$H$38,2,0),\"\")","v":"ТОРГАШОВ Дмитрий Сергеевич"},{"$f":"IFERROR(VLOOKUP(L6,пр.взв!$B$7:$H$38,3,0),\"\")","v":"16.03.1993, МСМК"},{"$f":"IFERROR(VLOOKUP(L6,пр.взв!$B$7:$H$38,4,0),\"\")","v":"УФО"},{"$f":"IFERROR(VLOOKUP(L6,пр.взв!$B$7:$H$38,5,0),\"\")","v":"Свердловская обл., В.Пышма, КС \"УГМК\""}]
[]
[null,17,{"$f":"IFERROR(VLOOKUP(B8,пр.взв!$B$7:$H$38,2,0),\"\")","v":"ТОНКОДУБОВ Илья Алексеевич"},{"$f":"IFERROR(VLOOKUP(B8,пр.взв!$B$7:$H$38,3,0),\"\")","v":"17.09.1996, МС"},{"$f":"IFERROR(VLOOKUP(B8,пр.взв!$B$7:$H$38,4,0),\"\")","v":"ЦФО"},{"$f":"IFERROR(VLOOKUP(B8,пр.взв!$B$7:$H$38,5,0),\"\")","v":"Московская обл., Серебряные Пруды"},null,null,null,null,null,18,{"$f":"IFERROR(VLOOKUP(L8,пр.взв!$B$7:$H$38,2,0),\"\")","v":"ПЕВНЕВ Александр Андреевич"},{"$f":"IFERROR(VLOOKUP(L8,пр.взв!$B$7:$H$38,3,0),\"\")","v":"24.06.1994, МС"},{"$f":"IFERROR(VLOOKUP(L8,пр.взв!$B$7:$H$38,4,0),\"\")","v":"СФО"},{"$f":"IFERROR(VLOOKUP(L8,пр.взв!$B$7:$H$38,5,0),\"\")","v":"Красноярский край, Красноярск, Академия борьбы"}]
[]
[2,9,{"$f":"IFERROR(VLOOKUP(B10,пр.взв!$B$7:$H$38,2,0),\"\")","v":"ШХАЛАХОВ Рустам Сафарович"},{"$f":"IFERROR(VLOOKUP(B10,пр.взв!$B$7:$H$38,3,0),\"\")","v":"02.11.1993, МС"},{"$f":"IFERROR(VLOOKUP(B10,пр.взв!$B$7:$H$38,4,0),\"\")","v":"ЮФО"},{"$f":"IFERROR(VLOOKUP(B10,пр.взв!$B$7:$H$38,5,0),\"\")","v":"Краснодарский край, Туапсе, Д"},null,null,null,null,10,10,{"$f":"IFERROR(VLOOKUP(L10,пр.взв!$B$7:$H$38,2,0),\"\")","v":"МИХАЙЛИН Вячеслав Вячеславович"},{"$f":"IFERROR(VLOOKUP(L10,пр.взв!$B$7:$H$38,3,0),\"\")","v":"06.10.1986, ЗМС"},{"$f":"IFERROR(VLOOKUP(L10,пр.взв!$B$7:$H$38,4,0),\"\")","v":"М"},{"$f":"IFERROR(VLOOKUP(L10,пр.взв!$B$7:$H$38,5,0),\"\")","v":"Москва, \"Самбо-70\", Д"}]
[]
[null,25,{"$f":"IFERROR(VLOOKUP(B12,пр.взв!$B$7:$H$38,2,0),\"\")","v":"КИСЕЛЕВ Руслан Владимирович"},{"$f":"IFERROR(VLOOKUP(B12,пр.взв!$B$7:$H$38,3,0),\"\")","v":"16.01.1992, МС"},{"$f":"IFERROR(VLOOKUP(B12,пр.взв!$B$7:$H$38,4,0),\"\")","v":"М"},{"$f":"IFERROR(VLOOKUP(B12,пр.взв!$B$7:$H$38,5,0),\"\")","v":"Москва, \"Самбо-70\", Д"},null,null,null,null,null,26,{"$f":"IFERROR(VLOOKUP(L12,пр.взв!$B$7:$H$38,2,0),\"\")","v":"ШАМХАЛОВ Руслан Хайбулаевич"},{"$f":"IFERROR(VLOOKUP(L12,пр.взв!$B$7:$H$38,3,0),\"\")","v":"06.05.1991, МС"},{"$f":"IFERROR(VLOOKUP(L12,пр.взв!$B$7:$H$38,4,0),\"\")","v":"ЦФО"},{"$f":"IFERROR(VLOOKUP(L12,пр.взв!$B$7:$H$38,5,0),\"\")","v":"Рязанская обл., Рязань, ПР"}]
[]
[3,5,{"$f":"IFERROR(VLOOKUP(B14,пр.взв!$B$7:$H$38,2,0),\"\")","v":"СААКЯН Паруйр Рубикович"},{"$f":"IFERROR(VLOOKUP(B14,пр.взв!$B$7:$H$38,3,0),\"\")","v":"24.07.1994, МС"},{"$f":"IFERROR(VLOOKUP(B14,пр.взв!$B$7:$H$38,4,0),\"\")","v":"СФО"},{"$f":"IFERROR(VLOOKUP(B14,пр.взв!$B$7:$H$38,5,0),\"\")","v":"Красноярский край, Красноярск, Академия борьбы"},null,null,null,null,11,6,{"$f":"IFERROR(VLOOKUP(L14,пр.взв!$B$7:$H$38,2,0),\"\")","v":"ИВАНОВ Дмитрий Андреевич"},{"$f":"IFERROR(VLOOKUP(L14,пр.взв!$B$7:$H$38,3,0),\"\")","v":"25.01.1993, МС"},{"$f":"IFERROR(VLOOKUP(L14,пр.взв!$B$7:$H$38,4,0),\"\")","v":"ДВФО"},{"$f":"IFERROR(VLOOKUP(L14,пр.взв!$B$7:$H$38,5,0),\"\")","v":"Амурская обл., Благовещенск"}]
[]
[null,21,{"$f":"IFERROR(VLOOKUP(B16,пр.взв!$B$7:$H$38,2,0),\"\")","v":"ЧЕРНОСКУЛОВ Альсим Леонидович"},{"$f":"IFERROR(VLOOKUP(B16,пр.взв!$B$7:$H$38,3,0),\"\")","v":"11.05.1983, ЗМС"},{"$f":"IFERROR(VLOOKUP(B16,пр.взв!$B$7:$H$38,4,0),\"\")","v":"УФО"},{"$f":"IFERROR(VLOOKUP(B16,пр.взв!$B$7:$H$38,5,0),\"\")","v":"Свердловская обл., В.Пышма, КС \"УГМК\""},null,null,null,null,null,22,{"$f":"IFERROR(VLOOKUP(L16,пр.взв!$B$7:$H$38,2,0),\"\")","v":"ШЕВЦОВ Данила Михайлович"},{"$f":"IFERROR(VLOOKUP(L16,пр.взв!$B$7:$H$38,3,0),\"\")","v":"15.06.1999, КМС"},{"$f":"IFERROR(VLOOKUP(L16,пр.взв!$B$7:$H$38,4,0),\"\")","v":"ДВФО"},{"$f":"IFERROR(VLOOKUP(L16,пр.взв!$B$7:$H$38,5,0),\"\")","v":"Хабаровский край, Хабаровск, МО"}]
[]
[4,13,{"$f":"IFERROR(VLOOKUP(B18,пр.взв!$B$7:$H$38,2,0),\"\")","v":"АДАЕВ Исмаил Залимханович"},{"$f":"IFERROR(VLOOKUP(B18,пр.взв!$B$7:$H$38,3,0),\"\")","v":"09.04.1994, МС"},{"$f":"IFERROR(VLOOKUP(B18,пр.взв!$B$7:$H$38,4,0),\"\")","v":"УФО"},{"$f":"IFERROR(VLOOKUP(B18,пр.взв!$B$7:$H$38,5,0),\"\")","v":"ХМАО-Югра, Радужный"},null,null,null,null,12,14,{"$f":"IFERROR(VLOOKUP(L18,пр.взв!$B$7:$H$38,2,0),\"\")","v":"РЕНЕВ Дмитрий Сергеевич"},{"$f":"IFERROR(VLOOKUP(L18,пр.взв!$B$7:$H$38,3,0),\"\")","v":"25.05.1987, МС"},{"$f":"IFERROR(VLOOKUP(L18,пр.взв!$B$7:$H$38,4,0),\"\")","v":"ПФО"},{"$f":"IFERROR(VLOOKUP(L18,пр.взв!$B$7:$H$38,5,0),\"\")","v":"Пермский край, Пермь,  МО"}]
[]
[null,29,{"$f":"IFERROR(VLOOKUP(B20,пр.взв!$B$7:$H$38,2,0),\"\")","v":""},{"$f":"IFERROR(VLOOKUP(B20,пр.взв!$B$7:$H$38,3,0),\"\")","v":""},{"$f":"IFERROR(VLOOKUP(B20,пр.взв!$B$7:$H$38,4,0),\"\")","v":""},{"$f":"IFERROR(VLOOKUP(B20,пр.взв!$B$7:$H$38,5,0),\"\")","v":""},null,null,null,null,null,30,{"$f":"IFERROR(VLOOKUP(L20,пр.взв!$B$7:$H$38,2,0),\"\")","v":""},{"$f":"IFERROR(VLOOKUP(L20,пр.взв!$B$7:$H$38,3,0),\"\")","v":""},{"$f":"IFERROR(VLOOKUP(L20,пр.взв!$B$7:$H$38,4,0),\"\")","v":""},{"$f":"IFERROR(VLOOKUP(L20,пр.взв!$B$7:$H$38,5,0),\"\")","v":""}]
[]
[5,3,{"$f":"IFERROR(VLOOKUP(B22,пр.взв!$B$7:$H$38,2,0),\"\")","v":"МИНАКОВ Дмитрий Викторович"},{"$f":"IFERROR(VLOOKUP(B22,пр.взв!$B$7:$H$38,3,0),\"\")","v":"14.09.1987, МСМК"},{"$f":"IFERROR(VLOOKUP(B22,пр.взв!$B$7:$H$38,4,0),\"\")","v":"ЦФО"},{"$f":"IFERROR(VLOOKUP(B22,пр.взв!$B$7:$H$38,5,0),\"\")","v":"Брянская обл., Брянск"},null,null,null,null,13,4,{"$f":"IFERROR(VLOOKUP(L22,пр.взв!$B$7:$H$38,2,0),\"\")","v":"ЕФРЕМОВ Александр Юрьевич"},{"$f":"IFERROR(VLOOKUP(L22,пр.взв!$B$7:$H$38,3,0),\"\")","v":"08.09.1989, МСМК"},{"$f":"IFERROR(VLOOKUP(L22,пр.взв!$B$7:$H$38,4,0),\"\")","v":"ДВФО"},{"$f":"IFERROR(VLOOKUP(L22,пр.взв!$B$7:$H$38,5,0),\"\")","v":"Приморский край, Владивосток, Д"}]
[]
[null,19,{"$f":"IFERROR(VLOOKUP(B24,пр.взв!$B$7:$H$38,2,0),\"\")","v":"ЛОЕВЕЦ Александр Игоревич"},{"$f":"IFERROR(VLOOKUP(B24,пр.взв!$B$7:$H$38,3,0),\"\")","v":"12.12.1996, МС"},{"$f":"IFERROR(VLOOKUP(B24,пр.взв!$B$7:$H$38,4,0),\"\")","v":"ДВФО"},{"$f":"IFERROR(VLOOKUP(B24,пр.взв!$B$7:$H$38,5,0),\"\")","v":"Амурская обл., Благовещенск"},null,null,null,null,null,20,{"$f":"IFERROR(VLOOKUP(L24,пр.взв!$B$7:$H$38,2,0),\"\")","v":"ОСИПЕНКО Виктор Иванович"},{"$f":"IFERROR(VLOOKUP(L24,пр.взв!$B$7:$H$38,3,0),\"\")","v":"08.01.1991, МСМК"},{"$f":"IFERROR(VLOOKUP(L24,пр.взв!$B$7:$H$38,4,0),\"\")","v":"ЦФО"},{"$f":"IFERROR(VLOOKUP(L24,пр.взв!$B$7:$H$38,5,0),\"\")","v":"Брянская обл., Брянск"}]
[]
[6,11,{"$f":"IFERROR(VLOOKUP(B26,пр.взв!$B$7:$H$38,2,0),\"\")","v":"ИВАНОВ Анатолий Викторович"},{"$f":"IFERROR(VLOOKUP(B26,пр.взв!$B$7:$H$38,3,0),\"\")","v":"05.02.1987, МС"},{"$f":"IFERROR(VLOOKUP(B26,пр.взв!$B$7:$H$38,4,0),\"\")","v":"УФО"},{"$f":"IFERROR(VLOOKUP(B26,пр.взв!$B$7:$H$38,5,0),\"\")","v":"Курганская обл., Курган, ДЮСШ"},null,null,null,null,14,12,{"$f":"IFERROR(VLOOKUP(L26,пр.взв!$B$7:$H$38,2,0),\"\")","v":"ГАЙБАЕВ Артём Римович"},{"$f":"IFERROR(VLOOKUP(L26,пр.взв!$B$7:$H$38,3,0),\"\")","v":"06.08.1994, МС"},{"$f":"IFERROR(VLOOKUP(L26,пр.взв!$B$7:$H$38,4,0),\"\")","v":"ПФО"},{"$f":"IFERROR(VLOOKUP(L26,пр.взв!$B$7:$H$38,5,0),\"\")","v":"Пензенская обл., Пенза, Д"}]
[]
[null,27,{"$f":"IFERROR(VLOOKUP(B28,пр.взв!$B$7:$H$38,2,0),\"\")","v":"БАЯЛИЕВ Мовладий Хусеевич"},{"$f":"IFERROR(VLOOKUP(B28,пр.взв!$B$7:$H$38,3,0),\"\")","v":"06.04.1984, МСМК"},{"$f":"IFERROR(VLOOKUP(B28,пр.взв!$B$7:$H$38,4,0),\"\")","v":"ЮФО"},{"$f":"IFERROR(VLOOKUP(B28,пр.взв!$B$7:$H$38,5,0),\"\")","v":"Краснодарский край, Армавир, Д"},null,null,null,null,null,28,{"$f":"IFERROR(VLOOKUP(L28,пр.взв!$B$7:$H$38,2,0),\"\")","v":"БИТИЕВ Давид Мурманович"},{"$f":"IFERROR(VLOOKUP(L28,пр.взв!$B$7:$H$38,3,0),\"\")","v":"06.01.1988, МС"},{"$f":"IFERROR(VLOOKUP(L28,пр.взв!$B$7:$H$38,4,0),\"\")","v":"СКФО"},{"$f":"IFERROR(VLOOKUP(L28,пр.взв!$B$7:$H$38,5,0),\"\")","v":"РСО-Алания, Д"}]
[]
[7,7,{"$f":"IFERROR(VLOOKUP(B30,пр.взв!$B$7:$H$38,2,0),\"\")","v":"БАШИН Павел Андреевич"},{"$f":"IFERROR(VLOOKUP(B30,пр.взв!$B$7:$H$38,3,0),\"\")","v":"05.06.1989, МС"},{"$f":"IFERROR(VLOOKUP(B30,пр.взв!$B$7:$H$38,4,0),\"\")","v":"ПФО"},{"$f":"IFERROR(VLOOKUP(B30,пр.взв!$B$7:$H$38,5,0),\"\")","v":"Пермский край, Кудымкар, МО"},null,null,null,null,15,8,{"$f":"IFERROR(VLOOKUP(L30,пр.взв!$B$7:$H$38,2,0),\"\")","v":"ШУЛЬГА Виталий Викторович"},{"$f":"IFERROR(VLOOKUP(L30,пр.взв!$B$7:$H$38,3,0),\"\")","v":"15.08.1988, МСМК"},{"$f":"IFERROR(VLOOKUP(L30,пр.взв!$B$7:$H$38,4,0),\"\")","v":"УФО"},{"$f":"IFERROR(VLOOKUP(L30,пр.взв!$B$7:$H$38,5,0),\"\")","v":"Свердловская обл., В.Пышма, КС \"УГМК\""}]
[]
[null,23,{"$f":"IFERROR(VLOOKUP(B32,пр.взв!$B$7:$H$38,2,0),\"\")","v":"ЕЛИСЕЕВ Дмитрий Михайлович"},{"$f":"IFERROR(VLOOKUP(B32,пр.взв!$B$7:$H$38,3,0),\"\")","v":"25.09.1992, ЗМС"},{"$f":"IFERROR(VLOOKUP(B32,пр.взв!$B$7:$H$38,4,0),\"\")","v":"СПб"},{"$f":"IFERROR(VLOOKUP(B32,пр.взв!$B$7:$H$38,5,0),\"\")","v":"Санкт-Петербург, КШВСМ-Д"},null,null,null,null,null,24,{"$f":"IFERROR(VLOOKUP(L32,пр.взв!$B$7:$H$38,2,0),\"\")","v":"КУРГИНЯН Эдуард Славикович"},{"$f":"IFERROR(VLOOKUP(L32,пр.взв!$B$7:$H$38,3,0),\"\")","v":"16.12.1986, ЗМС"},{"$f":"IFERROR(VLOOKUP(L32,пр.взв!$B$7:$H$38,4,0),\"\")","v":"ЮФО"},{"$f":"IFERROR(VLOOKUP(L32,пр.взв!$B$7:$H$38,5,0),\"\")","v":"Краснодарский край, Армавир, Д"}]
[]
[8,15,{"$f":"IFERROR(VLOOKUP(B34,пр.взв!$B$7:$H$38,2,0),\"\")","v":"РОЖИН Григорий Алексеевич"},{"$f":"IFERROR(VLOOKUP(B34,пр.взв!$B$7:$H$38,3,0),\"\")","v":"09.05.1991, МС"},{"$f":"IFERROR(VLOOKUP(B34,пр.взв!$B$7:$H$38,4,0),\"\")","v":"ДВФО"},{"$f":"IFERROR(VLOOKUP(B34,пр.взв!$B$7:$H$38,5,0),\"\")","v":"Приморский край, Владивосток, Д"},null,null,null,null,16,16,{"$f":"IFERROR(VLOOKUP(L34,пр.взв!$B$7:$H$38,2,0),\"\")","v":"ЧЕРНЫШЕНКО Лев Эдуардович"},{"$f":"IFERROR(VLOOKUP(L34,пр.взв!$B$7:$H$38,3,0),\"\")","v":"25.08.1999, КМС"},{"$f":"IFERROR(VLOOKUP(L34,пр.взв!$B$7:$H$38,4,0),\"\")","v":"ДВФО"},{"$f":"IFERROR(VLOOKUP(L34,пр.взв!$B$7:$H$38,5,0),\"\")","v":"Хабаровский край, Хабаровск, МО"}]
[]
[null,31,{"$f":"IFERROR(VLOOKUP(B36,пр.взв!$B$7:$H$38,2,0),\"\")","v":""},{"$f":"IFERROR(VLOOKUP(B36,пр.взв!$B$7:$H$38,3,0),\"\")","v":""},{"$f":"IFERROR(VLOOKUP(B36,пр.взв!$B$7:$H$38,4,0),\"\")","v":""},{"$f":"IFERROR(VLOOKUP(B36,пр.взв!$B$7:$H$38,5,0),\"\")","v":""},null,null,null,null,null,32,{"$f":"IFERROR(VLOOKUP(L36,пр.взв!$B$7:$H$38,2,0),\"\")","v":""},{"$f":"IFERROR(VLOOKUP(L36,пр.взв!$B$7:$H$38,3,0),\"\")","v":""},{"$f":"IFERROR(VLOOKUP(L36,пр.взв!$B$7:$H$38,4,0),\"\")","v":""},{"$f":"IFERROR(VLOOKUP(L36,пр.взв!$B$7:$H$38,5,0),\"\")","v":""}]
[]
[null,{"$f":"B2","v":0},"КОВЕР",null,null,null,null,null,null,null,null,{"$f":"L2","v":0},"КОВЕР"]
[null,"A"," (Круг)","1/8",null,null,{"$f":"пр.взв!D4","v":"В.к. 100 кг."},null,null,null,null,"Б"," (Круг)","1/8",null,null,{"$f":"G39","v":"В.к. 100 кг."}]
["№ встр","№ п/ж","Ф.И.О.","Д. р., разряд","Вед., регион",null,"Оценки","Очки","Рез-т","Время","№ встр","№ п/ж","Ф.И.О.","Д. р., разряд","Вед., регион",null,"Оценки","Очки","Рез-т","Время"]
[null,"№ j",null,null,null,null,null,null,null,"tame",null,"№ j",null,null,null,null,null,null,null,"tame"]
[1,{"$f":"пр.хода!E8","v":17},{"$f":"IFERROR(VLOOKUP(B42,пр.взв!$B$7:$H$38,2,0),\"\")","v":"ТОНКОДУБОВ Илья Алексеевич"},{"$f":"IFERROR(VLOOKUP(B42,пр.взв!$B$7:$H$38,3,0),\"\")","v":"17.09.1996, МС"},{"$f":"IFERROR(VLOOKUP(B42,пр.взв!$B$7:$H$38,4,0),\"\")","v":"ЦФО"},{"$f":"IFERROR(VLOOKUP(B42,пр.взв!$B$7:$H$38,5,0),\"\")","v":"Московская обл., Серебряные Пруды"},null,null,null,null,5,{"$f":"пр.хода!T8","v":2},{"$f":"IFERROR(VLOOKUP(L42,пр.взв!$B$7:$H$38,2,0),\"\")","v":"ТОРГАШОВ Дмитрий Сергеевич"},{"$f":"IFERROR(VLOOKUP(L42,пр.взв!$B$7:$H$38,3,0),\"\")","v":"16.03.1993, МСМК"},{"$f":"IFERROR(VLOOKUP(L42,пр.взв!$B$7:$H$38,4,0),\"\")","v":"УФО"},{"$f":"IFERROR(VLOOKUP(L42,пр.взв!$B$7:$H$38,5,0),\"\")","v":"Свердловская обл., В.Пышма, КС \"УГМК\""}]
[]
[null,{"$f":"пр.хода!E12","v":25},{"$f":"IFERROR(VLOOKUP(B44,пр.взв!$B$7:$H$38,2,0),\"\")","v":"КИСЕЛЕВ Руслан Владимирович"},{"$f":"IFERROR(VLOOKUP(B44,пр.взв!$B$7:$H$38,3,0),\"\")","v":"16.01.1992, МС"},{"$f":"IFERROR(VLOOKUP(B44,пр.взв!$B$7:$H$38,4,0),\"\")","v":"М"},{"$f":"IFERROR(VLOOKUP(B44,пр.взв!$B$7:$H$38,5,0),\"\")","v":"Москва, \"Самбо-70\", Д"},null,null,null,null,null,{"$f":"пр.хода!T12","v":10},{"$f":"IFERROR(VLOOKUP(L44,пр.взв!$B$7:$H$38,2,0),\"\")","v":"МИХАЙЛИН Вячеслав Вячеславович"},{"$f":"IFERROR(VLOOKUP(L44,пр.взв!$B$7:$H$38,3,0),\"\")","v":"06.10.1986, ЗМС"},{"$f":"IFERROR(VLOOKUP(L44,пр.взв!$B$7:$H$38,4,0),\"\")","v":"М"},{"$f":"IFERROR(VLOOKUP(L44,пр.взв!$B$7:$H$38,5,0),\"\")","v":"Москва, \"Самбо-70\", Д"}]
[]
[2,{"$f":"пр.хода!E16","v":21},{"$f":"IFERROR(VLOOKUP(B46,пр.взв!$B$7:$H$38,2,0),\"\")","v":"ЧЕРНОСКУЛОВ Альсим Леонидович"},{"$f":"IFERROR(VLOOKUP(B46,пр.взв!$B$7:$H$38,3,0),\"\")","v":"11.05.1983, ЗМС"},{"$f":"IFERROR(VLOOKUP(B46,пр.взв!$B$7:$H$38,4,0),\"\")","v":"УФО"},{"$f":"IFERROR(VLOOKUP(B46,пр.взв!$B$7:$H$38,5,0),\"\")","v":"Свердловская обл., В.Пышма, КС \"УГМК\""},null,null,null,null,6,{"$f":"пр.хода!T16","v":6},{"$f":"IFERROR(VLOOKUP(L46,пр.взв!$B$7:$H$38,2,0),\"\")","v":"ИВАНОВ Дмитрий Андреевич"},{"$f":"IFERROR(VLOOKUP(L46,пр.взв!$B$7:$H$38,3,0),\"\")","v":"25.01.1993, МС"},{"$f":"IFERROR(VLOOKUP(L46,пр.взв!$B$7:$H$38,4,0),\"\")","v":"ДВФО"},{"$f":"IFERROR(VLOOKUP(L46,пр.взв!$B$7:$H$38,5,0),\"\")","v":"Амурская обл., Благовещенск"}]
[]
[null,{"$f":"пр.хода!E20","v":13},{"$f":"IFERROR(VLOOKUP(B48,пр.взв!$B$7:$H$38,2,0),\"\")","v":"АДАЕВ Исмаил Залимханович"},{"$f":"IFERROR(VLOOKUP(B48,пр.взв!$B$7:$H$38,3,0),\"\")","v":"09.04.1994, МС"},{"$f":"IFERROR(VLOOKUP(B48,пр.взв!$B$7:$H$38,4,0),\"\")","v":"УФО"},{"$f":"IFERROR(VLOOKUP(B48,пр.взв!$B$7:$H$38,5,0),\"\")","v":"ХМАО-Югра, Радужный"},null,null,null,null,null,{"$f":"пр.хода!T20","v":14},{"$f":"IFERROR(VLOOKUP(L48,пр.взв!$B$7:$H$38,2,0),\"\")","v":"РЕНЕВ Дмитрий Сергеевич"},{"$f":"IFERROR(VLOOKUP(L48,пр.взв!$B$7:$H$38,3,0),\"\")","v":"25.05.1987, МС"},{"$f":"IFERROR(VLOOKUP(L48,пр.взв!$B$7:$H$38,4,0),\"\")","v":"ПФО"},{"$f":"IFERROR(VLOOKUP(L48,пр.взв!$B$7:$H$38,5,0),\"\")","v":"Пермский край, Пермь,  МО"}]
[]
[3,{"$f":"пр.хода!E24","v":19},{"$f":"IFERROR(VLOOKUP(B50,пр.взв!$B$7:$H$38,2,0),\"\")","v":"ЛОЕВЕЦ Александр Игоревич"},{"$f":"IFERROR(VLOOKUP(B50,пр.взв!$B$7:$H$38,3,0),\"\")","v":"12.12.1996, МС"},{"$f":"IFERROR(VLOOKUP(B50,пр.взв!$B$7:$H$38,4,0),\"\")","v":"ДВФО"},{"$f":"IFERROR(VLOOKUP(B50,пр.взв!$B$7:$H$38,5,0),\"\")","v":"Амурская обл., Благовещенск"},null,null,null,null,7,{"$f":"пр.хода!T24","v":20},{"$f":"IFERROR(VLOOKUP(L50,пр.взв!$B$7:$H$38,2,0),\"\")","v":"ОСИПЕНКО Виктор Иванович"},{"$f":"IFERROR(VLOOKUP(L50,пр.взв!$B$7:$H$38,3,0),\"\")","v":"08.01.1991, МСМК"},{"$f":"IFERROR(VLOOKUP(L50,пр.взв!$B$7:$H$38,4,0),\"\")","v":"ЦФО"},{"$f":"IFERROR(VLOOKUP(L50,пр.взв!$B$7:$H$38,5,0),\"\")","v":"Брянская обл., Брянск"}]
[]
[null,{"$f":"пр.хода!E28","v":27},{"$f":"IFERROR(VLOOKUP(B52,пр.взв!$B$7:$H$38,2,0),\"\")","v":"БАЯЛИЕВ Мовладий Хусеевич"},{"$f":"IFERROR(VLOOKUP(B52,пр.взв!$B$7:$H$38,3,0),\"\")","v":"06.04.1984, МСМК"},{"$f":"IFERROR(VLOOKUP(B52,пр.взв!$B$7:$H$38,4,0),\"\")","v":"ЮФО"},{"$f":"IFERROR(VLOOKUP(B52,пр.взв!$B$7:$H$38,5,0),\"\")","v":"Краснодарский край, Армавир, Д"},null,null,null,null,null,{"$f":"пр.хода!T28","v":12},{"$f":"IFERROR(VLOOKUP(L52,пр.взв!$B$7:$H$38,2,0),\"\")","v":"ГАЙБАЕВ Артём Римович"},{"$f":"IFERROR(VLOOKUP(L52,пр.взв!$B$7:$H$38,3,0),\"\")","v":"06.08.1994, МС"},{"$f":"IFERROR(VLOOKUP(L52,пр.взв!$B$7:$H$38,4,0),\"\")","v":"ПФО"},{"$f":"IFERROR(VLOOKUP(L52,пр.взв!$B$7:$H$38,5,0),\"\")","v":"Пензенская обл., Пенза, Д"}]
[]
[4,{"$f":"пр.хода!E32","v":23},{"$f":"IFERROR(VLOOKUP(B54,пр.взв!$B$7:$H$38,2,0),\"\")","v":"ЕЛИСЕЕВ Дмитрий Михайлович"},{"$f":"IFERROR(VLOOKUP(B54,пр.взв!$B$7:$H$38,3,0),\"\")","v":"25.09.1992, ЗМС"},{"$f":"IFERROR(VLOOKUP(B54,пр.взв!$B$7:$H$38,4,0),\"\")","v":"СПб"},{"$f":"IFERROR(VLOOKUP(B54,пр.взв!$B$7:$H$38,5,0),\"\")","v":"Санкт-Петербург, КШВСМ-Д"},null,null,null,null,8,{"$f":"пр.хода!T32","v":24},{"$f":"IFERROR(VLOOKUP(L54,пр.взв!$B$7:$H$38,2,0),\"\")","v":"КУРГИНЯН Эдуард Славикович"},{"$f":"IFERROR(VLOOKUP(L54,пр.взв!$B$7:$H$38,3,0),\"\")","v":"16.12.1986, ЗМС"},{"$f":"IFERROR(VLOOKUP(L54,пр.взв!$B$7:$H$38,4,0),\"\")","v":"ЮФО"},{"$f":"IFERROR(VLOOKUP(L54,пр.взв!$B$7:$H$38,5,0),\"\")","v":"Краснодарский край, Армавир, Д"}]
[]
[null,{"$f":"пр.хода!E36","v":15},{"$f":"IFERROR(VLOOKUP(B56,пр.взв!$B$7:$H$38,2,0),\"\")","v":"РОЖИН Григорий Алексеевич"},{"$f":"IFERROR(VLOOKUP(B56,пр.взв!$B$7:$H$38,3,0),\"\")","v":"09.05.1991, МС"},{"$f":"IFERROR(VLOOKUP(B56,пр.взв!$B$7:$H$38,4,0),\"\")","v":"ДВФО"},{"$f":"IFERROR(VLOOKUP(B56,пр.взв!$B$7:$H$38,5,0),\"\")","v":"Приморский край, Владивосток, Д"},null,null,null,null,null,{"$f":"пр.хода!T36","v":16},{"$f":"IFERROR(VLOOKUP(L56,пр.взв!$B$7:$H$38,2,0),\"\")","v":"ЧЕРНЫШЕНКО Лев Эдуардович"},{"$f":"IFERROR(VLOOKUP(L56,пр.взв!$B$7:$H$38,3,0),\"\")","v":"25.08.1999, КМС"},{"$f":"IFERROR(VLOOKUP(L56,пр.взв!$B$7:$H$38,4,0),\"\")","v":"ДВФО"},{"$f":"IFERROR(VLOOKUP(L56,пр.взв!$B$7:$H$38,5,0),\"\")","v":"Хабаровский край, Хабаровск, МО"}]
[]
[null,{"$f":"B38","v":0},"КОВЕР",null,null,null,null,null,null,null,null,{"$f":"L38","v":0},"КОВЕР"]
[null,"A"," (Круг)","1/4",null,null,{"$f":"G71","v":"В.к. 100 кг."},null,null,null,null,"B"," (Круг)","1/4",null,null,{"$f":"Q71","v":"В.к. 100 кг."}]
["№ встр","№ п/ж","Ф.И.О.","Д. р., разряд","Вед., регион",null,"Оценки","Очки","Рез-т","Время","№ встр","№ п/ж","Ф.И.О.","Д. р., разряд","Вед., регион",null,"Оценки","Очки","Рез-т","Время"]
[null,"№ j",null,null,null,null,null,null,null,"tame",null,"№ j",null,null,null,null,null,null,null,"tame"]
[1,{"$f":"пр.хода!G10","v":25},{"$f":"IFERROR(VLOOKUP(B62,пр.взв!$B$7:$H$38,2,0),\"\")","v":"КИСЕЛЕВ Руслан Владимирович"},{"$f":"IFERROR(VLOOKUP(B62,пр.взв!$B$7:$H$38,3,0),\"\")","v":"16.01.1992, МС"},{"$f":"IFERROR(VLOOKUP(B62,пр.взв!$B$7:$H$38,4,0),\"\")","v":"М"},{"$f":"IFERROR(VLOOKUP(B62,пр.взв!$B$7:$H$38,5,0),\"\")","v":"Москва, \"Самбо-70\", Д"},null,null,null,null,3,{"$f":"пр.хода!R10","v":2},{"$f":"IFERROR(VLOOKUP(L62,пр.взв!$B$7:$H$38,2,0),\"\")","v":"ТОРГАШОВ Дмитрий Сергеевич"},{"$f":"IFERROR(VLOOKUP(L62,пр.взв!$B$7:$H$38,3,0),\"\")","v":"16.03.1993, МСМК"},{"$f":"IFERROR(VLOOKUP(L62,пр.взв!$B$7:$H$38,4,0),\"\")","v":"УФО"},{"$f":"IFERROR(VLOOKUP(L62,пр.взв!$B$7:$H$38,5,0),\"\")","v":"Свердловская обл., В.Пышма, КС \"УГМК\""}]
[]
[null,{"$f":"пр.хода!G18","v":21},{"$f":"IFERROR(VLOOKUP(B64,пр.взв!$B$7:$H$38,2,0),\"\")","v":"ЧЕРНОСКУЛОВ Альсим Леонидович"},{"$f":"IFERROR(VLOOKUP(B64,пр.взв!$B$7:$H$38,3,0),\"\")","v":"11.05.1983, ЗМС"},{"$f":"IFERROR(VLOOKUP(B64,пр.взв!$B$7:$H$38,4,0),\"\")","v":"УФО"},{"$f":"IFERROR(VLOOKUP(B64,пр.взв!$B$7:$H$38,5,0),\"\")","v":"Свердловская обл., В.Пышма, КС \"УГМК\""},null,null,null,null,null,{"$f":"пр.хода!R18","v":6},{"$f":"IFERROR(VLOOKUP(L64,пр.взв!$B$7:$H$38,2,0),\"\")","v":"ИВАНОВ Дмитрий Андреевич"},{"$f":"IFERROR(VLOOKUP(L64,пр.взв!$B$7:$H$38,3,0),\"\")","v":"25.01.1993, МС"},{"$f":"IFERROR(VLOOKUP(L64,пр.взв!$B$7:$H$38,4,0),\"\")","v":"ДВФО"},{"$f":"IFERROR(VLOOKUP(L64,пр.взв!$B$7:$H$38,5,0),\"\")","v":"Амурская обл., Благовещенск"}]
[]
[2,{"$f":"пр.хода!G26","v":27},{"$f":"IFERROR(VLOOKUP(B66,пр.взв!$B$7:$H$38,2,0),\"\")","v":"БАЯЛИЕВ Мовладий Хусеевич"},{"$f":"IFERROR(VLOOKUP(B66,пр.взв!$B$7:$H$38,3,0),\"\")","v":"06.04.1984, МСМК"},{"$f":"IFERROR(VLOOKUP(B66,пр.взв!$B$7:$H$38,4,0),\"\")","v":"ЮФО"},{"$f":"IFERROR(VLOOKUP(B66,пр.взв!$B$7:$H$38,5,0),\"\")","v":"Краснодарский край, Армавир, Д"},null,null,null,null,4,{"$f":"пр.хода!R26","v":20},{"$f":"IFERROR(VLOOKUP(L66,пр.взв!$B$7:$H$38,2,0),\"\")","v":"ОСИПЕНКО Виктор Иванович"},{"$f":"IFERROR(VLOOKUP(L66,пр.взв!$B$7:$H$38,3,0),\"\")","v":"08.01.1991, МСМК"},{"$f":"IFERROR(VLOOKUP(L66,пр.взв!$B$7:$H$38,4,0),\"\")","v":"ЦФО"},{"$f":"IFERROR(VLOOKUP(L66,пр.взв!$B$7:$H$38,5,0),\"\")","v":"Брянская обл., Брянск"}]
[]
[null,{"$f":"пр.хода!G34","v":23},{"$f":"IFERROR(VLOOKUP(B68,пр.взв!$B$7:$H$38,2,0),\"\")","v":"ЕЛИСЕЕВ Дмитрий Михайлович"},{"$f":"IFERROR(VLOOKUP(B68,пр.взв!$B$7:$H$38,3,0),\"\")","v":"25.09.1992, ЗМС"},{"$f":"IFERROR(VLOOKUP(B68,пр.взв!$B$7:$H$38,4,0),\"\")","v":"СПб"},{"$f":"IFERROR(VLOOKUP(B68,пр.взв!$B$7:$H$38,5,0),\"\")","v":"Санкт-Петербург, КШВСМ-Д"},null,null,null,null,null,{"$f":"пр.хода!R34","v":24},{"$f":"IFERROR(VLOOKUP(L68,пр.взв!$B$7:$H$38,2,0),\"\")","v":"КУРГИНЯН Эдуард Славикович"},{"$f":"IFERROR(VLOOKUP(L68,пр.взв!$B$7:$H$38,3,0),\"\")","v":"16.12.1986, ЗМС"},{"$f":"IFERROR(VLOOKUP(L68,пр.взв!$B$7:$H$38,4,0),\"\")","v":"ЮФО"},{"$f":"IFERROR(VLOOKUP(L68,пр.взв!$B$7:$H$38,5,0),\"\")","v":"Краснодарский край, Армавир, Д"}]
[]
[null,{"$f":"B58","v":0},"КОВЕР",null,null,null,null,null,null,null,null,{"$f":"L58","v":0},"КОВЕР"]
[null,"A","Полуфинал",null,null,null,{"$f":"G80","v":"В.к. 100 кг."},null,null,null,null,"Б","Полуфинал",null,null,null,{"$f":"G71","v":"В.к. 100 кг."}]
["№ встр","№ п/ж","Ф.И.О.","Д. р., разряд","Вед., регион",null,"Оценки","Очки","Рез-т","Время","№ встр","№ п/ж","Ф.И.О.","Д. р., разряд","Вед., регион",null,"Оценки","Очки","Рез-т","Время"]
[null,"№ j",null,null,null,null,null,null,null,"tame",null,"№ j",null,null,null,null,null,null,null,"tame"]
[1,{"$f":"пр.хода!I14","v":21},{"$f":"IFERROR(VLOOKUP(B74,пр.взв!$B$7:$H$38,2,0),\"\")","v":"ЧЕРНОСКУЛОВ Альсим Леонидович"},{"$f":"IFERROR(VLOOKUP(B74,пр.взв!$B$7:$H$38,3,0),\"\")","v":"11.05.1983, ЗМС"},{"$f":"IFERROR(VLOOKUP(B74,пр.взв!$B$7:$H$38,4,0),\"\")","v":"УФО"},{"$f":"IFERROR(VLOOKUP(B74,пр.взв!$B$7:$H$38,5,0),\"\")","v":"Свердловская обл., В.Пышма, КС \"УГМК\""},null,null,null,null,2,{"$f":"пр.хода!P14","v":2},{"$f":"IFERROR(VLOOKUP(L74,пр.взв!$B$7:$H$38,2,0),\"\")","v":"ТОРГАШОВ Дмитрий Сергеевич"},{"$f":"IFERROR(VLOOKUP(L74,пр.взв!$B$7:$H$38,3,0),\"\")","v":"16.03.1993, МСМК"},{"$f":"IFERROR(VLOOKUP(L74,пр.взв!$B$7:$H$38,4,0),\"\")","v":"УФО"},{"$f":"IFERROR(VLOOKUP(L74,пр.взв!$B$7:$H$38,5,0),\"\")","v":"Свердловская обл., В.Пышма, КС \"УГМК\""}]
[]
[null,{"$f":"пр.хода!I30","v":23},{"$f":"IFERROR(VLOOKUP(B76,пр.взв!$B$7:$H$38,2,0),\"\")","v":"ЕЛИСЕЕВ Дмитрий Михайлович"},{"$f":"IFERROR(VLOOKUP(B76,пр.взв!$B$7:$H$38,3,0),\"\")","v":"25.09.1992, ЗМС"},{"$f":"IFERROR(VLOOKUP(B76,пр.взв!$B$7:$H$38,4,0),\"\")","v":"СПб"},{"$f":"IFERROR(VLOOKUP(B76,пр.взв!$B$7:$H$38,5,0),\"\")","v":"Санкт-Петербург, КШВСМ-Д"},null,null,null,null,null,{"$f":"пр.хода!P30","v":20},{"$f":"IFERROR(VLOOKUP(L76,пр.взв!$B$7:$H$38,2,0),\"\")","v":"ОСИПЕНКО Виктор Иванович"},{"$f":"IFERROR(VLOOKUP(L76,пр.взв!$B$7:$H$38,3,0),\"\")","v":"08.01.1991, МСМК"},{"$f":"IFERROR(VLOOKUP(L76,пр.взв!$B$7:$H$38,4,0),\"\")","v":"ЦФО"},{"$f":"IFERROR(VLOOKUP(L76,пр.взв!$B$7:$H$38,5,0),\"\")","v":"Брянская обл., Брянск"}]
[]
[null,{"$f":"B70","v":0},"КОВЕР",null,null,null,null,null,null,null,null,{"$f":"L70","v":0},"КОВЕР"]
[" (Утешительные встречи)",null,null,null,null,null,null,null,null,null,"(Утешительные встречи)"]
[null,"A",null,null,null,null,{"$f":"пр.взв!D4","v":"В.к. 100 кг."},null,null,null,null,"Б",null,null,null,null,{"$f":"G80","v":"В.к. 100 кг."}]
["№ встр","№ п/ж","Ф.И.О.","Д. р., разряд","Вед., регион",null,"Оценки","Очки","Рез-т","Время","№ встр","№ п/ж","Ф.И.О.","Д. р., разряд","Вед., регион",null,"Оценки","Очки","Рез-т","Время"]
[null,"№ j",null,null,null,null,null,null,null,"tame",null,"№ j",null,null,null,null,null,null,null,"tame"]
[1,{"$f":"пр.хода!K5","v":5},{"$f":"IFERROR(VLOOKUP(B83,пр.взв!$B$7:$H$38,2,0),\"\")","v":"СААКЯН Паруйр Рубикович"},{"$f":"IFERROR(VLOOKUP(B83,пр.взв!$B$7:$H$38,3,0),\"\")","v":"24.07.1994, МС"},{"$f":"IFERROR(VLOOKUP(B83,пр.взв!$B$7:$H$38,4,0),\"\")","v":"СФО"},{"$f":"IFERROR(VLOOKUP(B83,пр.взв!$B$7:$H$38,5,0),\"\")","v":"Красноярский край, Красноярск, Академия борьбы"},null,null,null,null,3,{"$f":"пр.хода!K33","v":18},{"$f":"IFERROR(VLOOKUP(L83,пр.взв!$B$7:$H$38,2,0),\"\")","v":"ПЕВНЕВ Александр Андреевич"},{"$f":"IFERROR(VLOOKUP(L83,пр.взв!$B$7:$H$38,3,0),\"\")","v":"24.06.1994, МС"},{"$f":"IFERROR(VLOOKUP(L83,пр.взв!$B$7:$H$38,4,0),\"\")","v":"СФО"},{"$f":"IFERROR(VLOOKUP(L83,пр.взв!$B$7:$H$38,5,0),\"\")","v":"Красноярский край, Красноярск, Академия борьбы"}]
[]
[null,{"$f":"пр.хода!K7","v":13},{"$f":"IFERROR(VLOOKUP(B85,пр.взв!$B$7:$H$38,2,0),\"\")","v":"АДАЕВ Исмаил Залимханович"},{"$f":"IFERROR(VLOOKUP(B85,пр.взв!$B$7:$H$38,3,0),\"\")","v":"09.04.1994, МС"},{"$f":"IFERROR(VLOOKUP(B85,пр.взв!$B$7:$H$38,4,0),\"\")","v":"УФО"},{"$f":"IFERROR(VLOOKUP(B85,пр.взв!$B$7:$H$38,5,0),\"\")","v":"ХМАО-Югра, Радужный"},null,null,null,null,null,{"$f":"пр.хода!K35","v":10},{"$f":"IFERROR(VLOOKUP(L85,пр.взв!$B$7:$H$38,2,0),\"\")","v":"МИХАЙЛИН Вячеслав Вячеславович"},{"$f":"IFERROR(VLOOKUP(L85,пр.взв!$B$7:$H$38,3,0),\"\")","v":"06.10.1986, ЗМС"},{"$f":"IFERROR(VLOOKUP(L85,пр.взв!$B$7:$H$38,4,0),\"\")","v":"М"},{"$f":"IFERROR(VLOOKUP(L85,пр.взв!$B$7:$H$38,5,0),\"\")","v":"Москва, \"Самбо-70\", Д"}]
[]
[2,{"$f":"пр.хода!K9","v":7},{"$f":"IFERROR(VLOOKUP(B87,пр.взв!$B$7:$H$38,2,0),\"\")","v":"БАШИН Павел Андреевич"},{"$f":"IFERROR(VLOOKUP(B87,пр.взв!$B$7:$H$38,3,0),\"\")","v":"05.06.1989, МС"},{"$f":"IFERROR(VLOOKUP(B87,пр.взв!$B$7:$H$38,4,0),\"\")","v":"ПФО"},{"$f":"IFERROR(VLOOKUP(B87,пр.взв!$B$7:$H$38,5,0),\"\")","v":"Пермский край, Кудымкар, МО"},null,null,null,null,4,{"$f":"пр.хода!K37","v":4},{"$f":"IFERROR(VLOOKUP(L87,пр.взв!$B$7:$H$38,2,0),\"\")","v":"ЕФРЕМОВ Александр Юрьевич"},{"$f":"IFERROR(VLOOKUP(L87,пр.взв!$B$7:$H$38,3,0),\"\")","v":"08.09.1989, МСМК"},{"$f":"IFERROR(VLOOKUP(L87,пр.взв!$B$7:$H$38,4,0),\"\")","v":"ДВФО"},{"$f":"IFERROR(VLOOKUP(L87,пр.взв!$B$7:$H$38,5,0),\"\")","v":"Приморский край, Владивосток, Д"}]
[]
[null,{"$f":"пр.хода!K11","v":15},{"$f":"IFERROR(VLOOKUP(B89,пр.взв!$B$7:$H$38,2,0),\"\")","v":"РОЖИН Григорий Алексеевич"},{"$f":"IFERROR(VLOOKUP(B89,пр.взв!$B$7:$H$38,3,0),\"\")","v":"09.05.1991, МС"},{"$f":"IFERROR(VLOOKUP(B89,пр.взв!$B$7:$H$38,4,0),\"\")","v":"ДВФО"},{"$f":"IFERROR(VLOOKUP(B89,пр.взв!$B$7:$H$38,5,0),\"\")","v":"Приморский край, Владивосток, Д"},null,null,null,null,null,{"$f":"пр.хода!K39","v":12},{"$f":"IFERROR(VLOOKUP(L89,пр.взв!$B$7:$H$38,2,0),\"\")","v":"ГАЙБАЕВ Артём Римович"},{"$f":"IFERROR(VLOOKUP(L89,пр.взв!$B$7:$H$38,3,0),\"\")","v":"06.08.1994, МС"},{"$f":"IFERROR(VLOOKUP(L89,пр.взв!$B$7:$H$38,4,0),\"\")","v":"ПФО"},{"$f":"IFERROR(VLOOKUP(L89,пр.взв!$B$7:$H$38,5,0),\"\")","v":"Пензенская обл., Пенза, Д"}]
[]
[null,{"$f":"B78","v":0},"КОВЕР",null,null,null,null,null,null,null,null,{"$f":"L78","v":0},"КОВЕР"]
[5,{"$f":"пр.хода!L6","v":13},{"$f":"IFERROR(VLOOKUP(B92,пр.взв!$B$7:$H$38,2,0),\"\")","v":"АДАЕВ Исмаил Залимханович"},{"$f":"IFERROR(VLOOKUP(B92,пр.взв!$B$7:$H$38,3,0),\"\")","v":"09.04.1994, МС"},{"$f":"IFERROR(VLOOKUP(B92,пр.взв!$B$7:$H$38,4,0),\"\")","v":"УФО"},{"$f":"IFERROR(VLOOKUP(B92,пр.взв!$B$7:$H$38,5,0),\"\")","v":"ХМАО-Югра, Радужный"},null,null,null,null,7,{"$f":"пр.хода!L34","v":10},{"$f":"IFERROR(VLOOKUP(L92,пр.взв!$B$7:$H$38,2,0),\"\")","v":"МИХАЙЛИН Вячеслав Вячеславович"},{"$f":"IFERROR(VLOOKUP(L92,пр.взв!$B$7:$H$38,3,0),\"\")","v":"06.10.1986, ЗМС"},{"$f":"IFERROR(VLOOKUP(L92,пр.взв!$B$7:$H$38,4,0),\"\")","v":"М"},{"$f":"IFERROR(VLOOKUP(L92,пр.взв!$B$7:$H$38,5,0),\"\")","v":"Москва, \"Самбо-70\", Д"}]
[]
[null,{"$f":"пр.хода!L8","v":25},{"$f":"IFERROR(VLOOKUP(B94,пр.взв!$B$7:$H$38,2,0),\"\")","v":"КИСЕЛЕВ Руслан Владимирович"},{"$f":"IFERROR(VLOOKUP(B94,пр.взв!$B$7:$H$38,3,0),\"\")","v":"16.01.1992, МС"},{"$f":"IFERROR(VLOOKUP(B94,пр.взв!$B$7:$H$38,4,0),\"\")","v":"М"},{"$f":"IFERROR(VLOOKUP(B94,пр.взв!$B$7:$H$38,5,0),\"\")","v":"Москва, \"Самбо-70\", Д"},null,null,null,null,null,{"$f":"пр.хода!L36","v":6},{"$f":"IFERROR(VLOOKUP(L94,пр.взв!$B$7:$H$38,2,0),\"\")","v":"ИВАНОВ Дмитрий Андреевич"},{"$f":"IFERROR(VLOOKUP(L94,пр.взв!$B$7:$H$38,3,0),\"\")","v":"25.01.1993, МС"},{"$f":"IFERROR(VLOOKUP(L94,пр.взв!$B$7:$H$38,4,0),\"\")","v":"ДВФО"},{"$f":"IFERROR(VLOOKUP(L94,пр.взв!$B$7:$H$38,5,0),\"\")","v":"Амурская обл., Благовещенск"}]
[]
[6,{"$f":"пр.хода!L10","v":15},{"$f":"IFERROR(VLOOKUP(B96,пр.взв!$B$7:$H$38,2,0),\"\")","v":"РОЖИН Григорий Алексеевич"},{"$f":"IFERROR(VLOOKUP(B96,пр.взв!$B$7:$H$38,3,0),\"\")","v":"09.05.1991, МС"},{"$f":"IFERROR(VLOOKUP(B96,пр.взв!$B$7:$H$38,4,0),\"\")","v":"ДВФО"},{"$f":"IFERROR(VLOOKUP(B96,пр.взв!$B$7:$H$38,5,0),\"\")","v":"Приморский край, Владивосток, Д"},null,null,null,null,8,{"$f":"пр.хода!L38","v":12},{"$f":"IFERROR(VLOOKUP(L96,пр.взв!$B$7:$H$38,2,0),\"\")","v":"ГАЙБАЕВ Артём Римович"},{"$f":"IFERROR(VLOOKUP(L96,пр.взв!$B$7:$H$38,3,0),\"\")","v":"06.08.1994, МС"},{"$f":"IFERROR(VLOOKUP(L96,пр.взв!$B$7:$H$38,4,0),\"\")","v":"ПФО"},{"$f":"IFERROR(VLOOKUP(L96,пр.взв!$B$7:$H$38,5,0),\"\")","v":"Пензенская обл., Пенза, Д"}]
[]
[null,{"$f":"пр.хода!L12","v":27},{"$f":"IFERROR(VLOOKUP(B98,пр.взв!$B$7:$H$38,2,0),\"\")","v":"БАЯЛИЕВ Мовладий Хусеевич"},{"$f":"IFERROR(VLOOKUP(B98,пр.взв!$B$7:$H$38,3,0),\"\")","v":"06.04.1984, МСМК"},{"$f":"IFERROR(VLOOKUP(B98,пр.взв!$B$7:$H$38,4,0),\"\")","v":"ЮФО"},{"$f":"IFERROR(VLOOKUP(B98,пр.взв!$B$7:$H$38,5,0),\"\")","v":"Краснодарский край, Армавир, Д"},null,null,null,null,null,{"$f":"пр.хода!L40","v":24},{"$f":"IFERROR(VLOOKUP(L98,пр.взв!$B$7:$H$38,2,0),\"\")","v":"КУРГИНЯН Эдуард Славикович"},{"$f":"IFERROR(VLOOKUP(L98,пр.взв!$B$7:$H$38,3,0),\"\")","v":"16.12.1986, ЗМС"},{"$f":"IFERROR(VLOOKUP(L98,пр.взв!$B$7:$H$38,4,0),\"\")","v":"ЮФО"},{"$f":"IFERROR(VLOOKUP(L98,пр.взв!$B$7:$H$38,5,0),\"\")","v":"Краснодарский край, Армавир, Д"}]
[]
[null,{"$f":"B91","v":0},"КОВЕР",null,null,null,null,null,null,null,null,{"$f":"L91","v":0},"КОВЕР"]
[9,{"$f":"пр.хода!M7","v":25},{"$f":"IFERROR(VLOOKUP(B101,пр.взв!$B$7:$H$38,2,0),\"\")","v":"КИСЕЛЕВ Руслан Владимирович"},{"$f":"IFERROR(VLOOKUP(B101,пр.взв!$B$7:$H$38,3,0),\"\")","v":"16.01.1992, МС"},{"$f":"IFERROR(VLOOKUP(B101,пр.взв!$B$7:$H$38,4,0),\"\")","v":"М"},{"$f":"IFERROR(VLOOKUP(B101,пр.взв!$B$7:$H$38,5,0),\"\")","v":"Москва, \"Самбо-70\", Д"},null,null,null,null,10,{"$f":"пр.хода!M35","v":10},{"$f":"IFERROR(VLOOKUP(L101,пр.взв!$B$7:$H$38,2,0),\"\")","v":"МИХАЙЛИН Вячеслав Вячеславович"},{"$f":"IFERROR(VLOOKUP(L101,пр.взв!$B$7:$H$38,3,0),\"\")","v":"06.10.1986, ЗМС"},{"$f":"IFERROR(VLOOKUP(L101,пр.взв!$B$7:$H$38,4,0),\"\")","v":"М"},{"$f":"IFERROR(VLOOKUP(L101,пр.взв!$B$7:$H$38,5,0),\"\")","v":"Москва, \"Самбо-70\", Д"}]
[]
[null,{"$f":"пр.хода!M11","v":27},{"$f":"IFERROR(VLOOKUP(B103,пр.взв!$B$7:$H$38,2,0),\"\")","v":"БАЯЛИЕВ Мовладий Хусеевич"},{"$f":"IFERROR(VLOOKUP(B103,пр.взв!$B$7:$H$38,3,0),\"\")","v":"06.04.1984, МСМК"},{"$f":"IFERROR(VLOOKUP(B103,пр.взв!$B$7:$H$38,4,0),\"\")","v":"ЮФО"},{"$f":"IFERROR(VLOOKUP(B103,пр.взв!$B$7:$H$38,5,0),\"\")","v":"Краснодарский край, Армавир, Д"},null,null,null,null,null,{"$f":"пр.хода!M39","v":12},{"$f":"IFERROR(VLOOKUP(L103,пр.взв!$B$7:$H$38,2,0),\"\")","v":"ГАЙБАЕВ Артём Римович"},{"$f":"IFERROR(VLOOKUP(L103,пр.взв!$B$7:$H$38,3,0),\"\")","v":"06.08.1994, МС"},{"$f":"IFERROR(VLOOKUP(L103,пр.взв!$B$7:$H$38,4,0),\"\")","v":"ПФО"},{"$f":"IFERROR(VLOOKUP(L103,пр.взв!$B$7:$H$38,5,0),\"\")","v":"Пензенская обл., Пенза, Д"}]

{"sheet":"медали","index":3,"n_rows":44,"n_cols":10,"rows_kept":44,"cut":false,"hidden":false,"merged":[[33,9,34,9],[16,9,17,9],[29,9,30,9],[0,0,0,9],[18,9,19,9],[20,9,21,9],[31,9,32,9],[4,4,5,5],[4,9,5,9],[6,9,7,9],[33,7,34,7],[4,7,5,7],[6,7,7,7],[8,7,9,7],[16,7,17,7],[18,7,19,7],[8,9,9,9],[4,0,5,0],[4,1,5,1],[4,2,5,2],[4,3,5,3],[4,6,5,6],[4,8,5,8],[6,6,7,6],[6,8,7,8],[8,0,9,0],[8,8,9,8],[8,6,9,6],[16,0,17,0],[16,1,17,1],[16,2,17,2],[16,3,17,3],[1,4,1,5],[6,0,7,0],[6,1,7,1],[6,2,7,2],[6,3,7,3],[6,4,7,4],[6,5,7,5],[8,1,9,1],[8,2,9,2],[8,3,9,3],[8,4,9,4],[8,5,9,5],[18,5,19,5],[18,6,19,6],[20,7,21,7],[20,5,21,5],[16,8,17,8],[16,6,17,6],[16,4,17,5],[31,0,32,0],[31,1,32,1],[31,2,32,2],[31,3,32,3],[18,8,19,8],[20,0,21,0],[20,1,21,1],[20,2,21,2],[20,3,21,3],[20,6,21,6],[20,8,21,8],[18,0,19,0],[18,1,19,1],[18,2,19,2],[18,3,19,3],[18,4,19,4],[31,5,32,5],[20,4,21,4],[33,6,34,6],[29,0,30,0],[29,1,30,1],[29,2,30,2],[29,3,30,3],[28,4,28,5],[29,4,30,5],[33,4,34,4],[33,5,34,5],[31,4,32,4],[33,0,34,0],[33,1,34,1],[33,2,34,2],[33,3,34,3],[33,8,34,8],[31,6,32,6],[31,8,32,8],[29,6,30,6],[29,8,30,8],[29,7,30,7],[31,7,32,7]]}
[{"$f":"пр.взв!A2","v":"Чемпионат России по самбо среди мужчин, женщин и боевому самбо"}]
[null,null,null,null,{"$f":"HYPERLINK(пр.взв!D4)","v":"В.к. 100 кг."}]
[null,null,"за 3-е место"]
[null,null,"ВСТРЕЧА 1"]
["Цвет","№ п/ж","Ф.И.О.","Д. р., разряд","Вед., регион",null,"Оценки","Очки","Рез-т","Время"]
[]
[null,{"$f":"пр.хода!N9","v":25},{"$f":"IFERROR(VLOOKUP(B7,пр.взв!$B$7:$H$38,2,0),\"\")","v":"КИСЕЛЕВ Руслан Владимирович"},{"$f":"IFERROR(VLOOKUP(B7,пр.взв!$B$7:$H$38,3,0),\"\")","v":"16.01.1992, МС"},{"$f":"IFERROR(VLOOKUP(B7,пр.взв!$B$7:$H$38,4,0),\"\")","v":"М"},{"$f":"IFERROR(VLOOKUP(B7,пр.взв!$B$7:$H$38,5,0),\"\")","v":"Москва, \"Самбо-70\", Д"}]
[]
[null,{"$f":"пр.хода!N13","v":2},{"$f":"IFERROR(VLOOKUP(B9,пр.взв!$B$7:$H$38,2,0),\"\")","v":"ТОРГАШОВ Дмитрий Сергеевич"},{"$f":"IFERROR(VLOOKUP(B9,пр.взв!$B$7:$H$38,3,0),\"\")","v":"16.03.1993, МСМК"},{"$f":"IFERROR(VLOOKUP(B9,пр.взв!$B$7:$H$38,4,0),\"\")","v":"УФО"},{"$f":"IFERROR(VLOOKUP(B9,пр.взв!$B$7:$H$38,5,0),\"\")","v":"Свердловская обл., В.Пышма, КС \"УГМК\""}]
[]
["Руководитель ковра"]
[null,"А"]
[null,"Б"]
[]
[null,null,{"$f":"C3","v":"за 3-е место"}]
[null,null,"ВСТРЕЧА 2",null,{"$f":"E2","v":"В.к. 100 кг."}]
["Цвет","№ п/ж","Ф.И.О.","Д. р., разряд","Вед., регион",null,"Оценки","Очки","Рез-т","Время"]
[]
[null,{"$f":"пр.хода!N37","v":10},{"$f":"IFERROR(VLOOKUP(B19,пр.взв!$B$7:$H$38,2,0),\"\")","v":"МИХАЙЛИН Вячеслав Вячеславович"},{"$f":"IFERROR(VLOOKUP(B19,пр.взв!$B$7:$H$38,3,0),\"\")","v":"06.10.1986, ЗМС"},{"$f":"IFERROR(VLOOKUP(B19,пр.взв!$B$7:$H$38,4,0),\"\")","v":"М"},{"$f":"IFERROR(VLOOKUP(B19,пр.взв!$B$7:$H$38,5,0),\"\")","v":"Москва, \"Самбо-70\", Д"}]
[]
[null,{"$f":"пр.хода!N41","v":23},{"$f":"IFERROR(VLOOKUP(B21,пр.взв!$B$7:$H$38,2,0),\"\")","v":"ЕЛИСЕЕВ Дмитрий Михайлович"},{"$f":"IFERROR(VLOOKUP(B21,пр.взв!$B$7:$H$38,3,0),\"\")","v":"25.09.1992, ЗМС"},{"$f":"IFERROR(VLOOKUP(B21,пр.взв!$B$7:$H$38,4,0),\"\")","v":"СПб"},{"$f":"IFERROR(VLOOKUP(B21,пр.взв!$B$7:$H$38,5,0),\"\")","v":"Санкт-Петербург, КШВСМ-Д"}]
[]
["Руководитель ковра"]
[null,"А"]
[null,"Б"]
[]
[]
[]
[null,null,"ФИНАЛ",null,{"$f":"HYPERLINK(пр.взв!D4)","v":"В.к. 100 кг."}]
["Цвет","№ п/ж","Ф.И.О.","Д. р., разряд","Вед., регион",null,"Оценки","Очки","Рез-т","Время"]
[]
[null,{"$f":"пр.хода!K22","v":21},{"$f":"IFERROR(VLOOKUP(B32,пр.взв!$B$7:$H$38,2,0),\"\")","v":"ЧЕРНОСКУЛОВ Альсим Леонидович"},{"$f":"IFERROR(VLOOKUP(B32,пр.взв!$B$7:$H$38,3,0),\"\")","v":"11.05.1983, ЗМС"},{"$f":"IFERROR(VLOOKUP(B32,пр.взв!$B$7:$H$38,4,0),\"\")","v":"УФО"},{"$f":"IFERROR(VLOOKUP(B32,пр.взв!$B$7:$H$38,5,0),\"\")","v":"Свердловская обл., В.Пышма, КС \"УГМК\""}]
[]
[null,{"$f":"пр.хода!N22","v":20},{"$f":"IFERROR(VLOOKUP(B34,пр.взв!$B$7:$H$38,2,0),\"\")","v":"ОСИПЕНКО Виктор Иванович"},{"$f":"IFERROR(VLOOKUP(B34,пр.взв!$B$7:$H$38,3,0),\"\")","v":"08.01.1991, МСМК"},{"$f":"IFERROR(VLOOKUP(B34,пр.взв!$B$7:$H$38,4,0),\"\")","v":"ЦФО"},{"$f":"IFERROR(VLOOKUP(B34,пр.взв!$B$7:$H$38,5,0),\"\")","v":"Брянская обл., Брянск"}]
[]
["Руководитель ковра"]
[null,"А"]
[null,"Б"]
[]
[]
[]
["",null,null,null,null,"",""]
[]
["",null,null,null,null,"",""]

{"sheet":"Ит.пр","index":4,"n_rows":37,"n_cols":41,"rows_kept":37,"cut":false,"hidden":false,"merged":[[0,0,0,7],[3,37,3,40],[1,19,1,23],[3,28,4,28],[3,29,4,29],[3,30,3,33],[3,35,4,35],[3,36,4,36],[2,1,2,6],[1,1,1,2],[3,6,4,6],[3,0,4,0],[3,1,4,1],[3,2,4,2],[3,3,4,3],[3,4,4,5],[1,3,1,7],[3,7,4,7],[3,18,4,18],[3,19,4,19],[3,20,3,23],[3,9,4,9],[3,10,4,10],[3,11,4,11],[3,12,4,12],[3,13,3,16],[5,9,6,9],[5,10,6,10],[7,9,8,9],[7,10,8,10],[9,9,10,9],[9,10,10,10],[11,9,12,9],[11,10,12,10],[13,9,14,9],[13,10,14,10],[15,9,16,9],[15,10,16,10]]}
["ВСЕРОССИЙСКАЯ ФЕДЕРАЦИЯ САМБО",null,null,null,null,null,null,null,null,null,null,null,null,null,null,null,null,null,null,{"$f":"SUMIF(T6:T11,V1,$K$14:$K$17)","v":0},null,{"$f":"J12","v":"Санкт-Петербург"}]
[null,"ИТОГОВЫЙ ПРОТОКОЛ МУЖЧИНЫ",null,{"$f":"[1]реквизиты!$A$2","v":"Чемпионат России по самбо среди мужчин, женщин и боевому самбо"},null,null,null,null,null,null,null,null,null,null,null,null,null,null,null,{"$f":"SUMIF(J14:J16,V1,$K$14:$K$17)","v":0}]
[null,{"$f":"[1]реквизиты!$A$3","v":"1-5 марта 2018г.                                              г.Хабаровск"},null,null,null,null,null,{"$f":"HYPERLINK(пр.взв!D4)","v":"В.к. 100 кг."}]
[" место","№ п/ж","Ф.И.О.","Дата рожд., разряд","Округ, субъект, город, ведомство",null,"№ карточки","Тренер",null,{"$f":"IFERROR(LEFT(F6,FIND(\",\",F6)-1),F6)","v":"Свердловская обл."},1,"№пп","Субъект",null,null,null,null,null,"№пп","Субъект",null,null,null,null,null,null,null,null,"№пп","Субъект",null,null,null,null,null,"№пп","Субъект"]
[null,null,null,null,null,null,null,null,null,null,null,null,null,1,2,3,5,null,null,null,1,2,3,5,null,1,null,2,null,null,1,2,3,5,null,null,null,1,2,3,5]
[1,{"$f":"пр.хода!K17","v":21},{"$f":"IFERROR(VLOOKUP(B6,пр.взв!$B$7:$H$38,2,0),\"\")","v":"ЧЕРНОСКУЛОВ Альсим Леонидович"},{"$f":"IFERROR(VLOOKUP(B6,пр.взв!$B$7:$H$38,3,0),\"\")","v":"11.05.1983, ЗМС"},{"$f":"IFERROR(VLOOKUP(B6,пр.взв!$B$7:$H$38,4,0),\"\")","v":"УФО"},{"$f":"IFERROR(VLOOKUP(B6,пр.взв!$B$7:$H$38,5,0),\"\")","v":"Свердловская обл., В.Пышма, КС \"УГМК\""},{"$f":"IFERROR(VLOOKUP(B6,пр.взв!$B$7:$H$38,6,0),\"\")","v":"-"},{"$f":"IFERROR(VLOOKUP(B6,пр.взв!$B$7:$H$38,7,0),\"\")","v":"Стенников ВГ, Мельников АН"},null,"СМИТ",1,1,"Алтайский",{"$f":"SUMIF($J$4:$J$7,J4,$K$4:$K$7)","v":1},{"$f":"SUMIF($I$8:$J$9,\"алт\",$K$6:$K$9)","v":0},{"$f":"SUMIF($J$10:$J$13,\"Алт\",$K$10:$K$13)","v":0},{"$f":"SUMIF($J$14:$J$17,\"Алт\",$K$14:$K$17)","v":0},null,1,{"$f":"J4","v":"Свердловская обл."},{"$f":"SUMIF($J$4:$J$7,T6,$K$4:$K$7)","v":1},{"$f":"SUMIF($I$8:$J$9,T6,$K$6:$K$9)","v":0},{"$f":"SUMIF($J$10:$J$13,T6,$K$10:$K$13)","v":0},{"$f":"SUMIF($J$14:$J$17,T6,$K$14:$K$17)","v":1},null,{"$f":"T6","v":"Свердловская обл."},null,{"$f":"Z6","v":"Свердловская обл."},1,{"$f":"AB6","v":"Свердловская обл."},{"$f":"SUMIF($J$4:$J$7,AD6,$K$4:$K$7)","v":1},{"$f":"SUMIF($I$8:$J$9,AD6,$K$6:$K$9)","v":0},{"$f":"SUMIF($J$10:$J$13,AD6,$K$10:$K$13)","v":0},{"$f":"SUMIF($J$14:$J$17,AD6,$K$14:$K$17)","v":1},null,1,{"$f":"IF(AD6=0,\" \",AD6)","v":"Свердловская обл."},1," "," ",1]
[2,{"$f":"пр.хода!K25","v":20},{"$f":"IFERROR(VLOOKUP(B7,пр.взв!$B$7:$H$38,2,0),\"\")","v":"ОСИПЕНКО Виктор Иванович"},{"$f":"IFERROR(VLOOKUP(B7,пр.взв!$B$7:$H$38,3,0),\"\")","v":"08.01.1991, МСМК"},{"$f":"IFERROR(VLOOKUP(B7,пр.взв!$B$7:$H$38,4,0),\"\")","v":"ЦФО"},{"$f":"IFERROR(VLOOKUP(B7,пр.взв!$B$7:$H$38,5,0),\"\")","v":"Брянская обл., Брянск"},{"$f":"IFERROR(VLOOKUP(B7,пр.взв!$B$7:$H$38,6,0),\"\")","v":"-"},{"$f":"IFERROR(VLOOKUP(B7,пр.взв!$B$7:$H$38,7,0),\"\")","v":"Портнов СВ, Зубов РП"},null,null,null,2,"Забайкальский",{"$f":"SUMIF($J$4:$J$7,\"заб\",$K$4:$K$7)","v":0},{"$f":"SUMIF($I$8:$J$9,\"заб\",$K$6:$K$9)","v":0},{"$f":"SUMIF($J$10:$J$13,\"заб\",$K$10:$K$13)","v":0},{"$f":"SUMIF($J$14:$J$17,\"заб\",$K$14:$K$17)","v":0},null,2,{"$f":"IF(J8=J4,\" \",J8)","v":"Брянская обл."},0,1,0,{"$f":"SUMIF($J$14:$J$17,T7,$K$14:$K$17)","v":0},null,{"$f":"IF(OR(T7=\" \"),T8,T7)","v":"Брянская обл."},{"$f":"IF(U7=U6,\" \",U7)","v":0},{"$f":"IF(OR(Z7=\" \"),Z8,Z7)","v":"Брянская обл."},2,{"$f":"IF(OR(AB7=\" \"),AB8,AB7)","v":"Брянская обл."},0,1,0,0,null,2,"Брянская обл."," ",1," "," "]
[3,{"$f":"пр.хода!O6","v":25},{"$f":"IFERROR(VLOOKUP(B8,пр.взв!$B$7:$H$38,2,0),\"\")","v":"КИСЕЛЕВ Руслан Владимирович"},{"$f":"IFERROR(VLOOKUP(B8,пр.взв!$B$7:$H$38,3,0),\"\")","v":"16.01.1992, МС"},{"$f":"IFERROR(VLOOKUP(B8,пр.взв!$B$7:$H$38,4,0),\"\")","v":"М"},{"$f":"IFERROR(VLOOKUP(B8,пр.взв!$B$7:$H$38,5,0),\"\")","v":"Москва, \"Самбо-70\", Д"},{"$f":"IFERROR(VLOOKUP(B8,пр.взв!$B$7:$H$38,6,0),\"\")","v":"-"},{"$f":"IFERROR(VLOOKUP(B8,пр.взв!$B$7:$H$38,7,0),\"\")","v":"Конин ВИ, Богомолов ВА"},null,{"$f":"IFERROR(LEFT(F7,FIND(\",\",F7)-1),F7)","v":"Брянская обл."},1,3,"Иркутская",{"$f":"SUMIF($J$4:$J$7,\"ирк\",$K$4:$K$7)","v":0},{"$f":"SUMIF($I$8:$J$9,\"ирк\",$K$6:$K$9)","v":0},{"$f":"SUMIF($J$10:$J$13,\"ирк\",$K$10:$K$13)","v":0},{"$f":"SUMIF($J$14:$J$17,\"ирк\",$K$14:$K$17)","v":0},null,3,{"$f":"IF(OR(J10=J4,J10=J8),\" \",J10)","v":"Москва"},0,0,1,{"$f":"SUMIF($J$14:$J$17,T8,$K$14:$K$17)","v":1},null,{"$f":"IF(OR(T8=\" \",T7=\" \"),T9,T8)","v":"Москва"},null,{"$f":"IF(OR(Z8=\" \",Z7=\" \"),Z9,Z8)","v":"Москва"},3,{"$f":"IF(OR(AB8=\" \",AB7=\" \"),AB9,AB8)","v":"Москва"},0,0,1,1,null,3,"Москва"," "," ",1,1]
[3,{"$f":"пр.хода!P39","v":23},{"$f":"IFERROR(VLOOKUP(B9,пр.взв!$B$7:$H$38,2,0),\"\")","v":"ЕЛИСЕЕВ Дмитрий Михайлович"},{"$f":"IFERROR(VLOOKUP(B9,пр.взв!$B$7:$H$38,3,0),\"\")","v":"25.09.1992, ЗМС"},{"$f":"IFERROR(VLOOKUP(B9,пр.взв!$B$7:$H$38,4,0),\"\")","v":"СПб"},{"$f":"IFERROR(VLOOKUP(B9,пр.взв!$B$7:$H$38,5,0),\"\")","v":"Санкт-Петербург, КШВСМ-Д"},{"$f":"IFERROR(VLOOKUP(B9,пр.взв!$B$7:$H$38,6,0),\"\")","v":"-"},{"$f":"IFERROR(VLOOKUP(B9,пр.взв!$B$7:$H$38,7,0),\"\")","v":"Савельев АВ"},null,null,null,4,"Кемеровская",{"$f":"SUMIF($J$4:$J$7,\"кем\",$K$4:$K$7)","v":0},{"$f":"SUMIF($I$8:$J$9,\"кем\",$K$6:$K$9)","v":0},{"$f":"SUMIF($J$10:$J$13,\"кем\",$K$10:$K$13)","v":0},{"$f":"SUMIF($J$14:$J$17,\"кем\",$K$14:$K$17)","v":0},null,4,{"$f":"IF(OR(J12=J4,J12=J8,J12=J10),\" \",J12)","v":"Санкт-Петербург"},0,0,1,{"$f":"SUMIF($J$14:$J$17,T9,$K$14:$K$17)","v":0},null,{"$f":"IF(OR(T7=\" \",T8=\" \",T9=\" \"),T10,T9)","v":"Санкт-Петербург"},null,{"$f":"IF(OR(Z7=\" \",Z8=\" \",Z9=\" \"),Z10,Z9)","v":"Санкт-Петербург"},4,{"$f":"IF(OR(AB7=\" \",AB8=\" \",AB9=\" \"),AB10,AB9)","v":"Санкт-Петербург"},0,0,1,0,null,4,"Санкт-Петербург"," "," ",1," "]
[5,{"$f":"пр.хода!AD20","v":2},{"$f":"IFERROR(VLOOKUP(B10,пр.взв!$B$7:$H$38,2,0),\"\")","v":"ТОРГАШОВ Дмитрий Сергеевич"},{"$f":"IFERROR(VLOOKUP(B10,пр.взв!$B$7:$H$38,3,0),\"\")","v":"16.03.1993, МСМК"},{"$f":"IFERROR(VLOOKUP(B10,пр.взв!$B$7:$H$38,4,0),\"\")","v":"УФО"},{"$f":"IFERROR(VLOOKUP(B10,пр.взв!$B$7:$H$38,5,0),\"\")","v":"Свердловская обл., В.Пышма, КС \"УГМК\""},{"$f":"IFERROR(VLOOKUP(B10,пр.взв!$B$7:$H$38,6,0),\"\")","v":"-"},{"$f":"IFERROR(VLOOKUP(B10,пр.взв!$B$7:$H$38,7,0),\"\")","v":"Стенников ВГ, Мельников АН"},null,{"$f":"IFERROR(LEFT(F8,FIND(\",\",F8)-1),F8)","v":"Москва"},1,5,"Красноярский",{"$f":"SUMIF($J$4:$J$7,\"кра\",$K$4:$K$7)","v":0},{"$f":"SUMIF($I$8:$J$9,\"кра\",$K$6:$K$9)","v":0},{"$f":"SUMIF($J$10:$J$13,\"кра\",$K$10:$K$13)","v":0},{"$f":"SUMIF($J$14:$J$17,\"кра\",$K$14:$K$17)","v":0},null,5,{"$f":"IF(OR(J14=J4,J14=J8,J14=J10,J14=J12),\" \",J14)","v":" "},0,0,0,{"$f":"SUMIF($J$14:$J$17,T10,$K$14:$K$17)","v":0},null,{"$f":"IF(OR(T7=\" \",T8=\" \",T9=\" \",T10=\" \"),T11,T10)","v":" "},null,{"$f":"IF(OR(Z7=\" \",Z8=\" \",Z9=\" \"),\" \",Z10)","v":" "},5,{"$f":"IF(OR(AB7=\" \",AB8=\" \",AB9=\" \"),\" \",AB10)","v":" "},0,0,0,0,null,5," "," "," "," "," "]
[5,{"$f":"пр.хода!AD21","v":10},{"$f":"IFERROR(VLOOKUP(B11,пр.взв!$B$7:$H$38,2,0),\"\")","v":"МИХАЙЛИН Вячеслав Вячеславович"},{"$f":"IFERROR(VLOOKUP(B11,пр.взв!$B$7:$H$38,3,0),\"\")","v":"06.10.1986, ЗМС"},{"$f":"IFERROR(VLOOKUP(B11,пр.взв!$B$7:$H$38,4,0),\"\")","v":"М"},{"$f":"IFERROR(VLOOKUP(B11,пр.взв!$B$7:$H$38,5,0),\"\")","v":"Москва, \"Самбо-70\", Д"},{"$f":"IFERROR(VLOOKUP(B11,пр.взв!$B$7:$H$38,6,0),\"\")","v":"-"},{"$f":"IFERROR(VLOOKUP(B11,пр.взв!$B$7:$H$38,7,0),\"\")","v":"Филимонов СН, Павлов ДА"},null,null,null,6,"Новосибирская",{"$f":"SUMIF($J$4:$J$7,\"нов\",$K$4:$K$7)","v":0},{"$f":"SUMIF($I$8:$J$9,\"нов\",$K$6:$K$9)","v":0},{"$f":"SUMIF($J$10:$J$13,\"нов\",$K$10:$K$13)","v":0},{"$f":"SUMIF($J$14:$J$17,\"нов\",$K$14:$K$17)","v":0},null,6,{"$f":"IF(OR(J16=J4,J16=J8,J16=J10,J16=J12,J16=J14),\" \",J16)","v":" "},0,0,0,{"$f":"SUMIF($J$14:$J$17,T11,$K$8:$K$17)","v":0},null,{"$f":"IF(OR(T7=\" \",T8=\" \",T9=\" \",T10=\" \"),\" \",T11)","v":" "},null,{"$f":"IF(OR(Z7=\" \",Z8=\" \",Z9=\" \",Z10=\" \"),\" \",Z11)","v":" "},6,{"$f":"IF(OR(AB7=\" \",AB8=\" \",AB9=\" \",AB10=\" \"),\" \",AB11)","v":" "},0,0,0,0,null,6," "," "," "," "," "]
["7-8",{"$f":"пр.хода!AD17","v":27},{"$f":"IFERROR(VLOOKUP(B12,пр.взв!$B$7:$H$38,2,0),\"\")","v":"БАЯЛИЕВ Мовладий Хусеевич"},{"$f":"IFERROR(VLOOKUP(B12,пр.взв!$B$7:$H$38,3,0),\"\")","v":"06.04.1984, МСМК"},{"$f":"IFERROR(VLOOKUP(B12,пр.взв!$B$7:$H$38,4,0),\"\")","v":"ЮФО"},{"$f":"IFERROR(VLOOKUP(B12,пр.взв!$B$7:$H$38,5,0),\"\")","v":"Краснодарский край, Армавир, Д"},{"$f":"IFERROR(VLOOKUP(B12,пр.взв!$B$7:$H$38,6,0),\"\")","v":"-"},{"$f":"IFERROR(VLOOKUP(B12,пр.взв!$B$7:$H$38,7,0),\"\")","v":"Бабоян РМ"},null,{"$f":"IFERROR(LEFT(F9,FIND(\",\",F9)-1),F9)","v":"Санкт-Петербург"},1,7,"Омская",{"$f":"SUMIF($J$4:$J$7,\"омс\",$K$4:$K$7)","v":0},{"$f":"SUMIF($I$8:$J$9,\"омс\",$K$6:$K$9)","v":0},{"$f":"SUMIF($J$10:$J$13,\"омс\",$K$10:$K$13)","v":0},{"$f":"SUMIF($J$14:$J$17,\"омс\",$K$14:$K$17)","v":0},null,null,{"$f":"IF(OR(J15=J7,J15=J11,J15=J13),\" \",J15)","v":" "},null,null,null,null,null,null,null,null,null,null,{"$f":"SUM(AE6:AE11)","v":1},{"$f":"SUM(AF6:AF11)","v":1},{"$f":"SUM(AG6:AG11)","v":2},{"$f":"SUM(AH6:AH11)","v":2},null,null,null,{"$f":"SUM(AL6:AL11)","v":1},{"$f":"SUM(AM6:AM11)","v":1},{"$f":"SUM(AN6:AN11)","v":2},{"$f":"SUM(AO6:AO11)","v":2}]
["7-8",{"$f":"пр.хода!AD18","v":12},{"$f":"IFERROR(VLOOKUP(B13,пр.взв!$B$7:$H$38,2,0),\"\")","v":"ГАЙБАЕВ Артём Римович"},{"$f":"IFERROR(VLOOKUP(B13,пр.взв!$B$7:$H$38,3,0),\"\")","v":"06.08.1994, МС"},{"$f":"IFERROR(VLOOKUP(B13,пр.взв!$B$7:$H$38,4,0),\"\")","v":"ПФО"},{"$f":"IFERROR(VLOOKUP(B13,пр.взв!$B$7:$H$38,5,0),\"\")","v":"Пензенская обл., Пенза, Д"},{"$f":"IFERROR(VLOOKUP(B13,пр.взв!$B$7:$H$38,6,0),\"\")","v":"-"},{"$f":"IFERROR(VLOOKUP(B13,пр.взв!$B$7:$H$38,7,0),\"\")","v":"Можаров ОВ, Парфенов АФ"},null,null,null,8,"Р.Алтай",{"$f":"SUMIF($J$4:$J$7,\"р.а\",$K$4:$K$7)","v":0},{"$f":"SUMIF($I$8:$J$9,\"р.а\",$K$6:$K$9)","v":0},{"$f":"SUMIF($J$10:$J$13,\"р.а\",$K$10:$K$13)","v":0},{"$f":"SUMIF($J$14:$J$17,\"р.а\",$K$14:$K$17)","v":0},null,null,{"$f":"IF(OR(J16=J8,J16=J12,J16=J14),\" \",J16)","v":"Москва"}]
["9-12",{"$f":"пр.хода!AD12","v":13},{"$f":"IFERROR(VLOOKUP(B14,пр.взв!$B$7:$H$38,2,0),\"\")","v":"АДАЕВ Исмаил Залимханович"},{"$f":"IFERROR(VLOOKUP(B14,пр.взв!$B$7:$H$38,3,0),\"\")","v":"09.04.1994, МС"},{"$f":"IFERROR(VLOOKUP(B14,пр.взв!$B$7:$H$38,4,0),\"\")","v":"УФО"},{"$f":"IFERROR(VLOOKUP(B14,пр.взв!$B$7:$H$38,5,0),\"\")","v":"ХМАО-Югра, Радужный"},{"$f":"IFERROR(VLOOKUP(B14,пр.взв!$B$7:$H$38,6,0),\"\")","v":"-"},{"$f":"IFERROR(VLOOKUP(B14,пр.взв!$B$7:$H$38,7,0),\"\")","v":"Саркисян АА"},null,{"$f":"IFERROR(LEFT(F10,FIND(\",\",F10)-1),F10)","v":"Свердловская обл."},1,9,"Р.Бурятия",{"$f":"SUMIF($J$4:$J$7,\"р.б\",$K$4:$K$7)","v":0},{"$f":"SUMIF($I$8:$J$9,\"р.б\",$K$6:$K$9)","v":0},{"$f":"SUMIF($J$10:$J$13,\"р.б\",$K$10:$K$13)","v":0},{"$f":"SUMIF($J$14:$J$17,\"р.б\",$K$14:$K$17)","v":0}]
["9-12",{"$f":"пр.хода!AD13","v":15},{"$f":"IFERROR(VLOOKUP(B15,пр.взв!$B$7:$H$38,2,0),\"\")","v":"РОЖИН Григорий Алексеевич"},{"$f":"IFERROR(VLOOKUP(B15,пр.взв!$B$7:$H$38,3,0),\"\")","v":"09.05.1991, МС"},{"$f":"IFERROR(VLOOKUP(B15,пр.взв!$B$7:$H$38,4,0),\"\")","v":"ДВФО"},{"$f":"IFERROR(VLOOKUP(B15,пр.взв!$B$7:$H$38,5,0),\"\")","v":"Приморский край, Владивосток, Д"},{"$f":"IFERROR(VLOOKUP(B15,пр.взв!$B$7:$H$38,6,0),\"\")","v":"-"},{"$f":"IFERROR(VLOOKUP(B15,пр.взв!$B$7:$H$38,7,0),\"\")","v":"Иванов АН, Рыженко КВ"},null,null,null,10,"Р.Хакасия",{"$f":"SUMIF($J$4:$J$7,\"р.х\",$K$4:$K$7)","v":0},{"$f":"SUMIF($I$8:$J$9,\"р.х\",$K$6:$K$9)","v":0},{"$f":"SUMIF($J$10:$J$13,\"р.х\",$K$10:$K$13)","v":0},{"$f":"SUMIF($J$14:$J$17,\"р.х\",$K$14:$K$17)","v":0}]
["9-12",{"$f":"пр.хода!AD14","v":6},{"$f":"IFERROR(VLOOKUP(B16,пр.взв!$B$7:$H$38,2,0),\"\")","v":"ИВАНОВ Дмитрий Андреевич"},{"$f":"IFERROR(VLOOKUP(B16,пр.взв!$B$7:$H$38,3,0),\"\")","v":"25.01.1993, МС"},{"$f":"IFERROR(VLOOKUP(B16,пр.взв!$B$7:$H$38,4,0),\"\")","v":"ДВФО"},{"$f":"IFERROR(VLOOKUP(B16,пр.взв!$B$7:$H$38,5,0),\"\")","v":"Амурская обл., Благовещенск"},{"$f":"IFERROR(VLOOKUP(B16,пр.взв!$B$7:$H$38,6,0),\"\")","v":"-"},{"$f":"IFERROR(VLOOKUP(B16,пр.взв!$B$7:$H$38,7,0),\"\")","v":"Тришин ВБ"},null,{"$f":"IFERROR(LEFT(F11,FIND(\",\",F11)-1),F11)","v":"Москва"},1,11,"Томская",{"$f":"SUMIF($J$4:$J$7,\"том\",$K$4:$K$7)","v":0},{"$f":"SUMIF($I$8:$J$9,\"том\",$K$6:$K$9)","v":0},{"$f":"SUMIF($J$10:$J$13,\"том\",$K$10:$K$13)","v":0},{"$f":"SUMIF($J$14:$J$17,\"том\",$K$14:$K$17)","v":0}]
["9-12",{"$f":"пр.хода!AD15","v":24},{"$f":"IFERROR(VLOOKUP(B17,пр.взв!$B$7:$H$38,2,0),\"\")","v":"КУРГИНЯН Эдуард Славикович"},{"$f":"IFERROR(VLOOKUP(B17,пр.взв!$B$7:$H$38,3,0),\"\")","v":"16.12.1986, ЗМС"},{"$f":"IFERROR(VLOOKUP(B17,пр.взв!$B$7:$H$38,4,0),\"\")","v":"ЮФО"},{"$f":"IFERROR(VLOOKUP(B17,пр.взв!$B$7:$H$38,5,0),\"\")","v":"Краснодарский край, Армавир, Д"},{"$f":"IFERROR(VLOOKUP(B17,пр.взв!$B$7:$H$38,6,0),\"\")","v":"-"},{"$f":"IFERROR(VLOOKUP(B17,пр.взв!$B$7:$H$38,7,0),\"\")","v":"Бабоян РМ"},null,null,null,12,"Мос",{"$f":"SUMIF($J$4:$J$7,\"Мос\",$K$4:$K$7)","v":0},{"$f":"SUMIF($I$8:$J$9,\"Мос\",$K$6:$K$9)","v":0},{"$f":"SUMIF($J$10:$J$13,\"Мос\",$K$10:$K$13)","v":0},{"$f":"SUMIF($J$14:$J$17,\"Мос\",$K$14:$K$17)","v":0}]
["13-16",{"$f":"пр.хода!AD7","v":5},{"$f":"IFERROR(VLOOKUP(B18,пр.взв!$B$7:$H$38,2,0),\"\")","v":"СААКЯН Паруйр Рубикович"},{"$f":"IFERROR(VLOOKUP(B18,пр.взв!$B$7:$H$38,3,0),\"\")","v":"24.07.1994, МС"},{"$f":"IFERROR(VLOOKUP(B18,пр.взв!$B$7:$H$38,4,0),\"\")","v":"СФО"},{"$f":"IFERROR(VLOOKUP(B18,пр.взв!$B$7:$H$38,5,0),\"\")","v":"Красноярский край, Красноярск, Академия борьбы"},{"$f":"IFERROR(VLOOKUP(B18,пр.взв!$B$7:$H$38,6,0),\"\")","v":"-"},{"$f":"IFERROR(VLOOKUP(B18,пр.взв!$B$7:$H$38,7,0),\"\")","v":"Воробьев АА, Саградян ВО"},null,null,null,null,null,{"$f":"SUM(N6:N17)","v":1},{"$f":"SUM(O6:O17)","v":0},{"$f":"SUM(P6:P17)","v":0},{"$f":"SUM(Q6:Q17)","v":0},null,null,null,{"$f":"SUM(U6:U17)","v":1},{"$f":"SUM(V6:V17)","v":1},{"$f":"SUM(W6:W17)","v":2},{"$f":"SUM(X6:X17)","v":2}]
["13-16",{"$f":"пр.хода!AD8","v":7},{"$f":"IFERROR(VLOOKUP(B19,пр.взв!$B$7:$H$38,2,0),\"\")","v":"БАШИН Павел Андреевич"},{"$f":"IFERROR(VLOOKUP(B19,пр.взв!$B$7:$H$38,3,0),\"\")","v":"05.06.1989, МС"},{"$f":"IFERROR(VLOOKUP(B19,пр.взв!$B$7:$H$38,4,0),\"\")","v":"ПФО"},{"$f":"IFERROR(VLOOKUP(B19,пр.взв!$B$7:$H$38,5,0),\"\")","v":"Пермский край, Кудымкар, МО"},{"$f":"IFERROR(VLOOKUP(B19,пр.взв!$B$7:$H$38,6,0),\"\")","v":"-"},{"$f":"IFERROR(VLOOKUP(B19,пр.взв!$B$7:$H$38,7,0),\"\")","v":"Никитин ВВ"}]
["13-16",{"$f":"пр.хода!AD9","v":18},{"$f":"IFERROR(VLOOKUP(B20,пр.взв!$B$7:$H$38,2,0),\"\")","v":"ПЕВНЕВ Александр Андреевич"},{"$f":"IFERROR(VLOOKUP(B20,пр.взв!$B$7:$H$38,3,0),\"\")","v":"24.06.1994, МС"},{"$f":"IFERROR(VLOOKUP(B20,пр.взв!$B$7:$H$38,4,0),\"\")","v":"СФО"},{"$f":"IFERROR(VLOOKUP(B20,пр.взв!$B$7:$H$38,5,0),\"\")","v":"Красноярский край, Красноярск, Академия борьбы"},{"$f":"IFERROR(VLOOKUP(B20,пр.взв!$B$7:$H$38,6,0),\"\")","v":"-"},{"$f":"IFERROR(VLOOKUP(B20,пр.взв!$B$7:$H$38,7,0),\"\")","v":"Ледже АВ, Калентьев ВИ"}]
["13-16",{"$f":"пр.хода!AD10","v":4},{"$f":"IFERROR(VLOOKUP(B21,пр.взв!$B$7:$H$38,2,0),\"\")","v":"ЕФРЕМОВ Александр Юрьевич"},{"$f":"IFERROR(VLOOKUP(B21,пр.взв!$B$7:$H$38,3,0),\"\")","v":"08.09.1989, МСМК"},{"$f":"IFERROR(VLOOKUP(B21,пр.взв!$B$7:$H$38,4,0),\"\")","v":"ДВФО"},{"$f":"IFERROR(VLOOKUP(B21,пр.взв!$B$7:$H$38,5,0),\"\")","v":"Приморский край, Владивосток, Д"},{"$f":"IFERROR(VLOOKUP(B21,пр.взв!$B$7:$H$38,6,0),\"\")","v":"-"},{"$f":"IFERROR(VLOOKUP(B21,пр.взв!$B$7:$H$38,7,0),\"\")","v":"Иванов АН, Рыженко КВ"}]
["17-20",{"$f":"пр.хода!AC12","v":17},{"$f":"IFERROR(VLOOKUP(B22,пр.взв!$B$7:$H$38,2,0),\"\")","v":"ТОНКОДУБОВ Илья Алексеевич"},{"$f":"IFERROR(VLOOKUP(B22,пр.взв!$B$7:$H$38,3,0),\"\")","v":"17.09.1996, МС"},{"$f":"IFERROR(VLOOKUP(B22,пр.взв!$B$7:$H$38,4,0),\"\")","v":"ЦФО"},{"$f":"IFERROR(VLOOKUP(B22,пр.взв!$B$7:$H$38,5,0),\"\")","v":"Московская обл., Серебряные Пруды"},{"$f":"IFERROR(VLOOKUP(B22,пр.взв!$B$7:$H$38,6,0),\"\")","v":"-"},{"$f":"IFERROR(VLOOKUP(B22,пр.взв!$B$7:$H$38,7,0),\"\")","v":"Щиголев СН"}]
["17-20",{"$f":"пр.хода!AC22","v":14},{"$f":"IFERROR(VLOOKUP(B23,пр.взв!$B$7:$H$38,2,0),\"\")","v":"РЕНЕВ Дмитрий Сергеевич"},{"$f":"IFERROR(VLOOKUP(B23,пр.взв!$B$7:$H$38,3,0),\"\")","v":"25.05.1987, МС"},{"$f":"IFERROR(VLOOKUP(B23,пр.взв!$B$7:$H$38,4,0),\"\")","v":"ПФО"},{"$f":"IFERROR(VLOOKUP(B23,пр.взв!$B$7:$H$38,5,0),\"\")","v":"Пермский край, Пермь,  МО"},{"$f":"IFERROR(VLOOKUP(B23,пр.взв!$B$7:$H$38,6,0),\"\")","v":"-"},{"$f":"IFERROR(VLOOKUP(B23,пр.взв!$B$7:$H$38,7,0),\"\")","v":"Конкин СА, Оборин ЮМ"}]
["17-20",{"$f":"пр.хода!AC17","v":19},{"$f":"IFERROR(VLOOKUP(B24,пр.взв!$B$7:$H$38,2,0),\"\")","v":"ЛОЕВЕЦ Александр Игоревич"},{"$f":"IFERROR(VLOOKUP(B24,пр.взв!$B$7:$H$38,3,0),\"\")","v":"12.12.1996, МС"},{"$f":"IFERROR(VLOOKUP(B24,пр.взв!$B$7:$H$38,4,0),\"\")","v":"ДВФО"},{"$f":"IFERROR(VLOOKUP(B24,пр.взв!$B$7:$H$38,5,0),\"\")","v":"Амурская обл., Благовещенск"},{"$f":"IFERROR(VLOOKUP(B24,пр.взв!$B$7:$H$38,6,0),\"\")","v":"-"},{"$f":"IFERROR(VLOOKUP(B24,пр.взв!$B$7:$H$38,7,0),\"\")","v":"Курашов ВИ, Магдыч МВ"}]
["17-20",{"$f":"пр.хода!AC27","v":16},{"$f":"IFERROR(VLOOKUP(B25,пр.взв!$B$7:$H$38,2,0),\"\")","v":"ЧЕРНЫШЕНКО Лев Эдуардович"},{"$f":"IFERROR(VLOOKUP(B25,пр.взв!$B$7:$H$38,3,0),\"\")","v":"25.08.1999, КМС"},{"$f":"IFERROR(VLOOKUP(B25,пр.взв!$B$7:$H$38,4,0),\"\")","v":"ДВФО"},{"$f":"IFERROR(VLOOKUP(B25,пр.взв!$B$7:$H$38,5,0),\"\")","v":"Хабаровский край, Хабаровск, МО"},{"$f":"IFERROR(VLOOKUP(B25,пр.взв!$B$7:$H$38,6,0),\"\")","v":"-"},{"$f":"IFERROR(VLOOKUP(B25,пр.взв!$B$7:$H$38,7,0),\"\")","v":"Мурашко НП"}]
["21-28",{"$f":"пр.хода!AB11","v":1},{"$f":"IFERROR(VLOOKUP(B26,пр.взв!$B$7:$H$38,2,0),\"\")","v":"ТЕГЕТАЕВ Алан Дзамбалатович"},{"$f":"IFERROR(VLOOKUP(B26,пр.взв!$B$7:$H$38,3,0),\"\")","v":"25.12.1991, МС"},{"$f":"IFERROR(VLOOKUP(B26,пр.взв!$B$7:$H$38,4,0),\"\")","v":"ДВФО"},{"$f":"IFERROR(VLOOKUP(B26,пр.взв!$B$7:$H$38,5,0),\"\")","v":"Сахалинская обл., Южно-Сахалинск"},{"$f":"IFERROR(VLOOKUP(B26,пр.взв!$B$7:$H$38,6,0),\"\")","v":"-"},{"$f":"IFERROR(VLOOKUP(B26,пр.взв!$B$7:$H$38,7,0),\"\")","v":"Кардаш ВИ, Кундухов БГ"}]
["21-28",{"$f":"пр.хода!AB21","v":26},{"$f":"IFERROR(VLOOKUP(B27,пр.взв!$B$7:$H$38,2,0),\"\")","v":"ШАМХАЛОВ Руслан Хайбулаевич"},{"$f":"IFERROR(VLOOKUP(B27,пр.взв!$B$7:$H$38,3,0),\"\")","v":"06.05.1991, МС"},{"$f":"IFERROR(VLOOKUP(B27,пр.взв!$B$7:$H$38,4,0),\"\")","v":"ЦФО"},{"$f":"IFERROR(VLOOKUP(B27,пр.взв!$B$7:$H$38,5,0),\"\")","v":"Рязанская обл., Рязань, ПР"},{"$f":"IFERROR(VLOOKUP(B27,пр.взв!$B$7:$H$38,6,0),\"\")","v":"-"},{"$f":"IFERROR(VLOOKUP(B27,пр.взв!$B$7:$H$38,7,0),\"\")","v":"Гаврюшин ЮА, Гришакин КВ"}]
["21-28",{"$f":"пр.хода!AB16","v":3},{"$f":"IFERROR(VLOOKUP(B28,пр.взв!$B$7:$H$38,2,0),\"\")","v":"МИНАКОВ Дмитрий Викторович"},{"$f":"IFERROR(VLOOKUP(B28,пр.взв!$B$7:$H$38,3,0),\"\")","v":"14.09.1987, МСМК"},{"$f":"IFERROR(VLOOKUP(B28,пр.взв!$B$7:$H$38,4,0),\"\")","v":"ЦФО"},{"$f":"IFERROR(VLOOKUP(B28,пр.взв!$B$7:$H$38,5,0),\"\")","v":"Брянская обл., Брянск"},{"$f":"IFERROR(VLOOKUP(B28,пр.взв!$B$7:$H$38,6,0),\"\")","v":"-"},{"$f":"IFERROR(VLOOKUP(B28,пр.взв!$B$7:$H$38,7,0),\"\")","v":"Самсонов ВВ, Портнов СВ"}]
["21-28",{"$f":"пр.хода!AB26","v":28},{"$f":"IFERROR(VLOOKUP(B29,пр.взв!$B$7:$H$38,2,0),\"\")","v":"БИТИЕВ Давид Мурманович"},{"$f":"IFERROR(VLOOKUP(B29,пр.взв!$B$7:$H$38,3,0),\"\")","v":"06.01.1988, МС"},{"$f":"IFERROR(VLOOKUP(B29,пр.взв!$B$7:$H$38,4,0),\"\")","v":"СКФО"},{"$f":"IFERROR(VLOOKUP(B29,пр.взв!$B$7:$H$38,5,0),\"\")","v":"РСО-Алания, Д"},{"$f":"IFERROR(VLOOKUP(B29,пр.взв!$B$7:$H$38,6,0),\"\")","v":"-"},{"$f":"IFERROR(VLOOKUP(B29,пр.взв!$B$7:$H$38,7,0),\"\")","v":"Лолаев Т, Гасиев М."}]
["21-28",{"$f":"пр.хода!AB12","v":9},{"$f":"IFERROR(VLOOKUP(B30,пр.взв!$B$7:$H$38,2,0),\"\")","v":"ШХАЛАХОВ Рустам Сафарович"},{"$f":"IFERROR(VLOOKUP(B30,пр.взв!$B$7:$H$38,3,0),\"\")","v":"02.11.1993, МС"},{"$f":"IFERROR(VLOOKUP(B30,пр.взв!$B$7:$H$38,4,0),\"\")","v":"ЮФО"},{"$f":"IFERROR(VLOOKUP(B30,пр.взв!$B$7:$H$38,5,0),\"\")","v":"Краснодарский край, Туапсе, Д"},{"$f":"IFERROR(VLOOKUP(B30,пр.взв!$B$7:$H$38,6,0),\"\")","v":"-"},{"$f":"IFERROR(VLOOKUP(B30,пр.взв!$B$7:$H$38,7,0),\"\")","v":"Шхалахов АА, Паршин ЮА"}]
["21-28",{"$f":"пр.хода!AB22","v":22},{"$f":"IFERROR(VLOOKUP(B31,пр.взв!$B$7:$H$38,2,0),\"\")","v":"ШЕВЦОВ Данила Михайлович"},{"$f":"IFERROR(VLOOKUP(B31,пр.взв!$B$7:$H$38,3,0),\"\")","v":"15.06.1999, КМС"},{"$f":"IFERROR(VLOOKUP(B31,пр.взв!$B$7:$H$38,4,0),\"\")","v":"ДВФО"},{"$f":"IFERROR(VLOOKUP(B31,пр.взв!$B$7:$H$38,5,0),\"\")","v":"Хабаровский край, Хабаровск, МО"},{"$f":"IFERROR(VLOOKUP(B31,пр.взв!$B$7:$H$38,6,0),\"\")","v":"-"},{"$f":"IFERROR(VLOOKUP(B31,пр.взв!$B$7:$H$38,7,0),\"\")","v":"Мурашко НП"}]
["21-28",{"$f":"пр.хода!AB17","v":11},{"$f":"IFERROR(VLOOKUP(B32,пр.взв!$B$7:$H$38,2,0),\"\")","v":"ИВАНОВ Анатолий Викторович"},{"$f":"IFERROR(VLOOKUP(B32,пр.взв!$B$7:$H$38,3,0),\"\")","v":"05.02.1987, МС"},{"$f":"IFERROR(VLOOKUP(B32,пр.взв!$B$7:$H$38,4,0),\"\")","v":"УФО"},{"$f":"IFERROR(VLOOKUP(B32,пр.взв!$B$7:$H$38,5,0),\"\")","v":"Курганская обл., Курган, ДЮСШ"},{"$f":"IFERROR(VLOOKUP(B32,пр.взв!$B$7:$H$38,6,0),\"\")","v":"-"},{"$f":"IFERROR(VLOOKUP(B32,пр.взв!$B$7:$H$38,7,0),\"\")","v":"Стенников МГ"}]
["21-28",{"$f":"пр.хода!AB27","v":8},{"$f":"IFERROR(VLOOKUP(B33,пр.взв!$B$7:$H$38,2,0),\"\")","v":"ШУЛЬГА Виталий Викторович"},{"$f":"IFERROR(VLOOKUP(B33,пр.взв!$B$7:$H$38,3,0),\"\")","v":"15.08.1988, МСМК"},{"$f":"IFERROR(VLOOKUP(B33,пр.взв!$B$7:$H$38,4,0),\"\")","v":"УФО"},{"$f":"IFERROR(VLOOKUP(B33,пр.взв!$B$7:$H$38,5,0),\"\")","v":"Свердловская обл., В.Пышма, КС \"УГМК\""},{"$f":"IFERROR(VLOOKUP(B33,пр.взв!$B$7:$H$38,6,0),\"\")","v":"-"},{"$f":"IFERROR(VLOOKUP(B33,пр.взв!$B$7:$H$38,7,0),\"\")","v":"Стенников ВГ, Саркисян АА"}]
[]
[{"$f":"пр.хода!A40","v":"Гл. судья, судья ВК"},null,null,null,{"$f":"пр.хода!F40","v":"С.Г. Шкедов"},null,{"$f":"пр.хода!F41","v":"/г. Владивосток/"}]
[]
[{"$f":"пр.хода!A42","v":"Гл. секретарь, судья ВК"},null,null,null,{"$f":"пр.хода!F42","v":"Р.М. Закиров"},null,{"$f":"пр.хода!F43","v":"/г. Пермь/"}]

{"sheet":"наградной лист","index":5,"n_rows":32,"n_cols":10,"rows_kept":32,"cut":false,"hidden":false,"merged":[[0,0,0,7],[1,0,1,7],[2,0,2,7],[3,3,3,5],[10,0,13,0],[5,1,6,6],[10,1,11,6],[5,7,6,7],[7,1,8,3],[7,4,8,7],[12,1,13,3],[12,4,13,7],[10,7,11,7],[5,0,8,0],[15,0,18,0],[27,0,28,7],[20,0,23,0],[20,1,21,6],[20,7,21,7],[15,1,16,6],[15,7,16,7],[17,1,18,3],[17,4,18,7],[22,1,23,3],[22,4,23,7]]}
[{"$f":"[1]реквизиты!$A$2","v":"Чемпионат России по самбо среди мужчин, женщин и боевому самбо"}]
[{"$f":"[1]реквизиты!$A$3","v":"1-5 марта 2018г.                                              г.Хабаровск"}]
["НАГРАДНОЙ ЛИСТ"]
[null,null,null,{"$f":"пр.взв!D4","v":"В.к. 100 кг."}]
[]
["I м",{"$f":"IFERROR(VLOOKUP(J6,пр.взв!$B$7:$H$38,2,0),\"\")","v":"ЧЕРНОСКУЛОВ Альсим Леонидович"},null,null,null,null,null,{"$f":"IFERROR(VLOOKUP(J6,пр.взв!$B$7:$H$38,3,0),\"\")","v":"11.05.1983, ЗМС"},null,{"$f":"пр.хода!K17","v":21}]
[]
[null,{"$f":"IFERROR(VLOOKUP(J6,пр.взв!$B$7:$H$38,4,0),\"\")","v":"УФО"},null,null,{"$f":"IFERROR(VLOOKUP(J6,пр.взв!$B$7:$H$38,5,0),\"\")","v":"Свердловская обл., В.Пышма, КС \"УГМК\""}]
[]
[]
["II м",{"$f":"IFERROR(VLOOKUP(J11,пр.взв!$B$7:$H$38,2,0),\"\")","v":"ОСИПЕНКО Виктор Иванович"},null,null,null,null,null,{"$f":"IFERROR(VLOOKUP(J11,пр.взв!$B$7:$H$38,3,0),\"\")","v":"08.01.1991, МСМК"},null,{"$f":"пр.хода!K25","v":20}]
[]
[null,{"$f":"IFERROR(VLOOKUP(J11,пр.взв!$B$7:$H$38,4,0),\"\")","v":"ЦФО"},null,null,{"$f":"IFERROR(VLOOKUP(J11,пр.взв!$B$7:$H$38,5,0),\"\")","v":"Брянская обл., Брянск"}]
[]
[]
["III м",{"$f":"IFERROR(VLOOKUP(J16,пр.взв!$B$7:$H$38,2,0),\"\")","v":"КИСЕЛЕВ Руслан Владимирович"},null,null,null,null,null,{"$f":"IFERROR(VLOOKUP(J16,пр.взв!$B$7:$H$38,3,0),\"\")","v":"16.01.1992, МС"},null,{"$f":"пр.хода!O11","v":25}]
[]
[null,{"$f":"IFERROR(VLOOKUP(J16,пр.взв!$B$7:$H$38,4,0),\"\")","v":"М"},null,null,{"$f":"IFERROR(VLOOKUP(J16,пр.взв!$B$7:$H$38,5,0),\"\")","v":"Москва, \"Самбо-70\", Д"}]
[]
[]
["III м",{"$f":"IFERROR(VLOOKUP(J21,пр.взв!$B$7:$H$38,2,0),\"\")","v":"ЕЛИСЕЕВ Дмитрий Михайлович"},null,null,null,null,null,{"$f":"IFERROR(VLOOKUP(J21,пр.взв!$B$7:$H$38,3,0),\"\")","v":"25.09.1992, ЗМС"},null,{"$f":"пр.хода!O39","v":23}]
[]
[null,{"$f":"IFERROR(VLOOKUP(J21,пр.взв!$B$7:$H$38,4,0),\"\")","v":"СПб"},null,null,{"$f":"IFERROR(VLOOKUP(J21,пр.взв!$B$7:$H$38,5,0),\"\")","v":"Санкт-Петербург, КШВСМ-Д"}]
[]
[]
["Тренер победителя:"]
[]
[{"$f":"IFERROR(VLOOKUP(J28,пр.взв!$B$7:$H$38,7,0),\"\")","v":"Стенников ВГ, Мельников АН"},null,null,null,null,null,null,null,null,{"$f":"пр.хода!K17","v":21}]
[]
[]
[]
["Награждение проводят:"]

{"sheet":"Стартовый","index":6,"n_rows":38,"n_cols":11,"rows_kept":38,"cut":false,"hidden":false,"merged":[[32,8,33,8],[32,9,33,9],[32,10,33,10],[32,0,33,0],[32,1,33,1],[32,2,33,2],[32,3,33,3],[32,7,33,7],[34,8,35,8],[34,9,35,9],[34,10,35,10],[34,0,35,0],[34,1,35,1],[34,2,35,2],[34,3,35,3],[34,7,35,7],[28,10,29,10],[28,0,29,0],[28,1,29,1],[28,2,29,2],[28,3,29,3],[28,7,29,7],[28,8,29,8],[28,9,29,9],[30,8,31,8],[30,9,31,9],[30,10,31,10],[30,0,31,0],[30,1,31,1],[30,2,31,2],[30,3,31,3],[30,7,31,7],[26,10,27,10],[24,7,25,7],[26,7,27,7],[24,8,25,8],[24,9,25,9],[24,10,25,10],[26,0,27,0],[26,1,27,1],[26,2,27,2],[26,3,27,3],[26,8,27,8],[26,9,27,9],[22,10,23,10],[22,0,23,0],[22,1,23,1],[22,2,23,2],[22,3,23,3],[22,7,23,7],[24,0,25,0],[24,1,25,1],[24,2,25,2],[24,3,25,3],[22,8,23,8],[22,9,23,9],[18,8,19,8],[18,9,19,9],[18,10,19,10],[18,0,19,0],[18,1,19,1],[18,2,19,2],[18,3,19,3],[18,7,19,7],[20,8,21,8],[20,9,21,9],[20,10,21,10],[20,0,21,0],[20,1,21,1],[20,2,21,2],[20,3,21,3],[20,7,21,7],[14,8,15,8],[14,9,15,9],[14,10,15,10],[14,0,15,0],[14,1,15,1],[14,2,15,2],[14,3,15,3],[14,7,15,7],[16,8,17,8],[16,9,17,9],[16,10,17,10],[16,0,17,0],[16,1,17,1],[16,2,17,2],[16,3,17,3],[16,7,17,7],[10,8,11,8],[10,9,11,9],[10,10,11,10],[10,0,11,0],[10,1,11,1],[10,2,11,2],[10,3,11,3],[10,7,11,7],[12,8,13,8],[12,9,13,9],[12,10,13,10],[12,0,13,0],[12,1,13,1],[12,2,13,2],[12,3,13,3],[12,7,13,7],[6,8,7,8],[6,9,7,9],[6,10,7,10],[6,0,7,0],[6,1,7,1],[6,2,7,2],[6,3,7,3],[6,7,7,7],[8,8,9,8],[8,9,9,9],[8,10,9,10],[8,0,9,0],[8,1,9,1],[8,2,9,2],[8,3,9,3],[8,7,9,7],[4,10,5,10],[4,7,5,7],[2,9,2,10],[2,2,2,3],[3,0,3,1],[0,0,0,6],[1,0,1,6],[0,7,0,13],[1,7,1,13],[4,0,5,0],[4,1,5,1],[4,2,5,2],[4,3,5,3],[4,8,5,8],[4,9,5,9]]}
["Первенство России по самбо среди юниорок  1998-99 г.р.",null,null,null,null,null,null,"Первенство России по самбо среди юниорок  1998-99 г.р."]
["",null,null,null,null,null,null,""]
[null,"Подгруппа А",{"$f":"HYPERLINK(пр.взв!D4)","v":"В.к. 100 кг."},null,null,null,null,null,"Подгруппа Б",{"$f":"HYPERLINK(пр.взв!D4)","v":"В.к. 100 кг."}]
[]
[1,{"$f":"VLOOKUP(A5,пр.взв!B5:C38,2,FALSE)","v":"ТЕГЕТАЕВ Алан Дзамбалатович"},{"$f":"VLOOKUP(A5,пр.взв!B5:G38,3,FALSE)","v":"25.12.1991, МС"},{"$f":"VLOOKUP(A5,пр.взв!B5:G38,4,FALSE)","v":"ДВФО"},null,null,null,2,{"$f":"VLOOKUP(H5,пр.взв!B7:C38,2,FALSE)","v":"ТОРГАШОВ Дмитрий Сергеевич"},{"$f":"VLOOKUP(H5,пр.взв!B7:E38,3,FALSE)","v":"16.03.1993, МСМК"},{"$f":"VLOOKUP(H5,пр.взв!B7:E38,4,FALSE)","v":"УФО"}]
[]
[17,{"$f":"VLOOKUP(A7,пр.взв!B7:C38,2,FALSE)","v":"ТОНКОДУБОВ Илья Алексеевич"},{"$f":"VLOOKUP(A7,пр.взв!B5:G38,3,FALSE)","v":"17.09.1996, МС"},{"$f":"VLOOKUP(A7,пр.взв!B5:G38,4,FALSE)","v":"ЦФО"},null,null,null,18,{"$f":"VLOOKUP(H7,пр.взв!B9:C38,2,FALSE)","v":"ПЕВНЕВ Александр Андреевич"},{"$f":"VLOOKUP(H7,пр.взв!B9:E38,3,FALSE)","v":"24.06.1994, МС"},{"$f":"VLOOKUP(H7,пр.взв!B9:E38,4,FALSE)","v":"СФО"}]
[]
[9,{"$f":"VLOOKUP(A9,пр.взв!B9:C38,2,FALSE)","v":"ШХАЛАХОВ Рустам Сафарович"},{"$f":"VLOOKUP(A9,пр.взв!B5:G38,3,FALSE)","v":"02.11.1993, МС"},{"$f":"VLOOKUP(A9,пр.взв!B5:G38,4,FALSE)","v":"ЮФО"},null,null,null,10,{"$f":"VLOOKUP(H9,пр.взв!B11:C38,2,FALSE)","v":"МИХАЙЛИН Вячеслав Вячеславович"},{"$f":"VLOOKUP(H9,пр.взв!B11:E38,3,FALSE)","v":"06.10.1986, ЗМС"},{"$f":"VLOOKUP(H9,пр.взв!B11:E38,4,FALSE)","v":"М"}]
[]
[25,{"$f":"VLOOKUP(A11,пр.взв!B11:C38,2,FALSE)","v":"КИСЕЛЕВ Руслан Владимирович"},{"$f":"VLOOKUP(A11,пр.взв!B5:G38,3,FALSE)","v":"16.01.1992, МС"},{"$f":"VLOOKUP(A11,пр.взв!B5:G38,4,FALSE)","v":"М"},null,null,null,26,{"$f":"VLOOKUP(H11,пр.взв!B13:C38,2,FALSE)","v":"ШАМХАЛОВ Руслан Хайбулаевич"},{"$f":"VLOOKUP(H11,пр.взв!B13:E38,3,FALSE)","v":"06.05.1991, МС"},{"$f":"VLOOKUP(H11,пр.взв!B13:E38,4,FALSE)","v":"ЦФО"}]
[]
[5,{"$f":"VLOOKUP(A13,пр.взв!B13:C38,2,FALSE)","v":{"$error":"#N/A"}},{"$f":"VLOOKUP(A13,пр.взв!B5:G38,3,FALSE)","v":"24.07.1994, МС"},{"$f":"VLOOKUP(A13,пр.взв!B5:G38,4,FALSE)","v":"СФО"},null,null,null,6,{"$f":"VLOOKUP(H13,пр.взв!B15:C40,2,FALSE)","v":{"$error":"#N/A"}},{"$f":"VLOOKUP(H13,пр.взв!B15:E40,3,FALSE)","v":{"$error":"#N/A"}},{"$f":"VLOOKUP(H13,пр.взв!B15:E40,4,FALSE)","v":{"$error":"#N/A"}}]
[]
[21,{"$f":"VLOOKUP(A15,пр.взв!B15:C40,2,FALSE)","v":"ЧЕРНОСКУЛОВ Альсим Леонидович"},{"$f":"VLOOKUP(A15,пр.взв!B5:G38,3,FALSE)","v":"11.05.1983, ЗМС"},{"$f":"VLOOKUP(A15,пр.взв!B5:G38,4,FALSE)","v":"УФО"},null,null,null,22,{"$f":"VLOOKUP(H15,пр.взв!B17:C42,2,FALSE)","v":"ШЕВЦОВ Данила Михайлович"},{"$f":"VLOOKUP(H15,пр.взв!B17:E42,3,FALSE)","v":"15.06.1999, КМС"},{"$f":"VLOOKUP(H15,пр.взв!B17:E42,4,FALSE)","v":"ДВФО"}]
[]
[13,{"$f":"VLOOKUP(A17,пр.взв!B17:C42,2,FALSE)","v":"АДАЕВ Исмаил Залимханович"},{"$f":"VLOOKUP(A17,пр.взв!B5:G38,3,FALSE)","v":"09.04.1994, МС"},{"$f":"VLOOKUP(A17,пр.взв!B5:G38,4,FALSE)","v":"УФО"},null,null,null,14,{"$f":"VLOOKUP(H17,пр.взв!B19:C44,2,FALSE)","v":"РЕНЕВ Дмитрий Сергеевич"},{"$f":"VLOOKUP(H17,пр.взв!B19:E44,3,FALSE)","v":"25.05.1987, МС"},{"$f":"VLOOKUP(H17,пр.взв!B19:E44,4,FALSE)","v":"ПФО"}]
[]
[29,{"$f":"VLOOKUP(A19,пр.взв!B19:C44,2,FALSE)","v":{"$error":"#N/A"}},{"$f":"VLOOKUP(A19,пр.взв!B5:G38,3,FALSE)","v":{"$error":"#N/A"}},{"$f":"VLOOKUP(A19,пр.взв!B5:G38,4,FALSE)","v":{"$error":"#N/A"}},null,null,null,30,{"$f":"VLOOKUP(H19,пр.взв!B21:C46,2,FALSE)","v":{"$error":"#N/A"}},{"$f":"VLOOKUP(H19,пр.взв!B21:E46,3,FALSE)","v":{"$error":"#N/A"}},{"$f":"VLOOKUP(H19,пр.взв!B21:E46,4,FALSE)","v":{"$error":"#N/A"}}]
[]
[3,{"$f":"VLOOKUP(A21,пр.взв!B5:C38,2,FALSE)","v":"МИНАКОВ Дмитрий Викторович"},{"$f":"VLOOKUP(A21,пр.взв!B5:G38,3,FALSE)","v":"14.09.1987, МСМК"},{"$f":"VLOOKUP(A21,пр.взв!B5:G38,4,FALSE)","v":"ЦФО"},null,null,null,4,{"$f":"VLOOKUP(H21,пр.взв!B7:C38,2,FALSE)","v":"ЕФРЕМОВ Александр Юрьевич"},{"$f":"VLOOKUP(H21,пр.взв!B7:E38,3,FALSE)","v":"08.09.1989, МСМК"},{"$f":"VLOOKUP(H21,пр.взв!B7:E38,4,FALSE)","v":"ДВФО"}]
[]
[19,{"$f":"VLOOKUP(A23,пр.взв!B23:C48,2,FALSE)","v":"ЛОЕВЕЦ Александр Игоревич"},{"$f":"VLOOKUP(A23,пр.взв!B5:G38,3,FALSE)","v":"12.12.1996, МС"},{"$f":"VLOOKUP(A23,пр.взв!B5:G38,4,FALSE)","v":"ДВФО"},null,null,null,20,{"$f":"VLOOKUP(H23,пр.взв!B25:C50,2,FALSE)","v":"ОСИПЕНКО Виктор Иванович"},{"$f":"VLOOKUP(H23,пр.взв!B25:E50,3,FALSE)","v":"08.01.1991, МСМК"},{"$f":"VLOOKUP(H23,пр.взв!B25:E50,4,FALSE)","v":"ЦФО"}]
[]
[11,{"$f":"VLOOKUP(A25,пр.взв!B25:C50,2,FALSE)","v":{"$error":"#N/A"}},{"$f":"VLOOKUP(A25,пр.взв!B5:G38,3,FALSE)","v":"05.02.1987, МС"},{"$f":"VLOOKUP(A25,пр.взв!B5:G38,4,FALSE)","v":"УФО"},null,null,null,12,{"$f":"VLOOKUP(H25,пр.взв!B27:C52,2,FALSE)","v":{"$error":"#N/A"}},{"$f":"VLOOKUP(H25,пр.взв!B27:E52,3,FALSE)","v":{"$error":"#N/A"}},{"$f":"VLOOKUP(H25,пр.взв!B27:E52,4,FALSE)","v":{"$error":"#N/A"}}]
[]
[27,{"$f":"VLOOKUP(A27,пр.взв!B27:C52,2,FALSE)","v":"БАЯЛИЕВ Мовладий Хусеевич"},{"$f":"VLOOKUP(A27,пр.взв!B5:G38,3,FALSE)","v":"06.04.1984, МСМК"},{"$f":"VLOOKUP(A27,пр.взв!B5:G38,4,FALSE)","v":"ЮФО"},null,null,null,28,{"$f":"VLOOKUP(H27,пр.взв!B29:C54,2,FALSE)","v":"БИТИЕВ Давид Мурманович"},{"$f":"VLOOKUP(H27,пр.взв!B29:E54,3,FALSE)","v":"06.01.1988, МС"},{"$f":"VLOOKUP(H27,пр.взв!B29:E54,4,FALSE)","v":"СКФО"}]
[]
[7,{"$f":"VLOOKUP(A29,пр.взв!B5:C38,2,FALSE)","v":"БАШИН Павел Андреевич"},{"$f":"VLOOKUP(A29,пр.взв!B5:G38,3,FALSE)","v":"05.06.1989, МС"},{"$f":"VLOOKUP(A29,пр.взв!B5:G38,4,FALSE)","v":"ПФО"},null,null,null,8,{"$f":"VLOOKUP(H29,пр.взв!B7:C38,2,FALSE)","v":"ШУЛЬГА Виталий Викторович"},{"$f":"VLOOKUP(H29,пр.взв!B7:E38,3,FALSE)","v":"15.08.1988, МСМК"},{"$f":"VLOOKUP(H29,пр.взв!B7:E38,4,FALSE)","v":"УФО"}]
[]
[23,{"$f":"VLOOKUP(A31,пр.взв!B31:C56,2,FALSE)","v":{"$error":"#N/A"}},{"$f":"VLOOKUP(A31,пр.взв!B5:G38,3,FALSE)","v":"25.09.1992, ЗМС"},{"$f":"VLOOKUP(A31,пр.взв!B5:G38,4,FALSE)","v":"СПб"},null,null,null,24,{"$f":"VLOOKUP(H31,пр.взв!B33:C58,2,FALSE)","v":{"$error":"#N/A"}},{"$f":"VLOOKUP(H31,пр.взв!B33:E58,3,FALSE)","v":{"$error":"#N/A"}},{"$f":"VLOOKUP(H31,пр.взв!B33:E58,4,FALSE)","v":{"$error":"#N/A"}}]
[]
[15,{"$f":"VLOOKUP(A33,пр.взв!B33:C58,2,FALSE)","v":{"$error":"#N/A"}},{"$f":"VLOOKUP(A33,пр.взв!B5:G38,3,FALSE)","v":"09.05.1991, МС"},{"$f":"VLOOKUP(A33,пр.взв!B5:G38,4,FALSE)","v":"ДВФО"},null,null,null,16,{"$f":"VLOOKUP(H33,пр.взв!B35:C60,2,FALSE)","v":{"$error":"#N/A"}},{"$f":"VLOOKUP(H33,пр.взв!B35:E60,3,FALSE)","v":{"$error":"#N/A"}},{"$f":"VLOOKUP(H33,пр.взв!B35:E60,4,FALSE)","v":{"$error":"#N/A"}}]
[]
[31,{"$f":"VLOOKUP(A35,пр.взв!B35:C60,2,FALSE)","v":{"$error":"#N/A"}},{"$f":"VLOOKUP(A35,пр.взв!B5:G38,3,FALSE)","v":{"$error":"#N/A"}},{"$f":"VLOOKUP(A35,пр.взв!B5:G38,4,FALSE)","v":{"$error":"#N/A"}},null,null,null,32,{"$f":"VLOOKUP(H35,пр.взв!B37:C62,2,FALSE)","v":{"$error":"#N/A"}},{"$f":"VLOOKUP(H35,пр.взв!B37:E62,3,FALSE)","v":{"$error":"#N/A"}},{"$f":"VLOOKUP(H35,пр.взв!B37:E62,4,FALSE)","v":{"$error":"#N/A"}}]
[]
[]
["А1",null,null,null,null,null,null,"Б1"]