{"text_format":"1","workbook":"xlsx","n_sheets":8,"sheets":["пр.взв","пр.хода","круги","за призовые места","ит.пр","наградной лист","Ст Б","Ст А"],"not_rendered":{"charts":0,"images":1,"macros":1,"external_links":2,"defined_names":12,"comments":0,"pivot_tables":0},"unopened":[],"bounds":{"document_bytes":16777216,"sheet_cells":100000,"rows_first":2000,"rows_last":500,"rows_between":2000,"halvings":0,"cell_chars":16384,"cell_head_chars":4096},"cells_cut":0,"cells_raw":0,"read":"whole","date_system":"1900"}

{"sheet":"пр.взв","index":0,"n_rows":79,"n_cols":50,"rows_kept":79,"cut":false,"hidden":false,"merged":[[168,84,169,84],[168,78,169,78],[168,79,169,79],[168,80,169,80],[168,81,169,81],[168,82,169,82],[168,83,169,83],[168,72,169,72],[168,73,169,73],[168,74,169,74],[168,75,169,75],[168,76,169,76],[168,77,169,77],[168,67,169,67],[168,68,169,68],[168,69,169,69],[168,70,169,70],[168,71,169,71],[168,60,169,60],[168,61,169,61],[168,62,169,62],[168,63,169,63],[168,64,169,64],[168,65,169,65],[166,84,167,84],[168,52,169,52],[168,53,169,53],[168,54,169,54],[168,55,169,55],[168,56,169,56],[168,57,169,57],[168,58,169,58],[168,59,169,59],[166,77,167,77],[166,78,167,78],[166,79,167,79],[166,80,167,80],[166,81,167,81],[166,82,167,82],[166,71,167,71],[166,72,167,72],[166,73,167,73],[166,74,167,74],[166,75,167,75],[166,76,167,76],[166,65,167,65],[166,66,167,66],[168,66,169,66],[166,69,167,69],[166,70,167,70],[166,59,167,59],[166,60,167,60],[166,61,167,61],[166,62,167,62],[166,63,167,63],[166,64,167,64],[166,83,167,83],[164,84,165,84],[166,52,167,52],[166,53,167,53],[166,54,167,54],[166,55,167,55],[166,56,167,56],[166,57,167,57],[166,58,167,58],[164,76,165,76],[164,77,165,77],[164,78,165,78],[164,79,165,79],[164,80,165,80],[164,81,165,81],[164,70,165,70],[164,71,165,71],[164,72,165,72],[164,73,165,73],[164,74,165,74],[164,75,165,75],[164,64,165,64],[164,65,165,65],[166,67,167,67],[166,68,167,68],[164,69,165,69],[164,58,165,58],[164,59,165,59],[164,60,165,60],[164,61,165,61],[164,62,165,62],[164,63,165,63],[164,82,165,82],[164,83,165,83],[164,52,165,52],[164,53,165,53],[164,54,165,54],[164,55,165,55],[164,56,165,56],[164,57,165,57],[162,79,163,79],[162,80,163,80],[162,81,163,81],[162,67,163,67],[162,68,163,68],[162,69,163,69],[162,70,163,70],[162,71,163,71],[162,72,163,72],[162,61,163,61],[162,62,163,62],[162,63,163,63],[162,64,163,64],[162,65,163,65],[162,66,163,66],[164,66,165,66],[164,67,165,67],[164,68,165,68],[162,82,163,82],[162,83,163,83],[162,84,163,84],[162,73,163,73],[162,74,163,74],[162,75,163,75],[162,76,163,76],[162,77,163,77],[162,78,163,78],[160,84,161,84],[162,52,163,52],[162,53,163,53],[162,54,163,54],[162,55,163,55],[162,56,163,56],[162,57,163,57],[162,58,163,58],[162,59,163,59],[162,60,163,60],[160,78,161,78],[160,79,161,79],[160,80,161,80],[160,81,161,81],[160,82,161,82],[160,83,161,83],[160,72,161,72],[160,73,161,73],[160,74,161,74],[160,75,161,75],[160,76,161,76],[160,77,161,77],[160,66,161,66],[160,67,161,67],[160,69,161,69],[160,70,161,70],[160,71,161,71],[160,60,161,60],[160,61,161,61],[160,62,161,62],[160,63,161,63],[160,64,161,64],[160,65,161,65],[158,84,159,84],[160,52,161,52],[160,53,161,53],[160,54,161,54],[160,55,161,55],[160,56,161,56],[160,57,161,57],[160,58,161,58],[160,59,161,59],[158,77,159,77],[158,78,159,78],[158,79,159,79],[158,80,159,80],[158,81,159,81],[158,82,159,82],[158,71,159,71],[158,72,159,72],[158,73,159,73],[158,74,159,74],[158,75,159,75],[158,76,159,76],[158,65,159,65],[158,66,159,66],[160,68,161,68],[158,69,159,69],[158,70,159,70],[158,59,159,59],[158,60,159,60],[158,61,159,61],[158,62,159,62],[158,63,159,63],[158,64,159,64],[158,83,159,83],[156,84,157,84],[158,52,159,52],[158,53,159,53],[158,54,159,54],[158,55,159,55],[158,56,159,56],[158,57,159,57],[158,58,159,58],[156,76,157,76],[156,77,157,77],[156,78,157,78],[156,79,157,79],[156,80,157,80],[156,81,157,81],[156,70,157,70],[156,71,157,71],[156,72,157,72],[156,73,157,73],[156,74,157,74],[156,75,157,75],[156,64,157,64],[156,65,157,65],[158,67,159,67],[158,68,159,68],[156,69,157,69],[156,58,157,58],[156,59,157,59],[156,60,157,60],[156,61,157,61],[156,62,157,62],[156,63,157,63],[156,82,157,82],[156,83,157,83],[156,52,157,52],[156,53,157,53],[156,54,157,54],[156,55,157,55],[156,56,157,56],[156,57,157,57],[154,79,155,79],[154,80,155,80],[154,81,155,81],[154,67,155,67],[154,68,155,68],[154,69,155,69],[154,70,155,70],[154,71,155,71],[154,72,155,72],[154,61,155,61],[154,62,155,62],[154,63,155,63],[154,64,155,64],[154,65,155,65],[154,66,155,66],[156,66,157,66],[156,67,157,67],[156,68,157,68],[154,82,155,82],[154,83,155,83],[154,84,155,84],[154,73,155,73],[154,74,155,74],[154,75,155,75],[154,76,155,76],[154,77,155,77],[154,78,155,78],[152,84,153,84],[154,52,155,52],[154,53,155,53],[154,54,155,54],[154,55,155,55],[154,56,155,56],[154,57,155,57],[154,58,155,58],[154,59,155,59],[154,60,155,60],[152,78,153,78],[152,79,153,79],[152,80,153,80],[152,81,153,81],[152,82,153,82],[152,83,153,83],[152,72,153,72],[152,73,153,73],[152,74,153,74],[152,75,153,75],[152,76,153,76],[152,77,153,77],[152,66,153,66],[152,67,153,67],[152,69,153,69],[152,70,153,70],[152,71,153,71],[152,60,153,60],[152,61,153,61],[152,62,153,62],[152,63,153,63],[152,64,153,64],[152,65,153,65],[150,84,151,84],[152,52,153,52],[152,53,153,53],[152,54,153,54],[152,55,153,55],[152,56,153,56],[152,57,153,57],[152,58,153,58],[152,59,153,59],[150,77,151,77],[150,78,151,78],[150,79,151,79],[150,80,151,80],[150,81,151,81],[150,82,151,82],[150,71,151,71],[150,72,151,72],[150,73,151,73],[150,74,151,74],[150,75,151,75],[150,76,151,76],[150,65,151,65],[150,66,151,66],[152,68,153,68],[150,69,151,69],[150,70,151,70],[150,59,151,59],[150,60,151,60],[150,61,151,61],[150,62,151,62],[150,63,151,63],[150,64,151,64],[150,83,151,83],[148,84,149,84],[150,52,151,52],[150,53,151,53],[150,54,151,54],[150,55,151,55],[150,56,151,56],[150,57,151,57],[150,58,151,58],[148,76,149,76],[148,77,149,77],[148,78,149,78],[148,79,149,79],[148,80,149,80],[148,81,149,81],[148,70,149,70],[148,71,149,71],[148,72,149,72],[148,73,149,73],[148,74,149,74],[148,75,149,75],[148,64,149,64],[148,65,149,65],[150,67,151,67],[150,68,151,68],[148,69,149,69],[148,58,149,58],[148,59,149,59],[148,60,149,60],[148,61,149,61],[148,62,149,62],[148,63,149,63],[148,82,149,82],[148,83,149,83],[148,52,149,52],[148,53,149,53],[148,54,149,54],[148,55,149,55],[148,56,149,56],[148,57,149,57],[146,79,147,79],[146,80,147,80],[146,81,147,81],[146,67,147,67],[146,68,147,68],[146,69,147,69],[146,70,147,70],[146,71,147,71],[146,72,147,72],[146,61,147,61],[146,62,147,62],[146,63,147,63],[146,64,147,64],[146,65,147,65],[146,66,147,66],[148,66,149,66],[148,67,149,67],[148,68,149,68],[146,82,147,82],[146,83,147,83],[146,84,147,84],[146,73,147,73],[146,74,147,74],[146,75,147,75],[146,76,147,76],[146,77,147,77],[146,78,147,78],[144,84,145,84],[146,52,147,52],[146,53,147,53],[146,54,147,54],[146,55,147,55],[146,56,147,56],[146,57,147,57],[146,58,147,58],[146,59,147,59],[146,60,147,60],[144,78,145,78],[144,79,145,79],[144,80,145,80],[144,81,145,81],[144,82,145,82],[144,83,145,83],[144,72,145,72],[144,73,145,73],[144,74,145,74],[144,75,145,75],[144,76,145,76],[144,77,145,77],[144,66,145,66],[144,67,145,67],[144,69,145,69],[144,70,145,70],[144,71,145,71],[144,60,145,60],[144,61,145,61],[144,62,145,62],[144,63,145,63],[144,64,145,64],[144,65,145,65],[142,84,143,84],[144,52,145,52],[144,53,145,53],[144,54,145,54],[144,55,145,55],[144,56,145,56],[144,57,145,57],[144,58,145,58],[144,59,145,59],[142,77,143,77],[142,78,143,78],[142,79,143,79],[142,80,143,80],[142,81,143,81],[142,82,143,82],[142,71,143,71],[142,72,143,72],[142,73,143,73],[142,74,143,74],[142,75,143,75],[142,76,143,76],[142,65,143,65],[142,66,143,66],[144,68,145,68],[142,69,143,69],[142,70,143,70],[142,59,143,59],[142,60,143,60],[142,61,143,61],[142,62,143,62],[142,63,143,63],[142,64,143,64],[142,83,143,83],[140,84,141,84],[142,52,143,52],[142,53,143,53],[142,54,143,54],[142,55,143,55],[142,56,143,56],[142,57,143,57],[142,58,143,58],[140,76,141,76],[140,77,141,77],[140,78,141,78],[140,79,141,79],[140,80,141,80],[140,81,141,81],[140,70,141,70],[140,71,141,71],[140,72,141,72],[140,73,141,73],[140,74,141,74],[140,75,141,75],[140,64,141,64],[140,65,141,65],[142,67,143,67],[142,68,143,68],[140,69,141,69],[140,58,141,58],[140,59,141,59],[140,60,141,60],[140,61,141,61],[140,62,141,62],[140,63,141,63],[140,82,141,82],[140,83,141,83],[140,52,141,52],[140,53,141,53],[140,54,141,54],[140,55,141,55],[140,56,141,56],[140,57,141,57],[138,79,139,79],[138,80,139,80],[138,81,139,81],[138,67,139,67],[138,68,139,68],[138,69,139,69],[138,70,139,70],[138,71,139,71],[138,72,139,72],[138,61,139,61],[138,62,139,62],[138,63,139,63],[138,64,139,64],[138,65,139,65],[138,66,139,66],[140,66,141,66],[140,67,141,67],[140,68,141,68],[138,82,139,82],[138,83,139,83],[138,84,139,84],[138,73,139,73],[138,74,139,74],[138,75,139,75],[138,76,139,76],[138,77,139,77],[138,78,139,78],[136,84,137,84],[138,52,139,52],[138,53,139,53],[138,54,139,54],[138,55,139,55],[138,56,139,56],[138,57,139,57],[138,58,139,58],[138,59,139,59],[138,60,139,60],[136,78,137,78],[136,79,137,79],[136,80,137,80],[136,81,137,81],[136,82,137,82],[136,83,137,83],[136,72,137,72],[136,73,137,73],[136,74,137,74],[136,75,137,75],[136,76,137,76],[136,77,137,77],[136,66,137,66],[136,67,137,67],[136,68,137,68],[136,69,137,69],[136,70,137,70],[136,71,137,71],[136,60,137,60],[136,61,137,61],[136,62,137,62],[136,63,137,63],[136,64,137,64],[136,65,137,65],[134,83,135,83],[134,84,135,84],[136,52,137,52],[136,53,137,53],[136,54,137,54],[136,55,137,55],[136,56,137,56],[136,57,137,57],[136,58,137,58],[136,59,137,59],[134,77,135,77],[134,78,135,78],[134,79,135,79],[134,80,135,80],[134,81,135,81],[134,82,135,82],[134,71,135,71],[134,72,135,72],[134,73,135,73],[134,74,135,74],[134,75,135,75],[134,76,135,76],[134,65,135,65],[134,66,135,66],[134,67,135,67],[134,68,135,68],[134,69,135,69],[134,70,135,70],[134,59,135,59],[134,60,135,60],[134,61,135,61],[134,62,135,62],[134,63,135,63],[134,64,135,64],[132,82,133,82],[132,83,133,83],[132,84,133,84],[134,52,135,52],[134,53,135,53],[134,54,135,54],[134,55,135,55],[134,56,135,56],[134,57,135,57],[134,58,135,58],[132,76,133,76],[132,77,133,77],[132,78,133,78],[132,79,133,79],[132,80,133,80],[132,81,133,81],[132,70,133,70],[132,71,133,71],[132,72,133,72],[132,73,133,73],[132,74,133,74],[132,75,133,75],[132,64,133,64],[132,65,133,65],[132,66,133,66],[132,67,133,67],[132,68,133,68],[132,69,133,69],[132,58,133,58],[132,59,133,59],[132,60,133,60],[132,61,133,61],[132,62,133,62],[132,63,133,63],[132,52,133,52],[132,53,133,53],[132,54,133,54],[132,55,133,55],[132,56,133,56],[132,57,133,57],[130,79,131,79],[130,80,131,80],[130,81,131,81],[130,67,131,67],[130,68,131,68],[130,69,131,69],[130,70,131,70],[130,71,131,71],[130,72,131,72],[130,61,131,61],[130,62,131,62],[130,63,131,63],[130,64,131,64],[130,65,131,65],[130,66,131,66],[130,55,131,55],[130,56,131,56],[130,57,131,57],[130,82,131,82],[130,83,131,83],[130,84,131,84],[130,73,131,73],[130,74,131,74],[130,75,131,75],[130,76,131,76],[130,77,131,77],[130,78,131,78],[130,58,131,58],[130,59,131,59],[130,60,131,60],[86,9,87,9],[86,10,87,10],[86,11,87,11],[130,52,131,52],[130,53,131,53],[130,54,131,54],[82,9,83,9],[82,10,83,10],[82,11,83,11],[84,9,85,9],[84,10,85,10],[84,11,85,11],[78,9,79,9],[78,10,79,10],[78,11,79,11],[80,9,81,9],[80,10,81,10],[80,11,81,11],[74,9,75,9],[74,10,75,10],[74,11,75,11],[76,9,77,9],[76,10,77,10],[76,11,77,11],[4,7,5,7],[4,16,4,18],[6,33,7,34],[69,34,69,37],[72,9,73,9],[72,10,73,10],[72,11,73,11],[0,0,0,7],[1,1,1,6],[2,0,2,7],[3,24,3,30],[4,0,5,0],[4,1,5,1],[4,2,5,2],[4,3,5,3],[4,4,5,5],[4,6,5,6]]}
["ПРОТОКОЛ ВЗВЕШИВАНИЯ "]
[null,{"$f":"[2]реквизиты!$A$2","v":"Чемпионат России по самбо среди мужчин, женщин и боевому самбо"}]
[{"$f":"[2]реквизиты!$A$3","v":"1-5 марта 2018г.                                              г.Хабаровск"},null,null,null,null,null,null,null,null,null,null,null,null,null,null,null,null,null,null,null,null,null,null,null,null,null,null,null,null,null,null,null,null,null,null,null,null,null,null,null,null,null,null,null,null,null,null,null,null,{"$f":"SUM(AX7:AX12)","v":0}]
[null,null,null,"В.к. 68 кг.",null,null,null,null,null,null,null,null,null,null,null,null,null,null,null,null,null,null,null,null,"Мандатка"]
["№ п/п","№ п/ж","Ф.И.О.","Дата рожд., разряд","Округ, субъект, город, ведомство",null,"№ карточки","Тренер"]
[null,null,null,null,null,null,null,null,null,null,null,null,null,null,null,null,{"$f":"N7","v":"ЗМС"},{"$f":"N8","v":"КМС"},{"$f":"N9","v":"МС"},{"$f":"N10","v":"МСМК"},{"$f":"N11","v":""},{"$f":"N12","v":""},{"$f":"N13","v":""},null,"Субъект, город.",{"$f":"Q6","v":"ЗМС"},"КМС","МС","МСМК","","",""]
["1",1,"ОРЛОВ Алексей Николаевич","11.12.1990, МС","ПФО","Пермский край, Пермь,  Д","-","Забалуев АИ",null,1,{"$f":"IFERROR(RIGHT(D7,LEN(D7)-FIND(\"*\",SUBSTITUTE(D7,\" \",\"*\",LEN(D7)-LEN(SUBSTITUTE(D7,\" \",\"\"))))),D7)","v":"МС"},{"$f":"IFERROR(LEFT(F7,FIND(\",\",F7)-1),F7)","v":"Пермский край"},{"$f":"IFERROR(INDEX(субъект,MATCH(SUM(COUNTIF(M$6:M6,субъект)),COUNTIF(субъект,\"<\"&субъект),0)),\"\")","v":"Иркутская обл."},{"$f":"IFERROR(INDEX(разряд,MATCH(SUM(COUNTIF(N$6:N6,разряд)),COUNTIF(разряд,\"<\"&разряд),0)),\"\")","v":"ЗМС"},1,{"$f":"M7","v":"Иркутская обл."},{"$f":"SUMIFS($J$7:$J$88,$L$7:$L$88,P7,$K$7:$K$88,Q$6)","v":0},{"$f":"SUMIFS($J$7:$J$88,$L$7:$L$88,P7,$K$7:$K$88,R$6)","v":0},{"$f":"SUMIFS($J$7:$J$88,$L$7:$L$88,P7,$K$7:$K$88,S$6)","v":0},{"$f":"SUMIFS($J$7:$J$88,$L$7:$L$88,P7,$K$7:$K$88,T$6)","v":1},{"$f":"SUMIFS($J$7:$J$88,$L$7:$L$88,P7,$K$7:$K$88,U$6)","v":0},{"$f":"SUMIFS($J$7:$J$88,$L$7:$L$88,P7,$K$7:$K$88,V$6)","v":0},{"$f":"SUMIFS($J$7:$J$88,$L$7:$L$88,P7,$K$7:$K$88,W$6)","v":0},null,{"$f":"P7","v":"Иркутская обл."},{"$f":"IF(Q7=0,\" \",Q7)","v":" "},{"$f":"IF(R7=0,\" \",R7)","v":" "},{"$f":"IF(S7=0,\" \",S7)","v":" "},{"$f":"IF(T7=0,\" \",T7)","v":1},{"$f":"IF(U7=0,\" \",U7)","v":" "}," "," ",null,{"$f":"SUM(Z7:AF70)","v":37}]
["2",2,"ТЕМИРОВ Тимур Ахсарович","09.09.1993, КМС","СКФО","РСО-Алания, Д","-","Гасиев М",null,1,{"$f":"IFERROR(RIGHT(D8,LEN(D8)-FIND(\"*\",SUBSTITUTE(D8,\" \",\"*\",LEN(D8)-LEN(SUBSTITUTE(D8,\" \",\"\"))))),D8)","v":"КМС"},{"$f":"IFERROR(LEFT(F8,FIND(\",\",F8)-1),F8)","v":"РСО-Алания"},{"$f":"IFERROR(INDEX(субъект,MATCH(SUM(COUNTIF(M$6:M7,субъект)),COUNTIF(субъект,\"<\"&субъект),0)),\"\")","v":"Костромская обл."},{"$f":"IFERROR(INDEX(разряд,MATCH(SUM(COUNTIF(N$6:N7,разряд)),COUNTIF(разряд,\"<\"&разряд),0)),\"\")","v":"КМС"},2,"Костромская обл.",0,0,1,0,0,0,0,null,{"$f":"P8","v":"Костромская обл."},{"$f":"IF($Y$8=$Y$7,\" \",IF(Q8=0,\" \",Q8))","v":" "},{"$f":"IF($Y$8=$Y$7,\" \",IF(R8=0,\" \",R8))","v":" "},{"$f":"IF($Y$8=$Y$7,\" \",IF(S8=0,\" \",S8))","v":1},{"$f":"IF($Y$8=$Y$7,\" \",IF(T8=0,\" \",T8))","v":" "}," "," "," "]
["3",3,"МЕЖЛУМЯН Гайк Левонович","17.05.1990, МС","ЮФО","Краснодарский край, Новороссийск, Д","-","Дученко ВФ, Гарькуша АВ",null,1,"МС","Краснодарский край",{"$f":"IFERROR(INDEX(субъект,MATCH(SUM(COUNTIF(M$6:M8,субъект)),COUNTIF(субъект,\"<\"&субъект),0)),\"\")","v":"Краснодарский край"},{"$f":"IFERROR(INDEX(разряд,MATCH(SUM(COUNTIF(N$6:N8,разряд)),COUNTIF(разряд,\"<\"&разряд),0)),\"\")","v":"МС"},3,"Краснодарский край",0,0,2,0,0,0,0,null,"Краснодарский край",{"$f":"IF(OR($Y9=$Y7,$Y9=$Y8),\" \",IF(Q9=0,\" \",Q9))","v":" "},{"$f":"IF(OR($Y9=$Y7,$Y9=$Y8),\" \",IF(R9=0,\" \",R9))","v":" "},{"$f":"IF(OR($Y9=$Y7,$Y9=$Y8),\" \",IF(S9=0,\" \",S9))","v":2},{"$f":"IF(OR($Y9=$Y7,$Y9=$Y8),\" \",IF(T9=0,\" \",T9))","v":" "}," "," "," "]
["4",4,"ИСАЕВ Магомед Эскендерович","07.09.1996, КМС","УФО","ХМАО-Югра, Радужный","-","Саркисян АА",null,1,"КМС","ХМАО-Югра",{"$f":"IFERROR(INDEX(субъект,MATCH(SUM(COUNTIF(M$6:M9,субъект)),COUNTIF(субъект,\"<\"&субъект),0)),\"\")","v":"Красноярский край"},{"$f":"IFERROR(INDEX(разряд,MATCH(SUM(COUNTIF(N$6:N9,разряд)),COUNTIF(разряд,\"<\"&разряд),0)),\"\")","v":"МСМК"},4,"Красноярский край",0,1,0,0,0,0,0,null,"Красноярский край",{"$f":"IF(OR($Y10=$Y8,$Y10=$Y9,$Y10=$Y7),\" \",IF(Q10=0,\" \",Q10))","v":" "},{"$f":"IF(OR($Y10=$Y8,$Y10=$Y9,$Y10=$Y7),\" \",IF(R10=0,\" \",R10))","v":1},{"$f":"IF(OR($Y10=$Y8,$Y10=$Y9,$Y10=$Y7),\" \",IF(S10=0,\" \",S10))","v":" "},{"$f":"IF(OR($Y10=$Y8,$Y10=$Y9,$Y10=$Y7),\" \",IF(T10=0,\" \",T10))","v":" "}," "," "," "]
["5",5,"БАНАЕВ Магомед-Салах Бисланович","18.03.1993, КМС","СКФО","РСО-Алания, Д","-","Циклаури И, Чапаев В",null,1,"КМС","РСО-Алания",{"$f":"IFERROR(INDEX(субъект,MATCH(SUM(COUNTIF(M$6:M10,субъект)),COUNTIF(субъект,\"<\"&субъект),0)),\"\")","v":"Курганская обл."},{"$f":"IFERROR(INDEX(разряд,MATCH(SUM(COUNTIF(N$6:N10,разряд)),COUNTIF(разряд,\"<\"&разряд),0)),\"\")","v":""},5,"Курганская обл.",0,1,0,0,0,0,0,null,"Курганская обл.",{"$f":"IF(OR($Y11=$Y9,$Y11=$Y10,$Y11=$Y8,$Y11=$Y7),\" \",IF(Q11=0,\" \",Q11))","v":" "},{"$f":"IF(OR($Y11=$Y9,$Y11=$Y10,$Y11=$Y8,$Y11=$Y7),\" \",IF(R11=0,\" \",R11))","v":1},{"$f":"IF(OR($Y11=$Y9,$Y11=$Y10,$Y11=$Y8,$Y11=$Y7),\" \",IF(S11=0,\" \",S11))","v":" "},{"$f":"IF(OR($Y11=$Y9,$Y11=$Y10,$Y11=$Y8,$Y11=$Y7),\" \",IF(T11=0,\" \",T11))","v":" "}," "," "," "]
["6",6,"ГЕШЕВ Джамбулат Андзорович","21.12.1994, МС","ЮФО","Краснодарский край, Армавир, Д","-","Псеунов МА",null,1,"МС","Краснодарский край",{"$f":"IFERROR(INDEX(субъект,MATCH(SUM(COUNTIF(M$6:M11,субъект)),COUNTIF(субъект,\"<\"&субъект),0)),\"\")","v":"Москва"},{"$f":"IFERROR(INDEX(разряд,MATCH(SUM(COUNTIF(N$6:N11,разряд)),COUNTIF(разряд,\"<\"&разряд),0)),\"\")","v":""},6,"Москва",1,0,2,1,0,0,0,null,"Москва",{"$f":"IF(OR($Y12=$Y10,$Y12=$Y11,$Y12=$Y9,$Y12=$Y8,$Y12=$Y7),\" \",IF(Q12=0,\" \",Q12))","v":1},{"$f":"IF(OR($Y12=$Y10,$Y12=$Y11,$Y12=$Y9,$Y12=$Y8,$Y12=$Y7),\" \",IF(R12=0,\" \",R12))","v":" "},{"$f":"IF(OR($Y12=$Y10,$Y12=$Y11,$Y12=$Y9,$Y12=$Y8,$Y12=$Y7),\" \",IF(S12=0,\" \",S12))","v":2},{"$f":"IF(OR($Y12=$Y10,$Y12=$Y11,$Y12=$Y9,$Y12=$Y8,$Y12=$Y7),\" \",IF(T12=0,\" \",T12))","v":1}," "," "," "]
["7",7,"ПАНОВ Владислав Александрович","15.03.1998, КМС","СФО","Красноярский край, Красноярск, Академия борьбы","-","Батурин АВ",null,1,"КМС","Красноярский край",{"$f":"IFERROR(INDEX(субъект,MATCH(SUM(COUNTIF(M$6:M12,субъект)),COUNTIF(субъект,\"<\"&субъект),0)),\"\")","v":"Московская обл."},{"$f":"IFERROR(INDEX(разряд,MATCH(SUM(COUNTIF(N$6:N12,разряд)),COUNTIF(разряд,\"<\"&разряд),0)),\"\")","v":""},7,"Московская обл.",1,0,0,0,0,0,0,null,"Московская обл.",{"$f":"IF(OR($Y13=$Y11,$Y13=$Y12,$Y13=$Y10,$Y13=$Y9,$Y13=$Y8,$Y13=$Y7),\" \",IF(Q13=0,\" \",Q13))","v":1},{"$f":"IF(OR($Y13=$Y11,$Y13=$Y12,$Y13=$Y10,$Y13=$Y9,$Y13=$Y8,$Y13=$Y7),\" \",IF(R13=0,\" \",R13))","v":" "},{"$f":"IF(OR($Y13=$Y11,$Y13=$Y12,$Y13=$Y10,$Y13=$Y9,$Y13=$Y8,$Y13=$Y7),\" \",IF(S13=0,\" \",S13))","v":" "},{"$f":"IF(OR($Y13=$Y11,$Y13=$Y12,$Y13=$Y10,$Y13=$Y9,$Y13=$Y8,$Y13=$Y7),\" \",IF(T13=0,\" \",T13))","v":" "}," "," "," "]
["8",8,"БОНДАРЕВ Александр Витальевич","27.01.1990, МСМК","ПФО","Чувашская р., Чебоксары","-","Пегасов СВ, Малов СА",null,1,"МСМК","Чувашская р.",{"$f":"IFERROR(INDEX(субъект,MATCH(SUM(COUNTIF(M$6:M13,субъект)),COUNTIF(субъект,\"<\"&субъект),0)),\"\")","v":"Нижегородская обл."},{"$f":"IFERROR(INDEX(разряд,MATCH(SUM(COUNTIF(N$6:N13,разряд)),COUNTIF(разряд,\"<\"&разряд),0)),\"\")","v":""},8,"Нижегородская обл.",0,0,1,0,0,0,0,null,"Нижегородская обл.",{"$f":"IF(OR($Y14=$Y12,$Y14=$Y13,$Y14=$Y11,$Y14=$Y10,$Y14=$Y9,$Y14=$Y7),\" \",IF(Q14=0,\" \",Q14))","v":" "},{"$f":"IF(OR($Y14=$Y12,$Y14=$Y13,$Y14=$Y11,$Y14=$Y10,$Y14=$Y9,$Y14=$Y7),\" \",IF(R14=0,\" \",R14))","v":" "},{"$f":"IF(OR($Y14=$Y12,$Y14=$Y13,$Y14=$Y11,$Y14=$Y10,$Y14=$Y9,$Y14=$Y7),\" \",IF(S14=0,\" \",S14))","v":1},{"$f":"IF(OR($Y14=$Y12,$Y14=$Y13,$Y14=$Y11,$Y14=$Y10,$Y14=$Y9,$Y14=$Y7),\" \",IF(T14=0,\" \",T14))","v":" "}," "," "," "]
["9",9,"ВИЛЬЧИНСКИЙ Юрий Иванович","09.09.1998, КМС","ДВФО","Хабаровский край, Хабаровск, МО","-","Мурашко НП, Гефен МЭ",null,1,"КМС","Хабаровский край",{"$f":"IFERROR(INDEX(субъект,MATCH(SUM(COUNTIF(M$6:M14,субъект)),COUNTIF(субъект,\"<\"&субъект),0)),\"\")","v":"Пензенская обл."},{"$f":"IFERROR(INDEX(разряд,MATCH(SUM(COUNTIF(N$6:N14,разряд)),COUNTIF(разряд,\"<\"&разряд),0)),\"\")","v":""},9,"Пензенская обл.",0,0,0,1,0,0,0,null,"Пензенская обл.",{"$f":"IF(OR($Y15=$Y13,$Y15=$Y14,$Y15=$Y12,$Y15=$Y11,$Y15=$Y10,$Y15=$Y8,$Y15=$Y7),\" \",IF(Q15=0,\" \",Q15))","v":" "},{"$f":"IF(OR($Y15=$Y13,$Y15=$Y14,$Y15=$Y12,$Y15=$Y11,$Y15=$Y10,$Y15=$Y8,$Y15=$Y7),\" \",IF(R15=0,\" \",R15))","v":" "},{"$f":"IF(OR($Y15=$Y13,$Y15=$Y14,$Y15=$Y12,$Y15=$Y11,$Y15=$Y10,$Y15=$Y8,$Y15=$Y7),\" \",IF(S15=0,\" \",S15))","v":" "},{"$f":"IF(OR($Y15=$Y13,$Y15=$Y14,$Y15=$Y12,$Y15=$Y11,$Y15=$Y10,$Y15=$Y8,$Y15=$Y7),\" \",IF(T15=0,\" \",T15))","v":1}," "," "," "]
["10",10,"АБДУЛЛАЕВ Магомед Ахмедович","18.03.1994, МС","УФО","Свердловская обл., Екатеринбург, ПР","-","Старков МА",null,1,"МС","Свердловская обл.",{"$f":"IFERROR(INDEX(субъект,MATCH(SUM(COUNTIF(M$6:M15,субъект)),COUNTIF(субъект,\"<\"&субъект),0)),\"\")","v":"Пермский край"},{"$f":"IFERROR(INDEX(разряд,MATCH(SUM(COUNTIF(N$6:N15,разряд)),COUNTIF(разряд,\"<\"&разряд),0)),\"\")","v":""},10,"Пермский край",0,0,3,0,0,0,0,null,"Пермский край",{"$f":"IF(OR($Y16=$Y14,$Y16=$Y15,$Y16=$Y13,$Y16=$Y12,$Y16=$Y11,$Y16=$Y9,$Y16=$Y8,$Y16=$Y7),\" \",IF(Q16=0,\" \",Q16))","v":" "},{"$f":"IF(OR($Y16=$Y14,$Y16=$Y15,$Y16=$Y13,$Y16=$Y12,$Y16=$Y11,$Y16=$Y9,$Y16=$Y8,$Y16=$Y7),\" \",IF(R16=0,\" \",R16))","v":" "},{"$f":"IF(OR($Y16=$Y14,$Y16=$Y15,$Y16=$Y13,$Y16=$Y12,$Y16=$Y11,$Y16=$Y9,$Y16=$Y8,$Y16=$Y7),\" \",IF(S16=0,\" \",S16))","v":3},{"$f":"IF(OR($Y16=$Y14,$Y16=$Y15,$Y16=$Y13,$Y16=$Y12,$Y16=$Y11,$Y16=$Y9,$Y16=$Y8,$Y16=$Y7),\" \",IF(T16=0,\" \",T16))","v":" "}," "," "," "]
["11",11,"ГАЗИМАГОМЕДОВ Шамиль Саидович","23.10.1990, МС","СКФО","р. Дагестан, ПР","-","Джанбеков ТА",null,1,"МС","р. Дагестан",{"$f":"IFERROR(INDEX(субъект,MATCH(SUM(COUNTIF(M$6:M16,субъект)),COUNTIF(субъект,\"<\"&субъект),0)),\"\")","v":"Приморский край"},{"$f":"IFERROR(INDEX(разряд,MATCH(SUM(COUNTIF(N$6:N16,разряд)),COUNTIF(разряд,\"<\"&разряд),0)),\"\")","v":""},11,"Приморский край",0,0,1,0,0,0,0,null,"Приморский край",{"$f":"IF(OR($Y17=$Y15,$Y17=$Y16,$Y17=$Y14,$Y17=$Y13,$Y17=$Y12,$Y17=$Y10,$Y17=$Y9,$Y17=$Y8,$Y17=$Y7),\" \",IF(Q17=0,\" \",Q17))","v":" "},{"$f":"IF(OR($Y17=$Y15,$Y17=$Y16,$Y17=$Y14,$Y17=$Y13,$Y17=$Y12,$Y17=$Y10,$Y17=$Y9,$Y17=$Y8,$Y17=$Y7),\" \",IF(R17=0,\" \",R17))","v":" "},{"$f":"IF(OR($Y17=$Y15,$Y17=$Y16,$Y17=$Y14,$Y17=$Y13,$Y17=$Y12,$Y17=$Y10,$Y17=$Y9,$Y17=$Y8,$Y17=$Y7),\" \",IF(S17=0,\" \",S17))","v":1},{"$f":"IF(OR($Y17=$Y15,$Y17=$Y16,$Y17=$Y14,$Y17=$Y13,$Y17=$Y12,$Y17=$Y10,$Y17=$Y9,$Y17=$Y8,$Y17=$Y7),\" \",IF(T17=0,\" \",T17))","v":" "}," "," "," "]
["12",12,"БОРОВИКОВ Сергей Вадимович","07.10.1994, МС","ДВФО","Приморский край, Артем, \"Мастер\"","-","Урядов ВВ, Писаренко АА",null,1,"МС","Приморский край",{"$f":"IFERROR(INDEX(субъект,MATCH(SUM(COUNTIF(M$6:M17,субъект)),COUNTIF(субъект,\"<\"&субъект),0)),\"\")","v":"р. Дагестан"},{"$f":"IFERROR(INDEX(разряд,MATCH(SUM(COUNTIF(N$6:N17,разряд)),COUNTIF(разряд,\"<\"&разряд),0)),\"\")","v":""},12,"р. Дагестан",0,0,1,0,0,0,0,null,"р. Дагестан",{"$f":"IF(OR($Y18=$Y16,$Y18=$Y17,$Y18=$Y15,$Y18=$Y14,$Y18=$Y13,$Y18=$Y11,$Y18=$Y10,$Y18=$Y9,$Y18=$Y8,$Y18=$Y7),\" \",IF(Q18=0,\" \",Q18))","v":" "},{"$f":"IF(OR($Y18=$Y16,$Y18=$Y17,$Y18=$Y15,$Y18=$Y14,$Y18=$Y13,$Y18=$Y11,$Y18=$Y10,$Y18=$Y9,$Y18=$Y8,$Y18=$Y7),\" \",IF(R18=0,\" \",R18))","v":" "},{"$f":"IF(OR($Y18=$Y16,$Y18=$Y17,$Y18=$Y15,$Y18=$Y14,$Y18=$Y13,$Y18=$Y11,$Y18=$Y10,$Y18=$Y9,$Y18=$Y8,$Y18=$Y7),\" \",IF(S18=0,\" \",S18))","v":1},{"$f":"IF(OR($Y18=$Y16,$Y18=$Y17,$Y18=$Y15,$Y18=$Y14,$Y18=$Y13,$Y18=$Y11,$Y18=$Y10,$Y18=$Y9,$Y18=$Y8,$Y18=$Y7),\" \",IF(T18=0,\" \",T18))","v":" "}," "," "," "]
["13",13,"МИКАЙЛОВ Микаил Мугаддасович","12.03.1990, МС","СПб","Санкт-Петербург, КШВСМ-МО","-","Савельев АВ",null,1,"МС","Санкт-Петербург",{"$f":"IFERROR(INDEX(субъект,MATCH(SUM(COUNTIF(M$6:M18,субъект)),COUNTIF(субъект,\"<\"&субъект),0)),\"\")","v":"РСО-Алания"},{"$f":"IFERROR(INDEX(разряд,MATCH(SUM(COUNTIF(N$6:N18,разряд)),COUNTIF(разряд,\"<\"&разряд),0)),\"\")","v":""},13,"РСО-Алания",0,2,0,0,0,0,0,null,"РСО-Алания",{"$f":"IF(Q19=0,\" \",Q19)","v":" "},2," "," "," "," "," "]
["14",14,"КАЧАЙКИН Даниил Сергеевич","20.09.1997, КМС","ДВФО","Хабаровский край, Хабаровск, МО","-","Качайкин СН",null,1,"КМС","Хабаровский край",{"$f":"IFERROR(INDEX(субъект,MATCH(SUM(COUNTIF(M$6:M19,субъект)),COUNTIF(субъект,\"<\"&субъект),0)),\"\")","v":"Рязанская обл."},{"$f":"IFERROR(INDEX(разряд,MATCH(SUM(COUNTIF(N$6:N19,разряд)),COUNTIF(разряд,\"<\"&разряд),0)),\"\")","v":""},14,"Рязанская обл.",0,0,0,2,0,0,0,null,"Рязанская обл."," "," "," ",2," "," "," "]
["15",15,"ГОРОХ Михаил Владимирович","30.10.1994, КМС","ДВФО","Хабаровский край, Хабаровск, Д","-","Редин ДА",null,1,"КМС","Хабаровский край",{"$f":"IFERROR(INDEX(субъект,MATCH(SUM(COUNTIF(M$6:M20,субъект)),COUNTIF(субъект,\"<\"&субъект),0)),\"\")","v":"Санкт-Петербург"},{"$f":"IFERROR(INDEX(разряд,MATCH(SUM(COUNTIF(N$6:N20,разряд)),COUNTIF(разряд,\"<\"&разряд),0)),\"\")","v":""},15,"Санкт-Петербург",0,0,2,0,0,0,0,null,"Санкт-Петербург"," "," ",2," "," "," "," "]
["16",16,"ЛАГВЕНКИН Павел Михайлович","13.02.1992, МСМК","ЦФО","Рязанская обл., Рязань, Д","-","Фофанов КН, Савельев ЕА",null,1,"МСМК","Рязанская обл.",{"$f":"IFERROR(INDEX(субъект,MATCH(SUM(COUNTIF(M$6:M21,субъект)),COUNTIF(субъект,\"<\"&субъект),0)),\"\")","v":"Свердловская обл."},{"$f":"IFERROR(INDEX(разряд,MATCH(SUM(COUNTIF(N$6:N21,разряд)),COUNTIF(разряд,\"<\"&разряд),0)),\"\")","v":""},16,"Свердловская обл.",0,0,3,1,0,0,0,null,"Свердловская обл."," "," ",3,1," "," "," "]
["17",17,"МАНЖЕСОВ Денис Сергеевич","30.07.1997, КМС","ДВФО","Хабаровский край, Хабаровск, Д","-","Шилакин БВ",null,1,"КМС",{"$f":"IFERROR(LEFT(F23,FIND(\",\",F23)-1),F23)","v":"Хабаровский край"},{"$f":"IFERROR(INDEX(субъект,MATCH(SUM(COUNTIF(M$6:M22,субъект)),COUNTIF(субъект,\"<\"&субъект),0)),\"\")","v":"Тверская обл."},{"$f":"IFERROR(INDEX(разряд,MATCH(SUM(COUNTIF(N$6:N22,разряд)),COUNTIF(разряд,\"<\"&разряд),0)),\"\")","v":""},17,"Тверская обл.",0,1,0,0,0,0,0,null,{"$f":"P23","v":"Тверская обл."},{"$f":"IF(Q23=0,\" \",Q23)","v":" "},{"$f":"IF(R23=0,\" \",R23)","v":1},{"$f":"IF(S23=0,\" \",S23)","v":" "},{"$f":"IF(T23=0,\" \",T23)","v":" "},{"$f":"IF(U23=0,\" \",U23)","v":" "}," "," "]
["18",18,"ШАЙХОВ Абдулло Пулодович","28.12.1990, КМС","ЦФО","Тверская обл., Тверь","-","Матюшевский АВ, Рыбинкин КВ",null,1,"КМС",{"$f":"IFERROR(LEFT(F24,FIND(\",\",F24)-1),F24)","v":"Тверская обл."},{"$f":"IFERROR(INDEX(субъект,MATCH(SUM(COUNTIF(M$6:M23,субъект)),COUNTIF(субъект,\"<\"&субъект),0)),\"\")","v":"Хабаровский край"},{"$f":"IFERROR(INDEX(разряд,MATCH(SUM(COUNTIF(N$6:N23,разряд)),COUNTIF(разряд,\"<\"&разряд),0)),\"\")","v":""},18,"Хабаровский край",0,5,0,1,0,0,0,null,{"$f":"P24","v":"Хабаровский край"},{"$f":"IF(Q24=0,\" \",Q24)","v":" "},5," ",1," "," "," "]
["19",19,"АДУКОВ Абдулкадыр Муртузалиевич","17.09.1994, МС","УФО","Свердловская обл., В.Пышма, КС \"УГМК\"","-","Стенников ВГ, Мельников АН",null,1,"МС","Свердловская обл.",{"$f":"IFERROR(INDEX(субъект,MATCH(SUM(COUNTIF(M$6:M24,субъект)),COUNTIF(субъект,\"<\"&субъект),0)),\"\")","v":"ХМАО-Югра"},{"$f":"IFERROR(INDEX(разряд,MATCH(SUM(COUNTIF(N$6:N24,разряд)),COUNTIF(разряд,\"<\"&разряд),0)),\"\")","v":""},19,"ХМАО-Югра",0,1,0,0,0,0,0,null,"ХМАО-Югра"," ",1," "," "," "," "," "]
["20",20,"СУХОМЛИНОВ Евгений Игоревич","17.07.1991, МСМК","ДВФО","Хабаровский край, Комсомольск, Д","-","Сухомлинов ИА",null,1,"МСМК","Хабаровский край",{"$f":"IFERROR(INDEX(субъект,MATCH(SUM(COUNTIF(M$6:M25,субъект)),COUNTIF(субъект,\"<\"&субъект),0)),\"\")","v":"Чувашская р."},{"$f":"IFERROR(INDEX(разряд,MATCH(SUM(COUNTIF(N$6:N25,разряд)),COUNTIF(разряд,\"<\"&разряд),0)),\"\")","v":""},20,"Чувашская р.",0,0,0,1,0,0,0,null,"Чувашская р."," "," "," ",1," "," "," "]
["21",21,"БАЛЫКОВ Владимир Юрьевич","15.02.1991, МСМК","УФО","Свердловская обл., В.Пышма, КС \"УГМК\"","-","Стенников ВГ, Хлыбов ИА",null,1,"МСМК","Свердловская обл.",{"$f":"IFERROR(INDEX(субъект,MATCH(SUM(COUNTIF(M$6:M26,субъект)),COUNTIF(субъект,\"<\"&субъект),0)),\"\")","v":""},{"$f":"IFERROR(INDEX(разряд,MATCH(SUM(COUNTIF(N$6:N26,разряд)),COUNTIF(разряд,\"<\"&разряд),0)),\"\")","v":""},21,"",0,0,0,0,0,0,0,null,""," "," "," "," "," "," "," "]
["22",22,"КОМИКЯН Грант Трдатович","24.03.1998, КМС","ДВФО","Хабаровский край, Хабаровск, Д","-","Шилакин БВ",null,1,"КМС","Хабаровский край",{"$f":"IFERROR(INDEX(субъект,MATCH(SUM(COUNTIF(M$6:M27,субъект)),COUNTIF(субъект,\"<\"&субъект),0)),\"\")","v":""},{"$f":"IFERROR(INDEX(разряд,MATCH(SUM(COUNTIF(N$6:N27,разряд)),COUNTIF(разряд,\"<\"&разряд),0)),\"\")","v":""},22,"",0,0,0,0,0,0,0,null,""," "," "," "," "," "," "," "]
["23",23,"КЛЕЦКОВ Никита Валерьевич","26.11.1986, ЗМС","М","Москва, \"Самбо-70\", Д","-","Филимонов СН, Павлов ДА",null,1,"ЗМС","Москва",{"$f":"IFERROR(INDEX(субъект,MATCH(SUM(COUNTIF(M$6:M28,субъект)),COUNTIF(субъект,\"<\"&субъект),0)),\"\")","v":""},{"$f":"IFERROR(INDEX(разряд,MATCH(SUM(COUNTIF(N$6:N28,разряд)),COUNTIF(разряд,\"<\"&разряд),0)),\"\")","v":""},23,"",0,0,0,0,0,0,0,null,""," "," "," "," "," "," "," "]
["24",24,"ШЕМАЗАШВИЛИ Георгий Кобаевич","03.09.1990, МСМК","СФО","Иркутская обл., Иркутск, Д","-","Журавлев ЮМ, Магура ИБ",null,1,"МСМК","Иркутская обл.",{"$f":"IFERROR(INDEX(субъект,MATCH(SUM(COUNTIF(M$6:M29,субъект)),COUNTIF(субъект,\"<\"&субъект),0)),\"\")","v":""},{"$f":"IFERROR(INDEX(разряд,MATCH(SUM(COUNTIF(N$6:N29,разряд)),COUNTIF(разряд,\"<\"&разряд),0)),\"\")","v":""},24,"",0,0,0,0,0,0,0,null,""," "," "," "," "," "," "," "]
["25",25,"ВОРОБЬЕВ Михаил Анатольевич","29.03.1995, МСМК","ЦФО","Рязанская обл., Рязань, Д","-","Перетрухин ВН, Фофанов КН",null,1,"МСМК","Рязанская обл.",{"$f":"IFERROR(INDEX(субъект,MATCH(SUM(COUNTIF(M$6:M30,субъект)),COUNTIF(субъект,\"<\"&субъект),0)),\"\")","v":""},{"$f":"IFERROR(INDEX(разряд,MATCH(SUM(COUNTIF(N$6:N30,разряд)),COUNTIF(разряд,\"<\"&разряд),0)),\"\")","v":""},25,"",0,0,0,0,0,0,0,null,""," "," "," "," "," "," "," "]
["26",26,"ГОРКОВЕЦ Артем Глебович","09.10.1997, МС","ПФО","Пермский край, Пермь,  МО","-","Газеев АГ",null,1,"МС","Пермский край",{"$f":"IFERROR(INDEX(субъект,MATCH(SUM(COUNTIF(M$6:M31,субъект)),COUNTIF(субъект,\"<\"&субъект),0)),\"\")","v":""},{"$f":"IFERROR(INDEX(разряд,MATCH(SUM(COUNTIF(N$6:N31,разряд)),COUNTIF(разряд,\"<\"&разряд),0)),\"\")","v":""},26,"",0,0,0,0,0,0,0,null,""," "," "," "," "," "," "," "]
["27",27,"ЛАЗАРЕВ Сергей Сергеевич","04.11.1994, МС","ПФО","Пермский край, Пермь,  Д","-","Лузин СВ",null,1,"МС","Пермский край",{"$f":"IFERROR(INDEX(субъект,MATCH(SUM(COUNTIF(M$6:M32,субъект)),COUNTIF(субъект,\"<\"&субъект),0)),\"\")","v":""},{"$f":"IFERROR(INDEX(разряд,MATCH(SUM(COUNTIF(N$6:N32,разряд)),COUNTIF(разряд,\"<\"&разряд),0)),\"\")","v":""},27,"",0,0,0,0,0,0,0,null,""," "," "," "," "," "," "," "]
["28",28,"КЛЕЦКОВ Дмитрий Валерьевич","26.11.1986, МСМК","М","Москва, \"Самбо-70\", Д","-","Филимонов СН, Павлов ДА",null,1,"МСМК","Москва",{"$f":"IFERROR(INDEX(субъект,MATCH(SUM(COUNTIF(M$6:M33,субъект)),COUNTIF(субъект,\"<\"&субъект),0)),\"\")","v":""},{"$f":"IFERROR(INDEX(разряд,MATCH(SUM(COUNTIF(N$6:N33,разряд)),COUNTIF(разряд,\"<\"&разряд),0)),\"\")","v":""},28,"",0,0,0,0,0,0,0,null,""," "," "," "," "," "," "," "]
["29",29,"ФОГОЛЕВ Александр Андреевич","08.05.1997, МС","ПФО","Нижегородская обл., Н.Новгород, Профсоюзы","-","Симанов МВ, Гаврилов АЕ",null,1,"МС","Нижегородская обл.",{"$f":"IFERROR(INDEX(субъект,MATCH(SUM(COUNTIF(M$6:M34,субъект)),COUNTIF(субъект,\"<\"&субъект),0)),\"\")","v":""},{"$f":"IFERROR(INDEX(разряд,MATCH(SUM(COUNTIF(N$6:N34,разряд)),COUNTIF(разряд,\"<\"&разряд),0)),\"\")","v":""},29,"",0,0,0,0,0,0,0,null,""," "," "," "," "," "," "," "]
["30",30,"ГУКЕВ Рамед Мухамедович","08.04.1993, МС","УФО","Свердловская обл., В.Пышма, КС \"УГМК\"","-","Хлыбов ИЕ, Суханов МИ",null,1,"МС","Свердловская обл.",{"$f":"IFERROR(INDEX(субъект,MATCH(SUM(COUNTIF(M$6:M35,субъект)),COUNTIF(субъект,\"<\"&субъект),0)),\"\")","v":""},{"$f":"IFERROR(INDEX(разряд,MATCH(SUM(COUNTIF(N$6:N35,разряд)),COUNTIF(разряд,\"<\"&разряд),0)),\"\")","v":""},30,"",0,0,0,0,0,0,0,null,""," "," "," "," "," "," "," "]
["31",31,"ЭЛАЕВ Рамазан Муртузалиевич","16.12.1996, МС","ЦФО","Костромская обл., Кострома, Д","-","Степанов АА",null,1,"МС","Костромская обл.",{"$f":"IFERROR(INDEX(субъект,MATCH(SUM(COUNTIF(M$6:M36,субъект)),COUNTIF(субъект,\"<\"&субъект),0)),\"\")","v":""},{"$f":"IFERROR(INDEX(разряд,MATCH(SUM(COUNTIF(N$6:N36,разряд)),COUNTIF(разряд,\"<\"&разряд),0)),\"\")","v":""},31,"",0,0,0,0,0,0,0,null,""," "," "," "," "," "," "," "]
["32",32,"ЛИНЧЕНКО Илья Александрович","01.10.1994, МС","СПб","Санкт-Петербург, ВС-СКА","-","Кусакин СИ, Попов ИЕ",null,1,"МС","Санкт-Петербург",{"$f":"IFERROR(INDEX(субъект,MATCH(SUM(COUNTIF(M$6:M37,субъект)),COUNTIF(субъект,\"<\"&субъект),0)),\"\")","v":""},{"$f":"IFERROR(INDEX(разряд,MATCH(SUM(COUNTIF(N$6:N37,разряд)),COUNTIF(разряд,\"<\"&разряд),0)),\"\")","v":""},32,"",0,0,0,0,0,0,0,null,""," "," "," "," "," "," "," "]
["33",33,"ГАВРИЛОВ Максим Олегович","15.09.1993, МС","М","Москва, \"Самбо-70\", ФСИН","-","Савкин АВ, Фунтиков ПВ",null,1,"МС","Москва",{"$f":"IFERROR(INDEX(субъект,MATCH(SUM(COUNTIF(M$6:M38,субъект)),COUNTIF(субъект,\"<\"&субъект),0)),\"\")","v":""},{"$f":"IFERROR(INDEX(разряд,MATCH(SUM(COUNTIF(N$6:N38,разряд)),COUNTIF(разряд,\"<\"&разряд),0)),\"\")","v":""},33,"",{"$f":"SUMIFS($J$7:$J$88,$L$7:$L$88,P39,$K$7:$K$88,Q$6)","v":0},{"$f":"SUMIFS($J$7:$J$88,$L$7:$L$88,P39,$K$7:$K$88,R$6)","v":0},{"$f":"SUMIFS($J$7:$J$88,$L$7:$L$88,P39,$K$7:$K$88,S$6)","v":0},{"$f":"SUMIFS($J$7:$J$88,$L$7:$L$88,P39,$K$7:$K$88,T$6)","v":0},{"$f":"SUMIFS($J$7:$J$88,$L$7:$L$88,P39,$K$7:$K$88,U$6)","v":0},{"$f":"SUMIFS($J$7:$J$88,$L$7:$L$88,P39,$K$7:$K$88,V$6)","v":0},{"$f":"SUMIFS($J$7:$J$88,$L$7:$L$88,P39,$K$7:$K$88,W$6)","v":0},{"$f":"SUM(Q7:T38)","v":37},""," "," "," "," "," "," "," "]
["34",34,"ТУРСУНОВ Али Юсуфжонович","09.12.1994, МС","М","Москва, \"Самбо-70\", ВДВ","-","Сальников ВВ, Кабанов ДБ",null,1,"МС","Москва",{"$f":"IFERROR(INDEX(субъект,MATCH(SUM(COUNTIF(M$6:M39,субъект)),COUNTIF(субъект,\"<\"&субъект),0)),\"\")","v":""},{"$f":"IFERROR(INDEX(разряд,MATCH(SUM(COUNTIF(N$6:N39,разряд)),COUNTIF(разряд,\"<\"&разряд),0)),\"\")","v":""},34,"",0,0,0,0,0,0,0,null,"",{"$f":"IF(Q40=0,\" \",Q40)","v":" "}," "," "," "," "," "," "]
["35",35,"БУРДАЕВ Роман Михайлович","22.05.1993, МСМК","ПФО","Пензенская обл., Пенза, Д","-","Надькин ВА, Ивентьев АВ",null,1,"МСМК","Пензенская обл.",{"$f":"IFERROR(INDEX(субъект,MATCH(SUM(COUNTIF(M$6:M40,субъект)),COUNTIF(субъект,\"<\"&субъект),0)),\"\")","v":""},{"$f":"IFERROR(INDEX(разряд,MATCH(SUM(COUNTIF(N$6:N40,разряд)),COUNTIF(разряд,\"<\"&разряд),0)),\"\")","v":""},35,"",0,0,0,0,0,0,0,null,""," "," "," "," "," "," "," "]
["36",36,"ДАВЫДОВ Денис Игоревич","16.07.1987, ЗМС","ЦФО","Московская обл., Балашиха","-","Николайчик ВК",null,1,"ЗМС","Московская обл.",{"$f":"IFERROR(INDEX(субъект,MATCH(SUM(COUNTIF(M$6:M41,субъект)),COUNTIF(субъект,\"<\"&субъект),0)),\"\")","v":""},{"$f":"IFERROR(INDEX(разряд,MATCH(SUM(COUNTIF(N$6:N41,разряд)),COUNTIF(разряд,\"<\"&разряд),0)),\"\")","v":""},36,"",0,0,0,0,0,0,0,null,""," "," "," "," "," "," "," "]
["37",37,"БУТЕНКО Максим Игоревич","15.03.1997, КМС","УФО","Курганская обл., Курган, СШОР","-","Кудрявцев СЮ",null,1,"КМС","Курганская обл.",{"$f":"IFERROR(INDEX(субъект,MATCH(SUM(COUNTIF(M$6:M42,субъект)),COUNTIF(субъект,\"<\"&субъект),0)),\"\")","v":""},{"$f":"IFERROR(INDEX(разряд,MATCH(SUM(COUNTIF(N$6:N42,разряд)),COUNTIF(разряд,\"<\"&разряд),0)),\"\")","v":""},37,"",0,0,0,0,0,0,0,null,""," "," "," "," "," "," "," "]
["38",null,null,null,null,null,null,null,null,1,0,0,{"$f":"IFERROR(INDEX(субъект,MATCH(SUM(COUNTIF(M$6:M43,субъект)),COUNTIF(субъект,\"<\"&субъект),0)),\"\")","v":""},{"$f":"IFERROR(INDEX(разряд,MATCH(SUM(COUNTIF(N$6:N43,разряд)),COUNTIF(разряд,\"<\"&разряд),0)),\"\")","v":""},38,"",0,0,0,0,0,0,0,null,""," "," "," "," "," "," "," "]
["39",null,null,null,null,null,null,null,null,1,0,0,{"$f":"IFERROR(INDEX(субъект,MATCH(SUM(COUNTIF(M$6:M44,субъект)),COUNTIF(субъект,\"<\"&субъект),0)),\"\")","v":""},{"$f":"IFERROR(INDEX(разряд,MATCH(SUM(COUNTIF(N$6:N44,разряд)),COUNTIF(разряд,\"<\"&разряд),0)),\"\")","v":""},39,"",0,0,0,0,0,0,0,null,""," "," "," "," "," "," "," "]
["40",null,null,null,null,null,null,null,null,1,0,0,{"$f":"IFERROR(INDEX(субъект,MATCH(SUM(COUNTIF(M$6:M45,субъект)),COUNTIF(субъект,\"<\"&субъект),0)),\"\")","v":""},{"$f":"IFERROR(INDEX(разряд,MATCH(SUM(COUNTIF(N$6:N45,разряд)),COUNTIF(разряд,\"<\"&разряд),0)),\"\")","v":""},40,"",0,0,0,0,0,0,0,null,""," "," "," "," "," "," "," "]
["41",null,null,null,null,null,null,null,null,1,0,0,{"$f":"IFERROR(INDEX(субъект,MATCH(SUM(COUNTIF(M$6:M46,субъект)),COUNTIF(субъект,\"<\"&субъект),0)),\"\")","v":""},{"$f":"IFERROR(INDEX(разряд,MATCH(SUM(COUNTIF(N$6:N46,разряд)),COUNTIF(разряд,\"<\"&разряд),0)),\"\")","v":""},41,"",0,0,0,0,0,0,0,null,""," "," "," "," "," "," "," "]
["42",null,null,null,null,null,null,null,null,1,0,0,{"$f":"IFERROR(INDEX(субъект,MATCH(SUM(COUNTIF(M$6:M47,субъект)),COUNTIF(субъект,\"<\"&субъект),0)),\"\")","v":""},{"$f":"IFERROR(INDEX(разряд,MATCH(SUM(COUNTIF(N$6:N47,разряд)),COUNTIF(разряд,\"<\"&разряд),0)),\"\")","v":""},42,"",0,0,0,0,0,0,0,null,""," "," "," "," "," "," "," "]
["43",null,null,null,null,null,null,null,null,1,0,0,{"$f":"IFERROR(INDEX(субъект,MATCH(SUM(COUNTIF(M$6:M48,субъект)),COUNTIF(субъект,\"<\"&субъект),0)),\"\")","v":""},{"$f":"IFERROR(INDEX(разряд,MATCH(SUM(COUNTIF(N$6:N48,разряд)),COUNTIF(разряд,\"<\"&разряд),0)),\"\")","v":""},43,"",0,0,0,0,0,0,0,null,""," "," "," "," "," "," "," "]
["44",null,null,null,null,null,null,null,null,1,0,0,{"$f":"IFERROR(INDEX(субъект,MATCH(SUM(COUNTIF(M$6:M49,субъект)),COUNTIF(субъект,\"<\"&субъект),0)),\"\")","v":""},{"$f":"IFERROR(INDEX(разряд,MATCH(SUM(COUNTIF(N$6:N49,разряд)),COUNTIF(разряд,\"<\"&разряд),0)),\"\")","v":""},44,"",0,0,0,0,0,0,0,null,""," "," "," "," "," "," "," "]
["45",null,null,null,null,null,null,null,null,1,0,0,{"$f":"IFERROR(INDEX(субъект,MATCH(SUM(COUNTIF(M$6:M50,субъект)),COUNTIF(субъект,\"<\"&субъект),0)),\"\")","v":""},{"$f":"IFERROR(INDEX(разряд,MATCH(SUM(COUNTIF(N$6:N50,разряд)),COUNTIF(разряд,\"<\"&разряд),0)),\"\")","v":""},45,"",0,0,0,0,0,0,0,null,""," "," "," "," "," "," "," "]
["46",null,null,null,null,null,null,null,null,1,0,0,{"$f":"IFERROR(INDEX(субъект,MATCH(SUM(COUNTIF(M$6:M51,субъект)),COUNTIF(субъект,\"<\"&субъект),0)),\"\")","v":""},null,46,"",0,0,0,0,0,0,0,null,""," "," "," "," "," "," "," "]
["47",null,null,null,null,null,null,null,null,1,0,0,{"$f":"IFERROR(INDEX(субъект,MATCH(SUM(COUNTIF(M$6:M52,субъект)),COUNTIF(субъект,\"<\"&субъект),0)),\"\")","v":""},null,47,"",0,0,0,0,0,0,0,null,""," "," "," "," "," "," "," "]
["48",null,null,null,null,null,null,null,null,1,0,0,{"$f":"IFERROR(INDEX(субъект,MATCH(SUM(COUNTIF(M$6:M53,субъект)),COUNTIF(субъект,\"<\"&субъект),0)),\"\")","v":""},null,48,"",0,0,0,0,0,0,0,null,""," "," "," "," "," "," "," "]
["49",null,null,null,null,null,null,null,null,1,0,0,{"$f":"IFERROR(INDEX(субъект,MATCH(SUM(COUNTIF(M$6:M54,субъект)),COUNTIF(субъект,\"<\"&субъект),0)),\"\")","v":""},null,49,"",0,0,0,0,0,0,0,null,""," "," "," "," "," "," "," "]
["50",null,null,null,null,null,null,null,null,1,0,0,{"$f":"IFERROR(INDEX(субъект,MATCH(SUM(COUNTIF(M$6:M55,субъект)),COUNTIF(субъект,\"<\"&субъект),0)),\"\")","v":""},null,50,"",0,0,0,0,0,0,0,null,""," "," "," "," "," "," "," "]
["51",null,null,null,null,null,null,null,null,1,0,0,{"$f":"IFERROR(INDEX(субъект,MATCH(SUM(COUNTIF(M$6:M56,субъект)),COUNTIF(субъект,\"<\"&субъект),0)),\"\")","v":""},null,51,"",0,0,0,0,0,0,0,null,""," "," "," "," "," "," "," "]
["52",null,null,null,null,null,null,null,null,1,0,0,{"$f":"IFERROR(INDEX(субъект,MATCH(SUM(COUNTIF(M$6:M57,субъект)),COUNTIF(субъект,\"<\"&субъект),0)),\"\")","v":""},null,52,"",0,0,0,0,0,0,0,null,""," "," "," "," "," "," "," "]
["53",null,null,null,null,null,null,null,null,1,0,0,{"$f":"IFERROR(INDEX(субъект,MATCH(SUM(COUNTIF(M$6:M58,субъект)),COUNTIF(субъект,\"<\"&субъект),0)),\"\")","v":""},null,53,"",0,0,0,0,0,0,0,null,""," "," "," "," "," "," "," "]
["54",null,null,null,null,null,null,null,null,1,0,0,{"$f":"IFERROR(INDEX(субъект,MATCH(SUM(COUNTIF(M$6:M59,субъект)),COUNTIF(субъект,\"<\"&субъект),0)),\"\")","v":""},null,54,"",0,0,0,0,0,0,0,null,""," "," "," "," "," "," "," "]
["55",null,null,null,null,null,null,null,null,1,0,0,{"$f":"IFERROR(INDEX(субъект,MATCH(SUM(COUNTIF(M$6:M60,субъект)),COUNTIF(субъект,\"<\"&субъект),0)),\"\")","v":""},null,55,"",0,0,0,0,0,0,0,null,""," "," "," "," "," "," "," "]
["56",null,null,null,null,null,null,null,null,1,0,0,{"$f":"IFERROR(INDEX(субъект,MATCH(SUM(COUNTIF(M$6:M61,субъект)),COUNTIF(субъект,\"<\"&субъект),0)),\"\")","v":""},null,56,"",0,0,0,0,0,0,0,null,""," "," "," "," "," "," "," "]
["57",null,null,null,null,null,null,null,null,1,0,0,{"$f":"IFERROR(INDEX(субъект,MATCH(SUM(COUNTIF(M$6:M62,субъект)),COUNTIF(субъект,\"<\"&субъект),0)),\"\")","v":""},null,57,"",0,0,0,0,0,0,0,null,""," "," "," "," "," "," "," "]
["58",null,null,null,null,null,null,null,null,1,0,0,{"$f":"IFERROR(INDEX(субъект,MATCH(SUM(COUNTIF(M$6:M63,субъект)),COUNTIF(субъект,\"<\"&субъект),0)),\"\")","v":""},null,58,"",0,0,0,0,0,0,0,null,""," "," "," "," "," "," "," "]
["59",null,null,null,null,null,null,null,null,1,0,0,{"$f":"IFERROR(INDEX(субъект,MATCH(SUM(COUNTIF(M$6:M64,субъект)),COUNTIF(субъект,\"<\"&субъект),0)),\"\")","v":""},null,59,"",0,0,0,0,0,0,0,null,""," "," "," "," "," "," "," "]
["60",null,null,null,null,null,null,null,null,1,0,0,{"$f":"IFERROR(INDEX(субъект,MATCH(SUM(COUNTIF(M$6:M65,субъект)),COUNTIF(субъект,\"<\"&субъект),0)),\"\")","v":""},null,60,"",0,0,0,0,0,0,0,null,""," "," "," "," "," "," "," "]
["61",null,null,null,null,null,null,null,null,1,0,0,{"$f":"IFERROR(INDEX(субъект,MATCH(SUM(COUNTIF(M$6:M66,субъект)),COUNTIF(субъект,\"<\"&субъект),0)),\"\")","v":""},null,61,"",0,0,0,0,0,0,0,null,""," "," "," "," "," "," "," "]
["62",null,null,null,null,null,null,null,null,1,0,0,{"$f":"IFERROR(INDEX(субъект,MATCH(SUM(COUNTIF(M$6:M67,субъект)),COUNTIF(субъект,\"<\"&субъект),0)),\"\")","v":""},null,62,"",0,0,0,0,0,0,0,null,""," "," "," "," "," "," "," "]
["63",null,null,null,null,null,null,null,null,1,0,0,{"$f":"IFERROR(INDEX(субъект,MATCH(SUM(COUNTIF(M$6:M68,субъект)),COUNTIF(субъект,\"<\"&субъект),0)),\"\")","v":""},null,63,"",0,0,0,0,0,0,0,null,""," "," "," "," "," "," "," "]
["64",null,null,null,null,null,null,null,null,1,0,0,{"$f":"IFERROR(INDEX(субъект,MATCH(SUM(COUNTIF(M$6:M69,субъект)),COUNTIF(субъект,\"<\"&субъект),0)),\"\")","v":""},null,64,"",0,0,0,0,0,0,0,null,""," "," "," "," "," "," "," "]
[]
[]
["гл.судья:"]
[]
["гл.секретарь:"]
[]
["судьи:"]
[]
["врач:"]

{"sheet":"пр.хода","index":1,"n_rows":73,"n_cols":39,"rows_kept":73,"cut":false,"hidden":false,"merged":[[3,8,3,20],[4,29,5,29],[6,27,7,27],[72,6,72,8],[55,11,55,12],[56,11,56,12],[58,11,58,12],[59,11,59,12],[68,16,69,16],[62,11,62,12],[65,11,65,12],[47,13,48,17],[40,13,41,17],[32,13,33,17],[26,13,27,17],[6,28,7,28],[6,29,7,29],[8,27,9,27],[8,28,9,28],[8,29,9,29],[10,27,11,27],[10,28,11,28],[13,11,13,12],[16,11,16,12],[14,3,15,3],[16,3,17,3],[8,3,9,3],[10,3,11,3],[12,3,13,3],[4,27,5,27],[4,28,5,28],[37,0,38,0],[37,1,38,1],[37,2,38,2],[37,3,38,3],[20,3,21,3],[22,3,23,3],[24,3,25,3],[26,3,27,3],[28,3,29,3],[30,3,31,3],[32,3,33,3],[34,3,35,3],[22,0,23,0],[22,1,23,1],[22,2,23,2],[34,0,35,0],[34,2,35,2],[57,0,58,0],[57,1,58,1],[57,2,58,2],[57,3,58,3],[51,0,52,0],[51,1,52,1],[51,2,52,2],[51,3,52,3],[49,0,50,0],[49,1,50,1],[49,2,50,2],[49,3,50,3],[55,0,56,0],[55,1,56,1],[55,2,56,2],[55,3,56,3],[53,0,54,0],[53,1,54,1],[53,2,54,2],[53,3,54,3],[67,0,68,0],[67,1,68,1],[67,2,68,2],[67,3,68,3],[63,1,64,1],[59,0,60,0],[59,1,60,1],[59,2,60,2],[59,3,60,3],[63,2,64,2],[63,3,64,3],[61,1,62,1],[61,2,62,2],[61,3,62,3],[63,0,64,0],[65,0,66,0],[65,1,66,1],[65,2,66,2],[65,3,66,3],[61,0,62,0],[41,3,42,3],[47,0,48,0],[47,1,48,1],[47,2,48,2],[47,3,48,3],[45,0,46,0],[39,0,40,0],[39,1,40,1],[39,2,40,2],[45,1,46,1],[45,2,46,2],[45,3,46,3],[43,0,44,0],[43,1,44,1],[43,2,44,2],[43,3,44,3],[39,3,40,3],[41,0,42,0],[41,1,42,1],[41,2,42,2],[34,1,35,1],[24,0,25,0],[24,1,25,1],[24,2,25,2],[26,0,27,0],[26,1,27,1],[26,2,27,2],[20,0,21,0],[20,1,21,1],[20,2,21,2],[28,0,29,0],[28,1,29,1],[28,2,29,2],[30,0,31,0],[30,1,31,1],[30,2,31,2],[32,0,33,0],[32,1,33,1],[32,2,33,2],[10,0,11,0],[10,1,11,1],[10,2,11,2],[12,0,13,0],[12,1,13,1],[12,2,13,2],[14,0,15,0],[14,1,15,1],[14,2,15,2],[4,3,5,3],[6,3,7,3],[4,1,5,1],[4,2,5,2],[4,0,5,0],[8,0,9,0],[8,1,9,1],[8,2,9,2],[5,13,5,14],[6,11,6,12],[7,11,7,12],[9,11,9,12],[10,29,11,29],[6,0,7,0],[6,1,7,1],[6,2,7,2],[16,27,17,27],[16,28,17,28],[16,29,17,29],[18,27,19,27],[18,28,19,28],[18,29,19,29],[12,27,13,27],[12,28,13,28],[12,29,13,29],[14,27,15,27],[14,28,15,28],[14,29,15,29],[16,0,17,0],[16,1,17,1],[16,2,17,2],[18,0,19,0],[18,1,19,1],[18,2,19,2],[18,3,19,3],[10,11,10,12],[24,27,25,27],[24,28,25,28],[24,29,25,29],[26,27,27,27],[26,28,27,28],[26,29,27,29],[20,27,21,27],[20,28,21,28],[20,29,21,29],[22,27,23,27],[22,28,23,28],[22,29,23,29],[32,27,33,27],[32,28,33,28],[32,29,33,29],[34,27,35,27],[34,28,35,28],[34,29,35,29],[28,27,29,27],[28,28,29,28],[28,29,29,29],[30,27,31,27],[30,28,31,28],[30,29,31,29],[41,27,42,27],[41,28,42,28],[41,29,42,29],[43,27,44,27],[43,28,44,28],[43,29,44,29],[37,27,38,27],[37,28,38,28],[37,29,38,29],[39,27,40,27],[39,28,40,28],[39,29,40,29],[49,27,50,27],[49,28,50,28],[49,29,50,29],[51,27,52,27],[51,28,52,28],[51,29,52,29],[45,27,46,27],[45,28,46,28],[45,29,46,29],[47,27,48,27],[47,28,48,28],[47,29,48,29],[55,30,56,30],[57,30,58,30],[63,27,64,27],[63,28,64,28],[63,29,64,29],[53,27,54,27],[53,28,54,28],[53,29,54,29],[59,29,60,29],[61,27,62,27],[61,28,62,28],[61,29,62,29],[55,27,56,27],[55,28,56,28],[55,29,56,29],[0,5,0,25],[0,28,1,30],[2,28,2,30],[3,27,3,30],[53,13,54,14],[2,5,2,25],[59,30,60,30],[37,30,38,30],[4,30,5,30],[6,30,7,30],[8,30,9,30],[10,30,11,30],[30,30,31,30],[32,30,33,30],[20,30,21,30],[22,30,23,30],[12,30,13,30],[14,30,15,30],[16,30,17,30],[18,30,19,30],[34,30,35,30],[53,30,54,30],[59,27,60,27],[59,28,60,28],[43,30,44,30],[28,30,29,30],[63,30,64,30],[45,30,46,30],[47,30,48,30],[49,30,50,30],[51,30,52,30],[67,30,68,30],[1,5,1,25],[67,27,68,27],[67,28,68,28],[67,29,68,29],[61,30,62,30],[65,27,66,27],[65,28,66,28],[65,29,66,29],[24,30,25,30],[26,30,27,30],[65,30,66,30],[39,30,40,30],[41,30,42,30],[57,27,58,27],[57,28,58,28],[57,29,58,29]]}
[null,null,null,null,null,"ВСЕРОССИЙСКАЯ ФЕДЕРАЦИЯ САМБО",null,null,null,null,null,null,null,null,null,null,null,null,null,null,null,null,null,null,null,null,null,null,{"$f":"пр.взв!$D$4","v":"В.к. 68 кг."}]
[null,null,null,null,null,"ПРОТОКОЛ ХОДА СОРЕВНОВАНИЙ   "]
[null,null,null,null,null,{"$f":"[2]реквизиты!$A$2","v":"Чемпионат России по самбо среди мужчин, женщин и боевому самбо"},null,null,null,null,null,null,null,null,null,null,null,null,null,null,null,null,null,null,null,null,null,null,{"$f":"AH3&\" \"&AI3","v":"37 участников"},null,null,null,null,{"$f":"пр.взв!AH7","v":37},"участников"]
["Подгруппа А",null,null,null,null,null,null,null,{"$f":"[2]реквизиты!$A$3","v":"1-5 марта 2018г.                                              г.Хабаровск"},null,null,null,null,null,null,null,null,null,null,null,null,null,null,null,null,null,null,"Подгруппа Б"]
[1,{"$f":"IFERROR(VLOOKUP(A5,пр.взв!$B$7:$H$70,2,0),\"\")","v":"ОРЛОВ Алексей Николаевич"},{"$f":"IFERROR(VLOOKUP(A5,пр.взв!$B$7:$H$70,3,0),\"\")","v":"11.12.1990, МС"},{"$f":"IFERROR(VLOOKUP(A5,пр.взв!$B$7:$H$70,5,0),\"\")","v":"Пермский край, Пермь,  Д"},null,null,null,null,null,null,null,null,null,null,null,null,null,null,null,null,null,null,null,null,null,null,null,{"$f":"IFERROR(VLOOKUP(AE5,пр.взв!$B$7:$H$70,2,0),\"\")","v":"ТЕМИРОВ Тимур Ахсарович"},{"$f":"IFERROR(VLOOKUP(AE5,пр.взв!$B$7:$H$70,3,0),\"\")","v":"09.09.1993, КМС"},{"$f":"IFERROR(VLOOKUP(AE5,пр.взв!$B$7:$H$70,5,0),\"\")","v":"РСО-Алания, Д"},2,null,null,{"$f":"IF(K20=\"\",\" \",IF(K20=A5,A7,IF(K20=A7,A5,IF(K20=A9,A11,IF(K20=A11,A9,IF(K20=A13,A15,IF(K20=A15,A13,IF(K20=A17,A19,IF(K20=A19,A17,0)))))))))","v":0},{"$f":"IF(K20=\"\",\" \",IF(K20=A21,A23,IF(K20=A23,A21,IF(K20=A25,A27,IF(K20=A27,A25,IF(K20=A29,A31,IF(K20=A31,A29,IF(K20=A33,A35,IF(K20=A35,A33,0)))))))))","v":53}]
[null,null,null,null,33,null,null,null,null,null,null,null,null,"А1",null,null,null,null,null,null,null,null,null,null,null,null,34,null,null,null,null,null,{"$f":"IF(AH5=\"\",\" \",IF(AH5=0,AI5,AH5))","v":53},{"$f":"IF(K53=\"\",\" \",IF(K53=A54,A56,IF(K53=A56,A54,IF(K53=A58,A60,IF(K53=A60,A58,IF(K53=A62,A64,IF(K53=A64,A62,IF(K53=A66,A68,IF(K53=A68,A66,0)))))))))","v":55},{"$f":"IF(K53=\"\",\" \",IF(K53=A38,A40,IF(K53=A40,A38,IF(K53=A42,A44,IF(K53=A44,A42,IF(K53=A46,A48,IF(K53=A48,A46,IF(K53=A50,A52,IF(K53=A52,A50,0)))))))))","v":0}]
[33,{"$f":"IFERROR(VLOOKUP(A7,пр.взв!$B$7:$H$70,2,0),\"\")","v":"ГАВРИЛОВ Максим Олегович"},{"$f":"IFERROR(VLOOKUP(A7,пр.взв!$B$7:$H$70,3,0),\"\")","v":"15.09.1993, МС"},{"$f":"IFERROR(VLOOKUP(A7,пр.взв!$B$7:$H$70,5,0),\"\")","v":"Москва, \"Самбо-70\", ФСИН"},"3\\0",null,null,null,null,null,null,{"$f":"AG6","v":53},null,null,null,null,null,null,null,null,null,null,null,null,null,null,"3\\1",{"$f":"IFERROR(VLOOKUP(AE7,пр.взв!$B$7:$H$70,2,0),\"\")","v":"ТУРСУНОВ Али Юсуфжонович"},{"$f":"IFERROR(VLOOKUP(AE7,пр.взв!$B$7:$H$70,3,0),\"\")","v":"09.12.1994, МС"},{"$f":"IFERROR(VLOOKUP(AE7,пр.взв!$B$7:$H$70,5,0),\"\")","v":"Москва, \"Самбо-70\", ВДВ"},34,null,{"$f":"IF(K20=\"\",\" \",IF(K20=E6,E10,IF(K20=E10,E6,IF(K20=E14,E18,IF(K20=E18,E14,IF(K20=E22,E26,IF(K20=E26,E22,IF(K20=E30,E34,E30))))))))","v":37},{"$f":"IF(U20=\"\",\" \",IF(U20=AE5,AE7,IF(U20=AE7,AE5,IF(U20=AE9,AE11,IF(U20=AE11,AE9,IF(U20=AE13,AE15,IF(U20=AE15,AE13,IF(U20=AE17,AE19,IF(U20=AE19,AE17,0)))))))))","v":0},{"$f":"IF(U20=\"\",\" \",IF(U20=AE21,AE23,IF(U20=AE23,AE21,IF(U20=AE25,AE27,IF(U20=AE27,AE25,IF(U20=AE29,AE31,IF(U20=AE31,AE29,IF(U20=AE33,AE35,IF(U20=AE35,AE33,0)))))))))","v":62}]
[null,null,null,null,null,null,33,null,null,null,null,null,null,37,null,null,null,null,null,null,null,null,null,null,34,null,null,null,null,null,null,null,{"$f":"IF(K20=\"\",\" \",IF(K20=G8,G16,IF(K20=G16,G8,IF(K20=G24,G32,G24))))","v":29},{"$f":"IF(U53=\"\",\" \",IF(U53=AE54,AE56,IF(U53=AE56,AE54,IF(U53=AE58,AE60,IF(U53=AE60,AE58,IF(U53=AE62,AE64,IF(U53=AE64,AE62,IF(U53=AE66,AE68,IF(U53=AE68,AE66,0)))))))))","v":0},{"$f":"IF(U53=\"\",\" \",IF(U53=AE38,AE40,IF(U53=AE40,AE38,IF(U53=AE42,AE44,IF(U53=AE44,AE42,IF(U53=AE46,AE48,IF(U53=AE48,AE46,IF(U53=AE50,AE52,IF(U53=AE52,AE50,0)))))))))","v":52}]
[17,{"$f":"IFERROR(VLOOKUP(A9,пр.взв!$B$7:$H$70,2,0),\"\")","v":"МАНЖЕСОВ Денис Сергеевич"},{"$f":"IFERROR(VLOOKUP(A9,пр.взв!$B$7:$H$70,3,0),\"\")","v":"30.07.1997, КМС"},{"$f":"IFERROR(VLOOKUP(A9,пр.взв!$B$7:$H$70,5,0),\"\")","v":"Хабаровский край, Хабаровск, Д"},null,null,"4\\0",null,null,null,null,null,null,null,null,null,null,null,null,null,null,null,null,null,"3\\0",null,null,{"$f":"IFERROR(VLOOKUP(AE9,пр.взв!$B$7:$H$70,2,0),\"\")","v":"ШАЙХОВ Абдулло Пулодович"},{"$f":"IFERROR(VLOOKUP(AE9,пр.взв!$B$7:$H$70,3,0),\"\")","v":"28.12.1990, КМС"},{"$f":"IFERROR(VLOOKUP(AE9,пр.взв!$B$7:$H$70,5,0),\"\")","v":"Тверская обл., Тверь"},18,null,{"$f":"IF(K20=\"\",\" \",IF(K20=I12,I28,I12))","v":33},null,"м1",null,"м1","м1","ум"]
[null,null,null,null,17,null,null,null,null,null,null,{"$f":"AG7","v":37},null,null,29,null,null,null,null,null,null,null,null,null,null,null,18,null,null,null,null,null,{"$f":"IF(AH6=0,AI6,AH6)","v":55},{"$f":"IF(OR(K$20=A5,K$20=A7),\" \",IF(E6=A5,A7,A5))","v":1},{"$f":"IF(AH10=\" \",AH11,AH10)","v":1},{"$f":"IF(OR(K$20=E6,K$20=E10),\" \",IF(G8=E6,E10,E6))","v":17},{"$f":"IF(AJ10=\" \",AJ11,AJ10)","v":17},{"$f":"IF(OR(K$20=G8,K$20=G16),\" \",IF(I12=G8,G16,G8))","v":25},{"$f":"IF(N8=L7,L10,L7)","v":53}]
[49,{"$f":"IFERROR(VLOOKUP(A11,пр.взв!$B$7:$H$70,2,0),\"\")","v":""},{"$f":"IFERROR(VLOOKUP(A11,пр.взв!$B$7:$H$70,3,0),\"\")","v":""},{"$f":"IFERROR(VLOOKUP(A11,пр.взв!$B$7:$H$70,5,0),\"\")","v":""},null,null,null,null,null,null,null,null,null,{"$f":"AG8","v":29},"3\\0",null,null,null,null,null,null,null,null,null,null,null,null,{"$f":"IFERROR(VLOOKUP(AE11,пр.взв!$B$7:$H$70,2,0),\"\")","v":""},{"$f":"IFERROR(VLOOKUP(AE11,пр.взв!$B$7:$H$70,3,0),\"\")","v":""},{"$f":"IFERROR(VLOOKUP(AE11,пр.взв!$B$7:$H$70,5,0),\"\")","v":""},50,null,{"$f":"IF(K53=\"\",\" \",IF(K53=E39,E43,IF(K53=E43,E39,IF(K53=E47,E51,IF(K53=E51,E47,IF(K53=E55,E59,IF(K53=E59,E55,IF(K53=E63,E67,E63))))))))","v":7},{"$f":"IF(OR(K$20=A9,K$20=A11),\" \",IF(E10=A9,A11,A9))","v":49},{"$f":"IF(OR(AH10=\" \",AH11=\" \"),AH12,AH11)","v":49},{"$f":"IF(OR(K$20=E14,K$20=E18),\" \",IF(G16=E14,E18,E14))","v":9},{"$f":"IF(OR(AJ10=\" \",AJ11=\" \"),AJ12,AJ11)","v":9},{"$f":"IF(AND(OR(K20=G8,K20=G16),I28=G24),G32,IF(AND(OR(K20=G8,K20=G16),I28=G32),G24,IF(I12=G8,G16,G8)))","v":25},{"$f":"IF(N57=L56,L59,L56)","v":62}]
[null,null,null,null,null,null,null,null,33,null,null,null,null,null,null,33,null,null,null,null,null,null,34,null,null,null,null,null,null,null,null,null,{"$f":"IF(K53=\"\",\" \",IF(K53=G41,G49,IF(K53=G49,G41,IF(K53=G57,G65,G57))))","v":31},{"$f":"IF(OR(K$20=A13,K$20=A15),\" \",IF(E14=A13,A15,A13))","v":41},{"$f":"IF(OR(AH10=\" \",AH11=\" \",AH12=\" \"),AH13,AH12)","v":41},{"$f":"IF(OR(K$20=E22,K$20=E26),\" \",IF(G24=E22,E26,E22))","v":" "},{"$f":"IF(OR(AJ10=\" \",AJ11=\" \",AJ12=\" \"),AJ13,AJ12)","v":13},null,{"$f":"IF(N15=L14,L17,L14)","v":55}]
[9,{"$f":"IFERROR(VLOOKUP(A13,пр.взв!$B$7:$H$70,2,0),\"\")","v":"ВИЛЬЧИНСКИЙ Юрий Иванович"},{"$f":"IFERROR(VLOOKUP(A13,пр.взв!$B$7:$H$70,3,0),\"\")","v":"09.09.1998, КМС"},{"$f":"IFERROR(VLOOKUP(A13,пр.взв!$B$7:$H$70,5,0),\"\")","v":"Хабаровский край, Хабаровск, МО"},null,null,null,null,"3\\1",null,null,null,null,null,{"$f":"AG9","v":33},"3\\0",null,null,null,null,null,null,"3\\1",null,null,null,null,{"$f":"IFERROR(VLOOKUP(AE13,пр.взв!$B$7:$H$70,2,0),\"\")","v":"АБДУЛЛАЕВ Магомед Ахмедович"},{"$f":"IFERROR(VLOOKUP(AE13,пр.взв!$B$7:$H$70,3,0),\"\")","v":"18.03.1994, МС"},{"$f":"IFERROR(VLOOKUP(AE13,пр.взв!$B$7:$H$70,5,0),\"\")","v":"Свердловская обл., Екатеринбург, ПР"},10,null,{"$f":"IF(K53=\"\",\" \",IF(K53=I46,I61,I46))","v":3},{"$f":"IF(OR(K$20=A17,K$20=A19),\" \",IF(E18=A17,A19,A17))","v":57},{"$f":"IF(OR(AH10=\" \",AH11=\" \",AH12=\" \",AH13=\" \"),AH14,AH13)","v":57},{"$f":"IF(OR(K$20=E30,K$20=E34),\" \",IF(G32=E30,E34,E30))","v":13},null,null,{"$f":"IF(N64=L63,L66,L63)","v":52}]
[null,null,null,null,9,null,null,null,null,null,null,{"$f":"AG10","v":55},null,null,null,null,null,null,null,null,null,null,null,null,null,null,10,null,null,null,null,null,{"$f":"IF(S36=\"\",\"\",IF(S36=U20,U53,U20))","v":30},{"$f":"IF(OR(K$20=A21,K$20=A23),\" \",IF(E22=A21,A23,A21))","v":5},{"$f":"IF(OR(AH10=\" \",AH11=\" \",AH12=\" \",AH13=\" \",AH14=\" \"),AH15,AH14)","v":5},null,null,null,"ум"]
[41,{"$f":"IFERROR(VLOOKUP(A15,пр.взв!$B$7:$H$70,2,0),\"\")","v":""},{"$f":"IFERROR(VLOOKUP(A15,пр.взв!$B$7:$H$70,3,0),\"\")","v":""},{"$f":"IFERROR(VLOOKUP(A15,пр.взв!$B$7:$H$70,5,0),\"\")","v":""},null,null,null,null,null,null,null,null,null,7,null,null,33,null,null,null,null,null,null,null,null,null,null,{"$f":"IFERROR(VLOOKUP(AE15,пр.взв!$B$7:$H$70,2,0),\"\")","v":""},{"$f":"IFERROR(VLOOKUP(AE15,пр.взв!$B$7:$H$70,3,0),\"\")","v":""},{"$f":"IFERROR(VLOOKUP(AE15,пр.взв!$B$7:$H$70,5,0),\"\")","v":""},42,null,{"$f":"IF(M32=\"\",\"\",IF(M32=M36,S36,M36))","v":20},{"$f":"IF(OR(K$20=A25,K$20=A27),\" \",IF(E26=A25,A27,A25))","v":" "},{"$f":"IF(OR(AH10=\" \",AH11=\" \",AH12=\" \",AH13=\" \",AH14=\" \",AH15=\" \"),AH16,AH15)","v":45},null,null,null,{"$f":"IF(O10=N8,N11,N8)","v":37}]
[null,null,null,null,null,null,25,null,null,null,null,null,null,null,null,null,"3\\0",null,null,null,null,null,null,null,26,null,null,null,null,null,null,null,null,{"$f":"IF(OR(K$20=A29,K$20=A31),\" \",IF(E30=A29,A31,A29))","v":45},{"$f":"IF(OR(AH10=\" \",AH11=\" \",AH12=\" \",AH13=\" \",AH14=\" \",AH15=\" \",AH16=\" \"),AH17,AH16)","v":61},null,null,null,{"$f":"IF(O59=N57,N60,N57)","v":14}]
[25,{"$f":"IFERROR(VLOOKUP(A17,пр.взв!$B$7:$H$70,2,0),\"\")","v":"ВОРОБЬЕВ Михаил Анатольевич"},{"$f":"IFERROR(VLOOKUP(A17,пр.взв!$B$7:$H$70,3,0),\"\")","v":"29.03.1995, МСМК"},{"$f":"IFERROR(VLOOKUP(A17,пр.взв!$B$7:$H$70,5,0),\"\")","v":"Рязанская обл., Рязань, Д"},null,null,"4\\0",null,null,null,null,{"$f":"AG11","v":7},null,null,31,null,null,null,null,null,null,null,null,null,"3\\1",null,null,{"$f":"IFERROR(VLOOKUP(AE17,пр.взв!$B$7:$H$70,2,0),\"\")","v":"ГОРКОВЕЦ Артем Глебович"},{"$f":"IFERROR(VLOOKUP(AE17,пр.взв!$B$7:$H$70,3,0),\"\")","v":"09.10.1997, МС"},{"$f":"IFERROR(VLOOKUP(AE17,пр.взв!$B$7:$H$70,5,0),\"\")","v":"Пермский край, Пермь,  МО"},26,null,null,{"$f":"IF(OR(K$20=A33,K$20=A35),\" \",IF(E34=A33,A35,A33))","v":61},null,null,null,null,{"$f":"IF(O17=N15,N18,N15)","v":7}]
[null,null,null,null,25,null,null,null,null,null,null,null,null,{"$f":"AG12","v":31},"3\\0",null,null,33,null,null,null,null,null,null,null,null,26,null,null,null,null,null,null,null,"м3",null,"м3","м3",{"$f":"IF(O66=N64,N67,N64)","v":36}]
[57,{"$f":"IFERROR(VLOOKUP(A19,пр.взв!$B$7:$H$70,2,0),\"\")","v":""},{"$f":"IFERROR(VLOOKUP(A19,пр.взв!$B$7:$H$70,3,0),\"\")","v":""},{"$f":"IFERROR(VLOOKUP(A19,пр.взв!$B$7:$H$70,5,0),\"\")","v":""},null,null,null,null,null,null,null,null,null,null,null,31,null,"4\\0",null,null,null,null,null,null,null,null,null,{"$f":"IFERROR(VLOOKUP(AE19,пр.взв!$B$7:$H$70,2,0),\"\")","v":""},{"$f":"IFERROR(VLOOKUP(AE19,пр.взв!$B$7:$H$70,3,0),\"\")","v":""},{"$f":"IFERROR(VLOOKUP(AE19,пр.взв!$B$7:$H$70,5,0),\"\")","v":""},58,null,null,{"$f":"IF(OR(K$53=A38,K$53=A40),\" \",IF(E39=A38,A40,A38))","v":35},{"$f":"IF(AH19=\" \",AH20,AH19)","v":35},{"$f":"IF(OR(K$53=E39,K$53=E43),\" \",IF(G41=E39,E43,E39))","v":19},{"$f":"IF(AJ19=\" \",AJ20,AJ19)","v":19},null,"ум"]
[null,null,null,null,null,null,null,null,null,null,21,null,null,null,{"$f":"AG13","v":3},"3\\1",null,null,null,null,30,null,null,null,null,null,null,null,null,null,null,null,null,{"$f":"IF(OR(K$53=A42,K$53=A44),\" \",IF(E43=A42,A44,A42))","v":51},{"$f":"IF(OR(AH18=\" \",AH19=\" \",AH20=\" \"),AH21,AH20)","v":51},{"$f":"IF(OR(K$53=E47,K$53=E51),\" \",IF(G49=E47,E51,E47))","v":11},{"$f":"IF(OR(AJ18=\" \",AJ19=\" \",AJ20=\" \"),AJ21,AJ20)","v":11},{"$f":"IF(AND(OR(K53=G41,K53=G49),I61=G57),G65,IF(AND(OR(K53=G41,K53=G49),I61=G65),G57,IF(I46=G41,G49,G41)))","v":27},{"$f":"IF(P12=O10,O13,O10)","v":29}]
[5,{"$f":"IFERROR(VLOOKUP(A21,пр.взв!$B$7:$H$70,2,0),\"\")","v":"БАНАЕВ Магомед-Салах Бисланович"},{"$f":"IFERROR(VLOOKUP(A21,пр.взв!$B$7:$H$70,3,0),\"\")","v":"18.03.1993, КМС"},{"$f":"IFERROR(VLOOKUP(A21,пр.взв!$B$7:$H$70,5,0),\"\")","v":"РСО-Алания, Д"},null,null,null,null,null,null,"4\\0",null,null,null,null,null,{"$f":"AG14","v":30},null,null,null,"3\\1",null,null,null,null,null,null,{"$f":"IFERROR(VLOOKUP(AE21,пр.взв!$B$7:$H$70,2,0),\"\")","v":"ГЕШЕВ Джамбулат Андзорович"},{"$f":"IFERROR(VLOOKUP(AE21,пр.взв!$B$7:$H$70,3,0),\"\")","v":"21.12.1994, МС"},{"$f":"IFERROR(VLOOKUP(AE21,пр.взв!$B$7:$H$70,5,0),\"\")","v":"Краснодарский край, Армавир, Д"},6,null,null,{"$f":"IF(OR(K$53=A46,K$53=A48),\" \",IF(E47=A46,A48,A46))","v":43},{"$f":"IF(OR(AH18=\" \",AH19=\" \",AH20=\" \",AH21=\" \"),AH22,AH21)","v":43},{"$f":"IF(OR(K$53=E55,K$53=E59),\" \",IF(G57=E55,E59,E55))","v":" "},{"$f":"IF(OR(AJ18=\" \",AJ19=\" \",AJ20=\" \",AJ21=\" \"),AJ22,AJ21)","v":15},null,{"$f":"IF(P61=O59,O62,O59)","v":34}]
[null,null,null,null,37,null,null,null,null,null,null,null,null,null,null,null,null,null,null,null,null,null,null,null,null,null,6,null,null,null,null,null,null,{"$f":"IF(OR(K$53=A50,K$53=A52),\" \",IF(E51=A50,A52,A50))","v":59},{"$f":"IF(OR(AH18=\" \",AH19=\" \",AH20=\" \",AH21=\" \",AH22=\" \"),AH23,AH22)","v":59},{"$f":"IF(OR(K$53=E63,K$53=E67),\" \",IF(G65=E63,E67,E63))","v":15},null,null,{"$f":"IF(P19=O17,O20,O17)","v":3}]
[37,{"$f":"IFERROR(VLOOKUP(A23,пр.взв!$B$7:$H$70,2,0),\"\")","v":"БУТЕНКО Максим Игоревич"},{"$f":"IFERROR(VLOOKUP(A23,пр.взв!$B$7:$H$70,3,0),\"\")","v":"15.03.1997, КМС"},{"$f":"IFERROR(VLOOKUP(A23,пр.взв!$B$7:$H$70,5,0),\"\")","v":"Курганская обл., Курган, СШОР"},"4\\0",null,null,null,null,null,null,null,null,null,null,null,null,null,null,null,null,null,null,null,null,null,null,{"$f":"IFERROR(VLOOKUP(AE23,пр.взв!$B$7:$H$70,2,0),\"\")","v":""},{"$f":"IFERROR(VLOOKUP(AE23,пр.взв!$B$7:$H$70,3,0),\"\")","v":""},{"$f":"IFERROR(VLOOKUP(AE23,пр.взв!$B$7:$H$70,5,0),\"\")","v":""},38,null,null,{"$f":"IF(OR(K$53=A54,K$53=A56),\" \",IF(E55=A54,A56,A54))","v":39},{"$f":"IF(OR(AH18=\" \",AH19=\" \",AH20=\" \",AH21=\" \",AH22=\" \",AH23=\" \"),AH24,AH23)","v":39},null,null,null,{"$f":"IF(P68=O66,O69,O66)","v":28}]
[null,null,null,null,null,null,21,null,null,null,null,null,null,null,null,null,null,null,null,null,null,null,null,null,6,null,null,null,null,null,null,null,null,{"$f":"IF(OR(K$53=A58,K$53=A60),\" \",IF(E59=A58,A60,A58))","v":" "},{"$f":"IF(OR(AH18=\" \",AH19=\" \",AH20=\" \",AH21=\" \",AH22=\" \",AH23=\" \",AH24=\" \"),AH25,AH24)","v":47},null,null,null,"ум"]
[21,{"$f":"IFERROR(VLOOKUP(A25,пр.взв!$B$7:$H$70,2,0),\"\")","v":"БАЛЫКОВ Владимир Юрьевич"},{"$f":"IFERROR(VLOOKUP(A25,пр.взв!$B$7:$H$70,3,0),\"\")","v":"15.02.1991, МСМК"},{"$f":"IFERROR(VLOOKUP(A25,пр.взв!$B$7:$H$70,5,0),\"\")","v":"Свердловская обл., В.Пышма, КС \"УГМК\""},null,null,"4\\0",null,null,null,null,null,null,null,null,null,null,null,null,null,null,null,null,null,"4\\0",null,null,{"$f":"IFERROR(VLOOKUP(AE25,пр.взв!$B$7:$H$70,2,0),\"\")","v":"КОМИКЯН Грант Трдатович"},{"$f":"IFERROR(VLOOKUP(AE25,пр.взв!$B$7:$H$70,3,0),\"\")","v":"24.03.1998, КМС"},{"$f":"IFERROR(VLOOKUP(AE25,пр.взв!$B$7:$H$70,5,0),\"\")","v":"Хабаровский край, Хабаровск, Д"},22,null,null,{"$f":"IF(OR(K$53=A62,K$53=A64),\" \",IF(E63=A62,A64,A62))","v":47},{"$f":"IF(OR(AH18=\" \",AH19=\" \",AH20=\" \",AH21=\" \",AH22=\" \",AH23=\" \",AH24=\" \",AH25=\" \"),AH26,AH25)","v":63},null,null,null,{"$f":"IF(пр.хода!Q15=пр.хода!P12,пр.хода!P19,пр.хода!P12)","v":31}]
[null,null,null,null,21,null,null,null,null,null,null,null,null,null,null,"3 м",null,null,null,null,null,null,null,null,null,null,22,null,null,null,null,null,null,{"$f":"IF(OR(K$53=A66,K$53=A68),\" \",IF(E67=A66,A68,A66))","v":63},null,null,null,null,{"$f":"IF(пр.хода!Q64=пр.хода!P61,пр.хода!P68,пр.хода!P61)","v":6}]
[53,{"$f":"IFERROR(VLOOKUP(A27,пр.взв!$B$7:$H$70,2,0),\"\")","v":""},{"$f":"IFERROR(VLOOKUP(A27,пр.взв!$B$7:$H$70,3,0),\"\")","v":""},{"$f":"IFERROR(VLOOKUP(A27,пр.взв!$B$7:$H$70,5,0),\"\")","v":""},null,null,null,null,null,null,null,null,null,{"$f":"IFERROR(VLOOKUP(R18,пр.взв!$B$7:$H$70,2,0),\"\")","v":"ГАВРИЛОВ Максим Олегович"},null,null,null,null,null,null,null,null,null,null,null,null,null,{"$f":"IFERROR(VLOOKUP(AE27,пр.взв!$B$7:$H$70,2,0),\"\")","v":""},{"$f":"IFERROR(VLOOKUP(AE27,пр.взв!$B$7:$H$70,3,0),\"\")","v":""},{"$f":"IFERROR(VLOOKUP(AE27,пр.взв!$B$7:$H$70,5,0),\"\")","v":""},54,null,null,null,"м2",null,"м2","м2","ум"]
[null,null,null,null,null,null,null,null,21,null,null,null,null,null,null,null,null,null,null,null,null,null,30,null,null,null,null,null,null,null,null,null,null,{"$f":"IF(OR(U$20=AE5,U$20=AE7),\" \",IF(AA6=AE5,AE7,AE5))","v":2},{"$f":"IF(AH28=\" \",AH29,AH28)","v":2},{"$f":"IF(OR(U$20=AA6,U$20=AA10),\" \",IF(Y8=AA6,AA10,AA6))","v":18},{"$f":"IF(AJ28=\" \",AJ29,AJ28)","v":18},null,{"$f":"IF(пр.хода!R18=пр.хода!Q15,пр.хода!Q21,пр.хода!Q15)","v":30}]
[13,{"$f":"IFERROR(VLOOKUP(A29,пр.взв!$B$7:$H$70,2,0),\"\")","v":"МИКАЙЛОВ Микаил Мугаддасович"},{"$f":"IFERROR(VLOOKUP(A29,пр.взв!$B$7:$H$70,3,0),\"\")","v":"12.03.1990, МС"},{"$f":"IFERROR(VLOOKUP(A29,пр.взв!$B$7:$H$70,5,0),\"\")","v":"Санкт-Петербург, КШВСМ-МО"},null,null,null,null,"3\\0",null,null,null,null,null,null,null,null,null,null,null,null,null,"3\\0",null,null,null,null,{"$f":"IFERROR(VLOOKUP(AE29,пр.взв!$B$7:$H$70,2,0),\"\")","v":"КАЧАЙКИН Даниил Сергеевич"},{"$f":"IFERROR(VLOOKUP(AE29,пр.взв!$B$7:$H$70,3,0),\"\")","v":"20.09.1997, КМС"},{"$f":"IFERROR(VLOOKUP(AE29,пр.взв!$B$7:$H$70,5,0),\"\")","v":"Хабаровский край, Хабаровск, МО"},14,null,null,{"$f":"IF(OR(U$20=AE9,U$20=AE11),\" \",IF(AA10=AE9,AE11,AE9))","v":50},{"$f":"IF(OR(AH28=\" \",AH29=\" \"),AH30,AH29)","v":50},{"$f":"IF(OR(U$20=AA14,U$20=AA18),\" \",IF(Y16=AA14,AA18,AA14))","v":10},{"$f":"IF(OR(AJ28=\" \",AJ29=\" \"),AJ30,AJ29)","v":10},{"$f":"IF(AND(OR(U20=Y8,U20=Y16),W28=Y24),Y32,IF(AND(OR(U20=Y8,U20=Y16),W28=Y32),Y24,IF(W12=Y8,Y16,Y8)))","v":26},{"$f":"IF(пр.хода!R67=пр.хода!Q64,пр.хода!Q69,пр.хода!Q64)","v":21}]
[null,null,null,null,13,null,null,null,null,null,null,null,null,null,null,null,null,null,null,null,null,null,null,null,null,null,14,null,null,null,null,null,null,{"$f":"IF(OR(U$20=AE13,U$20=AE15),\" \",IF(AA14=AE13,AE15,AE13))","v":42},{"$f":"IF(OR(AH28=\" \",AH29=\" \",AH30=\" \"),AH31,AH30)","v":42},{"$f":"IF(OR(U$20=AA22,U$20=AA26),\" \",IF(Y24=AA22,AA26,AA22))","v":22},{"$f":"IF(OR(AJ28=\" \",AJ29=\" \",AJ30=\" \"),AJ31,AJ30)","v":22}]
[45,{"$f":"IFERROR(VLOOKUP(A31,пр.взв!$B$7:$H$70,2,0),\"\")","v":""},{"$f":"IFERROR(VLOOKUP(A31,пр.взв!$B$7:$H$70,3,0),\"\")","v":""},{"$f":"IFERROR(VLOOKUP(A31,пр.взв!$B$7:$H$70,5,0),\"\")","v":""},null,null,null,null,null,null,null,null,null,null,null,"1 м",null,null,null,null,null,null,null,null,null,null,null,{"$f":"IFERROR(VLOOKUP(AE31,пр.взв!$B$7:$H$70,2,0),\"\")","v":""},{"$f":"IFERROR(VLOOKUP(AE31,пр.взв!$B$7:$H$70,3,0),\"\")","v":""},{"$f":"IFERROR(VLOOKUP(AE31,пр.взв!$B$7:$H$70,5,0),\"\")","v":""},46,null,null,{"$f":"IF(OR(U$20=AE17,U$20=AE19),\" \",IF(AA18=AE17,AE19,AE17))","v":58},{"$f":"IF(OR(AH28=\" \",AH29=\" \",AH30=\" \",AH31=\" \"),AH32,AH31)","v":58},{"$f":"IF(OR(U$20=AA30,U$20=AA34),\" \",IF(Y32=AA30,AA34,AA30))","v":" "}]
[null,null,null,null,null,null,29,null,null,null,null,null,23,null,null,null,null,null,null,null,null,null,null,null,30,null,null,null,null,null,null,null,null,{"$f":"IF(OR(U$20=AE21,U$20=AE23),\" \",IF(AA22=AE21,AE23,AE21))","v":38},{"$f":"IF(OR(AH28=\" \",AH29=\" \",AH30=\" \",AH31=\" \",AH32=\" \"),AH33,AH32)","v":38}]
[29,{"$f":"IFERROR(VLOOKUP(A33,пр.взв!$B$7:$H$70,2,0),\"\")","v":"ФОГОЛЕВ Александр Андреевич"},{"$f":"IFERROR(VLOOKUP(A33,пр.взв!$B$7:$H$70,3,0),\"\")","v":"08.05.1997, МС"},{"$f":"IFERROR(VLOOKUP(A33,пр.взв!$B$7:$H$70,5,0),\"\")","v":"Нижегородская обл., Н.Новгород, Профсоюзы"},null,null,"4\\0",null,null,null,null,null,null,{"$f":"IFERROR(VLOOKUP(M32,пр.взв!$B$7:$H$70,2,0),\"\")","v":"КЛЕЦКОВ Никита Валерьевич"},null,null,null,null,null,null,null,null,null,null,"4\\0",null,null,{"$f":"IFERROR(VLOOKUP(AE33,пр.взв!$B$7:$H$70,2,0),\"\")","v":"ГУКЕВ Рамед Мухамедович"},{"$f":"IFERROR(VLOOKUP(AE33,пр.взв!$B$7:$H$70,3,0),\"\")","v":"08.04.1993, МС"},{"$f":"IFERROR(VLOOKUP(AE33,пр.взв!$B$7:$H$70,5,0),\"\")","v":"Свердловская обл., В.Пышма, КС \"УГМК\""},30,null,null,{"$f":"IF(OR(U$20=AE25,U$20=AE27),\" \",IF(AA26=AE25,AE27,AE25))","v":54},{"$f":"IF(OR(AH28=\" \",AH29=\" \",AH30=\" \",AH31=\" \",AH32=\" \",AH33=\" \"),AH34,AH33)","v":54}]
[null,null,null,null,29,null,null,null,null,null,null,null,null,null,null,null,null,null,null,null,null,null,null,null,null,null,30,null,null,null,null,null,null,{"$f":"IF(OR(U$20=AE29,U$20=AE31),\" \",IF(AA30=AE29,AE31,AE29))","v":46},{"$f":"IF(OR(AH28=\" \",AH29=\" \",AH30=\" \",AH31=\" \",AH32=\" \",AH33=\" \",AH34=\" \"),AH35,AH34)","v":46}]
[61,{"$f":"IFERROR(VLOOKUP(A35,пр.взв!$B$7:$H$70,2,0),\"\")","v":""},{"$f":"IFERROR(VLOOKUP(A35,пр.взв!$B$7:$H$70,3,0),\"\")","v":""},{"$f":"IFERROR(VLOOKUP(A35,пр.взв!$B$7:$H$70,5,0),\"\")","v":""},null,null,null,null,null,null,null,null,null,null,null,null,null,null,null,null,null,null,null,null,null,null,null,{"$f":"IFERROR(VLOOKUP(AE35,пр.взв!$B$7:$H$70,2,0),\"\")","v":""},{"$f":"IFERROR(VLOOKUP(AE35,пр.взв!$B$7:$H$70,3,0),\"\")","v":""},{"$f":"IFERROR(VLOOKUP(AE35,пр.взв!$B$7:$H$70,5,0),\"\")","v":""},62,null,null,{"$f":"IF(OR(U$20=AE33,U$20=AE35),\" \",IF(AA34=AE33,AE35,AE33))","v":" "}]
[null,null,null,null,null,null,null,null,null,null,null,null,23,null,null,null,null,null,20,null,null,null,null,null,null,null,null,null,null,null,null,null,null,null,"м4",null,"м4","м4"]
[null,null,null,null,null,null,null,null,null,null,null,null,null,null,null,null,null,null,null,null,null,null,null,null,null,null,null,null,null,null,null,null,null,{"$f":"IF(OR(U$20=AE32,U$20=AE34),\" \",IF(AA33=AE32,AE34,AE32))","v":0}]
[3,{"$f":"IFERROR(VLOOKUP(A38,пр.взв!$B$7:$H$70,2,0),\"\")","v":"МЕЖЛУМЯН Гайк Левонович"},{"$f":"IFERROR(VLOOKUP(A38,пр.взв!$B$7:$H$70,3,0),\"\")","v":"17.05.1990, МС"},{"$f":"IFERROR(VLOOKUP(A38,пр.взв!$B$7:$H$70,5,0),\"\")","v":"Краснодарский край, Новороссийск, Д"},null,null,null,null,null,null,null,null,"3\\0",null,null,null,null,null,"3\\1",null,null,null,null,null,null,null,null,{"$f":"IFERROR(VLOOKUP(AE38,пр.взв!$B$7:$H$70,2,0),\"\")","v":"ИСАЕВ Магомед Эскендерович"},{"$f":"IFERROR(VLOOKUP(AE38,пр.взв!$B$7:$H$70,3,0),\"\")","v":"07.09.1996, КМС"},{"$f":"IFERROR(VLOOKUP(AE38,пр.взв!$B$7:$H$70,5,0),\"\")","v":"ХМАО-Югра, Радужный"},4,null,null,{"$f":"IF(OR(U$53=AE38,U$53=AE40),\" \",IF(AA39=AE38,AE40,AE38))","v":4},{"$f":"IF(AH38=\" \",AH39,AH38)","v":4},{"$f":"IF(OR(U$53=AA39,U$53=AA43),\" \",IF(Y41=AA39,AA43,AA39))","v":" "},{"$f":"IF(AJ38=\" \",AJ39,AJ38)","v":12}]
[null,null,null,null,3,null,null,null,null,null,null,null,null,null,null,"2 м",null,null,null,null,null,null,null,null,null,null,36,null,null,null,null,null,null,{"$f":"IF(OR(U$53=AE42,U$53=AE44),\" \",IF(AA43=AE42,AE44,AE42))","v":" "},{"$f":"IF(OR(AH38=\" \",AH39=\" \"),AH40,AH39)","v":44},{"$f":"IF(OR(U$53=AA47,U$53=AA51),\" \",IF(Y49=AA47,AA51,AA47))","v":12},{"$f":"IF(OR(AJ38=\" \",AJ39=\" \"),AJ40,AJ39)","v":24},{"$f":"IF(AND(OR(U53=Y41,U53=Y49),W61=Y57),Y65,IF(AND(OR(U53=Y41,U53=Y49),W61=Y65),Y57,IF(W45=Y41,Y49,Y41)))","v":16}]
[35,{"$f":"IFERROR(VLOOKUP(A40,пр.взв!$B$7:$H$70,2,0),\"\")","v":"БУРДАЕВ Роман Михайлович"},{"$f":"IFERROR(VLOOKUP(A40,пр.взв!$B$7:$H$70,3,0),\"\")","v":"22.05.1993, МСМК"},{"$f":"IFERROR(VLOOKUP(A40,пр.взв!$B$7:$H$70,5,0),\"\")","v":"Пензенская обл., Пенза, Д"},"4\\0",null,null,null,null,null,null,null,{"$f":"AG15","v":20},null,null,null,null,null,null,null,null,null,null,null,null,null,"3\\0",{"$f":"IFERROR(VLOOKUP(AE40,пр.взв!$B$7:$H$70,2,0),\"\")","v":"ДАВЫДОВ Денис Игоревич"},{"$f":"IFERROR(VLOOKUP(AE40,пр.взв!$B$7:$H$70,3,0),\"\")","v":"16.07.1987, ЗМС"},{"$f":"IFERROR(VLOOKUP(AE40,пр.взв!$B$7:$H$70,5,0),\"\")","v":"Московская обл., Балашиха"},36,null,null,{"$f":"IF(OR(U$53=AE46,U$53=AE48),\" \",IF(AA47=AE46,AE48,AE46))","v":44},{"$f":"IF(OR(AH38=\" \",AH39=\" \",AH40=\" \"),AH41,AH40)","v":60},{"$f":"IF(OR(U$53=AA55,U$53=AA59),\" \",IF(Y57=AA55,AA59,AA55))","v":24},{"$f":"IF(OR(AJ38=\" \",AJ39=\" \",AJ40=\" \"),AJ41,AJ40)","v":32}]
[null,null,null,null,null,null,3,null,null,null,null,null,null,{"$f":"IFERROR(VLOOKUP(M40,пр.взв!$B$7:$H$70,2,0),\"\")","v":"СУХОМЛИНОВ Евгений Игоревич"},null,null,null,null,null,null,null,null,null,null,20,null,null,null,null,null,null,null,null,{"$f":"IF(OR(U$53=AE50,U$53=AE52),\" \",IF(AA51=AE50,AE52,AE50))","v":60},{"$f":"IF(OR(AH38=\" \",AH39=\" \",AH40=\" \",AH41=\" \"),AH42,AH41)","v":40},{"$f":"IF(OR(U$53=AA63,U$53=AA67),\" \",IF(Y65=AA63,AA67,AA63))","v":32}]
[19,{"$f":"IFERROR(VLOOKUP(A42,пр.взв!$B$7:$H$70,2,0),\"\")","v":"АДУКОВ Абдулкадыр Муртузалиевич"},{"$f":"IFERROR(VLOOKUP(A42,пр.взв!$B$7:$H$70,3,0),\"\")","v":"17.09.1994, МС"},{"$f":"IFERROR(VLOOKUP(A42,пр.взв!$B$7:$H$70,5,0),\"\")","v":"Свердловская обл., В.Пышма, КС \"УГМК\""},null,null,"4\\0",null,null,null,null,null,null,null,null,null,null,null,null,null,null,null,null,null,"3\\0",null,null,{"$f":"IFERROR(VLOOKUP(AE42,пр.взв!$B$7:$H$70,2,0),\"\")","v":"СУХОМЛИНОВ Евгений Игоревич"},{"$f":"IFERROR(VLOOKUP(AE42,пр.взв!$B$7:$H$70,3,0),\"\")","v":"17.07.1991, МСМК"},{"$f":"IFERROR(VLOOKUP(AE42,пр.взв!$B$7:$H$70,5,0),\"\")","v":"Хабаровский край, Комсомольск, Д"},20,null,null,{"$f":"IF(OR(U$53=AE54,U$53=AE56),\" \",IF(AA55=AE54,AE56,AE54))","v":40},{"$f":"IF(OR(AH38=\" \",AH39=\" \",AH40=\" \",AH41=\" \",AH42=\" \"),AH43,AH42)","v":56}]
[null,null,null,null,19,null,null,null,null,null,null,null,null,null,null,null,null,null,null,null,null,null,null,null,null,null,20,null,null,null,null,null,null,{"$f":"IF(OR(U$53=AE58,U$53=AE60),\" \",IF(AA59=AE58,AE60,AE58))","v":56},{"$f":"IF(OR(AH38=\" \",AH39=\" \",AH40=\" \",AH41=\" \",AH42=\" \",AH43=\" \"),AH44,AH43)","v":48}]
[51,{"$f":"IFERROR(VLOOKUP(A44,пр.взв!$B$7:$H$70,2,0),\"\")","v":""},{"$f":"IFERROR(VLOOKUP(A44,пр.взв!$B$7:$H$70,3,0),\"\")","v":""},{"$f":"IFERROR(VLOOKUP(A44,пр.взв!$B$7:$H$70,5,0),\"\")","v":""},null,null,null,null,null,null,null,null,null,null,null,null,null,null,null,null,null,null,null,null,null,null,null,{"$f":"IFERROR(VLOOKUP(AE44,пр.взв!$B$7:$H$70,2,0),\"\")","v":""},{"$f":"IFERROR(VLOOKUP(AE44,пр.взв!$B$7:$H$70,3,0),\"\")","v":""},{"$f":"IFERROR(VLOOKUP(AE44,пр.взв!$B$7:$H$70,5,0),\"\")","v":""},52,null,null,{"$f":"IF(OR(U$53=AE62,U$53=AE64),\" \",IF(AA63=AE62,AE64,AE62))","v":48},{"$f":"IF(OR(AH38=\" \",AH39=\" \",AH40=\" \",AH41=\" \",AH42=\" \",AH43=\" \",AH44=\" \"),AH45,AH44)","v":64}]
[null,null,null,null,null,null,null,null,null,null,null,null,null,null,null,null,null,null,null,null,null,null,20,null,null,null,null,null,null,null,null,null,null,{"$f":"IF(OR(U$53=AE66,U$53=AE68),\" \",IF(AA67=AE66,AE68,AE66))","v":64}]
[11,{"$f":"IFERROR(VLOOKUP(A46,пр.взв!$B$7:$H$70,2,0),\"\")","v":"ГАЗИМАГОМЕДОВ Шамиль Саидович"},{"$f":"IFERROR(VLOOKUP(A46,пр.взв!$B$7:$H$70,3,0),\"\")","v":"23.10.1990, МС"},{"$f":"IFERROR(VLOOKUP(A46,пр.взв!$B$7:$H$70,5,0),\"\")","v":"р. Дагестан, ПР"},null,null,null,null,3,null,null,null,null,null,null,null,null,null,null,null,null,null,"3\\0",null,null,null,null,{"$f":"IFERROR(VLOOKUP(AE46,пр.взв!$B$7:$H$70,2,0),\"\")","v":"БОРОВИКОВ Сергей Вадимович"},{"$f":"IFERROR(VLOOKUP(AE46,пр.взв!$B$7:$H$70,3,0),\"\")","v":"07.10.1994, МС"},{"$f":"IFERROR(VLOOKUP(AE46,пр.взв!$B$7:$H$70,5,0),\"\")","v":"Приморский край, Артем, \"Мастер\""},12]
[null,null,null,null,11,null,null,null,"3\\1",null,null,null,null,null,null,"3 м",null,null,null,null,null,null,null,null,null,null,12]
[43,{"$f":"IFERROR(VLOOKUP(A48,пр.взв!$B$7:$H$70,2,0),\"\")","v":""},{"$f":"IFERROR(VLOOKUP(A48,пр.взв!$B$7:$H$70,3,0),\"\")","v":""},{"$f":"IFERROR(VLOOKUP(A48,пр.взв!$B$7:$H$70,5,0),\"\")","v":""},null,null,null,null,null,null,null,null,null,{"$f":"IFERROR(VLOOKUP(R67,пр.взв!$B$7:$H$70,2,0),\"\")","v":"БОНДАРЕВ Александр Витальевич"},null,null,null,null,null,null,null,null,null,null,null,null,null,{"$f":"IFERROR(VLOOKUP(AE48,пр.взв!$B$7:$H$70,2,0),\"\")","v":""},{"$f":"IFERROR(VLOOKUP(AE48,пр.взв!$B$7:$H$70,3,0),\"\")","v":""},{"$f":"IFERROR(VLOOKUP(AE48,пр.взв!$B$7:$H$70,5,0),\"\")","v":""},44,null,null,{"$f":"IF(AH7=0,AI7,AH7)","v":62}]
[null,null,null,null,null,null,27,null,null,null,null,null,null,null,null,null,null,null,null,null,null,null,null,null,28,null,null,null,null,null,null,null,null,{"$f":"IF(U20=\"\",\" \",IF(U20=AA6,AA10,IF(U20=AA10,AA6,IF(U20=AA14,AA18,IF(U20=AA18,AA14,IF(U20=AA22,AA26,IF(U20=AA26,AA22,IF(U20=AA30,AA34,AA30))))))))","v":14}]
[27,{"$f":"IFERROR(VLOOKUP(A50,пр.взв!$B$7:$H$70,2,0),\"\")","v":"ЛАЗАРЕВ Сергей Сергеевич"},{"$f":"IFERROR(VLOOKUP(A50,пр.взв!$B$7:$H$70,3,0),\"\")","v":"04.11.1994, МС"},{"$f":"IFERROR(VLOOKUP(A50,пр.взв!$B$7:$H$70,5,0),\"\")","v":"Пермский край, Пермь,  Д"},null,null,"4\\0",null,null,null,null,null,null,null,null,null,null,null,null,null,null,null,null,null,"3\\0",null,null,{"$f":"IFERROR(VLOOKUP(AE50,пр.взв!$B$7:$H$70,2,0),\"\")","v":"КЛЕЦКОВ Дмитрий Валерьевич"},{"$f":"IFERROR(VLOOKUP(AE50,пр.взв!$B$7:$H$70,3,0),\"\")","v":"26.11.1986, МСМК"},{"$f":"IFERROR(VLOOKUP(AE50,пр.взв!$B$7:$H$70,5,0),\"\")","v":"Москва, \"Самбо-70\", Д"},28,null,null,{"$f":"IF(AH8=0,AI8,AH8)","v":52}]
[null,null,null,null,27,null,null,null,null,null,null,null,null,null,null,null,null,null,null,null,null,null,null,null,null,null,28,null,null,null,null,null,null,{"$f":"IF(U53=\"\",\" \",IF(U53=AA39,AA43,IF(U53=AA43,AA39,IF(U53=AA47,AA51,IF(U53=AA51,AA47,IF(U53=AA55,AA59,IF(U53=AA59,AA55,IF(U53=AA63,AA67,AA63))))))))","v":36}]
[59,{"$f":"IFERROR(VLOOKUP(A52,пр.взв!$B$7:$H$70,2,0),\"\")","v":""},{"$f":"IFERROR(VLOOKUP(A52,пр.взв!$B$7:$H$70,3,0),\"\")","v":""},{"$f":"IFERROR(VLOOKUP(A52,пр.взв!$B$7:$H$70,5,0),\"\")","v":""},null,null,null,null,null,null,null,null,null,null,null,null,null,null,null,null,null,null,null,null,null,null,null,{"$f":"IFERROR(VLOOKUP(AE52,пр.взв!$B$7:$H$70,2,0),\"\")","v":""},{"$f":"IFERROR(VLOOKUP(AE52,пр.взв!$B$7:$H$70,3,0),\"\")","v":""},{"$f":"IFERROR(VLOOKUP(AE52,пр.взв!$B$7:$H$70,5,0),\"\")","v":""},60,null,null,{"$f":"IF(U20=\"\",\" \",IF(U20=Y8,Y16,IF(U20=Y16,Y8,IF(U20=Y24,Y32,Y24))))","v":6}]
[null,null,null,null,null,null,null,null,null,null,23,null,null,null,null,null,null,null,null,null,20,null,null,null,null,null,null,null,null,null,null,null,null,{"$f":"IF(U53=\"\",\" \",IF(U53=Y41,Y49,IF(U53=Y49,Y41,IF(U53=Y57,Y65,Y57))))","v":28}]
[7,{"$f":"IFERROR(VLOOKUP(A54,пр.взв!$B$7:$H$70,2,0),\"\")","v":"ПАНОВ Владислав Александрович"},{"$f":"IFERROR(VLOOKUP(A54,пр.взв!$B$7:$H$70,3,0),\"\")","v":"15.03.1998, КМС"},{"$f":"IFERROR(VLOOKUP(A54,пр.взв!$B$7:$H$70,5,0),\"\")","v":"Красноярский край, Красноярск, Академия борьбы"},null,null,null,null,null,null,"3\\1",null,null,"Б1",null,null,null,null,null,null,"2\\0",null,null,null,null,null,null,{"$f":"IFERROR(VLOOKUP(AE54,пр.взв!$B$7:$H$70,2,0),\"\")","v":"БОНДАРЕВ Александр Витальевич"},{"$f":"IFERROR(VLOOKUP(AE54,пр.взв!$B$7:$H$70,3,0),\"\")","v":"27.01.1990, МСМК"},{"$f":"IFERROR(VLOOKUP(AE54,пр.взв!$B$7:$H$70,5,0),\"\")","v":"Чувашская р., Чебоксары"},8,null,null,{"$f":"IF(U53=\"\",\" \",IF(U53=W45,W61,W45))","v":8}]
[null,null,null,null,7,null,null,null,null,null,null,null,null,null,null,null,null,null,null,null,null,null,null,null,null,null,8,null,null,null,null,null,null,{"$f":"IF(M36=\"\",\"\",IF(M36=K20,K53,K20))","v":21}]
[39,{"$f":"IFERROR(VLOOKUP(A56,пр.взв!$B$7:$H$70,2,0),\"\")","v":""},{"$f":"IFERROR(VLOOKUP(A56,пр.взв!$B$7:$H$70,3,0),\"\")","v":""},{"$f":"IFERROR(VLOOKUP(A56,пр.взв!$B$7:$H$70,5,0),\"\")","v":""},null,null,null,null,null,null,null,{"$f":"AH48","v":62},null,null,null,null,null,null,null,null,null,null,null,null,null,null,null,{"$f":"IFERROR(VLOOKUP(AE56,пр.взв!$B$7:$H$70,2,0),\"\")","v":""},{"$f":"IFERROR(VLOOKUP(AE56,пр.взв!$B$7:$H$70,3,0),\"\")","v":""},{"$f":"IFERROR(VLOOKUP(AE56,пр.взв!$B$7:$H$70,5,0),\"\")","v":""},40,null,null,{"$f":"IF(U20=\"\",\" \",IF(U20=W12,W28,W12))","v":34}]
[null,null,null,null,null,null,23,null,null,null,null,null,null,14,null,null,null,null,null,null,null,null,null,null,8]
[23,{"$f":"IFERROR(VLOOKUP(A58,пр.взв!$B$7:$H$70,2,0),\"\")","v":"КЛЕЦКОВ Никита Валерьевич"},{"$f":"IFERROR(VLOOKUP(A58,пр.взв!$B$7:$H$70,3,0),\"\")","v":"26.11.1986, ЗМС"},{"$f":"IFERROR(VLOOKUP(A58,пр.взв!$B$7:$H$70,5,0),\"\")","v":"Москва, \"Самбо-70\", Д"},null,null,"4\\0",null,null,null,null,null,null,null,null,null,null,null,null,null,null,null,null,null,"3\\0",null,null,{"$f":"IFERROR(VLOOKUP(AE58,пр.взв!$B$7:$H$70,2,0),\"\")","v":"ШЕМАЗАШВИЛИ Георгий Кобаевич"},{"$f":"IFERROR(VLOOKUP(AE58,пр.взв!$B$7:$H$70,3,0),\"\")","v":"03.09.1990, МСМК"},{"$f":"IFERROR(VLOOKUP(AE58,пр.взв!$B$7:$H$70,5,0),\"\")","v":"Иркутская обл., Иркутск, Д"},24]
[null,null,null,null,23,null,null,null,null,null,null,{"$f":"AH49","v":14},null,null,6,null,null,null,null,null,null,null,null,null,null,null,24]
[55,{"$f":"IFERROR(VLOOKUP(A60,пр.взв!$B$7:$H$70,2,0),\"\")","v":""},{"$f":"IFERROR(VLOOKUP(A60,пр.взв!$B$7:$H$70,3,0),\"\")","v":""},{"$f":"IFERROR(VLOOKUP(A60,пр.взв!$B$7:$H$70,5,0),\"\")","v":""},null,null,null,null,null,null,null,null,null,{"$f":"AH52","v":6},"4\\0",null,null,null,null,null,null,null,null,null,null,null,null,{"$f":"IFERROR(VLOOKUP(AE60,пр.взв!$B$7:$H$70,2,0),\"\")","v":""},{"$f":"IFERROR(VLOOKUP(AE60,пр.взв!$B$7:$H$70,3,0),\"\")","v":""},{"$f":"IFERROR(VLOOKUP(AE60,пр.взв!$B$7:$H$70,5,0),\"\")","v":""},56]
[null,null,null,null,null,null,null,null,23,null,null,null,null,null,null,6,null,null,null,null,null,null,8]
[15,{"$f":"IFERROR(VLOOKUP(A62,пр.взв!$B$7:$H$70,2,0),\"\")","v":"ГОРОХ Михаил Владимирович"},{"$f":"IFERROR(VLOOKUP(A62,пр.взв!$B$7:$H$70,3,0),\"\")","v":"30.10.1994, КМС"},{"$f":"IFERROR(VLOOKUP(A62,пр.взв!$B$7:$H$70,5,0),\"\")","v":"Хабаровский край, Хабаровск, Д"},null,null,null,null,"3\\0",null,null,null,null,null,{"$f":"AH56","v":34},"4\\0",null,null,null,null,null,null,"4\\0",null,null,null,null,{"$f":"IFERROR(VLOOKUP(AE62,пр.взв!$B$7:$H$70,2,0),\"\")","v":"ЛАГВЕНКИН Павел Михайлович"},{"$f":"IFERROR(VLOOKUP(AE62,пр.взв!$B$7:$H$70,3,0),\"\")","v":"13.02.1992, МСМК"},{"$f":"IFERROR(VLOOKUP(AE62,пр.взв!$B$7:$H$70,5,0),\"\")","v":"Рязанская обл., Рязань, Д"},16]
[null,null,null,null,15,null,null,null,null,null,null,{"$f":"AH50","v":52},null,null,null,null,null,null,null,null,null,null,null,null,null,null,16]
[47,{"$f":"IFERROR(VLOOKUP(A64,пр.взв!$B$7:$H$70,2,0),\"\")","v":""},{"$f":"IFERROR(VLOOKUP(A64,пр.взв!$B$7:$H$70,3,0),\"\")","v":""},{"$f":"IFERROR(VLOOKUP(A64,пр.взв!$B$7:$H$70,5,0),\"\")","v":""},null,null,null,null,null,null,null,null,null,36,null,null,8,null,null,null,null,null,null,null,null,null,null,{"$f":"IFERROR(VLOOKUP(AE64,пр.взв!$B$7:$H$70,2,0),\"\")","v":""},{"$f":"IFERROR(VLOOKUP(AE64,пр.взв!$B$7:$H$70,3,0),\"\")","v":""},{"$f":"IFERROR(VLOOKUP(AE64,пр.взв!$B$7:$H$70,5,0),\"\")","v":""},48]
[null,null,null,null,null,null,31,null,null,null,null,null,null,null,null,null,"2\\0",null,null,null,null,null,null,null,16]
[31,{"$f":"IFERROR(VLOOKUP(A66,пр.взв!$B$7:$H$70,2,0),\"\")","v":"ЭЛАЕВ Рамазан Муртузалиевич"},{"$f":"IFERROR(VLOOKUP(A66,пр.взв!$B$7:$H$70,3,0),\"\")","v":"16.12.1996, МС"},{"$f":"IFERROR(VLOOKUP(A66,пр.взв!$B$7:$H$70,5,0),\"\")","v":"Костромская обл., Кострома, Д"},null,null,"3\\0",null,null,null,null,{"$f":"AH51","v":36},null,null,28,null,null,null,null,null,null,null,null,null,"3\\1",null,null,{"$f":"IFERROR(VLOOKUP(AE66,пр.взв!$B$7:$H$70,2,0),\"\")","v":"ЛИНЧЕНКО Илья Александрович"},{"$f":"IFERROR(VLOOKUP(AE66,пр.взв!$B$7:$H$70,3,0),\"\")","v":"01.10.1994, МС"},{"$f":"IFERROR(VLOOKUP(AE66,пр.взв!$B$7:$H$70,5,0),\"\")","v":"Санкт-Петербург, ВС-СКА"},32]
[null,null,null,null,31,null,null,null,null,null,null,null,null,{"$f":"AH53","v":28},"3\\0",null,null,8,null,null,null,null,null,null,null,null,32]
[63,{"$f":"IFERROR(VLOOKUP(A68,пр.взв!$B$7:$H$70,2,0),\"\")","v":""},{"$f":"IFERROR(VLOOKUP(A68,пр.взв!$B$7:$H$70,3,0),\"\")","v":""},{"$f":"IFERROR(VLOOKUP(A68,пр.взв!$B$7:$H$70,5,0),\"\")","v":""},null,null,null,null,null,null,null,null,null,null,null,8,null,"3\\1",null,null,null,null,null,null,null,null,null,{"$f":"IFERROR(VLOOKUP(AE68,пр.взв!$B$7:$H$70,2,0),\"\")","v":""},{"$f":"IFERROR(VLOOKUP(AE68,пр.взв!$B$7:$H$70,3,0),\"\")","v":""},{"$f":"IFERROR(VLOOKUP(AE68,пр.взв!$B$7:$H$70,5,0),\"\")","v":""},64]
[null,null,null,null,null,null,null,null,null,null,null,null,null,null,{"$f":"AH54","v":8},"4\\0",{"$f":"AH55","v":21}]
[]
[null,null,null,null,null,null,null,"",null,null,null,null,null,null,null,""]
[]
[{"$f":"[2]реквизиты!$A$6","v":"Гл. судья, судья ВК"},null,null,null,null,null,{"$f":"[2]реквизиты!$G$6","v":"С.Г. Шкедов"},null,null,{"$f":"[2]реквизиты!$G$7","v":"/г. Владивосток/"},null,null,null,null,null,null,null,null,null,{"$f":"[2]реквизиты!$A$8","v":"Гл. секретарь, судья ВК"},null,null,null,null,null,null,null,{"$f":"[2]реквизиты!$G$8","v":"Р.М. Закиров"},{"$f":"[2]реквизиты!$G$9","v":"/г. Пермь/"}]

{"sheet":"круги","index":2,"n_rows":180,"n_cols":20,"rows_kept":180,"cut":false,"hidden":false,"merged":[[97,19,98,19],[99,1,100,1],[99,2,100,2],[99,3,100,3],[99,5,100,5],[99,6,100,6],[99,7,100,7],[99,8,100,8],[99,9,100,9],[93,9,94,9],[95,12,96,12],[97,0,100,0],[97,1,98,1],[97,2,98,2],[97,3,98,3],[97,5,98,5],[97,6,98,6],[97,7,98,7],[97,8,98,8],[97,9,98,9],[97,10,100,10],[97,11,98,11],[97,12,98,12],[99,11,100,11],[99,12,100,12],[97,18,98,18],[95,16,96,16],[95,17,96,17],[93,10,96,10],[93,11,94,11],[93,12,94,12],[95,11,96,11],[91,19,92,19],[89,1,90,1],[89,2,90,2],[89,3,90,3],[89,5,90,5],[89,6,90,6],[89,7,90,7],[89,8,90,8],[89,9,90,9],[89,18,90,18],[89,19,90,19],[93,0,96,0],[93,1,94,1],[93,2,94,2],[93,3,94,3],[93,5,94,5],[93,6,94,6],[93,7,94,7],[93,8,94,8],[93,18,94,18],[93,19,94,19],[95,1,96,1],[95,2,96,2],[95,3,96,3],[95,5,96,5],[95,6,96,6],[95,7,96,7],[95,8,96,8],[95,9,96,9],[95,18,96,18],[95,19,96,19],[93,16,94,16],[81,0,84,0],[81,10,84,10],[85,0,88,0],[85,10,88,10],[79,15,80,15],[79,16,80,16],[79,17,80,17],[79,18,80,18],[79,9,80,9],[89,0,92,0],[89,10,92,10],[91,1,92,1],[91,2,92,2],[91,3,92,3],[91,5,92,5],[91,6,92,6],[91,7,92,7],[91,8,92,8],[91,9,92,9],[91,18,92,18],[89,13,90,13],[89,15,90,15],[89,16,90,16],[89,17,90,17],[89,11,90,11],[89,12,90,12],[91,13,92,13],[91,15,92,15],[91,16,92,16],[91,17,92,17],[91,11,92,11],[91,12,92,12],[75,19,76,19],[77,0,80,0],[77,1,78,1],[77,2,78,2],[77,3,78,3],[77,5,78,5],[77,6,78,6],[77,7,78,7],[77,8,78,8],[77,18,78,18],[77,19,78,19],[79,1,80,1],[79,2,80,2],[79,3,80,3],[79,5,80,5],[79,6,80,6],[79,7,80,7],[79,8,80,8],[77,10,80,10],[79,11,80,11],[79,12,80,12],[79,13,80,13],[77,17,78,17],[79,19,80,19],[103,18,104,18],[103,19,104,19],[101,18,102,18],[101,19,102,19],[97,13,98,13],[97,15,98,15],[99,16,100,16],[99,17,100,17],[99,18,100,18],[99,19,100,19],[39,9,40,9],[39,11,40,11],[39,12,40,12],[37,8,38,8],[59,12,60,12],[37,18,38,18],[57,16,58,16],[57,17,58,17],[57,9,58,9],[57,10,60,10],[37,19,38,19],[57,13,58,13],[57,15,58,15],[57,19,58,19],[71,8,72,8],[71,18,72,18],[71,19,72,19],[73,8,74,8],[73,18,74,18],[73,19,74,19],[77,11,78,11],[77,12,78,12],[37,0,40,0],[37,1,38,1],[37,2,38,2],[37,3,38,3],[37,5,38,5],[37,6,38,6],[39,1,40,1],[39,2,40,2],[39,3,40,3],[39,5,40,5],[37,9,38,9],[37,10,40,10],[37,11,38,11],[103,17,104,17],[57,8,58,8],[37,13,38,13],[37,15,38,15],[37,16,38,16],[57,0,60,0],[57,1,58,1],[57,2,58,2],[57,3,58,3],[57,5,58,5],[57,6,58,6],[57,7,58,7],[71,0,72,0],[71,1,72,1],[71,2,72,2],[71,3,72,3],[71,6,72,6],[71,7,72,7],[73,0,76,0],[103,5,104,5],[97,16,98,16],[97,17,98,17],[101,5,102,5],[101,6,102,6],[101,7,102,7],[101,8,102,8],[101,9,102,9],[101,10,104,10],[101,11,102,11],[101,0,104,0],[101,1,102,1],[101,2,102,2],[101,3,102,3],[103,1,104,1],[103,2,104,2],[103,3,104,3],[103,6,104,6],[103,7,104,7],[103,8,104,8],[103,9,104,9],[101,16,102,16],[101,17,102,17],[101,13,102,13],[101,15,102,15],[101,12,102,12],[103,13,104,13],[103,15,104,15],[103,16,104,16],[103,11,104,11],[99,15,100,15],[93,13,94,13],[93,15,94,15],[95,15,96,15],[93,17,94,17],[85,19,86,19],[87,1,88,1],[87,2,88,2],[87,3,88,3],[87,5,88,5],[87,6,88,6],[87,7,88,7],[87,8,88,8],[85,13,86,13],[87,9,88,9],[87,13,88,13],[87,15,88,15],[87,16,88,16],[87,17,88,17],[87,11,88,11],[87,12,88,12],[87,18,88,18],[87,19,88,19],[85,1,86,1],[85,2,86,2],[85,3,86,3],[85,5,86,5],[85,6,86,6],[85,7,86,7],[85,8,86,8],[85,9,86,9],[85,15,86,15],[85,16,86,16],[85,17,86,17],[83,18,84,18],[83,15,84,15],[83,16,84,16],[83,17,84,17],[85,18,86,18],[81,1,82,1],[81,2,82,2],[81,3,82,3],[73,10,76,10],[73,9,74,9],[81,5,82,5],[81,6,82,6],[81,7,82,7],[81,8,82,8],[73,1,74,1],[73,2,74,2],[73,3,74,3],[73,5,74,5],[79,14,80,14],[75,1,76,1],[75,2,76,2],[75,3,76,3],[75,5,76,5],[75,6,76,6],[75,7,76,7],[75,8,76,8],[75,9,76,9],[75,18,76,18],[81,19,82,19],[83,1,84,1],[83,2,84,2],[83,3,84,3],[83,5,84,5],[83,6,84,6],[83,7,84,7],[83,8,84,8],[81,13,82,13],[81,15,82,15],[83,9,84,9],[83,11,84,11],[83,12,84,12],[81,18,82,18],[81,16,82,16],[81,17,82,17],[81,9,82,9],[81,11,82,11],[83,19,84,19],[83,13,84,13],[71,16,72,16],[71,17,72,17],[71,9,72,9],[71,10,72,10],[71,11,72,11],[71,12,72,12],[75,11,76,11],[75,12,76,12],[77,9,78,9],[71,13,72,13],[75,13,76,13],[73,11,74,11],[73,12,74,12],[73,13,74,13],[75,17,76,17],[77,15,78,15],[77,16,78,16],[73,17,74,17],[73,16,74,16],[75,15,76,15],[75,16,76,16],[73,15,74,15],[77,13,78,13],[77,14,78,14],[75,14,76,14],[73,14,74,14],[71,14,72,15],[65,0,68,0],[65,1,66,1],[65,2,66,2],[65,3,66,3],[65,5,66,5],[65,6,66,6],[65,13,66,13],[65,15,66,15],[65,16,66,16],[65,17,66,17],[65,9,66,9],[65,10,68,10],[65,11,66,11],[65,12,66,12],[65,18,66,18],[65,19,66,19],[67,1,68,1],[67,2,68,2],[67,3,68,3],[67,5,68,5],[67,6,68,6],[67,7,68,7],[65,7,66,7],[65,8,66,8],[67,8,68,8],[67,9,68,9],[67,18,68,18],[67,19,68,19],[67,13,68,13],[67,15,68,15],[67,16,68,16],[67,17,68,17],[61,0,64,0],[61,1,62,1],[61,2,62,2],[61,3,62,3],[61,5,62,5],[61,6,62,6],[61,7,62,7],[61,8,62,8],[63,8,64,8],[63,9,64,9],[61,13,62,13],[61,15,62,15],[61,16,62,16],[61,17,62,17],[61,10,64,10],[61,11,62,11],[61,12,62,12],[63,11,64,11],[63,1,64,1],[63,2,64,2],[63,3,64,3],[63,5,64,5],[63,6,64,6],[63,7,64,7],[63,13,64,13],[63,15,64,15],[63,16,64,16],[63,17,64,17],[59,1,60,1],[59,2,60,2],[59,3,60,3],[59,5,60,5],[59,6,60,6],[59,7,60,7],[61,9,62,9],[59,15,60,15],[59,16,60,16],[59,17,60,17],[59,18,60,18],[55,19,56,19],[57,11,58,11],[57,12,58,12],[59,9,60,9],[59,11,60,11],[63,12,64,12],[59,19,60,19],[61,18,62,18],[61,19,62,19],[63,18,64,18],[63,19,64,19],[63,14,64,14],[61,14,62,14],[57,4,58,4],[53,18,54,18],[53,15,54,15],[53,16,54,16],[53,17,54,17],[55,18,56,18],[53,7,54,7],[53,8,54,8],[53,13,54,13],[53,19,54,19],[59,8,60,8],[55,13,56,13],[59,13,60,13],[55,15,56,15],[55,16,56,16],[55,17,56,17],[55,8,56,8],[55,9,56,9],[57,18,58,18],[59,14,60,14],[51,15,52,15],[51,16,52,16],[51,17,52,17],[51,8,52,8],[51,9,52,9],[53,0,56,0],[53,1,54,1],[53,2,54,2],[53,3,54,3],[53,5,54,5],[53,6,54,6],[55,1,56,1],[55,2,56,2],[55,3,56,3],[55,5,56,5],[53,9,54,9],[53,10,56,10],[53,11,54,11],[53,12,54,12],[55,11,56,11],[55,12,56,12],[55,6,56,6],[55,7,56,7],[47,15,48,15],[47,11,48,11],[47,12,48,12],[47,18,48,18],[47,19,48,19],[49,18,50,18],[49,19,50,19],[51,18,52,18],[51,19,52,19],[49,0,52,0],[49,1,50,1],[49,2,50,2],[49,3,50,3],[49,5,50,5],[49,6,50,6],[51,1,52,1],[51,2,52,2],[51,3,52,3],[51,5,52,5],[49,16,50,16],[49,17,50,17],[49,9,50,9],[49,10,52,10],[49,11,50,11],[49,12,50,12],[51,11,52,11],[51,12,52,12],[49,13,50,13],[49,15,50,15],[51,6,52,6],[51,7,52,7],[51,13,52,13],[41,18,42,18],[41,19,42,19],[43,18,44,18],[43,19,44,19],[43,14,44,14],[41,14,42,14],[45,0,48,0],[45,1,46,1],[45,2,46,2],[45,3,46,3],[45,5,46,5],[45,6,46,6],[45,4,46,4],[45,13,46,13],[45,15,46,15],[45,16,46,16],[45,17,46,17],[45,9,46,9],[45,10,48,10],[45,11,46,11],[45,12,46,12],[47,16,48,16],[47,17,48,17],[45,18,46,18],[45,19,46,19],[47,1,48,1],[47,2,48,2],[47,3,48,3],[47,5,48,5],[47,6,48,6],[47,7,48,7],[45,7,46,7],[41,0,44,0],[41,1,42,1],[41,2,42,2],[41,3,42,3],[41,5,42,5],[41,6,42,6],[41,7,42,7],[41,8,42,8],[43,8,44,8],[43,9,44,9],[41,13,42,13],[41,15,42,15],[41,16,42,16],[41,17,42,17],[41,10,44,10],[41,11,42,11],[41,12,42,12],[43,11,44,11],[43,1,44,1],[43,2,44,2],[43,3,44,3],[43,5,44,5],[43,6,44,6],[43,7,44,7],[43,4,44,4],[43,13,44,13],[43,15,44,15],[43,16,44,16],[43,17,44,17],[41,4,42,4],[33,18,34,18],[33,15,34,15],[33,16,34,16],[33,17,34,17],[35,18,36,18],[33,7,34,7],[33,8,34,8],[33,13,34,13],[33,19,34,19],[39,6,40,6],[39,7,40,7],[39,8,40,8],[35,13,36,13],[39,13,40,13],[35,15,36,15],[35,8,36,8],[35,9,36,9],[37,7,38,7],[39,15,40,15],[39,16,40,16],[39,17,40,17],[39,18,40,18],[35,19,36,19],[35,16,36,16],[35,17,36,17],[37,17,38,17],[37,12,38,12],[39,19,40,19],[33,0,36,0],[33,1,34,1],[33,2,34,2],[33,3,34,3],[33,5,34,5],[33,6,34,6],[35,1,36,1],[35,2,36,2],[35,3,36,3],[35,5,36,5],[33,9,34,9],[33,10,36,10],[33,11,34,11],[33,12,34,12],[35,11,36,11],[35,12,36,12],[35,6,36,6],[35,7,36,7],[31,18,32,18],[31,19,32,19],[29,0,32,0],[29,1,30,1],[29,2,30,2],[29,3,30,3],[29,5,30,5],[29,6,30,6],[31,1,32,1],[31,2,32,2],[31,3,32,3],[31,5,32,5],[29,16,30,16],[29,17,30,17],[29,9,30,9],[29,10,32,10],[29,11,30,11],[29,12,30,12],[31,11,32,11],[31,12,32,12],[29,13,30,13],[29,15,30,15],[31,6,32,6],[31,7,32,7],[31,13,32,13],[31,15,32,15],[31,16,32,16],[31,17,32,17],[31,8,32,8],[31,9,32,9],[25,19,26,19],[27,1,28,1],[27,2,28,2],[27,3,28,3],[27,5,28,5],[27,6,28,6],[27,7,28,7],[25,7,26,7],[25,8,26,8],[27,8,28,8],[27,9,28,9],[29,7,30,7],[29,8,30,8],[27,13,28,13],[27,15,28,15],[27,11,28,11],[27,12,28,12],[27,14,28,14],[27,18,28,18],[27,19,28,19],[29,18,30,18],[29,19,30,19],[29,4,30,4],[25,0,28,0],[25,1,26,1],[25,2,26,2],[25,3,26,3],[25,5,26,5],[25,6,26,6],[25,13,26,13],[25,15,26,15],[25,16,26,16],[25,17,26,17],[25,9,26,9],[25,10,28,10],[25,11,26,11],[25,12,26,12],[27,16,28,16],[27,17,28,17],[25,18,26,18],[23,18,24,18],[23,19,24,19],[21,0,24,0],[21,1,22,1],[21,2,22,2],[21,3,22,3],[21,5,22,5],[21,6,22,6],[23,1,24,1],[23,2,24,2],[23,3,24,3],[23,5,24,5],[21,16,22,16],[21,17,22,17],[21,9,22,9],[21,10,24,10],[21,11,22,11],[21,12,22,12],[23,11,24,11],[23,12,24,12],[21,13,22,13],[21,15,22,15],[23,6,24,6],[23,7,24,7],[23,13,24,13],[23,15,24,15],[23,16,24,16],[23,17,24,17],[23,8,24,8],[23,9,24,9],[17,18,18,18],[17,19,18,19],[19,1,20,1],[19,2,20,2],[19,3,20,3],[19,5,20,5],[19,6,20,6],[19,7,20,7],[17,7,18,7],[17,8,18,8],[19,8,20,8],[19,9,20,9],[21,7,22,7],[21,8,22,8],[19,13,20,13],[19,15,20,15],[19,11,20,11],[19,12,20,12],[19,18,20,18],[19,19,20,19],[21,18,22,18],[21,19,22,19],[15,15,16,15],[15,16,16,16],[15,17,16,17],[15,8,16,8],[15,9,16,9],[17,0,20,0],[17,1,18,1],[17,2,18,2],[17,3,18,3],[17,5,18,5],[17,6,18,6],[17,13,18,13],[17,15,18,15],[17,16,18,16],[17,17,18,17],[17,9,18,9],[17,10,20,10],[17,11,18,11],[17,12,18,12],[19,16,20,16],[19,17,20,17],[11,12,12,12],[11,14,12,14],[13,14,14,14],[11,18,12,18],[11,19,12,19],[13,18,14,18],[13,19,14,19],[15,18,16,18],[15,19,16,19],[13,0,16,0],[13,1,14,1],[13,2,14,2],[13,3,14,3],[13,5,14,5],[13,6,14,6],[15,1,16,1],[15,2,16,2],[15,3,16,3],[15,5,16,5],[13,16,14,16],[13,17,14,17],[13,9,14,9],[13,10,16,10],[13,11,14,11],[13,12,14,12],[15,11,16,11],[15,12,16,12],[13,13,14,13],[13,15,14,15],[15,6,16,6],[15,7,16,7],[15,13,16,13],[5,18,6,18],[5,19,6,19],[7,18,8,18],[7,19,8,19],[9,0,12,0],[9,1,10,1],[9,2,10,2],[9,3,10,3],[9,5,10,5],[9,6,10,6],[9,13,10,13],[9,15,10,15],[9,16,10,16],[9,17,10,17],[9,9,10,9],[9,10,12,10],[9,11,10,11],[9,12,10,12],[11,16,12,16],[11,17,12,17],[9,18,10,18],[9,19,10,19],[11,1,12,1],[11,2,12,2],[11,3,12,3],[11,5,12,5],[11,6,12,6],[11,7,12,7],[9,7,10,7],[11,13,12,13],[11,15,12,15],[11,11,12,11],[5,1,6,1],[5,2,6,2],[5,3,6,3],[5,5,6,5],[5,6,6,6],[7,8,8,8],[7,9,8,9],[5,13,6,13],[5,15,6,15],[5,16,6,16],[5,17,6,17],[5,9,6,9],[5,10,8,10],[5,11,6,11],[5,12,6,12],[7,1,8,1],[7,2,8,2],[7,3,8,3],[7,5,8,5],[7,6,8,6],[7,7,8,7],[7,15,8,15],[7,16,8,16],[7,17,8,17],[0,1,0,9],[0,11,0,19],[1,1,1,9],[1,11,1,19],[107,0,108,0],[107,1,108,1],[107,2,108,2],[107,3,108,3],[107,6,108,6],[3,6,4,6],[3,7,4,7],[3,8,4,8],[3,0,4,0],[3,1,4,1],[3,2,4,2],[3,3,4,3],[3,4,4,5],[5,7,6,7],[5,8,6,8],[3,13,4,13],[3,16,4,16],[3,17,4,17],[3,9,4,9],[3,10,4,10],[3,11,4,11],[3,12,4,12],[3,14,4,15],[7,11,8,11],[7,12,8,12],[3,18,4,18],[3,19,4,19],[5,0,8,0],[109,0,112,0],[109,1,110,1],[109,2,110,2],[109,3,110,3],[109,5,110,5],[109,6,110,6],[111,1,112,1],[111,2,112,2],[111,3,112,3],[111,5,112,5],[111,16,112,16],[111,17,112,17],[111,18,112,18],[111,19,112,19],[107,13,108,13],[107,16,108,16],[107,17,108,17],[107,18,108,18],[107,19,108,19],[107,7,108,7],[107,8,108,8],[107,9,108,9],[107,10,108,10],[107,11,108,11],[107,12,108,12],[111,6,112,6],[111,7,112,7],[111,8,112,8],[111,9,112,9],[111,13,112,13],[111,15,112,15],[111,14,112,14],[109,13,110,13],[109,15,110,15],[109,16,110,16],[109,17,110,17],[109,18,110,18],[109,19,110,19],[109,14,110,14],[109,7,110,7],[109,8,110,8],[109,9,110,9],[109,10,112,10],[109,11,110,11],[109,12,110,12],[111,11,112,11],[111,12,112,12],[113,13,114,13],[113,15,114,15],[113,16,114,16],[113,17,114,17],[113,18,114,18],[113,19,114,19],[113,14,114,14],[113,7,114,7],[113,8,114,8],[113,9,114,9],[113,10,116,10],[113,11,114,11],[113,12,114,12],[115,11,116,11],[115,12,116,12],[115,8,116,8],[115,9,116,9],[117,0,120,0],[117,1,118,1],[117,2,118,2],[117,3,118,3],[117,5,118,5],[117,6,118,6],[119,1,120,1],[119,2,120,2],[119,3,120,3],[119,5,120,5],[115,19,116,19],[115,1,116,1],[115,2,116,2],[115,3,116,3],[115,5,116,5],[115,6,116,6],[115,7,116,7],[113,0,116,0],[113,1,114,1],[113,2,114,2],[113,3,114,3],[113,5,114,5],[113,6,114,6],[115,15,116,15],[115,16,116,16],[115,17,116,17],[115,18,116,18],[123,12,124,12],[123,8,124,8],[123,9,124,9],[119,16,120,16],[119,17,120,17],[119,18,120,18],[119,19,120,19],[119,7,120,7],[119,8,120,8],[119,9,120,9],[119,13,120,13],[119,15,120,15],[117,16,118,16],[117,17,118,17],[117,18,118,18],[117,19,118,19],[117,7,118,7],[117,8,118,8],[117,9,118,9],[117,10,120,10],[117,11,118,11],[117,12,118,12],[119,11,120,11],[119,12,120,12],[127,0,128,0],[127,1,128,1],[127,2,128,2],[127,3,128,3],[127,6,128,6],[123,13,124,13],[123,15,124,15],[123,16,124,16],[123,17,124,17],[123,18,124,18],[123,19,124,19],[123,1,124,1],[123,2,124,2],[123,3,124,3],[123,5,124,5],[123,6,124,6],[123,7,124,7],[123,4,124,4],[121,0,124,0],[121,1,122,1],[121,2,122,2],[121,3,122,3],[121,5,122,5],[121,6,122,6],[121,16,122,16],[121,17,122,17],[121,18,122,18],[121,19,122,19],[121,7,122,7],[121,8,122,8],[121,9,122,9],[121,10,124,10]],"merged_total":1558,"flags":["merged_cut"]}
[null,"ВСТРЕЧИ ПО КРУГАМ",null,null,null,null,null,null,null,null,null,"ВСТРЕЧИ ПО КРУГАМ"]
[null,{"$f":"пр.взв!$D$4","v":"В.к. 68 кг."},null,null,null,null,null,null,null,null,null,{"$f":"пр.взв!$D$4","v":"В.к. 68 кг."}]
[null,"A"," (Круг)","1/32",null,null,null,null,null,null,null,"Б"," (Круг)","1/32"]
["№ встр","№ п/ж","Ф.И.О.","Д. р., разряд","Вед., регион",null,"Оценки","Очки","Рез-т","Время","№ встр","№ п/ж","Ф.И.О.","Д. р., разряд","Вед., регион",null,"Оценки","Очки","Рез-т","Время"]
[null,"№ j",null,null,null,null,null,null,null,"tame",null,"№ j",null,null,null,null,null,null,null,"tame"]
[1,1,{"$f":"IFERROR(VLOOKUP(B6,пр.взв!$B$7:$H$70,2,0),\"\")","v":"ОРЛОВ Алексей Николаевич"},{"$f":"IFERROR(VLOOKUP(B6,пр.взв!$B$7:$H$70,3,0),\"\")","v":"11.12.1990, МС"},{"$f":"IFERROR(VLOOKUP(B6,пр.взв!$B$7:$H$70,4,0),\"\")","v":"ПФО"},{"$f":"IFERROR(VLOOKUP(B6,пр.взв!$B$7:$H$70,5,0),\"\")","v":"Пермский край, Пермь,  Д"},null,null,null,null,17,2,{"$f":"IFERROR(VLOOKUP(L6,пр.взв!$B$7:$H$70,2,0),\"\")","v":"ТЕМИРОВ Тимур Ахсарович"},{"$f":"IFERROR(VLOOKUP(L6,пр.взв!$B$7:$H$70,3,0),\"\")","v":"09.09.1993, КМС"},{"$f":"IFERROR(VLOOKUP(L6,пр.взв!$B$7:$H$70,4,0),\"\")","v":"СКФО"},{"$f":"IFERROR(VLOOKUP(L6,пр.взв!$B$7:$H$70,5,0),\"\")","v":"РСО-Алания, Д"}]
[]
[null,33,{"$f":"IFERROR(VLOOKUP(B8,пр.взв!$B$7:$H$70,2,0),\"\")","v":"ГАВРИЛОВ Максим Олегович"},{"$f":"IFERROR(VLOOKUP(B8,пр.взв!$B$7:$H$70,3,0),\"\")","v":"15.09.1993, МС"},{"$f":"IFERROR(VLOOKUP(B8,пр.взв!$B$7:$H$70,4,0),\"\")","v":"М"},{"$f":"IFERROR(VLOOKUP(B8,пр.взв!$B$7:$H$70,5,0),\"\")","v":"Москва, \"Самбо-70\", ФСИН"},null,null,null,null,null,34,{"$f":"IFERROR(VLOOKUP(L8,пр.взв!$B$7:$H$70,2,0),\"\")","v":"ТУРСУНОВ Али Юсуфжонович"},{"$f":"IFERROR(VLOOKUP(L8,пр.взв!$B$7:$H$70,3,0),\"\")","v":"09.12.1994, МС"},{"$f":"IFERROR(VLOOKUP(L8,пр.взв!$B$7:$H$70,4,0),\"\")","v":"М"},{"$f":"IFERROR(VLOOKUP(L8,пр.взв!$B$7:$H$70,5,0),\"\")","v":"Москва, \"Самбо-70\", ВДВ"}]
[]
[2,17,{"$f":"IFERROR(VLOOKUP(B10,пр.взв!$B$7:$H$70,2,0),\"\")","v":"МАНЖЕСОВ Денис Сергеевич"},{"$f":"IFERROR(VLOOKUP(B10,пр.взв!$B$7:$H$70,3,0),\"\")","v":"30.07.1997, КМС"},{"$f":"IFERROR(VLOOKUP(B10,пр.взв!$B$7:$H$70,4,0),\"\")","v":"ДВФО"},{"$f":"IFERROR(VLOOKUP(B10,пр.взв!$B$7:$H$70,5,0),\"\")","v":"Хабаровский край, Хабаровск, Д"},null,null,null,null,18,18,{"$f":"IFERROR(VLOOKUP(L10,пр.взв!$B$7:$H$70,2,0),\"\")","v":"ШАЙХОВ Абдулло Пулодович"},{"$f":"IFERROR(VLOOKUP(L10,пр.взв!$B$7:$H$70,3,0),\"\")","v":"28.12.1990, КМС"},{"$f":"IFERROR(VLOOKUP(L10,пр.взв!$B$7:$H$70,4,0),\"\")","v":"ЦФО"},{"$f":"IFERROR(VLOOKUP(L10,пр.взв!$B$7:$H$70,5,0),\"\")","v":"Тверская обл., Тверь"}]
[]
[null,49,{"$f":"IFERROR(VLOOKUP(B12,пр.взв!$B$7:$H$70,2,0),\"\")","v":""},{"$f":"IFERROR(VLOOKUP(B12,пр.взв!$B$7:$H$70,3,0),\"\")","v":""},{"$f":"IFERROR(VLOOKUP(B12,пр.взв!$B$7:$H$70,4,0),\"\")","v":""},{"$f":"IFERROR(VLOOKUP(B12,пр.взв!$B$7:$H$70,5,0),\"\")","v":""},null,null,null,null,null,50,{"$f":"IFERROR(VLOOKUP(L12,пр.взв!$B$7:$H$70,2,0),\"\")","v":""},{"$f":"IFERROR(VLOOKUP(L12,пр.взв!$B$7:$H$70,3,0),\"\")","v":""},{"$f":"IFERROR(VLOOKUP(L12,пр.взв!$B$7:$H$70,4,0),\"\")","v":""},{"$f":"IFERROR(VLOOKUP(L12,пр.взв!$B$7:$H$70,5,0),\"\")","v":""}]
[]
[3,9,{"$f":"IFERROR(VLOOKUP(B14,пр.взв!$B$7:$H$70,2,0),\"\")","v":"ВИЛЬЧИНСКИЙ Юрий Иванович"},{"$f":"IFERROR(VLOOKUP(B14,пр.взв!$B$7:$H$70,3,0),\"\")","v":"09.09.1998, КМС"},{"$f":"IFERROR(VLOOKUP(B14,пр.взв!$B$7:$H$70,4,0),\"\")","v":"ДВФО"},{"$f":"IFERROR(VLOOKUP(B14,пр.взв!$B$7:$H$70,5,0),\"\")","v":"Хабаровский край, Хабаровск, МО"},null,null,null,null,19,10,{"$f":"IFERROR(VLOOKUP(L14,пр.взв!$B$7:$H$70,2,0),\"\")","v":"АБДУЛЛАЕВ Магомед Ахмедович"},{"$f":"IFERROR(VLOOKUP(L14,пр.взв!$B$7:$H$70,3,0),\"\")","v":"18.03.1994, МС"},{"$f":"IFERROR(VLOOKUP(L14,пр.взв!$B$7:$H$70,4,0),\"\")","v":"УФО"},{"$f":"IFERROR(VLOOKUP(L14,пр.взв!$B$7:$H$70,5,0),\"\")","v":"Свердловская обл., Екатеринбург, ПР"}]
[]
[null,41,{"$f":"IFERROR(VLOOKUP(B16,пр.взв!$B$7:$H$70,2,0),\"\")","v":""},{"$f":"IFERROR(VLOOKUP(B16,пр.взв!$B$7:$H$70,3,0),\"\")","v":""},{"$f":"IFERROR(VLOOKUP(B16,пр.взв!$B$7:$H$70,4,0),\"\")","v":""},{"$f":"IFERROR(VLOOKUP(B16,пр.взв!$B$7:$H$70,5,0),\"\")","v":""},null,null,null,null,null,42,{"$f":"IFERROR(VLOOKUP(L16,пр.взв!$B$7:$H$70,2,0),\"\")","v":""},{"$f":"IFERROR(VLOOKUP(L16,пр.взв!$B$7:$H$70,3,0),\"\")","v":""},{"$f":"IFERROR(VLOOKUP(L16,пр.взв!$B$7:$H$70,4,0),\"\")","v":""},{"$f":"IFERROR(VLOOKUP(L16,пр.взв!$B$7:$H$70,5,0),\"\")","v":""}]
[]
[4,25,{"$f":"IFERROR(VLOOKUP(B18,пр.взв!$B$7:$H$70,2,0),\"\")","v":"ВОРОБЬЕВ Михаил Анатольевич"},{"$f":"IFERROR(VLOOKUP(B18,пр.взв!$B$7:$H$70,3,0),\"\")","v":"29.03.1995, МСМК"},{"$f":"IFERROR(VLOOKUP(B18,пр.взв!$B$7:$H$70,4,0),\"\")","v":"ЦФО"},{"$f":"IFERROR(VLOOKUP(B18,пр.взв!$B$7:$H$70,5,0),\"\")","v":"Рязанская обл., Рязань, Д"},null,null,null,null,20,26,{"$f":"IFERROR(VLOOKUP(L18,пр.взв!$B$7:$H$70,2,0),\"\")","v":"ГОРКОВЕЦ Артем Глебович"},{"$f":"IFERROR(VLOOKUP(L18,пр.взв!$B$7:$H$70,3,0),\"\")","v":"09.10.1997, МС"},{"$f":"IFERROR(VLOOKUP(L18,пр.взв!$B$7:$H$70,4,0),\"\")","v":"ПФО"},{"$f":"IFERROR(VLOOKUP(L18,пр.взв!$B$7:$H$70,5,0),\"\")","v":"Пермский край, Пермь,  МО"}]
[]
[null,57,{"$f":"IFERROR(VLOOKUP(B20,пр.взв!$B$7:$H$70,2,0),\"\")","v":""},{"$f":"IFERROR(VLOOKUP(B20,пр.взв!$B$7:$H$70,3,0),\"\")","v":""},{"$f":"IFERROR(VLOOKUP(B20,пр.взв!$B$7:$H$70,4,0),\"\")","v":""},{"$f":"IFERROR(VLOOKUP(B20,пр.взв!$B$7:$H$70,5,0),\"\")","v":""},null,null,null,null,null,58,{"$f":"IFERROR(VLOOKUP(L20,пр.взв!$B$7:$H$70,2,0),\"\")","v":""},{"$f":"IFERROR(VLOOKUP(L20,пр.взв!$B$7:$H$70,3,0),\"\")","v":""},{"$f":"IFERROR(VLOOKUP(L20,пр.взв!$B$7:$H$70,4,0),\"\")","v":""},{"$f":"IFERROR(VLOOKUP(L20,пр.взв!$B$7:$H$70,5,0),\"\")","v":""}]
[]
[5,5,{"$f":"IFERROR(VLOOKUP(B22,пр.взв!$B$7:$H$70,2,0),\"\")","v":"БАНАЕВ Магомед-Салах Бисланович"},{"$f":"IFERROR(VLOOKUP(B22,пр.взв!$B$7:$H$70,3,0),\"\")","v":"18.03.1993, КМС"},{"$f":"IFERROR(VLOOKUP(B22,пр.взв!$B$7:$H$70,4,0),\"\")","v":"СКФО"},{"$f":"IFERROR(VLOOKUP(B22,пр.взв!$B$7:$H$70,5,0),\"\")","v":"РСО-Алания, Д"},null,null,null,null,21,6,{"$f":"IFERROR(VLOOKUP(L22,пр.взв!$B$7:$H$70,2,0),\"\")","v":"ГЕШЕВ Джамбулат Андзорович"},{"$f":"IFERROR(VLOOKUP(L22,пр.взв!$B$7:$H$70,3,0),\"\")","v":"21.12.1994, МС"},{"$f":"IFERROR(VLOOKUP(L22,пр.взв!$B$7:$H$70,4,0),\"\")","v":"ЮФО"},{"$f":"IFERROR(VLOOKUP(L22,пр.взв!$B$7:$H$70,5,0),\"\")","v":"Краснодарский край, Армавир, Д"}]
[]
[null,37,{"$f":"IFERROR(VLOOKUP(B24,пр.взв!$B$7:$H$70,2,0),\"\")","v":"БУТЕНКО Максим Игоревич"},{"$f":"IFERROR(VLOOKUP(B24,пр.взв!$B$7:$H$70,3,0),\"\")","v":"15.03.1997, КМС"},{"$f":"IFERROR(VLOOKUP(B24,пр.взв!$B$7:$H$70,4,0),\"\")","v":"УФО"},{"$f":"IFERROR(VLOOKUP(B24,пр.взв!$B$7:$H$70,5,0),\"\")","v":"Курганская обл., Курган, СШОР"},null,null,null,null,null,38,{"$f":"IFERROR(VLOOKUP(L24,пр.взв!$B$7:$H$70,2,0),\"\")","v":""},{"$f":"IFERROR(VLOOKUP(L24,пр.взв!$B$7:$H$70,3,0),\"\")","v":""},{"$f":"IFERROR(VLOOKUP(L24,пр.взв!$B$7:$H$70,4,0),\"\")","v":""},{"$f":"IFERROR(VLOOKUP(L24,пр.взв!$B$7:$H$70,5,0),\"\")","v":""}]
[]
[6,21,{"$f":"IFERROR(VLOOKUP(B26,пр.взв!$B$7:$H$70,2,0),\"\")","v":"БАЛЫКОВ Владимир Юрьевич"},{"$f":"IFERROR(VLOOKUP(B26,пр.взв!$B$7:$H$70,3,0),\"\")","v":"15.02.1991, МСМК"},{"$f":"IFERROR(VLOOKUP(B26,пр.взв!$B$7:$H$70,4,0),\"\")","v":"УФО"},{"$f":"IFERROR(VLOOKUP(B26,пр.взв!$B$7:$H$70,5,0),\"\")","v":"Свердловская обл., В.Пышма, КС \"УГМК\""},null,null,null,null,22,22,{"$f":"IFERROR(VLOOKUP(L26,пр.взв!$B$7:$H$70,2,0),\"\")","v":"КОМИКЯН Грант Трдатович"},{"$f":"IFERROR(VLOOKUP(L26,пр.взв!$B$7:$H$70,3,0),\"\")","v":"24.03.1998, КМС"},{"$f":"IFERROR(VLOOKUP(L26,пр.взв!$B$7:$H$70,4,0),\"\")","v":"ДВФО"},{"$f":"IFERROR(VLOOKUP(L26,пр.взв!$B$7:$H$70,5,0),\"\")","v":"Хабаровский край, Хабаровск, Д"}]
[]
[null,53,{"$f":"IFERROR(VLOOKUP(B28,пр.взв!$B$7:$H$70,2,0),\"\")","v":""},{"$f":"IFERROR(VLOOKUP(B28,пр.взв!$B$7:$H$70,3,0),\"\")","v":""},{"$f":"IFERROR(VLOOKUP(B28,пр.взв!$B$7:$H$70,4,0),\"\")","v":""},{"$f":"IFERROR(VLOOKUP(B28,пр.взв!$B$7:$H$70,5,0),\"\")","v":""},null,null,null,null,null,54,{"$f":"IFERROR(VLOOKUP(L28,пр.взв!$B$7:$H$70,2,0),\"\")","v":""},{"$f":"IFERROR(VLOOKUP(L28,пр.взв!$B$7:$H$70,3,0),\"\")","v":""},{"$f":"IFERROR(VLOOKUP(L28,пр.взв!$B$7:$H$70,4,0),\"\")","v":""},{"$f":"IFERROR(VLOOKUP(L28,пр.взв!$B$7:$H$70,5,0),\"\")","v":""}]
[]
[7,13,{"$f":"IFERROR(VLOOKUP(B30,пр.взв!$B$7:$H$70,2,0),\"\")","v":"МИКАЙЛОВ Микаил Мугаддасович"},{"$f":"IFERROR(VLOOKUP(B30,пр.взв!$B$7:$H$70,3,0),\"\")","v":"12.03.1990, МС"},{"$f":"IFERROR(VLOOKUP(B30,пр.взв!$B$7:$H$70,4,0),\"\")","v":"СПб"},{"$f":"IFERROR(VLOOKUP(B30,пр.взв!$B$7:$H$70,5,0),\"\")","v":"Санкт-Петербург, КШВСМ-МО"},null,null,null,null,23,14,{"$f":"IFERROR(VLOOKUP(L30,пр.взв!$B$7:$H$70,2,0),\"\")","v":"КАЧАЙКИН Даниил Сергеевич"},{"$f":"IFERROR(VLOOKUP(L30,пр.взв!$B$7:$H$70,3,0),\"\")","v":"20.09.1997, КМС"},{"$f":"IFERROR(VLOOKUP(L30,пр.взв!$B$7:$H$70,4,0),\"\")","v":"ДВФО"},{"$f":"IFERROR(VLOOKUP(L30,пр.взв!$B$7:$H$70,5,0),\"\")","v":"Хабаровский край, Хабаровск, МО"}]
[]
[null,45,{"$f":"IFERROR(VLOOKUP(B32,пр.взв!$B$7:$H$70,2,0),\"\")","v":""},{"$f":"IFERROR(VLOOKUP(B32,пр.взв!$B$7:$H$70,3,0),\"\")","v":""},{"$f":"IFERROR(VLOOKUP(B32,пр.взв!$B$7:$H$70,4,0),\"\")","v":""},{"$f":"IFERROR(VLOOKUP(B32,пр.взв!$B$7:$H$70,5,0),\"\")","v":""},null,null,null,null,null,46,{"$f":"IFERROR(VLOOKUP(L32,пр.взв!$B$7:$H$70,2,0),\"\")","v":""},{"$f":"IFERROR(VLOOKUP(L32,пр.взв!$B$7:$H$70,3,0),\"\")","v":""},{"$f":"IFERROR(VLOOKUP(L32,пр.взв!$B$7:$H$70,4,0),\"\")","v":""},{"$f":"IFERROR(VLOOKUP(L32,пр.взв!$B$7:$H$70,5,0),\"\")","v":""}]
[]
[8,29,{"$f":"IFERROR(VLOOKUP(B34,пр.взв!$B$7:$H$70,2,0),\"\")","v":"ФОГОЛЕВ Александр Андреевич"},{"$f":"IFERROR(VLOOKUP(B34,пр.взв!$B$7:$H$70,3,0),\"\")","v":"08.05.1997, МС"},{"$f":"IFERROR(VLOOKUP(B34,пр.взв!$B$7:$H$70,4,0),\"\")","v":"ПФО"},{"$f":"IFERROR(VLOOKUP(B34,пр.взв!$B$7:$H$70,5,0),\"\")","v":"Нижегородская обл., Н.Новгород, Профсоюзы"},null,null,null,null,24,30,{"$f":"IFERROR(VLOOKUP(L34,пр.взв!$B$7:$H$70,2,0),\"\")","v":"ГУКЕВ Рамед Мухамедович"},{"$f":"IFERROR(VLOOKUP(L34,пр.взв!$B$7:$H$70,3,0),\"\")","v":"08.04.1993, МС"},{"$f":"IFERROR(VLOOKUP(L34,пр.взв!$B$7:$H$70,4,0),\"\")","v":"УФО"},{"$f":"IFERROR(VLOOKUP(L34,пр.взв!$B$7:$H$70,5,0),\"\")","v":"Свердловская обл., В.Пышма, КС \"УГМК\""}]
[]
[null,61,{"$f":"IFERROR(VLOOKUP(B36,пр.взв!$B$7:$H$70,2,0),\"\")","v":""},{"$f":"IFERROR(VLOOKUP(B36,пр.взв!$B$7:$H$70,3,0),\"\")","v":""},{"$f":"IFERROR(VLOOKUP(B36,пр.взв!$B$7:$H$70,4,0),\"\")","v":""},{"$f":"IFERROR(VLOOKUP(B36,пр.взв!$B$7:$H$70,5,0),\"\")","v":""},null,null,null,null,null,62,{"$f":"IFERROR(VLOOKUP(L36,пр.взв!$B$7:$H$70,2,0),\"\")","v":""},{"$f":"IFERROR(VLOOKUP(L36,пр.взв!$B$7:$H$70,3,0),\"\")","v":""},{"$f":"IFERROR(VLOOKUP(L36,пр.взв!$B$7:$H$70,4,0),\"\")","v":""},{"$f":"IFERROR(VLOOKUP(L36,пр.взв!$B$7:$H$70,5,0),\"\")","v":""}]
[]
[9,3,{"$f":"IFERROR(VLOOKUP(B38,пр.взв!$B$7:$H$70,2,0),\"\")","v":"МЕЖЛУМЯН Гайк Левонович"},{"$f":"IFERROR(VLOOKUP(B38,пр.взв!$B$7:$H$70,3,0),\"\")","v":"17.05.1990, МС"},{"$f":"IFERROR(VLOOKUP(B38,пр.взв!$B$7:$H$70,4,0),\"\")","v":"ЮФО"},{"$f":"IFERROR(VLOOKUP(B38,пр.взв!$B$7:$H$70,5,0),\"\")","v":"Краснодарский край, Новороссийск, Д"},null,null,null,null,25,4,{"$f":"IFERROR(VLOOKUP(L38,пр.взв!$B$7:$H$70,2,0),\"\")","v":"ИСАЕВ Магомед Эскендерович"},{"$f":"IFERROR(VLOOKUP(L38,пр.взв!$B$7:$H$70,3,0),\"\")","v":"07.09.1996, КМС"},{"$f":"IFERROR(VLOOKUP(L38,пр.взв!$B$7:$H$70,4,0),\"\")","v":"УФО"},{"$f":"IFERROR(VLOOKUP(L38,пр.взв!$B$7:$H$70,5,0),\"\")","v":"ХМАО-Югра, Радужный"}]
[]
[null,35,{"$f":"IFERROR(VLOOKUP(B40,пр.взв!$B$7:$H$70,2,0),\"\")","v":"БУРДАЕВ Роман Михайлович"},{"$f":"IFERROR(VLOOKUP(B40,пр.взв!$B$7:$H$70,3,0),\"\")","v":"22.05.1993, МСМК"},{"$f":"IFERROR(VLOOKUP(B40,пр.взв!$B$7:$H$70,4,0),\"\")","v":"ПФО"},{"$f":"IFERROR(VLOOKUP(B40,пр.взв!$B$7:$H$70,5,0),\"\")","v":"Пензенская обл., Пенза, Д"},null,null,null,null,null,36,{"$f":"IFERROR(VLOOKUP(L40,пр.взв!$B$7:$H$70,2,0),\"\")","v":"ДАВЫДОВ Денис Игоревич"},{"$f":"IFERROR(VLOOKUP(L40,пр.взв!$B$7:$H$70,3,0),\"\")","v":"16.07.1987, ЗМС"},{"$f":"IFERROR(VLOOKUP(L40,пр.взв!$B$7:$H$70,4,0),\"\")","v":"ЦФО"},{"$f":"IFERROR(VLOOKUP(L40,пр.взв!$B$7:$H$70,5,0),\"\")","v":"Московская обл., Балашиха"}]
[]
[10,19,{"$f":"IFERROR(VLOOKUP(B42,пр.взв!$B$7:$H$70,2,0),\"\")","v":"АДУКОВ Абдулкадыр Муртузалиевич"},{"$f":"IFERROR(VLOOKUP(B42,пр.взв!$B$7:$H$70,3,0),\"\")","v":"17.09.1994, МС"},{"$f":"IFERROR(VLOOKUP(B42,пр.взв!$B$7:$H$70,4,0),\"\")","v":"УФО"},{"$f":"IFERROR(VLOOKUP(B42,пр.взв!$B$7:$H$70,5,0),\"\")","v":"Свердловская обл., В.Пышма, КС \"УГМК\""},null,null,null,null,26,20,{"$f":"IFERROR(VLOOKUP(L42,пр.взв!$B$7:$H$70,2,0),\"\")","v":"СУХОМЛИНОВ Евгений Игоревич"},{"$f":"IFERROR(VLOOKUP(L42,пр.взв!$B$7:$H$70,3,0),\"\")","v":"17.07.1991, МСМК"},{"$f":"IFERROR(VLOOKUP(L42,пр.взв!$B$7:$H$70,4,0),\"\")","v":"ДВФО"},{"$f":"IFERROR(VLOOKUP(L42,пр.взв!$B$7:$H$70,5,0),\"\")","v":"Хабаровский край, Комсомольск, Д"}]
[]
[null,51,{"$f":"IFERROR(VLOOKUP(B44,пр.взв!$B$7:$H$70,2,0),\"\")","v":""},{"$f":"IFERROR(VLOOKUP(B44,пр.взв!$B$7:$H$70,3,0),\"\")","v":""},{"$f":"IFERROR(VLOOKUP(B44,пр.взв!$B$7:$H$70,4,0),\"\")","v":""},{"$f":"IFERROR(VLOOKUP(B44,пр.взв!$B$7:$H$70,5,0),\"\")","v":""},null,null,null,null,null,52,{"$f":"IFERROR(VLOOKUP(L44,пр.взв!$B$7:$H$70,2,0),\"\")","v":""},{"$f":"IFERROR(VLOOKUP(L44,пр.взв!$B$7:$H$70,3,0),\"\")","v":""},{"$f":"IFERROR(VLOOKUP(L44,пр.взв!$B$7:$H$70,4,0),\"\")","v":""},{"$f":"IFERROR(VLOOKUP(L44,пр.взв!$B$7:$H$70,5,0),\"\")","v":""}]
[]
[11,11,{"$f":"IFERROR(VLOOKUP(B46,пр.взв!$B$7:$H$70,2,0),\"\")","v":"ГАЗИМАГОМЕДОВ Шамиль Саидович"},{"$f":"IFERROR(VLOOKUP(B46,пр.взв!$B$7:$H$70,3,0),\"\")","v":"23.10.1990, МС"},{"$f":"IFERROR(VLOOKUP(B46,пр.взв!$B$7:$H$70,4,0),\"\")","v":"СКФО"},{"$f":"IFERROR(VLOOKUP(B46,пр.взв!$B$7:$H$70,5,0),\"\")","v":"р. Дагестан, ПР"},null,null,null,null,27,12,{"$f":"IFERROR(VLOOKUP(L46,пр.взв!$B$7:$H$70,2,0),\"\")","v":"БОРОВИКОВ Сергей Вадимович"},{"$f":"IFERROR(VLOOKUP(L46,пр.взв!$B$7:$H$70,3,0),\"\")","v":"07.10.1994, МС"},{"$f":"IFERROR(VLOOKUP(L46,пр.взв!$B$7:$H$70,4,0),\"\")","v":"ДВФО"},{"$f":"IFERROR(VLOOKUP(L46,пр.взв!$B$7:$H$70,5,0),\"\")","v":"Приморский край, Артем, \"Мастер\""}]
[]
[null,43,{"$f":"IFERROR(VLOOKUP(B48,пр.взв!$B$7:$H$70,2,0),\"\")","v":""},{"$f":"IFERROR(VLOOKUP(B48,пр.взв!$B$7:$H$70,3,0),\"\")","v":""},{"$f":"IFERROR(VLOOKUP(B48,пр.взв!$B$7:$H$70,4,0),\"\")","v":""},{"$f":"IFERROR(VLOOKUP(B48,пр.взв!$B$7:$H$70,5,0),\"\")","v":""},null,null,null,null,null,44,{"$f":"IFERROR(VLOOKUP(L48,пр.взв!$B$7:$H$70,2,0),\"\")","v":""},{"$f":"IFERROR(VLOOKUP(L48,пр.взв!$B$7:$H$70,3,0),\"\")","v":""},{"$f":"IFERROR(VLOOKUP(L48,пр.взв!$B$7:$H$70,4,0),\"\")","v":""},{"$f":"IFERROR(VLOOKUP(L48,пр.взв!$B$7:$H$70,5,0),\"\")","v":""}]
[]
[12,27,{"$f":"IFERROR(VLOOKUP(B50,пр.взв!$B$7:$H$70,2,0),\"\")","v":"ЛАЗАРЕВ Сергей Сергеевич"},{"$f":"IFERROR(VLOOKUP(B50,пр.взв!$B$7:$H$70,3,0),\"\")","v":"04.11.1994, МС"},{"$f":"IFERROR(VLOOKUP(B50,пр.взв!$B$7:$H$70,4,0),\"\")","v":"ПФО"},{"$f":"IFERROR(VLOOKUP(B50,пр.взв!$B$7:$H$70,5,0),\"\")","v":"Пермский край, Пермь,  Д"},null,null,null,null,28,28,{"$f":"IFERROR(VLOOKUP(L50,пр.взв!$B$7:$H$70,2,0),\"\")","v":"КЛЕЦКОВ Дмитрий Валерьевич"},{"$f":"IFERROR(VLOOKUP(L50,пр.взв!$B$7:$H$70,3,0),\"\")","v":"26.11.1986, МСМК"},{"$f":"IFERROR(VLOOKUP(L50,пр.взв!$B$7:$H$70,4,0),\"\")","v":"М"},{"$f":"IFERROR(VLOOKUP(L50,пр.взв!$B$7:$H$70,5,0),\"\")","v":"Москва, \"Самбо-70\", Д"}]
[]
[null,59,{"$f":"IFERROR(VLOOKUP(B52,пр.взв!$B$7:$H$70,2,0),\"\")","v":""},{"$f":"IFERROR(VLOOKUP(B52,пр.взв!$B$7:$H$70,3,0),\"\")","v":""},{"$f":"IFERROR(VLOOKUP(B52,пр.взв!$B$7:$H$70,4,0),\"\")","v":""},{"$f":"IFERROR(VLOOKUP(B52,пр.взв!$B$7:$H$70,5,0),\"\")","v":""},null,null,null,null,null,60,{"$f":"IFERROR(VLOOKUP(L52,пр.взв!$B$7:$H$70,2,0),\"\")","v":""},{"$f":"IFERROR(VLOOKUP(L52,пр.взв!$B$7:$H$70,3,0),\"\")","v":""},{"$f":"IFERROR(VLOOKUP(L52,пр.взв!$B$7:$H$70,4,0),\"\")","v":""},{"$f":"IFERROR(VLOOKUP(L52,пр.взв!$B$7:$H$70,5,0),\"\")","v":""}]
[]
[13,7,{"$f":"IFERROR(VLOOKUP(B54,пр.взв!$B$7:$H$70,2,0),\"\")","v":"ПАНОВ Владислав Александрович"},{"$f":"IFERROR(VLOOKUP(B54,пр.взв!$B$7:$H$70,3,0),\"\")","v":"15.03.1998, КМС"},{"$f":"IFERROR(VLOOKUP(B54,пр.взв!$B$7:$H$70,4,0),\"\")","v":"СФО"},{"$f":"IFERROR(VLOOKUP(B54,пр.взв!$B$7:$H$70,5,0),\"\")","v":"Красноярский край, Красноярск, Академия борьбы"},null,null,null,null,29,8,{"$f":"IFERROR(VLOOKUP(L54,пр.взв!$B$7:$H$70,2,0),\"\")","v":"БОНДАРЕВ Александр Витальевич"},{"$f":"IFERROR(VLOOKUP(L54,пр.взв!$B$7:$H$70,3,0),\"\")","v":"27.01.1990, МСМК"},{"$f":"IFERROR(VLOOKUP(L54,пр.взв!$B$7:$H$70,4,0),\"\")","v":"ПФО"},{"$f":"IFERROR(VLOOKUP(L54,пр.взв!$B$7:$H$70,5,0),\"\")","v":"Чувашская р., Чебоксары"}]
[]
[null,39,{"$f":"IFERROR(VLOOKUP(B56,пр.взв!$B$7:$H$70,2,0),\"\")","v":""},{"$f":"IFERROR(VLOOKUP(B56,пр.взв!$B$7:$H$70,3,0),\"\")","v":""},{"$f":"IFERROR(VLOOKUP(B56,пр.взв!$B$7:$H$70,4,0),\"\")","v":""},{"$f":"IFERROR(VLOOKUP(B56,пр.взв!$B$7:$H$70,5,0),\"\")","v":""},null,null,null,null,null,40,{"$f":"IFERROR(VLOOKUP(L56,пр.взв!$B$7:$H$70,2,0),\"\")","v":""},{"$f":"IFERROR(VLOOKUP(L56,пр.взв!$B$7:$H$70,3,0),\"\")","v":""},{"$f":"IFERROR(VLOOKUP(L56,пр.взв!$B$7:$H$70,4,0),\"\")","v":""},{"$f":"IFERROR(VLOOKUP(L56,пр.взв!$B$7:$H$70,5,0),\"\")","v":""}]
[]
[14,23,{"$f":"IFERROR(VLOOKUP(B58,пр.взв!$B$7:$H$70,2,0),\"\")","v":"КЛЕЦКОВ Никита Валерьевич"},{"$f":"IFERROR(VLOOKUP(B58,пр.взв!$B$7:$H$70,3,0),\"\")","v":"26.11.1986, ЗМС"},{"$f":"IFERROR(VLOOKUP(B58,пр.взв!$B$7:$H$70,4,0),\"\")","v":"М"},{"$f":"IFERROR(VLOOKUP(B58,пр.взв!$B$7:$H$70,5,0),\"\")","v":"Москва, \"Самбо-70\", Д"},null,null,null,null,30,24,{"$f":"IFERROR(VLOOKUP(L58,пр.взв!$B$7:$H$70,2,0),\"\")","v":"ШЕМАЗАШВИЛИ Георгий Кобаевич"},{"$f":"IFERROR(VLOOKUP(L58,пр.взв!$B$7:$H$70,3,0),\"\")","v":"03.09.1990, МСМК"},{"$f":"IFERROR(VLOOKUP(L58,пр.взв!$B$7:$H$70,4,0),\"\")","v":"СФО"},{"$f":"IFERROR(VLOOKUP(L58,пр.взв!$B$7:$H$70,5,0),\"\")","v":"Иркутская обл., Иркутск, Д"}]
[]
[null,55,{"$f":"IFERROR(VLOOKUP(B60,пр.взв!$B$7:$H$70,2,0),\"\")","v":""},{"$f":"IFERROR(VLOOKUP(B60,пр.взв!$B$7:$H$70,3,0),\"\")","v":""},{"$f":"IFERROR(VLOOKUP(B60,пр.взв!$B$7:$H$70,4,0),\"\")","v":""},{"$f":"IFERROR(VLOOKUP(B60,пр.взв!$B$7:$H$70,5,0),\"\")","v":""},null,null,null,null,null,56,{"$f":"IFERROR(VLOOKUP(L60,пр.взв!$B$7:$H$70,2,0),\"\")","v":""},{"$f":"IFERROR(VLOOKUP(L60,пр.взв!$B$7:$H$70,3,0),\"\")","v":""},{"$f":"IFERROR(VLOOKUP(L60,пр.взв!$B$7:$H$70,4,0),\"\")","v":""},{"$f":"IFERROR(VLOOKUP(L60,пр.взв!$B$7:$H$70,5,0),\"\")","v":""}]
[]
[15,15,{"$f":"IFERROR(VLOOKUP(B62,пр.взв!$B$7:$H$70,2,0),\"\")","v":"ГОРОХ Михаил Владимирович"},{"$f":"IFERROR(VLOOKUP(B62,пр.взв!$B$7:$H$70,3,0),\"\")","v":"30.10.1994, КМС"},{"$f":"IFERROR(VLOOKUP(B62,пр.взв!$B$7:$H$70,4,0),\"\")","v":"ДВФО"},{"$f":"IFERROR(VLOOKUP(B62,пр.взв!$B$7:$H$70,5,0),\"\")","v":"Хабаровский край, Хабаровск, Д"},null,null,null,null,31,16,{"$f":"IFERROR(VLOOKUP(L62,пр.взв!$B$7:$H$70,2,0),\"\")","v":"ЛАГВЕНКИН Павел Михайлович"},{"$f":"IFERROR(VLOOKUP(L62,пр.взв!$B$7:$H$70,3,0),\"\")","v":"13.02.1992, МСМК"},{"$f":"IFERROR(VLOOKUP(L62,пр.взв!$B$7:$H$70,4,0),\"\")","v":"ЦФО"},{"$f":"IFERROR(VLOOKUP(L62,пр.взв!$B$7:$H$70,5,0),\"\")","v":"Рязанская обл., Рязань, Д"}]
[]
[null,47,{"$f":"IFERROR(VLOOKUP(B64,пр.взв!$B$7:$H$70,2,0),\"\")","v":""},{"$f":"IFERROR(VLOOKUP(B64,пр.взв!$B$7:$H$70,3,0),\"\")","v":""},{"$f":"IFERROR(VLOOKUP(B64,пр.взв!$B$7:$H$70,4,0),\"\")","v":""},{"$f":"IFERROR(VLOOKUP(B64,пр.взв!$B$7:$H$70,5,0),\"\")","v":""},null,null,null,null,null,48,{"$f":"IFERROR(VLOOKUP(L64,пр.взв!$B$7:$H$70,2,0),\"\")","v":""},{"$f":"IFERROR(VLOOKUP(L64,пр.взв!$B$7:$H$70,3,0),\"\")","v":""},{"$f":"IFERROR(VLOOKUP(L64,пр.взв!$B$7:$H$70,4,0),\"\")","v":""},{"$f":"IFERROR(VLOOKUP(L64,пр.взв!$B$7:$H$70,5,0),\"\")","v":""}]
[]
[16,31,{"$f":"IFERROR(VLOOKUP(B66,пр.взв!$B$7:$H$70,2,0),\"\")","v":"ЭЛАЕВ Рамазан Муртузалиевич"},{"$f":"IFERROR(VLOOKUP(B66,пр.взв!$B$7:$H$70,3,0),\"\")","v":"16.12.1996, МС"},{"$f":"IFERROR(VLOOKUP(B66,пр.взв!$B$7:$H$70,4,0),\"\")","v":"ЦФО"},{"$f":"IFERROR(VLOOKUP(B66,пр.взв!$B$7:$H$70,5,0),\"\")","v":"Костромская обл., Кострома, Д"},null,null,null,null,32,32,{"$f":"IFERROR(VLOOKUP(L66,пр.взв!$B$7:$H$70,2,0),\"\")","v":"ЛИНЧЕНКО Илья Александрович"},{"$f":"IFERROR(VLOOKUP(L66,пр.взв!$B$7:$H$70,3,0),\"\")","v":"01.10.1994, МС"},{"$f":"IFERROR(VLOOKUP(L66,пр.взв!$B$7:$H$70,4,0),\"\")","v":"СПб"},{"$f":"IFERROR(VLOOKUP(L66,пр.взв!$B$7:$H$70,5,0),\"\")","v":"Санкт-Петербург, ВС-СКА"}]
[]
[null,63,{"$f":"IFERROR(VLOOKUP(B68,пр.взв!$B$7:$H$70,2,0),\"\")","v":""},{"$f":"IFERROR(VLOOKUP(B68,пр.взв!$B$7:$H$70,3,0),\"\")","v":""},{"$f":"IFERROR(VLOOKUP(B68,пр.взв!$B$7:$H$70,4,0),\"\")","v":""},{"$f":"IFERROR(VLOOKUP(B68,пр.взв!$B$7:$H$70,5,0),\"\")","v":""},null,null,null,null,null,64,{"$f":"IFERROR(VLOOKUP(L68,пр.взв!$B$7:$H$70,2,0),\"\")","v":""},{"$f":"IFERROR(VLOOKUP(L68,пр.взв!$B$7:$H$70,3,0),\"\")","v":""},{"$f":"IFERROR(VLOOKUP(L68,пр.взв!$B$7:$H$70,4,0),\"\")","v":""},{"$f":"IFERROR(VLOOKUP(L68,пр.взв!$B$7:$H$70,5,0),\"\")","v":""}]
[]
[]
[null,"A"," (Круг)","1/16",null,null,{"$f":"пр.взв!$D$4","v":"В.к. 68 кг."},null,null,null,null,"Б"," (Круг)","1/16",null,null,{"$f":"пр.взв!$D$4","v":"В.к. 68 кг."}]
["№ встр","№ п/ж","Ф.И.О.","Д. р., разряд","Вед., регион",null,"Оценки","Очки","Результат","Время","№ встр","№ п/ж","Ф.И.О.","Д. р., разряд","Вед., регион",null,"Оценки","Очки","Результат","Время"]
[null,"№ j",null,null,null,null,null,null,null,"tame",null,"№ j",null,null,null,null,null,null,null,"tame"]
[1,{"$f":"пр.хода!E6","v":33},{"$f":"IFERROR(VLOOKUP(B74,пр.взв!$B$7:$H$70,2,0),\"\")","v":"ГАВРИЛОВ Максим Олегович"},{"$f":"IFERROR(VLOOKUP(B74,пр.взв!$B$7:$H$70,3,0),\"\")","v":"15.09.1993, МС"},{"$f":"IFERROR(VLOOKUP(B74,пр.взв!$B$7:$H$70,4,0),\"\")","v":"М"},{"$f":"IFERROR(VLOOKUP(B74,пр.взв!$B$7:$H$70,5,0),\"\")","v":"Москва, \"Самбо-70\", ФСИН"},null,null,null,null,9,{"$f":"пр.хода!AA6","v":34},{"$f":"IFERROR(VLOOKUP(L74,пр.взв!$B$7:$H$70,2,0),\"\")","v":"ТУРСУНОВ Али Юсуфжонович"},{"$f":"IFERROR(VLOOKUP(L74,пр.взв!$B$7:$H$70,3,0),\"\")","v":"09.12.1994, МС"},{"$f":"IFERROR(VLOOKUP(L74,пр.взв!$B$7:$H$70,4,0),\"\")","v":"М"},{"$f":"IFERROR(VLOOKUP(L74,пр.взв!$B$7:$H$70,5,0),\"\")","v":"Москва, \"Самбо-70\", ВДВ"}]
[]
[null,{"$f":"пр.хода!E10","v":17},{"$f":"IFERROR(VLOOKUP(B76,пр.взв!$B$7:$H$70,2,0),\"\")","v":"МАНЖЕСОВ Денис Сергеевич"},{"$f":"IFERROR(VLOOKUP(B76,пр.взв!$B$7:$H$70,3,0),\"\")","v":"30.07.1997, КМС"},{"$f":"IFERROR(VLOOKUP(B76,пр.взв!$B$7:$H$70,4,0),\"\")","v":"ДВФО"},{"$f":"IFERROR(VLOOKUP(B76,пр.взв!$B$7:$H$70,5,0),\"\")","v":"Хабаровский край, Хабаровск, Д"},null,null,null,null,null,{"$f":"пр.хода!AA10","v":18},{"$f":"IFERROR(VLOOKUP(L76,пр.взв!$B$7:$H$70,2,0),\"\")","v":"ШАЙХОВ Абдулло Пулодович"},{"$f":"IFERROR(VLOOKUP(L76,пр.взв!$B$7:$H$70,3,0),\"\")","v":"28.12.1990, КМС"},{"$f":"IFERROR(VLOOKUP(L76,пр.взв!$B$7:$H$70,4,0),\"\")","v":"ЦФО"},{"$f":"IFERROR(VLOOKUP(L76,пр.взв!$B$7:$H$70,5,0),\"\")","v":"Тверская обл., Тверь"}]
[]
[2,{"$f":"пр.хода!E14","v":9},{"$f":"IFERROR(VLOOKUP(B78,пр.взв!$B$7:$H$70,2,0),\"\")","v":"ВИЛЬЧИНСКИЙ Юрий Иванович"},{"$f":"IFERROR(VLOOKUP(B78,пр.взв!$B$7:$H$70,3,0),\"\")","v":"09.09.1998, КМС"},{"$f":"IFERROR(VLOOKUP(B78,пр.взв!$B$7:$H$70,4,0),\"\")","v":"ДВФО"},{"$f":"IFERROR(VLOOKUP(B78,пр.взв!$B$7:$H$70,5,0),\"\")","v":"Хабаровский край, Хабаровск, МО"},null,null,null,null,10,{"$f":"пр.хода!AA14","v":10},{"$f":"IFERROR(VLOOKUP(L78,пр.взв!$B$7:$H$70,2,0),\"\")","v":"АБДУЛЛАЕВ Магомед Ахмедович"},{"$f":"IFERROR(VLOOKUP(L78,пр.взв!$B$7:$H$70,3,0),\"\")","v":"18.03.1994, МС"},{"$f":"IFERROR(VLOOKUP(L78,пр.взв!$B$7:$H$70,4,0),\"\")","v":"УФО"},{"$f":"IFERROR(VLOOKUP(L78,пр.взв!$B$7:$H$70,5,0),\"\")","v":"Свердловская обл., Екатеринбург, ПР"}]
[]
[null,{"$f":"пр.хода!E18","v":25},{"$f":"IFERROR(VLOOKUP(B80,пр.взв!$B$7:$H$70,2,0),\"\")","v":"ВОРОБЬЕВ Михаил Анатольевич"},{"$f":"IFERROR(VLOOKUP(B80,пр.взв!$B$7:$H$70,3,0),\"\")","v":"29.03.1995, МСМК"},{"$f":"IFERROR(VLOOKUP(B80,пр.взв!$B$7:$H$70,4,0),\"\")","v":"ЦФО"},{"$f":"IFERROR(VLOOKUP(B80,пр.взв!$B$7:$H$70,5,0),\"\")","v":"Рязанская обл., Рязань, Д"},null,null,null,null,null,{"$f":"пр.хода!AA18","v":26},{"$f":"IFERROR(VLOOKUP(L80,пр.взв!$B$7:$H$70,2,0),\"\")","v":"ГОРКОВЕЦ Артем Глебович"},{"$f":"IFERROR(VLOOKUP(L80,пр.взв!$B$7:$H$70,3,0),\"\")","v":"09.10.1997, МС"},{"$f":"IFERROR(VLOOKUP(L80,пр.взв!$B$7:$H$70,4,0),\"\")","v":"ПФО"},{"$f":"IFERROR(VLOOKUP(L80,пр.взв!$B$7:$H$70,5,0),\"\")","v":"Пермский край, Пермь,  МО"}]
[]
[3,{"$f":"пр.хода!E22","v":37},{"$f":"IFERROR(VLOOKUP(B82,пр.взв!$B$7:$H$70,2,0),\"\")","v":"БУТЕНКО Максим Игоревич"},{"$f":"IFERROR(VLOOKUP(B82,пр.взв!$B$7:$H$70,3,0),\"\")","v":"15.03.1997, КМС"},{"$f":"IFERROR(VLOOKUP(B82,пр.взв!$B$7:$H$70,4,0),\"\")","v":"УФО"},{"$f":"IFERROR(VLOOKUP(B82,пр.взв!$B$7:$H$70,5,0),\"\")","v":"Курганская обл., Курган, СШОР"},null,null,null,null,11,{"$f":"пр.хода!AA22","v":6},{"$f":"IFERROR(VLOOKUP(L82,пр.взв!$B$7:$H$70,2,0),\"\")","v":"ГЕШЕВ Джамбулат Андзорович"},{"$f":"IFERROR(VLOOKUP(L82,пр.взв!$B$7:$H$70,3,0),\"\")","v":"21.12.1994, МС"},{"$f":"IFERROR(VLOOKUP(L82,пр.взв!$B$7:$H$70,4,0),\"\")","v":"ЮФО"},{"$f":"IFERROR(VLOOKUP(L82,пр.взв!$B$7:$H$70,5,0),\"\")","v":"Краснодарский край, Армавир, Д"}]
[]
[null,{"$f":"пр.хода!E26","v":21},{"$f":"IFERROR(VLOOKUP(B84,пр.взв!$B$7:$H$70,2,0),\"\")","v":"БАЛЫКОВ Владимир Юрьевич"},{"$f":"IFERROR(VLOOKUP(B84,пр.взв!$B$7:$H$70,3,0),\"\")","v":"15.02.1991, МСМК"},{"$f":"IFERROR(VLOOKUP(B84,пр.взв!$B$7:$H$70,4,0),\"\")","v":"УФО"},{"$f":"IFERROR(VLOOKUP(B84,пр.взв!$B$7:$H$70,5,0),\"\")","v":"Свердловская обл., В.Пышма, КС \"УГМК\""},null,null,null,null,null,{"$f":"пр.хода!AA26","v":22},{"$f":"IFERROR(VLOOKUP(L84,пр.взв!$B$7:$H$70,2,0),\"\")","v":"КОМИКЯН Грант Трдатович"},{"$f":"IFERROR(VLOOKUP(L84,пр.взв!$B$7:$H$70,3,0),\"\")","v":"24.03.1998, КМС"},{"$f":"IFERROR(VLOOKUP(L84,пр.взв!$B$7:$H$70,4,0),\"\")","v":"ДВФО"},{"$f":"IFERROR(VLOOKUP(L84,пр.взв!$B$7:$H$70,5,0),\"\")","v":"Хабаровский край, Хабаровск, Д"}]
[]
[4,{"$f":"пр.хода!E30","v":13},{"$f":"IFERROR(VLOOKUP(B86,пр.взв!$B$7:$H$70,2,0),\"\")","v":"МИКАЙЛОВ Микаил Мугаддасович"},{"$f":"IFERROR(VLOOKUP(B86,пр.взв!$B$7:$H$70,3,0),\"\")","v":"12.03.1990, МС"},{"$f":"IFERROR(VLOOKUP(B86,пр.взв!$B$7:$H$70,4,0),\"\")","v":"СПб"},{"$f":"IFERROR(VLOOKUP(B86,пр.взв!$B$7:$H$70,5,0),\"\")","v":"Санкт-Петербург, КШВСМ-МО"},null,null,null,null,12,{"$f":"пр.хода!AA30","v":14},{"$f":"IFERROR(VLOOKUP(L86,пр.взв!$B$7:$H$70,2,0),\"\")","v":"КАЧАЙКИН Даниил Сергеевич"},{"$f":"IFERROR(VLOOKUP(L86,пр.взв!$B$7:$H$70,3,0),\"\")","v":"20.09.1997, КМС"},{"$f":"IFERROR(VLOOKUP(L86,пр.взв!$B$7:$H$70,4,0),\"\")","v":"ДВФО"},{"$f":"IFERROR(VLOOKUP(L86,пр.взв!$B$7:$H$70,5,0),\"\")","v":"Хабаровский край, Хабаровск, МО"}]
[]
[null,{"$f":"пр.хода!E34","v":29},{"$f":"IFERROR(VLOOKUP(B88,пр.взв!$B$7:$H$70,2,0),\"\")","v":"ФОГОЛЕВ Александр Андреевич"},{"$f":"IFERROR(VLOOKUP(B88,пр.взв!$B$7:$H$70,3,0),\"\")","v":"08.05.1997, МС"},{"$f":"IFERROR(VLOOKUP(B88,пр.взв!$B$7:$H$70,4,0),\"\")","v":"ПФО"},{"$f":"IFERROR(VLOOKUP(B88,пр.взв!$B$7:$H$70,5,0),\"\")","v":"Нижегородская обл., Н.Новгород, Профсоюзы"},null,null,null,null,null,{"$f":"пр.хода!AA34","v":30},{"$f":"IFERROR(VLOOKUP(L88,пр.взв!$B$7:$H$70,2,0),\"\")","v":"ГУКЕВ Рамед Мухамедович"},{"$f":"IFERROR(VLOOKUP(L88,пр.взв!$B$7:$H$70,3,0),\"\")","v":"08.04.1993, МС"},{"$f":"IFERROR(VLOOKUP(L88,пр.взв!$B$7:$H$70,4,0),\"\")","v":"УФО"},{"$f":"IFERROR(VLOOKUP(L88,пр.взв!$B$7:$H$70,5,0),\"\")","v":"Свердловская обл., В.Пышма, КС \"УГМК\""}]
[]
[5,{"$f":"пр.хода!E39","v":3},{"$f":"IFERROR(VLOOKUP(B90,пр.взв!$B$7:$H$70,2,0),\"\")","v":"МЕЖЛУМЯН Гайк Левонович"},{"$f":"IFERROR(VLOOKUP(B90,пр.взв!$B$7:$H$70,3,0),\"\")","v":"17.05.1990, МС"},{"$f":"IFERROR(VLOOKUP(B90,пр.взв!$B$7:$H$70,4,0),\"\")","v":"ЮФО"},{"$f":"IFERROR(VLOOKUP(B90,пр.взв!$B$7:$H$70,5,0),\"\")","v":"Краснодарский край, Новороссийск, Д"},null,null,null,null,13,{"$f":"пр.хода!AA39","v":36},{"$f":"IFERROR(VLOOKUP(L90,пр.взв!$B$7:$H$70,2,0),\"\")","v":"ДАВЫДОВ Денис Игоревич"},{"$f":"IFERROR(VLOOKUP(L90,пр.взв!$B$7:$H$70,3,0),\"\")","v":"16.07.1987, ЗМС"},{"$f":"IFERROR(VLOOKUP(L90,пр.взв!$B$7:$H$70,4,0),\"\")","v":"ЦФО"},{"$f":"IFERROR(VLOOKUP(L90,пр.взв!$B$7:$H$70,5,0),\"\")","v":"Московская обл., Балашиха"}]
[]
[null,{"$f":"пр.хода!E43","v":19},{"$f":"IFERROR(VLOOKUP(B92,пр.взв!$B$7:$H$70,2,0),\"\")","v":"АДУКОВ Абдулкадыр Муртузалиевич"},{"$f":"IFERROR(VLOOKUP(B92,пр.взв!$B$7:$H$70,3,0),\"\")","v":"17.09.1994, МС"},{"$f":"IFERROR(VLOOKUP(B92,пр.взв!$B$7:$H$70,4,0),\"\")","v":"УФО"},{"$f":"IFERROR(VLOOKUP(B92,пр.взв!$B$7:$H$70,5,0),\"\")","v":"Свердловская обл., В.Пышма, КС \"УГМК\""},null,null,null,null,null,{"$f":"пр.хода!AA43","v":20},{"$f":"IFERROR(VLOOKUP(L92,пр.взв!$B$7:$H$70,2,0),\"\")","v":"СУХОМЛИНОВ Евгений Игоревич"},{"$f":"IFERROR(VLOOKUP(L92,пр.взв!$B$7:$H$70,3,0),\"\")","v":"17.07.1991, МСМК"},{"$f":"IFERROR(VLOOKUP(L92,пр.взв!$B$7:$H$70,4,0),\"\")","v":"ДВФО"},{"$f":"IFERROR(VLOOKUP(L92,пр.взв!$B$7:$H$70,5,0),\"\")","v":"Хабаровский край, Комсомольск, Д"}]
[]
[6,{"$f":"пр.хода!E47","v":11},{"$f":"IFERROR(VLOOKUP(B94,пр.взв!$B$7:$H$70,2,0),\"\")","v":"ГАЗИМАГОМЕДОВ Шамиль Саидович"},{"$f":"IFERROR(VLOOKUP(B94,пр.взв!$B$7:$H$70,3,0),\"\")","v":"23.10.1990, МС"},{"$f":"IFERROR(VLOOKUP(B94,пр.взв!$B$7:$H$70,4,0),\"\")","v":"СКФО"},{"$f":"IFERROR(VLOOKUP(B94,пр.взв!$B$7:$H$70,5,0),\"\")","v":"р. Дагестан, ПР"},null,null,null,null,14,{"$f":"пр.хода!AA47","v":12},{"$f":"IFERROR(VLOOKUP(L94,пр.взв!$B$7:$H$70,2,0),\"\")","v":"БОРОВИКОВ Сергей Вадимович"},{"$f":"IFERROR(VLOOKUP(L94,пр.взв!$B$7:$H$70,3,0),\"\")","v":"07.10.1994, МС"},{"$f":"IFERROR(VLOOKUP(L94,пр.взв!$B$7:$H$70,4,0),\"\")","v":"ДВФО"},{"$f":"IFERROR(VLOOKUP(L94,пр.взв!$B$7:$H$70,5,0),\"\")","v":"Приморский край, Артем, \"Мастер\""}]
[]
[null,{"$f":"пр.хода!E51","v":27},{"$f":"IFERROR(VLOOKUP(B96,пр.взв!$B$7:$H$70,2,0),\"\")","v":"ЛАЗАРЕВ Сергей Сергеевич"},{"$f":"IFERROR(VLOOKUP(B96,пр.взв!$B$7:$H$70,3,0),\"\")","v":"04.11.1994, МС"},{"$f":"IFERROR(VLOOKUP(B96,пр.взв!$B$7:$H$70,4,0),\"\")","v":"ПФО"},{"$f":"IFERROR(VLOOKUP(B96,пр.взв!$B$7:$H$70,5,0),\"\")","v":"Пермский край, Пермь,  Д"},null,null,null,null,null,{"$f":"пр.хода!AA51","v":28},{"$f":"IFERROR(VLOOKUP(L96,пр.взв!$B$7:$H$70,2,0),\"\")","v":"КЛЕЦКОВ Дмитрий Валерьевич"},{"$f":"IFERROR(VLOOKUP(L96,пр.взв!$B$7:$H$70,3,0),\"\")","v":"26.11.1986, МСМК"},{"$f":"IFERROR(VLOOKUP(L96,пр.взв!$B$7:$H$70,4,0),\"\")","v":"М"},{"$f":"IFERROR(VLOOKUP(L96,пр.взв!$B$7:$H$70,5,0),\"\")","v":"Москва, \"Самбо-70\", Д"}]
[]
[7,{"$f":"пр.хода!E55","v":7},{"$f":"IFERROR(VLOOKUP(B98,пр.взв!$B$7:$H$70,2,0),\"\")","v":"ПАНОВ Владислав Александрович"},{"$f":"IFERROR(VLOOKUP(B98,пр.взв!$B$7:$H$70,3,0),\"\")","v":"15.03.1998, КМС"},{"$f":"IFERROR(VLOOKUP(B98,пр.взв!$B$7:$H$70,4,0),\"\")","v":"СФО"},{"$f":"IFERROR(VLOOKUP(B98,пр.взв!$B$7:$H$70,5,0),\"\")","v":"Красноярский край, Красноярск, Академия борьбы"},null,null,null,null,15,{"$f":"пр.хода!AA55","v":8},{"$f":"IFERROR(VLOOKUP(L98,пр.взв!$B$7:$H$70,2,0),\"\")","v":"БОНДАРЕВ Александр Витальевич"},{"$f":"IFERROR(VLOOKUP(L98,пр.взв!$B$7:$H$70,3,0),\"\")","v":"27.01.1990, МСМК"},{"$f":"IFERROR(VLOOKUP(L98,пр.взв!$B$7:$H$70,4,0),\"\")","v":"ПФО"},{"$f":"IFERROR(VLOOKUP(L98,пр.взв!$B$7:$H$70,5,0),\"\")","v":"Чувашская р., Чебоксары"}]
[]
[null,{"$f":"пр.хода!E59","v":23},{"$f":"IFERROR(VLOOKUP(B100,пр.взв!$B$7:$H$70,2,0),\"\")","v":"КЛЕЦКОВ Никита Валерьевич"},{"$f":"IFERROR(VLOOKUP(B100,пр.взв!$B$7:$H$70,3,0),\"\")","v":"26.11.1986, ЗМС"},{"$f":"IFERROR(VLOOKUP(B100,пр.взв!$B$7:$H$70,4,0),\"\")","v":"М"},{"$f":"IFERROR(VLOOKUP(B100,пр.взв!$B$7:$H$70,5,0),\"\")","v":"Москва, \"Самбо-70\", Д"},null,null,null,null,null,{"$f":"пр.хода!AA59","v":24},{"$f":"IFERROR(VLOOKUP(L100,пр.взв!$B$7:$H$70,2,0),\"\")","v":"ШЕМАЗАШВИЛИ Георгий Кобаевич"},{"$f":"IFERROR(VLOOKUP(L100,пр.взв!$B$7:$H$70,3,0),\"\")","v":"03.09.1990, МСМК"},{"$f":"IFERROR(VLOOKUP(L100,пр.взв!$B$7:$H$70,4,0),\"\")","v":"СФО"},{"$f":"IFERROR(VLOOKUP(L100,пр.взв!$B$7:$H$70,5,0),\"\")","v":"Иркутская обл., Иркутск, Д"}]
[]
[8,{"$f":"пр.хода!E63","v":15},{"$f":"IFERROR(VLOOKUP(B102,пр.взв!$B$7:$H$70,2,0),\"\")","v":"ГОРОХ Михаил Владимирович"},{"$f":"IFERROR(VLOOKUP(B102,пр.взв!$B$7:$H$70,3,0),\"\")","v":"30.10.1994, КМС"},{"$f":"IFERROR(VLOOKUP(B102,пр.взв!$B$7:$H$70,4,0),\"\")","v":"ДВФО"},{"$f":"IFERROR(VLOOKUP(B102,пр.взв!$B$7:$H$70,5,0),\"\")","v":"Хабаровский край, Хабаровск, Д"},null,null,null,null,16,{"$f":"пр.хода!AA63","v":16},{"$f":"IFERROR(VLOOKUP(L102,пр.взв!$B$7:$H$70,2,0),\"\")","v":"ЛАГВЕНКИН Павел Михайлович"},{"$f":"IFERROR(VLOOKUP(L102,пр.взв!$B$7:$H$70,3,0),\"\")","v":"13.02.1992, МСМК"},{"$f":"IFERROR(VLOOKUP(L102,пр.взв!$B$7:$H$70,4,0),\"\")","v":"ЦФО"},{"$f":"IFERROR(VLOOKUP(L102,пр.взв!$B$7:$H$70,5,0),\"\")","v":"Рязанская обл., Рязань, Д"}]
[]
[null,{"$f":"пр.хода!E67","v":31},{"$f":"IFERROR(VLOOKUP(B104,пр.взв!$B$7:$H$70,2,0),\"\")","v":"ЭЛАЕВ Рамазан Муртузалиевич"},{"$f":"IFERROR(VLOOKUP(B104,пр.взв!$B$7:$H$70,3,0),\"\")","v":"16.12.1996, МС"},{"$f":"IFERROR(VLOOKUP(B104,пр.взв!$B$7:$H$70,4,0),\"\")","v":"ЦФО"},{"$f":"IFERROR(VLOOKUP(B104,пр.взв!$B$7:$H$70,5,0),\"\")","v":"Костромская обл., Кострома, Д"},null,null,null,null,null,{"$f":"пр.хода!AA67","v":32},{"$f":"IFERROR(VLOOKUP(L104,пр.взв!$B$7:$H$70,2,0),\"\")","v":"ЛИНЧЕНКО Илья Александрович"},{"$f":"IFERROR(VLOOKUP(L104,пр.взв!$B$7:$H$70,3,0),\"\")","v":"01.10.1994, МС"},{"$f":"IFERROR(VLOOKUP(L104,пр.взв!$B$7:$H$70,4,0),\"\")","v":"СПб"},{"$f":"IFERROR(VLOOKUP(L104,пр.взв!$B$7:$H$70,5,0),\"\")","v":"Санкт-Петербург, ВС-СКА"}]
[]
[]
[null,"A"," (Круг)","1/8",null,null,{"$f":"пр.взв!$D$4","v":"В.к. 68 кг."},null,null,null,null,"Б"," (Круг)","1/8",null,null,{"$f":"пр.взв!$D$4","v":"В.к. 68 кг."}]
["№ встр","№ п/ж","Ф.И.О.","Д. р., разряд","Вед., регион",null,"Оценки","Очки","Результат","Время","№ встр","№ п/ж","Ф.И.О.","Д. р., разряд","Вед., регион",null,"Оценки","Очки","Результат","Время"]
[null,"№ j",null,null,null,null,null,null,null,"tame",null,"№ j",null,null,null,null,null,null,null,"tame"]
[1,{"$f":"пр.хода!G8","v":33},{"$f":"IFERROR(VLOOKUP(B110,пр.взв!$B$7:$H$70,2,0),\"\")","v":"ГАВРИЛОВ Максим Олегович"},{"$f":"IFERROR(VLOOKUP(B110,пр.взв!$B$7:$H$70,3,0),\"\")","v":"15.09.1993, МС"},{"$f":"IFERROR(VLOOKUP(B110,пр.взв!$B$7:$H$70,4,0),\"\")","v":"М"},{"$f":"IFERROR(VLOOKUP(B110,пр.взв!$B$7:$H$70,5,0),\"\")","v":"Москва, \"Самбо-70\", ФСИН"},null,null,null,null,5,{"$f":"пр.хода!Y8","v":34},{"$f":"IFERROR(VLOOKUP(L110,пр.взв!$B$7:$H$70,2,0),\"\")","v":"ТУРСУНОВ Али Юсуфжонович"},{"$f":"IFERROR(VLOOKUP(L110,пр.взв!$B$7:$H$70,3,0),\"\")","v":"09.12.1994, МС"},{"$f":"IFERROR(VLOOKUP(L110,пр.взв!$B$7:$H$70,4,0),\"\")","v":"М"},{"$f":"IFERROR(VLOOKUP(L110,пр.взв!$B$7:$H$70,5,0),\"\")","v":"Москва, \"Самбо-70\", ВДВ"}]
[]
[null,{"$f":"пр.хода!G16","v":25},{"$f":"IFERROR(VLOOKUP(B112,пр.взв!$B$7:$H$70,2,0),\"\")","v":"ВОРОБЬЕВ Михаил Анатольевич"},{"$f":"IFERROR(VLOOKUP(B112,пр.взв!$B$7:$H$70,3,0),\"\")","v":"29.03.1995, МСМК"},{"$f":"IFERROR(VLOOKUP(B112,пр.взв!$B$7:$H$70,4,0),\"\")","v":"ЦФО"},{"$f":"IFERROR(VLOOKUP(B112,пр.взв!$B$7:$H$70,5,0),\"\")","v":"Рязанская обл., Рязань, Д"},null,null,null,null,null,{"$f":"пр.хода!Y16","v":26},{"$f":"IFERROR(VLOOKUP(L112,пр.взв!$B$7:$H$70,2,0),\"\")","v":"ГОРКОВЕЦ Артем Глебович"},{"$f":"IFERROR(VLOOKUP(L112,пр.взв!$B$7:$H$70,3,0),\"\")","v":"09.10.1997, МС"},{"$f":"IFERROR(VLOOKUP(L112,пр.взв!$B$7:$H$70,4,0),\"\")","v":"ПФО"},{"$f":"IFERROR(VLOOKUP(L112,пр.взв!$B$7:$H$70,5,0),\"\")","v":"Пермский край, Пермь,  МО"}]
[]
[2,{"$f":"пр.хода!G24","v":21},{"$f":"IFERROR(VLOOKUP(B114,пр.взв!$B$7:$H$70,2,0),\"\")","v":"БАЛЫКОВ Владимир Юрьевич"},{"$f":"IFERROR(VLOOKUP(B114,пр.взв!$B$7:$H$70,3,0),\"\")","v":"15.02.1991, МСМК"},{"$f":"IFERROR(VLOOKUP(B114,пр.взв!$B$7:$H$70,4,0),\"\")","v":"УФО"},{"$f":"IFERROR(VLOOKUP(B114,пр.взв!$B$7:$H$70,5,0),\"\")","v":"Свердловская обл., В.Пышма, КС \"УГМК\""},null,null,null,null,6,{"$f":"пр.хода!Y24","v":6},{"$f":"IFERROR(VLOOKUP(L114,пр.взв!$B$7:$H$70,2,0),\"\")","v":"ГЕШЕВ Джамбулат Андзорович"},{"$f":"IFERROR(VLOOKUP(L114,пр.взв!$B$7:$H$70,3,0),\"\")","v":"21.12.1994, МС"},{"$f":"IFERROR(VLOOKUP(L114,пр.взв!$B$7:$H$70,4,0),\"\")","v":"ЮФО"},{"$f":"IFERROR(VLOOKUP(L114,пр.взв!$B$7:$H$70,5,0),\"\")","v":"Краснодарский край, Армавир, Д"}]
[]
[null,{"$f":"пр.хода!G32","v":29},{"$f":"IFERROR(VLOOKUP(B116,пр.взв!$B$7:$H$70,2,0),\"\")","v":"ФОГОЛЕВ Александр Андреевич"},{"$f":"IFERROR(VLOOKUP(B116,пр.взв!$B$7:$H$70,3,0),\"\")","v":"08.05.1997, МС"},{"$f":"IFERROR(VLOOKUP(B116,пр.взв!$B$7:$H$70,4,0),\"\")","v":"ПФО"},{"$f":"IFERROR(VLOOKUP(B116,пр.взв!$B$7:$H$70,5,0),\"\")","v":"Нижегородская обл., Н.Новгород, Профсоюзы"},null,null,null,null,null,{"$f":"пр.хода!Y32","v":30},{"$f":"IFERROR(VLOOKUP(L116,пр.взв!$B$7:$H$70,2,0),\"\")","v":"ГУКЕВ Рамед Мухамедович"},{"$f":"IFERROR(VLOOKUP(L116,пр.взв!$B$7:$H$70,3,0),\"\")","v":"08.04.1993, МС"},{"$f":"IFERROR(VLOOKUP(L116,пр.взв!$B$7:$H$70,4,0),\"\")","v":"УФО"},{"$f":"IFERROR(VLOOKUP(L116,пр.взв!$B$7:$H$70,5,0),\"\")","v":"Свердловская обл., В.Пышма, КС \"УГМК\""}]
[]
[3,{"$f":"пр.хода!G41","v":3},{"$f":"IFERROR(VLOOKUP(B118,пр.взв!$B$7:$H$70,2,0),\"\")","v":"МЕЖЛУМЯН Гайк Левонович"},{"$f":"IFERROR(VLOOKUP(B118,пр.взв!$B$7:$H$70,3,0),\"\")","v":"17.05.1990, МС"},{"$f":"IFERROR(VLOOKUP(B118,пр.взв!$B$7:$H$70,4,0),\"\")","v":"ЮФО"},{"$f":"IFERROR(VLOOKUP(B118,пр.взв!$B$7:$H$70,5,0),\"\")","v":"Краснодарский край, Новороссийск, Д"},null,null,null,null,7,{"$f":"пр.хода!Y41","v":20},{"$f":"IFERROR(VLOOKUP(L118,пр.взв!$B$7:$H$70,2,0),\"\")","v":"СУХОМЛИНОВ Евгений Игоревич"},{"$f":"IFERROR(VLOOKUP(L118,пр.взв!$B$7:$H$70,3,0),\"\")","v":"17.07.1991, МСМК"},{"$f":"IFERROR(VLOOKUP(L118,пр.взв!$B$7:$H$70,4,0),\"\")","v":"ДВФО"},{"$f":"IFERROR(VLOOKUP(L118,пр.взв!$B$7:$H$70,5,0),\"\")","v":"Хабаровский край, Комсомольск, Д"}]
[]
[null,{"$f":"пр.хода!G49","v":27},{"$f":"IFERROR(VLOOKUP(B120,пр.взв!$B$7:$H$70,2,0),\"\")","v":"ЛАЗАРЕВ Сергей Сергеевич"},{"$f":"IFERROR(VLOOKUP(B120,пр.взв!$B$7:$H$70,3,0),\"\")","v":"04.11.1994, МС"},{"$f":"IFERROR(VLOOKUP(B120,пр.взв!$B$7:$H$70,4,0),\"\")","v":"ПФО"},{"$f":"IFERROR(VLOOKUP(B120,пр.взв!$B$7:$H$70,5,0),\"\")","v":"Пермский край, Пермь,  Д"},null,null,null,null,null,{"$f":"пр.хода!Y49","v":28},{"$f":"IFERROR(VLOOKUP(L120,пр.взв!$B$7:$H$70,2,0),\"\")","v":"КЛЕЦКОВ Дмитрий Валерьевич"},{"$f":"IFERROR(VLOOKUP(L120,пр.взв!$B$7:$H$70,3,0),\"\")","v":"26.11.1986, МСМК"},{"$f":"IFERROR(VLOOKUP(L120,пр.взв!$B$7:$H$70,4,0),\"\")","v":"М"},{"$f":"IFERROR(VLOOKUP(L120,пр.взв!$B$7:$H$70,5,0),\"\")","v":"Москва, \"Самбо-70\", Д"}]
[]
[4,{"$f":"пр.хода!G57","v":23},{"$f":"IFERROR(VLOOKUP(B122,пр.взв!$B$7:$H$70,2,0),\"\")","v":"КЛЕЦКОВ Никита Валерьевич"},{"$f":"IFERROR(VLOOKUP(B122,пр.взв!$B$7:$H$70,3,0),\"\")","v":"26.11.1986, ЗМС"},{"$f":"IFERROR(VLOOKUP(B122,пр.взв!$B$7:$H$70,4,0),\"\")","v":"М"},{"$f":"IFERROR(VLOOKUP(B122,пр.взв!$B$7:$H$70,5,0),\"\")","v":"Москва, \"Самбо-70\", Д"},null,null,null,null,8,{"$f":"пр.хода!Y57","v":8},{"$f":"IFERROR(VLOOKUP(L122,пр.взв!$B$7:$H$70,2,0),\"\")","v":"БОНДАРЕВ Александр Витальевич"},{"$f":"IFERROR(VLOOKUP(L122,пр.взв!$B$7:$H$70,3,0),\"\")","v":"27.01.1990, МСМК"},{"$f":"IFERROR(VLOOKUP(L122,пр.взв!$B$7:$H$70,4,0),\"\")","v":"ПФО"},{"$f":"IFERROR(VLOOKUP(L122,пр.взв!$B$7:$H$70,5,0),\"\")","v":"Чувашская р., Чебоксары"}]
[]
[null,{"$f":"пр.хода!G65","v":31},{"$f":"IFERROR(VLOOKUP(B124,пр.взв!$B$7:$H$70,2,0),\"\")","v":"ЭЛАЕВ Рамазан Муртузалиевич"},{"$f":"IFERROR(VLOOKUP(B124,пр.взв!$B$7:$H$70,3,0),\"\")","v":"16.12.1996, МС"},{"$f":"IFERROR(VLOOKUP(B124,пр.взв!$B$7:$H$70,4,0),\"\")","v":"ЦФО"},{"$f":"IFERROR(VLOOKUP(B124,пр.взв!$B$7:$H$70,5,0),\"\")","v":"Костромская обл., Кострома, Д"},null,null,null,null,null,{"$f":"пр.хода!Y65","v":16},{"$f":"IFERROR(VLOOKUP(L124,пр.взв!$B$7:$H$70,2,0),\"\")","v":"ЛАГВЕНКИН Павел Михайлович"},{"$f":"IFERROR(VLOOKUP(L124,пр.взв!$B$7:$H$70,3,0),\"\")","v":"13.02.1992, МСМК"},{"$f":"IFERROR(VLOOKUP(L124,пр.взв!$B$7:$H$70,4,0),\"\")","v":"ЦФО"},{"$f":"IFERROR(VLOOKUP(L124,пр.взв!$B$7:$H$70,5,0),\"\")","v":"Рязанская обл., Рязань, Д"}]
[]
[]
[null,"A"," (Круг)","1/4",null,null,{"$f":"пр.взв!$D$4","v":"В.к. 68 кг."},null,null,null,null,"B"," (Круг)","1/4",null,null,{"$f":"пр.взв!$D$4","v":"В.к. 68 кг."}]
["№ встр","№ п/ж","Ф.И.О.","Д. р., разряд","Вед., регион",null,"Оценки","Очки","Результат","Время","№ встр","№ п/ж","Ф.И.О.","Д. р., разряд","Вед., регион",null,"Оценки","Очки","Результат","Время"]
[null,"№ j",null,null,null,null,null,null,null,"tame",null,"№ j",null,null,null,null,null,null,null,"tame"]
[1,{"$f":"пр.хода!I12","v":33},{"$f":"IFERROR(VLOOKUP(B130,пр.взв!$B$7:$H$70,2,0),\"\")","v":"ГАВРИЛОВ Максим Олегович"},{"$f":"IFERROR(VLOOKUP(B130,пр.взв!$B$7:$H$70,3,0),\"\")","v":"15.09.1993, МС"},{"$f":"IFERROR(VLOOKUP(B130,пр.взв!$B$7:$H$70,4,0),\"\")","v":"М"},{"$f":"IFERROR(VLOOKUP(B130,пр.взв!$B$7:$H$70,5,0),\"\")","v":"Москва, \"Самбо-70\", ФСИН"},null,null,null,null,3,{"$f":"пр.хода!W12","v":34},{"$f":"IFERROR(VLOOKUP(L130,пр.взв!$B$7:$H$70,2,0),\"\")","v":"ТУРСУНОВ Али Юсуфжонович"},{"$f":"IFERROR(VLOOKUP(L130,пр.взв!$B$7:$H$70,3,0),\"\")","v":"09.12.1994, МС"},{"$f":"IFERROR(VLOOKUP(L130,пр.взв!$B$7:$H$70,4,0),\"\")","v":"М"},{"$f":"IFERROR(VLOOKUP(L130,пр.взв!$B$7:$H$70,5,0),\"\")","v":"Москва, \"Самбо-70\", ВДВ"}]
[]
[null,{"$f":"пр.хода!I28","v":21},{"$f":"IFERROR(VLOOKUP(B132,пр.взв!$B$7:$H$70,2,0),\"\")","v":"БАЛЫКОВ Владимир Юрьевич"},{"$f":"IFERROR(VLOOKUP(B132,пр.взв!$B$7:$H$70,3,0),\"\")","v":"15.02.1991, МСМК"},{"$f":"IFERROR(VLOOKUP(B132,пр.взв!$B$7:$H$70,4,0),\"\")","v":"УФО"},{"$f":"IFERROR(VLOOKUP(B132,пр.взв!$B$7:$H$70,5,0),\"\")","v":"Свердловская обл., В.Пышма, КС \"УГМК\""},null,null,null,null,null,{"$f":"пр.хода!W28","v":30},{"$f":"IFERROR(VLOOKUP(L132,пр.взв!$B$7:$H$70,2,0),\"\")","v":"ГУКЕВ Рамед Мухамедович"},{"$f":"IFERROR(VLOOKUP(L132,пр.взв!$B$7:$H$70,3,0),\"\")","v":"08.04.1993, МС"},{"$f":"IFERROR(VLOOKUP(L132,пр.взв!$B$7:$H$70,4,0),\"\")","v":"УФО"},{"$f":"IFERROR(VLOOKUP(L132,пр.взв!$B$7:$H$70,5,0),\"\")","v":"Свердловская обл., В.Пышма, КС \"УГМК\""}]
[]
[2,{"$f":"пр.хода!I46","v":3},{"$f":"IFERROR(VLOOKUP(B134,пр.взв!$B$7:$H$70,2,0),\"\")","v":"МЕЖЛУМЯН Гайк Левонович"},{"$f":"IFERROR(VLOOKUP(B134,пр.взв!$B$7:$H$70,3,0),\"\")","v":"17.05.1990, МС"},{"$f":"IFERROR(VLOOKUP(B134,пр.взв!$B$7:$H$70,4,0),\"\")","v":"ЮФО"},{"$f":"IFERROR(VLOOKUP(B134,пр.взв!$B$7:$H$70,5,0),\"\")","v":"Краснодарский край, Новороссийск, Д"},null,null,null,null,4,{"$f":"пр.хода!W45","v":20},{"$f":"IFERROR(VLOOKUP(L134,пр.взв!$B$7:$H$70,2,0),\"\")","v":"СУХОМЛИНОВ Евгений Игоревич"},{"$f":"IFERROR(VLOOKUP(L134,пр.взв!$B$7:$H$70,3,0),\"\")","v":"17.07.1991, МСМК"},{"$f":"IFERROR(VLOOKUP(L134,пр.взв!$B$7:$H$70,4,0),\"\")","v":"ДВФО"},{"$f":"IFERROR(VLOOKUP(L134,пр.взв!$B$7:$H$70,5,0),\"\")","v":"Хабаровский край, Комсомольск, Д"}]
[]
[null,{"$f":"пр.хода!I61","v":23},{"$f":"IFERROR(VLOOKUP(B136,пр.взв!$B$7:$H$70,2,0),\"\")","v":"КЛЕЦКОВ Никита Валерьевич"},{"$f":"IFERROR(VLOOKUP(B136,пр.взв!$B$7:$H$70,3,0),\"\")","v":"26.11.1986, ЗМС"},{"$f":"IFERROR(VLOOKUP(B136,пр.взв!$B$7:$H$70,4,0),\"\")","v":"М"},{"$f":"IFERROR(VLOOKUP(B136,пр.взв!$B$7:$H$70,5,0),\"\")","v":"Москва, \"Самбо-70\", Д"},null,null,null,null,null,{"$f":"пр.хода!W61","v":8},{"$f":"IFERROR(VLOOKUP(L136,пр.взв!$B$7:$H$70,2,0),\"\")","v":"БОНДАРЕВ Александр Витальевич"},{"$f":"IFERROR(VLOOKUP(L136,пр.взв!$B$7:$H$70,3,0),\"\")","v":"27.01.1990, МСМК"},{"$f":"IFERROR(VLOOKUP(L136,пр.взв!$B$7:$H$70,4,0),\"\")","v":"ПФО"},{"$f":"IFERROR(VLOOKUP(L136,пр.взв!$B$7:$H$70,5,0),\"\")","v":"Чувашская р., Чебоксары"}]
[]
[]
[null,"A","Полуфинал",null,null,null,{"$f":"пр.взв!$D$4","v":"В.к. 68 кг."},null,null,null,null,"Б","Полуфинал",null,null,null,{"$f":"пр.взв!$D$4","v":"В.к. 68 кг."}]
["№ встр","№ п/ж","Ф.И.О.","Д. р., разряд","Вед., регион",null,"Оценки","Очки","Результат","Время","№ встр","№ п/ж","Ф.И.О.","Д. р., разряд","Вед., регион",null,"Оценки","Очки","Результат","Время"]
[null,"№ j",null,null,null,null,null,null,null,"tame",null,"№ j",null,null,null,null,null,null,null,"tame"]
[1,{"$f":"пр.хода!K20","v":21},{"$f":"IFERROR(VLOOKUP(B142,пр.взв!$B$7:$H$70,2,0),\"\")","v":"БАЛЫКОВ Владимир Юрьевич"},{"$f":"IFERROR(VLOOKUP(B142,пр.взв!$B$7:$H$70,3,0),\"\")","v":"15.02.1991, МСМК"},{"$f":"IFERROR(VLOOKUP(B142,пр.взв!$B$7:$H$70,4,0),\"\")","v":"УФО"},{"$f":"IFERROR(VLOOKUP(B142,пр.взв!$B$7:$H$70,5,0),\"\")","v":"Свердловская обл., В.Пышма, КС \"УГМК\""},null,null,null,null,2,{"$f":"пр.хода!U20","v":30},{"$f":"IFERROR(VLOOKUP(L142,пр.взв!$B$7:$H$70,2,0),\"\")","v":"ГУКЕВ Рамед Мухамедович"},{"$f":"IFERROR(VLOOKUP(L142,пр.взв!$B$7:$H$70,3,0),\"\")","v":"08.04.1993, МС"},{"$f":"IFERROR(VLOOKUP(L142,пр.взв!$B$7:$H$70,4,0),\"\")","v":"УФО"},{"$f":"IFERROR(VLOOKUP(L142,пр.взв!$B$7:$H$70,5,0),\"\")","v":"Свердловская обл., В.Пышма, КС \"УГМК\""}]
[]
[null,{"$f":"пр.хода!K53","v":23},{"$f":"IFERROR(VLOOKUP(B144,пр.взв!$B$7:$H$70,2,0),\"\")","v":"КЛЕЦКОВ Никита Валерьевич"},{"$f":"IFERROR(VLOOKUP(B144,пр.взв!$B$7:$H$70,3,0),\"\")","v":"26.11.1986, ЗМС"},{"$f":"IFERROR(VLOOKUP(B144,пр.взв!$B$7:$H$70,4,0),\"\")","v":"М"},{"$f":"IFERROR(VLOOKUP(B144,пр.взв!$B$7:$H$70,5,0),\"\")","v":"Москва, \"Самбо-70\", Д"},null,null,null,null,null,{"$f":"пр.хода!U53","v":20},{"$f":"IFERROR(VLOOKUP(L144,пр.взв!$B$7:$H$70,2,0),\"\")","v":"СУХОМЛИНОВ Евгений Игоревич"},{"$f":"IFERROR(VLOOKUP(L144,пр.взв!$B$7:$H$70,3,0),\"\")","v":"17.07.1991, МСМК"},{"$f":"IFERROR(VLOOKUP(L144,пр.взв!$B$7:$H$70,4,0),\"\")","v":"ДВФО"},{"$f":"IFERROR(VLOOKUP(L144,пр.взв!$B$7:$H$70,5,0),\"\")","v":"Хабаровский край, Комсомольск, Д"}]
[]
[]
[" (Утешительные встречи)",null,null,null,null,null,null,null,null,null,"(Утешительные встречи)"]
[null,"A",null,null,null,null,{"$f":"пр.взв!$D$4","v":"В.к. 68 кг."},null,null,null,null,"Б",null,null,null,null,{"$f":"пр.взв!$D$4","v":"В.к. 68 кг."}]
["№ встр","№ п/ж","Ф.И.О.","Д. р., разряд","Вед., регион",null,"Оценки","Очки","Результат","Время","№ встр","№ п/ж","Ф.И.О.","Д. р., разряд","Вед., регион",null,"Оценки","Очки","Результат","Время"]
[null,"№ j",null,null,null,null,null,null,null,"tame",null,"№ j",null,null,null,null,null,null,null,"tame"]
[1,{"$f":"пр.хода!L7","v":53},{"$f":"IFERROR(VLOOKUP(B151,пр.взв!$B$7:$H$70,2,0),\"\")","v":""},{"$f":"IFERROR(VLOOKUP(B151,пр.взв!$B$7:$H$70,3,0),\"\")","v":""},{"$f":"IFERROR(VLOOKUP(B151,пр.взв!$B$7:$H$70,4,0),\"\")","v":""},{"$f":"IFERROR(VLOOKUP(B151,пр.взв!$B$7:$H$70,5,0),\"\")","v":""},null,null,null,null,3,{"$f":"пр.хода!L56","v":62},{"$f":"IFERROR(VLOOKUP(L151,пр.взв!$B$7:$H$70,2,0),\"\")","v":""},{"$f":"IFERROR(VLOOKUP(L151,пр.взв!$B$7:$H$70,3,0),\"\")","v":""},{"$f":"IFERROR(VLOOKUP(L151,пр.взв!$B$7:$H$70,4,0),\"\")","v":""},{"$f":"IFERROR(VLOOKUP(L151,пр.взв!$B$7:$H$70,5,0),\"\")","v":""}]
[]
[null,{"$f":"пр.хода!L10","v":37},{"$f":"IFERROR(VLOOKUP(B153,пр.взв!$B$7:$H$70,2,0),\"\")","v":"БУТЕНКО Максим Игоревич"},{"$f":"IFERROR(VLOOKUP(B153,пр.взв!$B$7:$H$70,3,0),\"\")","v":"15.03.1997, КМС"},{"$f":"IFERROR(VLOOKUP(B153,пр.взв!$B$7:$H$70,4,0),\"\")","v":"УФО"},{"$f":"IFERROR(VLOOKUP(B153,пр.взв!$B$7:$H$70,5,0),\"\")","v":"Курганская обл., Курган, СШОР"},null,null,null,null,null,{"$f":"пр.хода!L59","v":14},{"$f":"IFERROR(VLOOKUP(L153,пр.взв!$B$7:$H$70,2,0),\"\")","v":"КАЧАЙКИН Даниил Сергеевич"},{"$f":"IFERROR(VLOOKUP(L153,пр.взв!$B$7:$H$70,3,0),\"\")","v":"20.09.1997, КМС"},{"$f":"IFERROR(VLOOKUP(L153,пр.взв!$B$7:$H$70,4,0),\"\")","v":"ДВФО"},{"$f":"IFERROR(VLOOKUP(L153,пр.взв!$B$7:$H$70,5,0),\"\")","v":"Хабаровский край, Хабаровск, МО"}]
[]
[2,{"$f":"пр.хода!L14","v":55},{"$f":"IFERROR(VLOOKUP(B155,пр.взв!$B$7:$H$70,2,0),\"\")","v":""},{"$f":"IFERROR(VLOOKUP(B155,пр.взв!$B$7:$H$70,3,0),\"\")","v":""},{"$f":"IFERROR(VLOOKUP(B155,пр.взв!$B$7:$H$70,4,0),\"\")","v":""},{"$f":"IFERROR(VLOOKUP(B155,пр.взв!$B$7:$H$70,5,0),\"\")","v":""},null,null,null,null,4,{"$f":"пр.хода!L63","v":52},{"$f":"IFERROR(VLOOKUP(L155,пр.взв!$B$7:$H$70,2,0),\"\")","v":""},{"$f":"IFERROR(VLOOKUP(L155,пр.взв!$B$7:$H$70,3,0),\"\")","v":""},{"$f":"IFERROR(VLOOKUP(L155,пр.взв!$B$7:$H$70,4,0),\"\")","v":""},{"$f":"IFERROR(VLOOKUP(L155,пр.взв!$B$7:$H$70,5,0),\"\")","v":""}]
[]
[null,{"$f":"пр.хода!L17","v":7},{"$f":"IFERROR(VLOOKUP(B157,пр.взв!$B$7:$H$70,2,0),\"\")","v":"ПАНОВ Владислав Александрович"},{"$f":"IFERROR(VLOOKUP(B157,пр.взв!$B$7:$H$70,3,0),\"\")","v":"15.03.1998, КМС"},{"$f":"IFERROR(VLOOKUP(B157,пр.взв!$B$7:$H$70,4,0),\"\")","v":"СФО"},{"$f":"IFERROR(VLOOKUP(B157,пр.взв!$B$7:$H$70,5,0),\"\")","v":"Красноярский край, Красноярск, Академия борьбы"},null,null,null,null,null,{"$f":"пр.хода!L66","v":36},{"$f":"IFERROR(VLOOKUP(L157,пр.взв!$B$7:$H$70,2,0),\"\")","v":"ДАВЫДОВ Денис Игоревич"},{"$f":"IFERROR(VLOOKUP(L157,пр.взв!$B$7:$H$70,3,0),\"\")","v":"16.07.1987, ЗМС"},{"$f":"IFERROR(VLOOKUP(L157,пр.взв!$B$7:$H$70,4,0),\"\")","v":"ЦФО"},{"$f":"IFERROR(VLOOKUP(L157,пр.взв!$B$7:$H$70,5,0),\"\")","v":"Московская обл., Балашиха"}]
[]
[]
[5,{"$f":"пр.хода!N8","v":37},{"$f":"IFERROR(VLOOKUP(B160,пр.взв!$B$7:$H$70,2,0),\"\")","v":"БУТЕНКО Максим Игоревич"},{"$f":"IFERROR(VLOOKUP(B160,пр.взв!$B$7:$H$70,3,0),\"\")","v":"15.03.1997, КМС"},{"$f":"IFERROR(VLOOKUP(B160,пр.взв!$B$7:$H$70,4,0),\"\")","v":"УФО"},{"$f":"IFERROR(VLOOKUP(B160,пр.взв!$B$7:$H$70,5,0),\"\")","v":"Курганская обл., Курган, СШОР"},null,null,null,null,7,{"$f":"пр.хода!N57","v":14},{"$f":"IFERROR(VLOOKUP(L160,пр.взв!$B$7:$H$70,2,0),\"\")","v":"КАЧАЙКИН Даниил Сергеевич"},{"$f":"IFERROR(VLOOKUP(L160,пр.взв!$B$7:$H$70,3,0),\"\")","v":"20.09.1997, КМС"},{"$f":"IFERROR(VLOOKUP(L160,пр.взв!$B$7:$H$70,4,0),\"\")","v":"ДВФО"},{"$f":"IFERROR(VLOOKUP(L160,пр.взв!$B$7:$H$70,5,0),\"\")","v":"Хабаровский край, Хабаровск, МО"}]
[]
[null,{"$f":"пр.хода!N11","v":29},{"$f":"IFERROR(VLOOKUP(B162,пр.взв!$B$7:$H$70,2,0),\"\")","v":"ФОГОЛЕВ Александр Андреевич"},{"$f":"IFERROR(VLOOKUP(B162,пр.взв!$B$7:$H$70,3,0),\"\")","v":"08.05.1997, МС"},{"$f":"IFERROR(VLOOKUP(B162,пр.взв!$B$7:$H$70,4,0),\"\")","v":"ПФО"},{"$f":"IFERROR(VLOOKUP(B162,пр.взв!$B$7:$H$70,5,0),\"\")","v":"Нижегородская обл., Н.Новгород, Профсоюзы"},null,null,null,null,null,{"$f":"пр.хода!N60","v":6},{"$f":"IFERROR(VLOOKUP(L162,пр.взв!$B$7:$H$70,2,0),\"\")","v":"ГЕШЕВ Джамбулат Андзорович"},{"$f":"IFERROR(VLOOKUP(L162,пр.взв!$B$7:$H$70,3,0),\"\")","v":"21.12.1994, МС"},{"$f":"IFERROR(VLOOKUP(L162,пр.взв!$B$7:$H$70,4,0),\"\")","v":"ЮФО"},{"$f":"IFERROR(VLOOKUP(L162,пр.взв!$B$7:$H$70,5,0),\"\")","v":"Краснодарский край, Армавир, Д"}]
[]
[6,{"$f":"пр.хода!N15","v":7},{"$f":"IFERROR(VLOOKUP(B164,пр.взв!$B$7:$H$70,2,0),\"\")","v":"ПАНОВ Владислав Александрович"},{"$f":"IFERROR(VLOOKUP(B164,пр.взв!$B$7:$H$70,3,0),\"\")","v":"15.03.1998, КМС"},{"$f":"IFERROR(VLOOKUP(B164,пр.взв!$B$7:$H$70,4,0),\"\")","v":"СФО"},{"$f":"IFERROR(VLOOKUP(B164,пр.взв!$B$7:$H$70,5,0),\"\")","v":"Красноярский край, Красноярск, Академия борьбы"},null,null,null,null,8,{"$f":"пр.хода!N64","v":36},{"$f":"IFERROR(VLOOKUP(L164,пр.взв!$B$7:$H$70,2,0),\"\")","v":"ДАВЫДОВ Денис Игоревич"},{"$f":"IFERROR(VLOOKUP(L164,пр.взв!$B$7:$H$70,3,0),\"\")","v":"16.07.1987, ЗМС"},{"$f":"IFERROR(VLOOKUP(L164,пр.взв!$B$7:$H$70,4,0),\"\")","v":"ЦФО"},{"$f":"IFERROR(VLOOKUP(L164,пр.взв!$B$7:$H$70,5,0),\"\")","v":"Московская обл., Балашиха"}]
[]
[null,{"$f":"пр.хода!N18","v":31},{"$f":"IFERROR(VLOOKUP(B166,пр.взв!$B$7:$H$70,2,0),\"\")","v":"ЭЛАЕВ Рамазан Муртузалиевич"},{"$f":"IFERROR(VLOOKUP(B166,пр.взв!$B$7:$H$70,3,0),\"\")","v":"16.12.1996, МС"},{"$f":"IFERROR(VLOOKUP(B166,пр.взв!$B$7:$H$70,4,0),\"\")","v":"ЦФО"},{"$f":"IFERROR(VLOOKUP(B166,пр.взв!$B$7:$H$70,5,0),\"\")","v":"Костромская обл., Кострома, Д"},null,null,null,null,null,{"$f":"пр.хода!N67","v":28},{"$f":"IFERROR(VLOOKUP(L166,пр.взв!$B$7:$H$70,2,0),\"\")","v":"КЛЕЦКОВ Дмитрий Валерьевич"},{"$f":"IFERROR(VLOOKUP(L166,пр.взв!$B$7:$H$70,3,0),\"\")","v":"26.11.1986, МСМК"},{"$f":"IFERROR(VLOOKUP(L166,пр.взв!$B$7:$H$70,4,0),\"\")","v":"М"},{"$f":"IFERROR(VLOOKUP(L166,пр.взв!$B$7:$H$70,5,0),\"\")","v":"Москва, \"Самбо-70\", Д"}]
[]
[]
[9,{"$f":"пр.хода!O10","v":29},{"$f":"IFERROR(VLOOKUP(B169,пр.взв!$B$7:$H$70,2,0),\"\")","v":"ФОГОЛЕВ Александр Андреевич"},{"$f":"IFERROR(VLOOKUP(B169,пр.взв!$B$7:$H$70,3,0),\"\")","v":"08.05.1997, МС"},{"$f":"IFERROR(VLOOKUP(B169,пр.взв!$B$7:$H$70,4,0),\"\")","v":"ПФО"},{"$f":"IFERROR(VLOOKUP(B169,пр.взв!$B$7:$H$70,5,0),\"\")","v":"Нижегородская обл., Н.Новгород, Профсоюзы"},null,null,null,null,11,{"$f":"пр.хода!O59","v":6},{"$f":"IFERROR(VLOOKUP(L169,пр.взв!$B$7:$H$70,2,0),\"\")","v":"ГЕШЕВ Джамбулат Андзорович"},{"$f":"IFERROR(VLOOKUP(L169,пр.взв!$B$7:$H$70,3,0),\"\")","v":"21.12.1994, МС"},{"$f":"IFERROR(VLOOKUP(L169,пр.взв!$B$7:$H$70,4,0),\"\")","v":"ЮФО"},{"$f":"IFERROR(VLOOKUP(L169,пр.взв!$B$7:$H$70,5,0),\"\")","v":"Краснодарский край, Армавир, Д"}]
[]
[null,{"$f":"пр.хода!O13","v":33},{"$f":"IFERROR(VLOOKUP(B171,пр.взв!$B$7:$H$70,2,0),\"\")","v":"ГАВРИЛОВ Максим Олегович"},{"$f":"IFERROR(VLOOKUP(B171,пр.взв!$B$7:$H$70,3,0),\"\")","v":"15.09.1993, МС"},{"$f":"IFERROR(VLOOKUP(B171,пр.взв!$B$7:$H$70,4,0),\"\")","v":"М"},{"$f":"IFERROR(VLOOKUP(B171,пр.взв!$B$7:$H$70,5,0),\"\")","v":"Москва, \"Самбо-70\", ФСИН"},null,null,null,null,null,{"$f":"пр.хода!O62","v":34},{"$f":"IFERROR(VLOOKUP(L171,пр.взв!$B$7:$H$70,2,0),\"\")","v":"ТУРСУНОВ Али Юсуфжонович"},{"$f":"IFERROR(VLOOKUP(L171,пр.взв!$B$7:$H$70,3,0),\"\")","v":"09.12.1994, МС"},{"$f":"IFERROR(VLOOKUP(L171,пр.взв!$B$7:$H$70,4,0),\"\")","v":"М"},{"$f":"IFERROR(VLOOKUP(L171,пр.взв!$B$7:$H$70,5,0),\"\")","v":"Москва, \"Самбо-70\", ВДВ"}]
[]
[10,{"$f":"пр.хода!O17","v":31},{"$f":"IFERROR(VLOOKUP(B173,пр.взв!$B$7:$H$70,2,0),\"\")","v":"ЭЛАЕВ Рамазан Муртузалиевич"},{"$f":"IFERROR(VLOOKUP(B173,пр.взв!$B$7:$H$70,3,0),\"\")","v":"16.12.1996, МС"},{"$f":"IFERROR(VLOOKUP(B173,пр.взв!$B$7:$H$70,4,0),\"\")","v":"ЦФО"},{"$f":"IFERROR(VLOOKUP(B173,пр.взв!$B$7:$H$70,5,0),\"\")","v":"Костромская обл., Кострома, Д"},null,null,null,null,12,{"$f":"пр.хода!O66","v":28},{"$f":"IFERROR(VLOOKUP(L173,пр.взв!$B$7:$H$70,2,0),\"\")","v":"КЛЕЦКОВ Дмитрий Валерьевич"},{"$f":"IFERROR(VLOOKUP(L173,пр.взв!$B$7:$H$70,3,0),\"\")","v":"26.11.1986, МСМК"},{"$f":"IFERROR(VLOOKUP(L173,пр.взв!$B$7:$H$70,4,0),\"\")","v":"М"},{"$f":"IFERROR(VLOOKUP(L173,пр.взв!$B$7:$H$70,5,0),\"\")","v":"Москва, \"Самбо-70\", Д"}]
[]
[null,{"$f":"пр.хода!O20","v":3},{"$f":"IFERROR(VLOOKUP(B175,пр.взв!$B$7:$H$70,2,0),\"\")","v":"МЕЖЛУМЯН Гайк Левонович"},{"$f":"IFERROR(VLOOKUP(B175,пр.взв!$B$7:$H$70,3,0),\"\")","v":"17.05.1990, МС"},{"$f":"IFERROR(VLOOKUP(B175,пр.взв!$B$7:$H$70,4,0),\"\")","v":"ЮФО"},{"$f":"IFERROR(VLOOKUP(B175,пр.взв!$B$7:$H$70,5,0),\"\")","v":"Краснодарский край, Новороссийск, Д"},null,null,null,null,null,{"$f":"пр.хода!O69","v":8},{"$f":"IFERROR(VLOOKUP(L175,пр.взв!$B$7:$H$70,2,0),\"\")","v":"БОНДАРЕВ Александр Витальевич"},{"$f":"IFERROR(VLOOKUP(L175,пр.взв!$B$7:$H$70,3,0),\"\")","v":"27.01.1990, МСМК"},{"$f":"IFERROR(VLOOKUP(L175,пр.взв!$B$7:$H$70,4,0),\"\")","v":"ПФО"},{"$f":"IFERROR(VLOOKUP(L175,пр.взв!$B$7:$H$70,5,0),\"\")","v":"Чувашская р., Чебоксары"}]
[]
[]
[13,{"$f":"пр.хода!P12","v":33},{"$f":"IFERROR(VLOOKUP(B178,пр.взв!$B$7:$H$70,2,0),\"\")","v":"ГАВРИЛОВ Максим Олегович"},{"$f":"IFERROR(VLOOKUP(B178,пр.взв!$B$7:$H$70,3,0),\"\")","v":"15.09.1993, МС"},{"$f":"IFERROR(VLOOKUP(B178,пр.взв!$B$7:$H$70,4,0),\"\")","v":"М"},{"$f":"IFERROR(VLOOKUP(B178,пр.взв!$B$7:$H$70,5,0),\"\")","v":"Москва, \"Самбо-70\", ФСИН"},null,null,null,null,14,{"$f":"пр.хода!P61","v":6},{"$f":"IFERROR(VLOOKUP(L178,пр.взв!$B$7:$H$70,2,0),\"\")","v":"ГЕШЕВ Джамбулат Андзорович"},{"$f":"IFERROR(VLOOKUP(L178,пр.взв!$B$7:$H$70,3,0),\"\")","v":"21.12.1994, МС"},{"$f":"IFERROR(VLOOKUP(L178,пр.взв!$B$7:$H$70,4,0),\"\")","v":"ЮФО"},{"$f":"IFERROR(VLOOKUP(L178,пр.взв!$B$7:$H$70,5,0),\"\")","v":"Краснодарский край, Армавир, Д"}]
[]
[null,{"$f":"пр.хода!P19","v":31},{"$f":"IFERROR(VLOOKUP(B180,пр.взв!$B$7:$H$70,2,0),\"\")","v":"ЭЛАЕВ Рамазан Муртузалиевич"},{"$f":"IFERROR(VLOOKUP(B180,пр.взв!$B$7:$H$70,3,0),\"\")","v":"16.12.1996, МС"},{"$f":"IFERROR(VLOOKUP(B180,пр.взв!$B$7:$H$70,4,0),\"\")","v":"ЦФО"},{"$f":"IFERROR(VLOOKUP(B180,пр.взв!$B$7:$H$70,5,0),\"\")","v":"Костромская обл., Кострома, Д"},null,null,null,null,null,{"$f":"пр.хода!P68","v":8},{"$f":"IFERROR(VLOOKUP(L180,пр.взв!$B$7:$H$70,2,0),\"\")","v":"БОНДАРЕВ Александр Витальевич"},{"$f":"IFERROR(VLOOKUP(L180,пр.взв!$B$7:$H$70,3,0),\"\")","v":"27.01.1990, МСМК"},{"$f":"IFERROR(VLOOKUP(L180,пр.взв!$B$7:$H$70,4,0),\"\")","v":"ПФО"},{"$f":"IFERROR(VLOOKUP(L180,пр.взв!$B$7:$H$70,5,0),\"\")","v":"Чувашская р., Чебоксары"}]

{"sheet":"за призовые места","index":3,"n_rows":44,"n_cols":9,"rows_kept":44,"cut":false,"hidden":false,"merged":[[3,3,3,5],[15,3,15,5],[28,3,28,5],[16,0,17,0],[16,1,17,1],[16,2,17,2],[16,3,17,3],[8,0,9,0],[8,1,9,1],[8,2,9,2],[8,3,9,3],[29,6,30,6],[29,7,30,7],[18,0,19,0],[18,1,19,1],[18,2,19,2],[18,3,19,3],[20,0,21,0],[20,1,21,1],[20,2,21,2],[20,3,21,3],[29,0,30,0],[29,1,30,1],[29,2,30,2],[29,3,30,3],[31,5,32,5],[31,0,32,0],[31,1,32,1],[31,2,32,2],[31,3,32,3],[33,0,34,0],[33,1,34,1],[33,2,34,2],[33,3,34,3],[0,0,0,8],[4,4,5,5],[4,8,5,8],[6,8,7,8],[4,7,5,7],[6,0,7,0],[6,1,7,1],[6,2,7,2],[6,3,7,3],[6,4,7,4],[6,5,7,5],[6,6,7,6],[6,7,7,7],[4,0,5,0],[4,1,5,1],[4,2,5,2],[8,8,9,8],[8,6,9,6],[8,7,9,7],[8,4,9,4],[8,5,9,5],[4,3,5,3],[4,6,5,6],[16,8,17,8],[18,8,19,8],[18,4,19,4],[18,5,19,5],[18,6,19,6],[18,7,19,7],[16,6,17,6],[16,7,17,7],[16,4,17,5],[33,8,34,8],[20,8,21,8],[29,4,30,5],[29,8,30,8],[31,8,32,8],[33,4,34,4],[33,5,34,5],[33,6,34,6],[33,7,34,7],[31,4,32,4],[31,7,32,7],[31,6,32,6],[20,4,21,4],[20,5,21,5],[20,6,21,6],[20,7,21,7]]}
[{"$f":"[2]реквизиты!$A$2","v":"Чемпионат России по самбо среди мужчин, женщин и боевому самбо"}]
[]
[null,null,"ЗА 3 МЕСТО"]
[null,null,"ВСТРЕЧА 1",{"$f":"пр.взв!$D$4","v":"В.к. 68 кг."}]
["Цвет","№ п/ж","Ф.И.О.","Д. р., разряд","Вед., регион",null,"Оценки","Рез-т","Время"]
[]
[null,{"$f":"пр.хода!Q15","v":33},{"$f":"IFERROR(VLOOKUP(B7,пр.взв!$B$7:$H$70,2,0),\"\")","v":"ГАВРИЛОВ Максим Олегович"},{"$f":"IFERROR(VLOOKUP(B7,пр.взв!$B$7:$H$70,3,0),\"\")","v":"15.09.1993, МС"},{"$f":"IFERROR(VLOOKUP(B7,пр.взв!$B$7:$H$70,4,0),\"\")","v":"М"},{"$f":"IFERROR(VLOOKUP(B7,пр.взв!$B$7:$H$70,5,0),\"\")","v":"Москва, \"Самбо-70\", ФСИН"}]
[]
[null,{"$f":"пр.хода!Q21","v":30},{"$f":"IFERROR(VLOOKUP(B9,пр.взв!$B$7:$H$70,2,0),\"\")","v":"ГУКЕВ Рамед Мухамедович"},{"$f":"IFERROR(VLOOKUP(B9,пр.взв!$B$7:$H$70,3,0),\"\")","v":"08.04.1993, МС"},{"$f":"IFERROR(VLOOKUP(B9,пр.взв!$B$7:$H$70,4,0),\"\")","v":"УФО"},{"$f":"IFERROR(VLOOKUP(B9,пр.взв!$B$7:$H$70,5,0),\"\")","v":"Свердловская обл., В.Пышма, КС \"УГМК\""}]
[]
["Руководитель ковра"]
[null,"А"]
[null,"Б"]
[]
[null,null,"3А 3 МЕСТО"]
[null,null,"ВСТРЕЧА 2",{"$f":"пр.взв!$D$4","v":"В.к. 68 кг."}]
["Цвет","№ п/ж","Ф.И.О.","Д. р., разряд","Вед., регион",null,"Оценки","Рез-т","Время"]
[]
[null,{"$f":"пр.хода!Q64","v":8},{"$f":"IFERROR(VLOOKUP(B19,пр.взв!$B$7:$H$70,2,0),\"\")","v":"БОНДАРЕВ Александр Витальевич"},{"$f":"IFERROR(VLOOKUP(B19,пр.взв!$B$7:$H$70,3,0),\"\")","v":"27.01.1990, МСМК"},{"$f":"IFERROR(VLOOKUP(B19,пр.взв!$B$7:$H$70,4,0),\"\")","v":"ПФО"},{"$f":"IFERROR(VLOOKUP(B19,пр.взв!$B$7:$H$70,5,0),\"\")","v":"Чувашская р., Чебоксары"}]
[]
[null,{"$f":"пр.хода!Q69","v":21},{"$f":"IFERROR(VLOOKUP(B21,пр.взв!$B$7:$H$70,2,0),\"\")","v":"БАЛЫКОВ Владимир Юрьевич"},{"$f":"IFERROR(VLOOKUP(B21,пр.взв!$B$7:$H$70,3,0),\"\")","v":"15.02.1991, МСМК"},{"$f":"IFERROR(VLOOKUP(B21,пр.взв!$B$7:$H$70,4,0),\"\")","v":"УФО"},{"$f":"IFERROR(VLOOKUP(B21,пр.взв!$B$7:$H$70,5,0),\"\")","v":"Свердловская обл., В.Пышма, КС \"УГМК\""}]
[]
["Руководитель ковра"]
[null,"А"]
[null,"Б"]
[]
[]
[]
[null,null,"ФИНАЛ",{"$f":"пр.взв!$D$4","v":"В.к. 68 кг."}]
["Цвет","№ п/ж","Ф.И.О.","Д. р., разряд","Вед., регион",null,"Оценки","Рез-т","Время"]
[]
[null,{"$f":"пр.хода!M36","v":23},{"$f":"IFERROR(VLOOKUP(B32,пр.взв!$B$7:$H$70,2,0),\"\")","v":"КЛЕЦКОВ Никита Валерьевич"},{"$f":"IFERROR(VLOOKUP(B32,пр.взв!$B$7:$H$70,3,0),\"\")","v":"26.11.1986, ЗМС"},{"$f":"IFERROR(VLOOKUP(B32,пр.взв!$B$7:$H$70,4,0),\"\")","v":"М"},{"$f":"IFERROR(VLOOKUP(B32,пр.взв!$B$7:$H$70,5,0),\"\")","v":"Москва, \"Самбо-70\", Д"}]
[]
[null,{"$f":"пр.хода!S36","v":20},{"$f":"IFERROR(VLOOKUP(B34,пр.взв!$B$7:$H$70,2,0),\"\")","v":"СУХОМЛИНОВ Евгений Игоревич"},{"$f":"IFERROR(VLOOKUP(B34,пр.взв!$B$7:$H$70,3,0),\"\")","v":"17.07.1991, МСМК"},{"$f":"IFERROR(VLOOKUP(B34,пр.взв!$B$7:$H$70,4,0),\"\")","v":"ДВФО"},{"$f":"IFERROR(VLOOKUP(B34,пр.взв!$B$7:$H$70,5,0),\"\")","v":"Хабаровский край, Комсомольск, Д"}]
[]
["Руководитель ковра"]
[null,"А"]
[null,"Б"]
[]
[]
[]
["",null,null,null,null,"",""]
[]
["",null,null,null,null,"",""]

{"sheet":"ит.пр","index":4,"n_rows":73,"n_cols":41,"rows_kept":73,"cut":false,"hidden":false,"merged":[[3,37,3,40],[1,19,1,23],[3,28,4,28],[3,29,4,29],[3,30,3,33],[3,35,4,35],[3,36,4,36],[3,20,3,23],[3,19,4,19],[1,3,1,7],[3,4,4,5],[2,1,2,6],[0,0,0,7],[3,7,4,7],[1,1,1,2],[3,6,4,6],[3,0,4,0],[3,1,4,1],[3,2,4,2],[3,3,4,3],[15,9,16,9],[15,10,16,10],[9,9,10,9],[9,10,10,10],[3,9,4,9],[3,10,4,10],[5,9,6,9],[5,10,6,10],[7,9,8,9],[7,10,8,10],[13,9,14,9],[13,10,14,10],[3,13,3,16],[3,18,4,18],[3,11,4,11],[3,12,4,12],[11,9,12,9],[11,10,12,10]]}
["ВСЕРОССИЙСКАЯ ФЕДЕРАЦИЯ САМБО",null,null,null,null,null,null,null,null,null,null,null,null,null,null,null,null,null,null,{"$f":"SUMIF(T6:T11,V1,$K$14:$K$17)","v":0},null,{"$f":"J12","v":"Чувашская р."}]
[null,"ИТОГОВЫЙ ПРОТОКОЛ МУЖЧИНЫ                                                         ",null,{"$f":"[2]реквизиты!$A$2","v":"Чемпионат России по самбо среди мужчин, женщин и боевому самбо"},null,null,null,null,null,null,null,null,null,null,null,null,null,null,null,{"$f":"SUMIF(J14:J16,V1,$K$14:$K$17)","v":0}]
[null,{"$f":"[2]реквизиты!$A$3","v":"1-5 марта 2018г.                                              г.Хабаровск"},null,null,null,null,null,{"$f":"пр.взв!$D$4","v":"В.к. 68 кг."}]
[" место","№ п/ж","Ф.И.О.","Дата рожд., разряд","Округ, субъект, город, ведомство",null,"№ карточки","Тренер",null,{"$f":"IFERROR(LEFT(F6,FIND(\",\",F6)-1),F6)","v":"Москва"},1,"№пп","Субъект",null,null,null,null,null,"№пп","Субъект",null,null,null,null,null,null,null,null,"№пп","Субъект",null,null,null,null,null,"№пп","Субъект"]
[null,null,null,null,null,null,null,null,null,null,null,null,null,1,2,3,5,null,null,null,1,2,3,5,null,1,null,2,null,null,1,2,3,5,null,null,null,1,2,3,5]
[1,{"$f":"пр.хода!M32","v":23},{"$f":"IFERROR(VLOOKUP(B6,пр.взв!$B$7:$H$70,2,0),\"\")","v":"КЛЕЦКОВ Никита Валерьевич"},{"$f":"IFERROR(VLOOKUP(B6,пр.взв!$B$7:$H$70,3,0),\"\")","v":"26.11.1986, ЗМС"},{"$f":"IFERROR(VLOOKUP(B6,пр.взв!$B$7:$H$70,4,0),\"\")","v":"М"},{"$f":"IFERROR(VLOOKUP(B6,пр.взв!$B$7:$H$70,5,0),\"\")","v":"Москва, \"Самбо-70\", Д"},{"$f":"IFERROR(VLOOKUP(B6,пр.взв!$B$7:$H$70,6,0),\"\")","v":"-"},{"$f":"IFERROR(VLOOKUP(B6,пр.взв!$B$7:$H$70,7,0),\"\")","v":"Филимонов СН, Павлов ДА"},null,"СМИТ",1,1,"Алтайский",{"$f":"SUMIF($J$4:$J$7,J4,$K$4:$K$7)","v":1},{"$f":"SUMIF($I$8:$J$9,\"алт\",$K$6:$K$9)","v":0},{"$f":"SUMIF($J$10:$J$13,\"Алт\",$K$10:$K$13)","v":0},{"$f":"SUMIF($J$14:$J$17,\"Алт\",$K$14:$K$17)","v":0},null,1,{"$f":"J4","v":"Москва"},{"$f":"SUMIF($J$4:$J$7,T6,$K$4:$K$7)","v":1},{"$f":"SUMIF($I$8:$J$9,T6,$K$6:$K$9)","v":0},{"$f":"SUMIF($J$10:$J$13,T6,$K$10:$K$13)","v":1},{"$f":"SUMIF($J$14:$J$17,T6,$K$14:$K$17)","v":0},null,{"$f":"T6","v":"Москва"},null,{"$f":"Z6","v":"Москва"},1,{"$f":"AB6","v":"Москва"},{"$f":"SUMIF($J$4:$J$7,AD6,$K$4:$K$7)","v":1},{"$f":"SUMIF($I$8:$J$9,AD6,$K$6:$K$9)","v":0},{"$f":"SUMIF($J$10:$J$13,AD6,$K$10:$K$13)","v":1},{"$f":"SUMIF($J$14:$J$17,AD6,$K$14:$K$17)","v":0},null,1,{"$f":"IF(AD6=0,\" \",AD6)","v":"Москва"},1," ",1," "]
[2,{"$f":"пр.хода!M40","v":20},{"$f":"IFERROR(VLOOKUP(B7,пр.взв!$B$7:$H$70,2,0),\"\")","v":"СУХОМЛИНОВ Евгений Игоревич"},{"$f":"IFERROR(VLOOKUP(B7,пр.взв!$B$7:$H$70,3,0),\"\")","v":"17.07.1991, МСМК"},{"$f":"IFERROR(VLOOKUP(B7,пр.взв!$B$7:$H$70,4,0),\"\")","v":"ДВФО"},{"$f":"IFERROR(VLOOKUP(B7,пр.взв!$B$7:$H$70,5,0),\"\")","v":"Хабаровский край, Комсомольск, Д"},{"$f":"IFERROR(VLOOKUP(B7,пр.взв!$B$7:$H$70,6,0),\"\")","v":"-"},{"$f":"IFERROR(VLOOKUP(B7,пр.взв!$B$7:$H$70,7,0),\"\")","v":"Сухомлинов ИА"},null,null,null,2,"Забайкальский",{"$f":"SUMIF($J$4:$J$7,\"заб\",$K$4:$K$7)","v":0},{"$f":"SUMIF($I$8:$J$9,\"заб\",$K$6:$K$9)","v":0},{"$f":"SUMIF($J$10:$J$13,\"заб\",$K$10:$K$13)","v":0},{"$f":"SUMIF($J$14:$J$17,\"заб\",$K$14:$K$17)","v":0},null,2,{"$f":"IF(J8=J4,\" \",J8)","v":"Хабаровский край"},0,1,0,{"$f":"SUMIF($J$14:$J$17,T7,$K$14:$K$17)","v":0},null,{"$f":"IF(OR(T7=\" \"),T8,T7)","v":"Хабаровский край"},{"$f":"IF(U7=U6,\" \",U7)","v":0},{"$f":"IF(OR(Z7=\" \"),Z8,Z7)","v":"Хабаровский край"},2,{"$f":"IF(OR(AB7=\" \"),AB8,AB7)","v":"Хабаровский край"},0,1,0,0,null,2,"Хабаровский край"," ",1," "," "]
[3,{"$f":"пр.хода!R18","v":33},{"$f":"IFERROR(VLOOKUP(B8,пр.взв!$B$7:$H$70,2,0),\"\")","v":"ГАВРИЛОВ Максим Олегович"},{"$f":"IFERROR(VLOOKUP(B8,пр.взв!$B$7:$H$70,3,0),\"\")","v":"15.09.1993, МС"},{"$f":"IFERROR(VLOOKUP(B8,пр.взв!$B$7:$H$70,4,0),\"\")","v":"М"},{"$f":"IFERROR(VLOOKUP(B8,пр.взв!$B$7:$H$70,5,0),\"\")","v":"Москва, \"Самбо-70\", ФСИН"},{"$f":"IFERROR(VLOOKUP(B8,пр.взв!$B$7:$H$70,6,0),\"\")","v":"-"},{"$f":"IFERROR(VLOOKUP(B8,пр.взв!$B$7:$H$70,7,0),\"\")","v":"Савкин АВ, Фунтиков ПВ"},null,{"$f":"IFERROR(LEFT(F7,FIND(\",\",F7)-1),F7)","v":"Хабаровский край"},1,3,"Иркутская",{"$f":"SUMIF($J$4:$J$7,\"ирк\",$K$4:$K$7)","v":0},{"$f":"SUMIF($I$8:$J$9,\"ирк\",$K$6:$K$9)","v":0},{"$f":"SUMIF($J$10:$J$13,\"ирк\",$K$10:$K$13)","v":0},{"$f":"SUMIF($J$14:$J$17,\"ирк\",$K$14:$K$17)","v":0},null,3,{"$f":"IF(OR(J10=J4,J10=J8),\" \",J10)","v":" "},0,0,0,{"$f":"SUMIF($J$14:$J$17,T8,$K$14:$K$17)","v":0},null,{"$f":"IF(OR(T8=\" \",T7=\" \"),T9,T8)","v":"Чувашская р."},null,{"$f":"IF(OR(Z8=\" \",Z7=\" \"),Z9,Z8)","v":"Чувашская р."},3,{"$f":"IF(OR(AB8=\" \",AB7=\" \"),AB9,AB8)","v":"Чувашская р."},0,0,1,0,null,3,"Чувашская р."," "," ",1," "]
[3,{"$f":"пр.хода!R67","v":8},{"$f":"IFERROR(VLOOKUP(B9,пр.взв!$B$7:$H$70,2,0),\"\")","v":"БОНДАРЕВ Александр Витальевич"},{"$f":"IFERROR(VLOOKUP(B9,пр.взв!$B$7:$H$70,3,0),\"\")","v":"27.01.1990, МСМК"},{"$f":"IFERROR(VLOOKUP(B9,пр.взв!$B$7:$H$70,4,0),\"\")","v":"ПФО"},{"$f":"IFERROR(VLOOKUP(B9,пр.взв!$B$7:$H$70,5,0),\"\")","v":"Чувашская р., Чебоксары"},{"$f":"IFERROR(VLOOKUP(B9,пр.взв!$B$7:$H$70,6,0),\"\")","v":"-"},{"$f":"IFERROR(VLOOKUP(B9,пр.взв!$B$7:$H$70,7,0),\"\")","v":"Пегасов СВ, Малов СА"},null,null,null,4,"Кемеровская",{"$f":"SUMIF($J$4:$J$7,\"кем\",$K$4:$K$7)","v":0},{"$f":"SUMIF($I$8:$J$9,\"кем\",$K$6:$K$9)","v":0},{"$f":"SUMIF($J$10:$J$13,\"кем\",$K$10:$K$13)","v":0},{"$f":"SUMIF($J$14:$J$17,\"кем\",$K$14:$K$17)","v":0},null,4,{"$f":"IF(OR(J12=J4,J12=J8,J12=J10),\" \",J12)","v":"Чувашская р."},0,0,1,{"$f":"SUMIF($J$14:$J$17,T9,$K$14:$K$17)","v":0},null,{"$f":"IF(OR(T7=\" \",T8=\" \",T9=\" \"),T10,T9)","v":"Свердловская обл."},null,{"$f":"IF(OR(Z7=\" \",Z8=\" \",Z9=\" \"),Z10,Z9)","v":"Свердловская обл."},4,{"$f":"IF(OR(AB7=\" \",AB8=\" \",AB9=\" \"),AB10,AB9)","v":"Свердловская обл."},0,0,0,2,null,4,"Свердловская обл."," "," "," ",2]
[5,{"$f":"пр.хода!AM28","v":30},{"$f":"IFERROR(VLOOKUP(B10,пр.взв!$B$7:$H$70,2,0),\"\")","v":"ГУКЕВ Рамед Мухамедович"},{"$f":"IFERROR(VLOOKUP(B10,пр.взв!$B$7:$H$70,3,0),\"\")","v":"08.04.1993, МС"},{"$f":"IFERROR(VLOOKUP(B10,пр.взв!$B$7:$H$70,4,0),\"\")","v":"УФО"},{"$f":"IFERROR(VLOOKUP(B10,пр.взв!$B$7:$H$70,5,0),\"\")","v":"Свердловская обл., В.Пышма, КС \"УГМК\""},{"$f":"IFERROR(VLOOKUP(B10,пр.взв!$B$7:$H$70,6,0),\"\")","v":"-"},{"$f":"IFERROR(VLOOKUP(B10,пр.взв!$B$7:$H$70,7,0),\"\")","v":"Хлыбов ИЕ, Суханов МИ"},null,{"$f":"IFERROR(LEFT(F8,FIND(\",\",F8)-1),F8)","v":"Москва"},1,5,"Красноярский",{"$f":"SUMIF($J$4:$J$7,\"кра\",$K$4:$K$7)","v":0},{"$f":"SUMIF($I$8:$J$9,\"кра\",$K$6:$K$9)","v":0},{"$f":"SUMIF($J$10:$J$13,\"кра\",$K$10:$K$13)","v":0},{"$f":"SUMIF($J$14:$J$17,\"кра\",$K$14:$K$17)","v":0},null,5,{"$f":"IF(OR(J14=J4,J14=J8,J14=J10,J14=J12),\" \",J14)","v":"Свердловская обл."},0,0,0,{"$f":"SUMIF($J$14:$J$17,T10,$K$14:$K$17)","v":2},null,{"$f":"IF(OR(T7=\" \",T8=\" \",T9=\" \",T10=\" \"),T11,T10)","v":" "},null,{"$f":"IF(OR(Z7=\" \",Z8=\" \",Z9=\" \"),\" \",Z10)","v":" "},5,{"$f":"IF(OR(AB7=\" \",AB8=\" \",AB9=\" \"),\" \",AB10)","v":" "},0,0,0,0,null,5," "," "," "," "," "]
[5,{"$f":"пр.хода!AM29","v":21},{"$f":"IFERROR(VLOOKUP(B11,пр.взв!$B$7:$H$70,2,0),\"\")","v":"БАЛЫКОВ Владимир Юрьевич"},{"$f":"IFERROR(VLOOKUP(B11,пр.взв!$B$7:$H$70,3,0),\"\")","v":"15.02.1991, МСМК"},{"$f":"IFERROR(VLOOKUP(B11,пр.взв!$B$7:$H$70,4,0),\"\")","v":"УФО"},{"$f":"IFERROR(VLOOKUP(B11,пр.взв!$B$7:$H$70,5,0),\"\")","v":"Свердловская обл., В.Пышма, КС \"УГМК\""},{"$f":"IFERROR(VLOOKUP(B11,пр.взв!$B$7:$H$70,6,0),\"\")","v":"-"},{"$f":"IFERROR(VLOOKUP(B11,пр.взв!$B$7:$H$70,7,0),\"\")","v":"Стенников ВГ, Хлыбов ИА"},null,null,null,6,"Новосибирская",{"$f":"SUMIF($J$4:$J$7,\"нов\",$K$4:$K$7)","v":0},{"$f":"SUMIF($I$8:$J$9,\"нов\",$K$6:$K$9)","v":0},{"$f":"SUMIF($J$10:$J$13,\"нов\",$K$10:$K$13)","v":0},{"$f":"SUMIF($J$14:$J$17,\"нов\",$K$14:$K$17)","v":0},null,6,{"$f":"IF(OR(J16=J4,J16=J8,J16=J10,J16=J12,J16=J14),\" \",J16)","v":" "},0,0,0,{"$f":"SUMIF($J$14:$J$17,T11,$K$8:$K$17)","v":0},null,{"$f":"IF(OR(T7=\" \",T8=\" \",T9=\" \",T10=\" \"),\" \",T11)","v":" "},null,{"$f":"IF(OR(Z7=\" \",Z8=\" \",Z9=\" \",Z10=\" \"),\" \",Z11)","v":" "},6,{"$f":"IF(OR(AB7=\" \",AB8=\" \",AB9=\" \",AB10=\" \"),\" \",AB11)","v":" "},0,0,0,0,null,6," "," "," "," "," "]
["7-8",{"$f":"пр.хода!AM25","v":31},{"$f":"IFERROR(VLOOKUP(B12,пр.взв!$B$7:$H$70,2,0),\"\")","v":"ЭЛАЕВ Рамазан Муртузалиевич"},{"$f":"IFERROR(VLOOKUP(B12,пр.взв!$B$7:$H$70,3,0),\"\")","v":"16.12.1996, МС"},{"$f":"IFERROR(VLOOKUP(B12,пр.взв!$B$7:$H$70,4,0),\"\")","v":"ЦФО"},{"$f":"IFERROR(VLOOKUP(B12,пр.взв!$B$7:$H$70,5,0),\"\")","v":"Костромская обл., Кострома, Д"},{"$f":"IFERROR(VLOOKUP(B12,пр.взв!$B$7:$H$70,6,0),\"\")","v":"-"},{"$f":"IFERROR(VLOOKUP(B12,пр.взв!$B$7:$H$70,7,0),\"\")","v":"Степанов АА"},null,{"$f":"IFERROR(LEFT(F9,FIND(\",\",F9)-1),F9)","v":"Чувашская р."},1,7,"Омская",{"$f":"SUMIF($J$4:$J$7,\"омс\",$K$4:$K$7)","v":0},{"$f":"SUMIF($I$8:$J$9,\"омс\",$K$6:$K$9)","v":0},{"$f":"SUMIF($J$10:$J$13,\"омс\",$K$10:$K$13)","v":0},{"$f":"SUMIF($J$14:$J$17,\"омс\",$K$14:$K$17)","v":0},null,null,{"$f":"IF(OR(J15=J7,J15=J11,J15=J13),\" \",J15)","v":" "},null,null,null,null,null,null,null,null,null,null,{"$f":"SUM(AE6:AE11)","v":1},{"$f":"SUM(AF6:AF11)","v":1},{"$f":"SUM(AG6:AG11)","v":2},{"$f":"SUM(AH6:AH11)","v":2},null,null,null,{"$f":"SUM(AL6:AL11)","v":1},{"$f":"SUM(AM6:AM11)","v":1},{"$f":"SUM(AN6:AN11)","v":2},{"$f":"SUM(AO6:AO11)","v":2}]
["7-8",{"$f":"пр.хода!AM26","v":6},{"$f":"IFERROR(VLOOKUP(B13,пр.взв!$B$7:$H$70,2,0),\"\")","v":"ГЕШЕВ Джамбулат Андзорович"},{"$f":"IFERROR(VLOOKUP(B13,пр.взв!$B$7:$H$70,3,0),\"\")","v":"21.12.1994, МС"},{"$f":"IFERROR(VLOOKUP(B13,пр.взв!$B$7:$H$70,4,0),\"\")","v":"ЮФО"},{"$f":"IFERROR(VLOOKUP(B13,пр.взв!$B$7:$H$70,5,0),\"\")","v":"Краснодарский край, Армавир, Д"},{"$f":"IFERROR(VLOOKUP(B13,пр.взв!$B$7:$H$70,6,0),\"\")","v":"-"},{"$f":"IFERROR(VLOOKUP(B13,пр.взв!$B$7:$H$70,7,0),\"\")","v":"Псеунов МА"},null,null,null,8,"Р.Алтай",{"$f":"SUMIF($J$4:$J$7,\"р.а\",$K$4:$K$7)","v":0},{"$f":"SUMIF($I$8:$J$9,\"р.а\",$K$6:$K$9)","v":0},{"$f":"SUMIF($J$10:$J$13,\"р.а\",$K$10:$K$13)","v":0},{"$f":"SUMIF($J$14:$J$17,\"р.а\",$K$14:$K$17)","v":0},null,null,{"$f":"IF(OR(J16=J8,J16=J12,J16=J14),\" \",J16)","v":" "}]
["9-12",{"$f":"пр.хода!AM20","v":29},{"$f":"IFERROR(VLOOKUP(B14,пр.взв!$B$7:$H$70,2,0),\"\")","v":"ФОГОЛЕВ Александр Андреевич"},{"$f":"IFERROR(VLOOKUP(B14,пр.взв!$B$7:$H$70,3,0),\"\")","v":"08.05.1997, МС"},{"$f":"IFERROR(VLOOKUP(B14,пр.взв!$B$7:$H$70,4,0),\"\")","v":"ПФО"},{"$f":"IFERROR(VLOOKUP(B14,пр.взв!$B$7:$H$70,5,0),\"\")","v":"Нижегородская обл., Н.Новгород, Профсоюзы"},{"$f":"IFERROR(VLOOKUP(B14,пр.взв!$B$7:$H$70,6,0),\"\")","v":"-"},{"$f":"IFERROR(VLOOKUP(B14,пр.взв!$B$7:$H$70,7,0),\"\")","v":"Симанов МВ, Гаврилов АЕ"},null,{"$f":"IFERROR(LEFT(F10,FIND(\",\",F10)-1),F10)","v":"Свердловская обл."},1,9,"Р.Бурятия",{"$f":"SUMIF($J$4:$J$7,\"р.б\",$K$4:$K$7)","v":0},{"$f":"SUMIF($I$8:$J$9,\"р.б\",$K$6:$K$9)","v":0},{"$f":"SUMIF($J$10:$J$13,\"р.б\",$K$10:$K$13)","v":0},{"$f":"SUMIF($J$14:$J$17,\"р.б\",$K$14:$K$17)","v":0}]
[{"$f":"$A$14","v":"9-12"},{"$f":"пр.хода!AM21","v":34},{"$f":"IFERROR(VLOOKUP(B15,пр.взв!$B$7:$H$70,2,0),\"\")","v":"ТУРСУНОВ Али Юсуфжонович"},{"$f":"IFERROR(VLOOKUP(B15,пр.взв!$B$7:$H$70,3,0),\"\")","v":"09.12.1994, МС"},{"$f":"IFERROR(VLOOKUP(B15,пр.взв!$B$7:$H$70,4,0),\"\")","v":"М"},{"$f":"IFERROR(VLOOKUP(B15,пр.взв!$B$7:$H$70,5,0),\"\")","v":"Москва, \"Самбо-70\", ВДВ"},{"$f":"IFERROR(VLOOKUP(B15,пр.взв!$B$7:$H$70,6,0),\"\")","v":"-"},{"$f":"IFERROR(VLOOKUP(B15,пр.взв!$B$7:$H$70,7,0),\"\")","v":"Сальников ВВ, Кабанов ДБ"},null,null,null,10,"Р.Хакасия",{"$f":"SUMIF($J$4:$J$7,\"р.х\",$K$4:$K$7)","v":0},{"$f":"SUMIF($I$8:$J$9,\"р.х\",$K$6:$K$9)","v":0},{"$f":"SUMIF($J$10:$J$13,\"р.х\",$K$10:$K$13)","v":0},{"$f":"SUMIF($J$14:$J$17,\"р.х\",$K$14:$K$17)","v":0}]
[{"$f":"$A$14","v":"9-12"},{"$f":"пр.хода!AM22","v":3},{"$f":"IFERROR(VLOOKUP(B16,пр.взв!$B$7:$H$70,2,0),\"\")","v":"МЕЖЛУМЯН Гайк Левонович"},{"$f":"IFERROR(VLOOKUP(B16,пр.взв!$B$7:$H$70,3,0),\"\")","v":"17.05.1990, МС"},{"$f":"IFERROR(VLOOKUP(B16,пр.взв!$B$7:$H$70,4,0),\"\")","v":"ЮФО"},{"$f":"IFERROR(VLOOKUP(B16,пр.взв!$B$7:$H$70,5,0),\"\")","v":"Краснодарский край, Новороссийск, Д"},{"$f":"IFERROR(VLOOKUP(B16,пр.взв!$B$7:$H$70,6,0),\"\")","v":"-"},{"$f":"IFERROR(VLOOKUP(B16,пр.взв!$B$7:$H$70,7,0),\"\")","v":"Дученко ВФ, Гарькуша АВ"},null,{"$f":"IFERROR(LEFT(F11,FIND(\",\",F11)-1),F11)","v":"Свердловская обл."},1,11,"Томская",{"$f":"SUMIF($J$4:$J$7,\"том\",$K$4:$K$7)","v":0},{"$f":"SUMIF($I$8:$J$9,\"том\",$K$6:$K$9)","v":0},{"$f":"SUMIF($J$10:$J$13,\"том\",$K$10:$K$13)","v":0},{"$f":"SUMIF($J$14:$J$17,\"том\",$K$14:$K$17)","v":0}]
[{"$f":"$A$14","v":"9-12"},{"$f":"пр.хода!AM23","v":28},{"$f":"IFERROR(VLOOKUP(B17,пр.взв!$B$7:$H$70,2,0),\"\")","v":"КЛЕЦКОВ Дмитрий Валерьевич"},{"$f":"IFERROR(VLOOKUP(B17,пр.взв!$B$7:$H$70,3,0),\"\")","v":"26.11.1986, МСМК"},{"$f":"IFERROR(VLOOKUP(B17,пр.взв!$B$7:$H$70,4,0),\"\")","v":"М"},{"$f":"IFERROR(VLOOKUP(B17,пр.взв!$B$7:$H$70,5,0),\"\")","v":"Москва, \"Самбо-70\", Д"},{"$f":"IFERROR(VLOOKUP(B17,пр.взв!$B$7:$H$70,6,0),\"\")","v":"-"},{"$f":"IFERROR(VLOOKUP(B17,пр.взв!$B$7:$H$70,7,0),\"\")","v":"Филимонов СН, Павлов ДА"},null,null,null,12,"Мос",{"$f":"SUMIF($J$4:$J$7,\"Мос\",$K$4:$K$7)","v":0},{"$f":"SUMIF($I$8:$J$9,\"Мос\",$K$6:$K$9)","v":0},{"$f":"SUMIF($J$10:$J$13,\"Мос\",$K$10:$K$13)","v":0},{"$f":"SUMIF($J$14:$J$17,\"Мос\",$K$14:$K$17)","v":0}]
["13-16",{"$f":"пр.хода!AM15","v":37},{"$f":"IFERROR(VLOOKUP(B18,пр.взв!$B$7:$H$70,2,0),\"\")","v":"БУТЕНКО Максим Игоревич"},{"$f":"IFERROR(VLOOKUP(B18,пр.взв!$B$7:$H$70,3,0),\"\")","v":"15.03.1997, КМС"},{"$f":"IFERROR(VLOOKUP(B18,пр.взв!$B$7:$H$70,4,0),\"\")","v":"УФО"},{"$f":"IFERROR(VLOOKUP(B18,пр.взв!$B$7:$H$70,5,0),\"\")","v":"Курганская обл., Курган, СШОР"},{"$f":"IFERROR(VLOOKUP(B18,пр.взв!$B$7:$H$70,6,0),\"\")","v":"-"},{"$f":"IFERROR(VLOOKUP(B18,пр.взв!$B$7:$H$70,7,0),\"\")","v":"Кудрявцев СЮ"},null,null,null,null,null,{"$f":"SUM(N6:N17)","v":1},{"$f":"SUM(O6:O17)","v":0},{"$f":"SUM(P6:P17)","v":0},{"$f":"SUM(Q6:Q17)","v":0},null,null,null,{"$f":"SUM(U6:U17)","v":1},{"$f":"SUM(V6:V17)","v":1},{"$f":"SUM(W6:W17)","v":2},{"$f":"SUM(X6:X17)","v":2}]
["13-16",{"$f":"пр.хода!AM16","v":14},{"$f":"IFERROR(VLOOKUP(B19,пр.взв!$B$7:$H$70,2,0),\"\")","v":"КАЧАЙКИН Даниил Сергеевич"},{"$f":"IFERROR(VLOOKUP(B19,пр.взв!$B$7:$H$70,3,0),\"\")","v":"20.09.1997, КМС"},{"$f":"IFERROR(VLOOKUP(B19,пр.взв!$B$7:$H$70,4,0),\"\")","v":"ДВФО"},{"$f":"IFERROR(VLOOKUP(B19,пр.взв!$B$7:$H$70,5,0),\"\")","v":"Хабаровский край, Хабаровск, МО"},{"$f":"IFERROR(VLOOKUP(B19,пр.взв!$B$7:$H$70,6,0),\"\")","v":"-"},{"$f":"IFERROR(VLOOKUP(B19,пр.взв!$B$7:$H$70,7,0),\"\")","v":"Качайкин СН"}]
["13-16",{"$f":"пр.хода!AM17","v":7},{"$f":"IFERROR(VLOOKUP(B20,пр.взв!$B$7:$H$70,2,0),\"\")","v":"ПАНОВ Владислав Александрович"},{"$f":"IFERROR(VLOOKUP(B20,пр.взв!$B$7:$H$70,3,0),\"\")","v":"15.03.1998, КМС"},{"$f":"IFERROR(VLOOKUP(B20,пр.взв!$B$7:$H$70,4,0),\"\")","v":"СФО"},{"$f":"IFERROR(VLOOKUP(B20,пр.взв!$B$7:$H$70,5,0),\"\")","v":"Красноярский край, Красноярск, Академия борьбы"},{"$f":"IFERROR(VLOOKUP(B20,пр.взв!$B$7:$H$70,6,0),\"\")","v":"-"},{"$f":"IFERROR(VLOOKUP(B20,пр.взв!$B$7:$H$70,7,0),\"\")","v":"Батурин АВ"}]
["13-16",{"$f":"пр.хода!AM18","v":36},{"$f":"IFERROR(VLOOKUP(B21,пр.взв!$B$7:$H$70,2,0),\"\")","v":"ДАВЫДОВ Денис Игоревич"},{"$f":"IFERROR(VLOOKUP(B21,пр.взв!$B$7:$H$70,3,0),\"\")","v":"16.07.1987, ЗМС"},{"$f":"IFERROR(VLOOKUP(B21,пр.взв!$B$7:$H$70,4,0),\"\")","v":"ЦФО"},{"$f":"IFERROR(VLOOKUP(B21,пр.взв!$B$7:$H$70,5,0),\"\")","v":"Московская обл., Балашиха"},{"$f":"IFERROR(VLOOKUP(B21,пр.взв!$B$7:$H$70,6,0),\"\")","v":"-"},{"$f":"IFERROR(VLOOKUP(B21,пр.взв!$B$7:$H$70,7,0),\"\")","v":"Николайчик ВК"}]
["17-20",25,{"$f":"IFERROR(VLOOKUP(B22,пр.взв!$B$7:$H$70,2,0),\"\")","v":"ВОРОБЬЕВ Михаил Анатольевич"},{"$f":"IFERROR(VLOOKUP(B22,пр.взв!$B$7:$H$70,3,0),\"\")","v":"29.03.1995, МСМК"},{"$f":"IFERROR(VLOOKUP(B22,пр.взв!$B$7:$H$70,4,0),\"\")","v":"ЦФО"},{"$f":"IFERROR(VLOOKUP(B22,пр.взв!$B$7:$H$70,5,0),\"\")","v":"Рязанская обл., Рязань, Д"},{"$f":"IFERROR(VLOOKUP(B22,пр.взв!$B$7:$H$70,6,0),\"\")","v":"-"},{"$f":"IFERROR(VLOOKUP(B22,пр.взв!$B$7:$H$70,7,0),\"\")","v":"Перетрухин ВН, Фофанов КН"}]
["17-20",26,{"$f":"IFERROR(VLOOKUP(B23,пр.взв!$B$7:$H$70,2,0),\"\")","v":"ГОРКОВЕЦ Артем Глебович"},{"$f":"IFERROR(VLOOKUP(B23,пр.взв!$B$7:$H$70,3,0),\"\")","v":"09.10.1997, МС"},{"$f":"IFERROR(VLOOKUP(B23,пр.взв!$B$7:$H$70,4,0),\"\")","v":"ПФО"},{"$f":"IFERROR(VLOOKUP(B23,пр.взв!$B$7:$H$70,5,0),\"\")","v":"Пермский край, Пермь,  МО"},{"$f":"IFERROR(VLOOKUP(B23,пр.взв!$B$7:$H$70,6,0),\"\")","v":"-"},{"$f":"IFERROR(VLOOKUP(B23,пр.взв!$B$7:$H$70,7,0),\"\")","v":"Газеев АГ"}]
["17-20",27,{"$f":"IFERROR(VLOOKUP(B24,пр.взв!$B$7:$H$70,2,0),\"\")","v":"ЛАЗАРЕВ Сергей Сергеевич"},{"$f":"IFERROR(VLOOKUP(B24,пр.взв!$B$7:$H$70,3,0),\"\")","v":"04.11.1994, МС"},{"$f":"IFERROR(VLOOKUP(B24,пр.взв!$B$7:$H$70,4,0),\"\")","v":"ПФО"},{"$f":"IFERROR(VLOOKUP(B24,пр.взв!$B$7:$H$70,5,0),\"\")","v":"Пермский край, Пермь,  Д"},{"$f":"IFERROR(VLOOKUP(B24,пр.взв!$B$7:$H$70,6,0),\"\")","v":"-"},{"$f":"IFERROR(VLOOKUP(B24,пр.взв!$B$7:$H$70,7,0),\"\")","v":"Лузин СВ"}]
["17-20",16,{"$f":"IFERROR(VLOOKUP(B25,пр.взв!$B$7:$H$70,2,0),\"\")","v":"ЛАГВЕНКИН Павел Михайлович"},{"$f":"IFERROR(VLOOKUP(B25,пр.взв!$B$7:$H$70,3,0),\"\")","v":"13.02.1992, МСМК"},{"$f":"IFERROR(VLOOKUP(B25,пр.взв!$B$7:$H$70,4,0),\"\")","v":"ЦФО"},{"$f":"IFERROR(VLOOKUP(B25,пр.взв!$B$7:$H$70,5,0),\"\")","v":"Рязанская обл., Рязань, Д"},{"$f":"IFERROR(VLOOKUP(B25,пр.взв!$B$7:$H$70,6,0),\"\")","v":"-"},{"$f":"IFERROR(VLOOKUP(B25,пр.взв!$B$7:$H$70,7,0),\"\")","v":"Фофанов КН, Савельев ЕА"}]
["21-32",17,{"$f":"IFERROR(VLOOKUP(B26,пр.взв!$B$7:$H$70,2,0),\"\")","v":"МАНЖЕСОВ Денис Сергеевич"},{"$f":"IFERROR(VLOOKUP(B26,пр.взв!$B$7:$H$70,3,0),\"\")","v":"30.07.1997, КМС"},{"$f":"IFERROR(VLOOKUP(B26,пр.взв!$B$7:$H$70,4,0),\"\")","v":"ДВФО"},{"$f":"IFERROR(VLOOKUP(B26,пр.взв!$B$7:$H$70,5,0),\"\")","v":"Хабаровский край, Хабаровск, Д"},{"$f":"IFERROR(VLOOKUP(B26,пр.взв!$B$7:$H$70,6,0),\"\")","v":"-"},{"$f":"IFERROR(VLOOKUP(B26,пр.взв!$B$7:$H$70,7,0),\"\")","v":"Шилакин БВ"}]
["21-32",9,{"$f":"IFERROR(VLOOKUP(B27,пр.взв!$B$7:$H$70,2,0),\"\")","v":"ВИЛЬЧИНСКИЙ Юрий Иванович"},{"$f":"IFERROR(VLOOKUP(B27,пр.взв!$B$7:$H$70,3,0),\"\")","v":"09.09.1998, КМС"},{"$f":"IFERROR(VLOOKUP(B27,пр.взв!$B$7:$H$70,4,0),\"\")","v":"ДВФО"},{"$f":"IFERROR(VLOOKUP(B27,пр.взв!$B$7:$H$70,5,0),\"\")","v":"Хабаровский край, Хабаровск, МО"},{"$f":"IFERROR(VLOOKUP(B27,пр.взв!$B$7:$H$70,6,0),\"\")","v":"-"},{"$f":"IFERROR(VLOOKUP(B27,пр.взв!$B$7:$H$70,7,0),\"\")","v":"Мурашко НП, Гефен МЭ"}]
["21-32",13,{"$f":"IFERROR(VLOOKUP(B28,пр.взв!$B$7:$H$70,2,0),\"\")","v":"МИКАЙЛОВ Микаил Мугаддасович"},{"$f":"IFERROR(VLOOKUP(B28,пр.взв!$B$7:$H$70,3,0),\"\")","v":"12.03.1990, МС"},{"$f":"IFERROR(VLOOKUP(B28,пр.взв!$B$7:$H$70,4,0),\"\")","v":"СПб"},{"$f":"IFERROR(VLOOKUP(B28,пр.взв!$B$7:$H$70,5,0),\"\")","v":"Санкт-Петербург, КШВСМ-МО"},{"$f":"IFERROR(VLOOKUP(B28,пр.взв!$B$7:$H$70,6,0),\"\")","v":"-"},{"$f":"IFERROR(VLOOKUP(B28,пр.взв!$B$7:$H$70,7,0),\"\")","v":"Савельев АВ"}]
["21-32",19,{"$f":"IFERROR(VLOOKUP(B29,пр.взв!$B$7:$H$70,2,0),\"\")","v":"АДУКОВ Абдулкадыр Муртузалиевич"},{"$f":"IFERROR(VLOOKUP(B29,пр.взв!$B$7:$H$70,3,0),\"\")","v":"17.09.1994, МС"},{"$f":"IFERROR(VLOOKUP(B29,пр.взв!$B$7:$H$70,4,0),\"\")","v":"УФО"},{"$f":"IFERROR(VLOOKUP(B29,пр.взв!$B$7:$H$70,5,0),\"\")","v":"Свердловская обл., В.Пышма, КС \"УГМК\""},{"$f":"IFERROR(VLOOKUP(B29,пр.взв!$B$7:$H$70,6,0),\"\")","v":"-"},{"$f":"IFERROR(VLOOKUP(B29,пр.взв!$B$7:$H$70,7,0),\"\")","v":"Стенников ВГ, Мельников АН"}]
["21-32",11,{"$f":"IFERROR(VLOOKUP(B30,пр.взв!$B$7:$H$70,2,0),\"\")","v":"ГАЗИМАГОМЕДОВ Шамиль Саидович"},{"$f":"IFERROR(VLOOKUP(B30,пр.взв!$B$7:$H$70,3,0),\"\")","v":"23.10.1990, МС"},{"$f":"IFERROR(VLOOKUP(B30,пр.взв!$B$7:$H$70,4,0),\"\")","v":"СКФО"},{"$f":"IFERROR(VLOOKUP(B30,пр.взв!$B$7:$H$70,5,0),\"\")","v":"р. Дагестан, ПР"},{"$f":"IFERROR(VLOOKUP(B30,пр.взв!$B$7:$H$70,6,0),\"\")","v":"-"},{"$f":"IFERROR(VLOOKUP(B30,пр.взв!$B$7:$H$70,7,0),\"\")","v":"Джанбеков ТА"}]
["21-32",15,{"$f":"IFERROR(VLOOKUP(B31,пр.взв!$B$7:$H$70,2,0),\"\")","v":"ГОРОХ Михаил Владимирович"},{"$f":"IFERROR(VLOOKUP(B31,пр.взв!$B$7:$H$70,3,0),\"\")","v":"30.10.1994, КМС"},{"$f":"IFERROR(VLOOKUP(B31,пр.взв!$B$7:$H$70,4,0),\"\")","v":"ДВФО"},{"$f":"IFERROR(VLOOKUP(B31,пр.взв!$B$7:$H$70,5,0),\"\")","v":"Хабаровский край, Хабаровск, Д"},{"$f":"IFERROR(VLOOKUP(B31,пр.взв!$B$7:$H$70,6,0),\"\")","v":"-"},{"$f":"IFERROR(VLOOKUP(B31,пр.взв!$B$7:$H$70,7,0),\"\")","v":"Редин ДА"}]
["21-32",18,{"$f":"IFERROR(VLOOKUP(B32,пр.взв!$B$7:$H$70,2,0),\"\")","v":"ШАЙХОВ Абдулло Пулодович"},{"$f":"IFERROR(VLOOKUP(B32,пр.взв!$B$7:$H$70,3,0),\"\")","v":"28.12.1990, КМС"},{"$f":"IFERROR(VLOOKUP(B32,пр.взв!$B$7:$H$70,4,0),\"\")","v":"ЦФО"},{"$f":"IFERROR(VLOOKUP(B32,пр.взв!$B$7:$H$70,5,0),\"\")","v":"Тверская обл., Тверь"},{"$f":"IFERROR(VLOOKUP(B32,пр.взв!$B$7:$H$70,6,0),\"\")","v":"-"},{"$f":"IFERROR(VLOOKUP(B32,пр.взв!$B$7:$H$70,7,0),\"\")","v":"Матюшевский АВ, Рыбинкин КВ"}]
["21-32",10,{"$f":"IFERROR(VLOOKUP(B33,пр.взв!$B$7:$H$70,2,0),\"\")","v":"АБДУЛЛАЕВ Магомед Ахмедович"},{"$f":"IFERROR(VLOOKUP(B33,пр.взв!$B$7:$H$70,3,0),\"\")","v":"18.03.1994, МС"},{"$f":"IFERROR(VLOOKUP(B33,пр.взв!$B$7:$H$70,4,0),\"\")","v":"УФО"},{"$f":"IFERROR(VLOOKUP(B33,пр.взв!$B$7:$H$70,5,0),\"\")","v":"Свердловская обл., Екатеринбург, ПР"},{"$f":"IFERROR(VLOOKUP(B33,пр.взв!$B$7:$H$70,6,0),\"\")","v":"-"},{"$f":"IFERROR(VLOOKUP(B33,пр.взв!$B$7:$H$70,7,0),\"\")","v":"Старков МА"}]
["21-32",22,{"$f":"IFERROR(VLOOKUP(B34,пр.взв!$B$7:$H$70,2,0),\"\")","v":"КОМИКЯН Грант Трдатович"},{"$f":"IFERROR(VLOOKUP(B34,пр.взв!$B$7:$H$70,3,0),\"\")","v":"24.03.1998, КМС"},{"$f":"IFERROR(VLOOKUP(B34,пр.взв!$B$7:$H$70,4,0),\"\")","v":"ДВФО"},{"$f":"IFERROR(VLOOKUP(B34,пр.взв!$B$7:$H$70,5,0),\"\")","v":"Хабаровский край, Хабаровск, Д"},{"$f":"IFERROR(VLOOKUP(B34,пр.взв!$B$7:$H$70,6,0),\"\")","v":"-"},{"$f":"IFERROR(VLOOKUP(B34,пр.взв!$B$7:$H$70,7,0),\"\")","v":"Шилакин БВ"}]
["21-32",12,{"$f":"IFERROR(VLOOKUP(B35,пр.взв!$B$7:$H$70,2,0),\"\")","v":"БОРОВИКОВ Сергей Вадимович"},{"$f":"IFERROR(VLOOKUP(B35,пр.взв!$B$7:$H$70,3,0),\"\")","v":"07.10.1994, МС"},{"$f":"IFERROR(VLOOKUP(B35,пр.взв!$B$7:$H$70,4,0),\"\")","v":"ДВФО"},{"$f":"IFERROR(VLOOKUP(B35,пр.взв!$B$7:$H$70,5,0),\"\")","v":"Приморский край, Артем, \"Мастер\""},{"$f":"IFERROR(VLOOKUP(B35,пр.взв!$B$7:$H$70,6,0),\"\")","v":"-"},{"$f":"IFERROR(VLOOKUP(B35,пр.взв!$B$7:$H$70,7,0),\"\")","v":"Урядов ВВ, Писаренко АА"}]
["21-32",24,{"$f":"IFERROR(VLOOKUP(B36,пр.взв!$B$7:$H$70,2,0),\"\")","v":"ШЕМАЗАШВИЛИ Георгий Кобаевич"},{"$f":"IFERROR(VLOOKUP(B36,пр.взв!$B$7:$H$70,3,0),\"\")","v":"03.09.1990, МСМК"},{"$f":"IFERROR(VLOOKUP(B36,пр.взв!$B$7:$H$70,4,0),\"\")","v":"СФО"},{"$f":"IFERROR(VLOOKUP(B36,пр.взв!$B$7:$H$70,5,0),\"\")","v":"Иркутская обл., Иркутск, Д"},{"$f":"IFERROR(VLOOKUP(B36,пр.взв!$B$7:$H$70,6,0),\"\")","v":"-"},{"$f":"IFERROR(VLOOKUP(B36,пр.взв!$B$7:$H$70,7,0),\"\")","v":"Журавлев ЮМ, Магура ИБ"}]
["33-37",1,{"$f":"IFERROR(VLOOKUP(B37,пр.взв!$B$7:$H$70,2,0),\"\")","v":"ОРЛОВ Алексей Николаевич"},{"$f":"IFERROR(VLOOKUP(B37,пр.взв!$B$7:$H$70,3,0),\"\")","v":"11.12.1990, МС"},{"$f":"IFERROR(VLOOKUP(B37,пр.взв!$B$7:$H$70,4,0),\"\")","v":"ПФО"},{"$f":"IFERROR(VLOOKUP(B37,пр.взв!$B$7:$H$70,5,0),\"\")","v":"Пермский край, Пермь,  Д"},{"$f":"IFERROR(VLOOKUP(B37,пр.взв!$B$7:$H$70,6,0),\"\")","v":"-"},{"$f":"IFERROR(VLOOKUP(B37,пр.взв!$B$7:$H$70,7,0),\"\")","v":"Забалуев АИ"}]
["33-37",5,{"$f":"IFERROR(VLOOKUP(B38,пр.взв!$B$7:$H$70,2,0),\"\")","v":"БАНАЕВ Магомед-Салах Бисланович"},{"$f":"IFERROR(VLOOKUP(B38,пр.взв!$B$7:$H$70,3,0),\"\")","v":"18.03.1993, КМС"},{"$f":"IFERROR(VLOOKUP(B38,пр.взв!$B$7:$H$70,4,0),\"\")","v":"СКФО"},{"$f":"IFERROR(VLOOKUP(B38,пр.взв!$B$7:$H$70,5,0),\"\")","v":"РСО-Алания, Д"},{"$f":"IFERROR(VLOOKUP(B38,пр.взв!$B$7:$H$70,6,0),\"\")","v":"-"},{"$f":"IFERROR(VLOOKUP(B38,пр.взв!$B$7:$H$70,7,0),\"\")","v":"Циклаури И, Чапаев В"}]
["33-37",35,{"$f":"IFERROR(VLOOKUP(B39,пр.взв!$B$7:$H$70,2,0),\"\")","v":"БУРДАЕВ Роман Михайлович"},{"$f":"IFERROR(VLOOKUP(B39,пр.взв!$B$7:$H$70,3,0),\"\")","v":"22.05.1993, МСМК"},{"$f":"IFERROR(VLOOKUP(B39,пр.взв!$B$7:$H$70,4,0),\"\")","v":"ПФО"},{"$f":"IFERROR(VLOOKUP(B39,пр.взв!$B$7:$H$70,5,0),\"\")","v":"Пензенская обл., Пенза, Д"},{"$f":"IFERROR(VLOOKUP(B39,пр.взв!$B$7:$H$70,6,0),\"\")","v":"-"},{"$f":"IFERROR(VLOOKUP(B39,пр.взв!$B$7:$H$70,7,0),\"\")","v":"Надькин ВА, Ивентьев АВ"}]
["33-37",2,{"$f":"IFERROR(VLOOKUP(B40,пр.взв!$B$7:$H$70,2,0),\"\")","v":"ТЕМИРОВ Тимур Ахсарович"},{"$f":"IFERROR(VLOOKUP(B40,пр.взв!$B$7:$H$70,3,0),\"\")","v":"09.09.1993, КМС"},{"$f":"IFERROR(VLOOKUP(B40,пр.взв!$B$7:$H$70,4,0),\"\")","v":"СКФО"},{"$f":"IFERROR(VLOOKUP(B40,пр.взв!$B$7:$H$70,5,0),\"\")","v":"РСО-Алания, Д"},{"$f":"IFERROR(VLOOKUP(B40,пр.взв!$B$7:$H$70,6,0),\"\")","v":"-"},{"$f":"IFERROR(VLOOKUP(B40,пр.взв!$B$7:$H$70,7,0),\"\")","v":"Гасиев М"}]
["33-37",4,{"$f":"IFERROR(VLOOKUP(B41,пр.взв!$B$7:$H$70,2,0),\"\")","v":"ИСАЕВ Магомед Эскендерович"},{"$f":"IFERROR(VLOOKUP(B41,пр.взв!$B$7:$H$70,3,0),\"\")","v":"07.09.1996, КМС"},{"$f":"IFERROR(VLOOKUP(B41,пр.взв!$B$7:$H$70,4,0),\"\")","v":"УФО"},{"$f":"IFERROR(VLOOKUP(B41,пр.взв!$B$7:$H$70,5,0),\"\")","v":"ХМАО-Югра, Радужный"},{"$f":"IFERROR(VLOOKUP(B41,пр.взв!$B$7:$H$70,6,0),\"\")","v":"-"},{"$f":"IFERROR(VLOOKUP(B41,пр.взв!$B$7:$H$70,7,0),\"\")","v":"Саркисян АА"}]
["37-64",{"$f":"пр.хода!AI30","v":42},{"$f":"IFERROR(VLOOKUP(B42,пр.взв!$B$7:$H$70,2,0),\"\")","v":""},{"$f":"IFERROR(VLOOKUP(B42,пр.взв!$B$7:$H$70,3,0),\"\")","v":""},{"$f":"IFERROR(VLOOKUP(B42,пр.взв!$B$7:$H$70,4,0),\"\")","v":""},{"$f":"IFERROR(VLOOKUP(B42,пр.взв!$B$7:$H$70,5,0),\"\")","v":""},{"$f":"IFERROR(VLOOKUP(B42,пр.взв!$B$7:$H$70,6,0),\"\")","v":""},{"$f":"IFERROR(VLOOKUP(B42,пр.взв!$B$7:$H$70,7,0),\"\")","v":""}]
["37-64",{"$f":"пр.хода!AI40","v":60},{"$f":"IFERROR(VLOOKUP(B43,пр.взв!$B$7:$H$70,2,0),\"\")","v":""},{"$f":"IFERROR(VLOOKUP(B43,пр.взв!$B$7:$H$70,3,0),\"\")","v":""},{"$f":"IFERROR(VLOOKUP(B43,пр.взв!$B$7:$H$70,4,0),\"\")","v":""},{"$f":"IFERROR(VLOOKUP(B43,пр.взв!$B$7:$H$70,5,0),\"\")","v":""},{"$f":"IFERROR(VLOOKUP(B43,пр.взв!$B$7:$H$70,6,0),\"\")","v":""},{"$f":"IFERROR(VLOOKUP(B43,пр.взв!$B$7:$H$70,7,0),\"\")","v":""}]
["37-64",{"$f":"пр.хода!AI15","v":45},{"$f":"IFERROR(VLOOKUP(B44,пр.взв!$B$7:$H$70,2,0),\"\")","v":""},{"$f":"IFERROR(VLOOKUP(B44,пр.взв!$B$7:$H$70,3,0),\"\")","v":""},{"$f":"IFERROR(VLOOKUP(B44,пр.взв!$B$7:$H$70,4,0),\"\")","v":""},{"$f":"IFERROR(VLOOKUP(B44,пр.взв!$B$7:$H$70,5,0),\"\")","v":""},{"$f":"IFERROR(VLOOKUP(B44,пр.взв!$B$7:$H$70,6,0),\"\")","v":""},{"$f":"IFERROR(VLOOKUP(B44,пр.взв!$B$7:$H$70,7,0),\"\")","v":""}]
["37-64",{"$f":"пр.хода!AI44","v":64},{"$f":"IFERROR(VLOOKUP(B45,пр.взв!$B$7:$H$70,2,0),\"\")","v":""},{"$f":"IFERROR(VLOOKUP(B45,пр.взв!$B$7:$H$70,3,0),\"\")","v":""},{"$f":"IFERROR(VLOOKUP(B45,пр.взв!$B$7:$H$70,4,0),\"\")","v":""},{"$f":"IFERROR(VLOOKUP(B45,пр.взв!$B$7:$H$70,5,0),\"\")","v":""},{"$f":"IFERROR(VLOOKUP(B45,пр.взв!$B$7:$H$70,6,0),\"\")","v":""},{"$f":"IFERROR(VLOOKUP(B45,пр.взв!$B$7:$H$70,7,0),\"\")","v":""}]
["37-64",{"$f":"пр.хода!AI10","v":1},{"$f":"IFERROR(VLOOKUP(B46,пр.взв!$B$7:$H$70,2,0),\"\")","v":"ОРЛОВ Алексей Николаевич"},{"$f":"IFERROR(VLOOKUP(B46,пр.взв!$B$7:$H$70,3,0),\"\")","v":"11.12.1990, МС"},{"$f":"IFERROR(VLOOKUP(B46,пр.взв!$B$7:$H$70,4,0),\"\")","v":"ПФО"},{"$f":"IFERROR(VLOOKUP(B46,пр.взв!$B$7:$H$70,5,0),\"\")","v":"Пермский край, Пермь,  Д"},{"$f":"IFERROR(VLOOKUP(B46,пр.взв!$B$7:$H$70,6,0),\"\")","v":"-"},{"$f":"IFERROR(VLOOKUP(B46,пр.взв!$B$7:$H$70,7,0),\"\")","v":"Забалуев АИ"}]
["37-64",{"$f":"пр.хода!AI19","v":35},{"$f":"IFERROR(VLOOKUP(B47,пр.взв!$B$7:$H$70,2,0),\"\")","v":"БУРДАЕВ Роман Михайлович"},{"$f":"IFERROR(VLOOKUP(B47,пр.взв!$B$7:$H$70,3,0),\"\")","v":"22.05.1993, МСМК"},{"$f":"IFERROR(VLOOKUP(B47,пр.взв!$B$7:$H$70,4,0),\"\")","v":"ПФО"},{"$f":"IFERROR(VLOOKUP(B47,пр.взв!$B$7:$H$70,5,0),\"\")","v":"Пензенская обл., Пенза, Д"},{"$f":"IFERROR(VLOOKUP(B47,пр.взв!$B$7:$H$70,6,0),\"\")","v":"-"},{"$f":"IFERROR(VLOOKUP(B47,пр.взв!$B$7:$H$70,7,0),\"\")","v":"Надькин ВА, Ивентьев АВ"}]
["37-64",{"$f":"пр.хода!AI39","v":44},{"$f":"IFERROR(VLOOKUP(B48,пр.взв!$B$7:$H$70,2,0),\"\")","v":""},{"$f":"IFERROR(VLOOKUP(B48,пр.взв!$B$7:$H$70,3,0),\"\")","v":""},{"$f":"IFERROR(VLOOKUP(B48,пр.взв!$B$7:$H$70,4,0),\"\")","v":""},{"$f":"IFERROR(VLOOKUP(B48,пр.взв!$B$7:$H$70,5,0),\"\")","v":""},{"$f":"IFERROR(VLOOKUP(B48,пр.взв!$B$7:$H$70,6,0),\"\")","v":""},{"$f":"IFERROR(VLOOKUP(B48,пр.взв!$B$7:$H$70,7,0),\"\")","v":""}]
["37-64",{"$f":"пр.хода!AI23","v":39},{"$f":"IFERROR(VLOOKUP(B49,пр.взв!$B$7:$H$70,2,0),\"\")","v":""},{"$f":"IFERROR(VLOOKUP(B49,пр.взв!$B$7:$H$70,3,0),\"\")","v":""},{"$f":"IFERROR(VLOOKUP(B49,пр.взв!$B$7:$H$70,4,0),\"\")","v":""},{"$f":"IFERROR(VLOOKUP(B49,пр.взв!$B$7:$H$70,5,0),\"\")","v":""},{"$f":"IFERROR(VLOOKUP(B49,пр.взв!$B$7:$H$70,6,0),\"\")","v":""},{"$f":"IFERROR(VLOOKUP(B49,пр.взв!$B$7:$H$70,7,0),\"\")","v":""}]
["37-64",{"$f":"пр.хода!AI12","v":41},{"$f":"IFERROR(VLOOKUP(B50,пр.взв!$B$7:$H$70,2,0),\"\")","v":""},{"$f":"IFERROR(VLOOKUP(B50,пр.взв!$B$7:$H$70,3,0),\"\")","v":""},{"$f":"IFERROR(VLOOKUP(B50,пр.взв!$B$7:$H$70,4,0),\"\")","v":""},{"$f":"IFERROR(VLOOKUP(B50,пр.взв!$B$7:$H$70,5,0),\"\")","v":""},{"$f":"IFERROR(VLOOKUP(B50,пр.взв!$B$7:$H$70,6,0),\"\")","v":""},{"$f":"IFERROR(VLOOKUP(B50,пр.взв!$B$7:$H$70,7,0),\"\")","v":""}]
["37-64",{"$f":"пр.хода!AI31","v":58},{"$f":"IFERROR(VLOOKUP(B51,пр.взв!$B$7:$H$70,2,0),\"\")","v":""},{"$f":"IFERROR(VLOOKUP(B51,пр.взв!$B$7:$H$70,3,0),\"\")","v":""},{"$f":"IFERROR(VLOOKUP(B51,пр.взв!$B$7:$H$70,4,0),\"\")","v":""},{"$f":"IFERROR(VLOOKUP(B51,пр.взв!$B$7:$H$70,5,0),\"\")","v":""},{"$f":"IFERROR(VLOOKUP(B51,пр.взв!$B$7:$H$70,6,0),\"\")","v":""},{"$f":"IFERROR(VLOOKUP(B51,пр.взв!$B$7:$H$70,7,0),\"\")","v":""}]
["37-64",{"$f":"пр.хода!AI21","v":43},{"$f":"IFERROR(VLOOKUP(B52,пр.взв!$B$7:$H$70,2,0),\"\")","v":""},{"$f":"IFERROR(VLOOKUP(B52,пр.взв!$B$7:$H$70,3,0),\"\")","v":""},{"$f":"IFERROR(VLOOKUP(B52,пр.взв!$B$7:$H$70,4,0),\"\")","v":""},{"$f":"IFERROR(VLOOKUP(B52,пр.взв!$B$7:$H$70,5,0),\"\")","v":""},{"$f":"IFERROR(VLOOKUP(B52,пр.взв!$B$7:$H$70,6,0),\"\")","v":""},{"$f":"IFERROR(VLOOKUP(B52,пр.взв!$B$7:$H$70,7,0),\"\")","v":""}]
["37-64",{"$f":"пр.хода!AI41","v":40},{"$f":"IFERROR(VLOOKUP(B53,пр.взв!$B$7:$H$70,2,0),\"\")","v":""},{"$f":"IFERROR(VLOOKUP(B53,пр.взв!$B$7:$H$70,3,0),\"\")","v":""},{"$f":"IFERROR(VLOOKUP(B53,пр.взв!$B$7:$H$70,4,0),\"\")","v":""},{"$f":"IFERROR(VLOOKUP(B53,пр.взв!$B$7:$H$70,5,0),\"\")","v":""},{"$f":"IFERROR(VLOOKUP(B53,пр.взв!$B$7:$H$70,6,0),\"\")","v":""},{"$f":"IFERROR(VLOOKUP(B53,пр.взв!$B$7:$H$70,7,0),\"\")","v":""}]
["37-64",{"$f":"пр.хода!AI16","v":61},{"$f":"IFERROR(VLOOKUP(B54,пр.взв!$B$7:$H$70,2,0),\"\")","v":""},{"$f":"IFERROR(VLOOKUP(B54,пр.взв!$B$7:$H$70,3,0),\"\")","v":""},{"$f":"IFERROR(VLOOKUP(B54,пр.взв!$B$7:$H$70,4,0),\"\")","v":""},{"$f":"IFERROR(VLOOKUP(B54,пр.взв!$B$7:$H$70,5,0),\"\")","v":""},{"$f":"IFERROR(VLOOKUP(B54,пр.взв!$B$7:$H$70,6,0),\"\")","v":""},{"$f":"IFERROR(VLOOKUP(B54,пр.взв!$B$7:$H$70,7,0),\"\")","v":""}]
["37-64",{"$f":"пр.хода!AI28","v":2},{"$f":"IFERROR(VLOOKUP(B55,пр.взв!$B$7:$H$70,2,0),\"\")","v":"ТЕМИРОВ Тимур Ахсарович"},{"$f":"IFERROR(VLOOKUP(B55,пр.взв!$B$7:$H$70,3,0),\"\")","v":"09.09.1993, КМС"},{"$f":"IFERROR(VLOOKUP(B55,пр.взв!$B$7:$H$70,4,0),\"\")","v":"СКФО"},{"$f":"IFERROR(VLOOKUP(B55,пр.взв!$B$7:$H$70,5,0),\"\")","v":"РСО-Алания, Д"},{"$f":"IFERROR(VLOOKUP(B55,пр.взв!$B$7:$H$70,6,0),\"\")","v":"-"},{"$f":"IFERROR(VLOOKUP(B55,пр.взв!$B$7:$H$70,7,0),\"\")","v":"Гасиев М"}]
["37-64",{"$f":"пр.хода!AI38","v":4},{"$f":"IFERROR(VLOOKUP(B56,пр.взв!$B$7:$H$70,2,0),\"\")","v":"ИСАЕВ Магомед Эскендерович"},{"$f":"IFERROR(VLOOKUP(B56,пр.взв!$B$7:$H$70,3,0),\"\")","v":"07.09.1996, КМС"},{"$f":"IFERROR(VLOOKUP(B56,пр.взв!$B$7:$H$70,4,0),\"\")","v":"УФО"},{"$f":"IFERROR(VLOOKUP(B56,пр.взв!$B$7:$H$70,5,0),\"\")","v":"ХМАО-Югра, Радужный"},{"$f":"IFERROR(VLOOKUP(B56,пр.взв!$B$7:$H$70,6,0),\"\")","v":"-"},{"$f":"IFERROR(VLOOKUP(B56,пр.взв!$B$7:$H$70,7,0),\"\")","v":"Саркисян АА"}]
["37-64",{"$f":"пр.хода!AI13","v":57},{"$f":"IFERROR(VLOOKUP(B57,пр.взв!$B$7:$H$70,2,0),\"\")","v":""},{"$f":"IFERROR(VLOOKUP(B57,пр.взв!$B$7:$H$70,3,0),\"\")","v":""},{"$f":"IFERROR(VLOOKUP(B57,пр.взв!$B$7:$H$70,4,0),\"\")","v":""},{"$f":"IFERROR(VLOOKUP(B57,пр.взв!$B$7:$H$70,5,0),\"\")","v":""},{"$f":"IFERROR(VLOOKUP(B57,пр.взв!$B$7:$H$70,6,0),\"\")","v":""},{"$f":"IFERROR(VLOOKUP(B57,пр.взв!$B$7:$H$70,7,0),\"\")","v":""}]
["37-64",{"$f":"пр.хода!AI32","v":38},{"$f":"IFERROR(VLOOKUP(B58,пр.взв!$B$7:$H$70,2,0),\"\")","v":""},{"$f":"IFERROR(VLOOKUP(B58,пр.взв!$B$7:$H$70,3,0),\"\")","v":""},{"$f":"IFERROR(VLOOKUP(B58,пр.взв!$B$7:$H$70,4,0),\"\")","v":""},{"$f":"IFERROR(VLOOKUP(B58,пр.взв!$B$7:$H$70,5,0),\"\")","v":""},{"$f":"IFERROR(VLOOKUP(B58,пр.взв!$B$7:$H$70,6,0),\"\")","v":""},{"$f":"IFERROR(VLOOKUP(B58,пр.взв!$B$7:$H$70,7,0),\"\")","v":""}]
["37-64",{"$f":"пр.хода!AI22","v":59},{"$f":"IFERROR(VLOOKUP(B59,пр.взв!$B$7:$H$70,2,0),\"\")","v":""},{"$f":"IFERROR(VLOOKUP(B59,пр.взв!$B$7:$H$70,3,0),\"\")","v":""},{"$f":"IFERROR(VLOOKUP(B59,пр.взв!$B$7:$H$70,4,0),\"\")","v":""},{"$f":"IFERROR(VLOOKUP(B59,пр.взв!$B$7:$H$70,5,0),\"\")","v":""},{"$f":"IFERROR(VLOOKUP(B59,пр.взв!$B$7:$H$70,6,0),\"\")","v":""},{"$f":"IFERROR(VLOOKUP(B59,пр.взв!$B$7:$H$70,7,0),\"\")","v":""}]
["37-64",{"$f":"пр.хода!AI42","v":56},{"$f":"IFERROR(VLOOKUP(B60,пр.взв!$B$7:$H$70,2,0),\"\")","v":""},{"$f":"IFERROR(VLOOKUP(B60,пр.взв!$B$7:$H$70,3,0),\"\")","v":""},{"$f":"IFERROR(VLOOKUP(B60,пр.взв!$B$7:$H$70,4,0),\"\")","v":""},{"$f":"IFERROR(VLOOKUP(B60,пр.взв!$B$7:$H$70,5,0),\"\")","v":""},{"$f":"IFERROR(VLOOKUP(B60,пр.взв!$B$7:$H$70,6,0),\"\")","v":""},{"$f":"IFERROR(VLOOKUP(B60,пр.взв!$B$7:$H$70,7,0),\"\")","v":""}]
["37-64",{"$f":"пр.хода!AI11","v":49},{"$f":"IFERROR(VLOOKUP(B61,пр.взв!$B$7:$H$70,2,0),\"\")","v":""},{"$f":"IFERROR(VLOOKUP(B61,пр.взв!$B$7:$H$70,3,0),\"\")","v":""},{"$f":"IFERROR(VLOOKUP(B61,пр.взв!$B$7:$H$70,4,0),\"\")","v":""},{"$f":"IFERROR(VLOOKUP(B61,пр.взв!$B$7:$H$70,5,0),\"\")","v":""},{"$f":"IFERROR(VLOOKUP(B61,пр.взв!$B$7:$H$70,6,0),\"\")","v":""},{"$f":"IFERROR(VLOOKUP(B61,пр.взв!$B$7:$H$70,7,0),\"\")","v":""}]
["37-64",{"$f":"пр.хода!AI20","v":51},{"$f":"IFERROR(VLOOKUP(B62,пр.взв!$B$7:$H$70,2,0),\"\")","v":""},{"$f":"IFERROR(VLOOKUP(B62,пр.взв!$B$7:$H$70,3,0),\"\")","v":""},{"$f":"IFERROR(VLOOKUP(B62,пр.взв!$B$7:$H$70,4,0),\"\")","v":""},{"$f":"IFERROR(VLOOKUP(B62,пр.взв!$B$7:$H$70,5,0),\"\")","v":""},{"$f":"IFERROR(VLOOKUP(B62,пр.взв!$B$7:$H$70,6,0),\"\")","v":""},{"$f":"IFERROR(VLOOKUP(B62,пр.взв!$B$7:$H$70,7,0),\"\")","v":""}]
["37-64",{"$f":"пр.хода!AI33","v":54},{"$f":"IFERROR(VLOOKUP(B63,пр.взв!$B$7:$H$70,2,0),\"\")","v":""},{"$f":"IFERROR(VLOOKUP(B63,пр.взв!$B$7:$H$70,3,0),\"\")","v":""},{"$f":"IFERROR(VLOOKUP(B63,пр.взв!$B$7:$H$70,4,0),\"\")","v":""},{"$f":"IFERROR(VLOOKUP(B63,пр.взв!$B$7:$H$70,5,0),\"\")","v":""},{"$f":"IFERROR(VLOOKUP(B63,пр.взв!$B$7:$H$70,6,0),\"\")","v":""},{"$f":"IFERROR(VLOOKUP(B63,пр.взв!$B$7:$H$70,7,0),\"\")","v":""}]
["37-64",{"$f":"пр.хода!AI24","v":47},{"$f":"IFERROR(VLOOKUP(B64,пр.взв!$B$7:$H$70,2,0),\"\")","v":""},{"$f":"IFERROR(VLOOKUP(B64,пр.взв!$B$7:$H$70,3,0),\"\")","v":""},{"$f":"IFERROR(VLOOKUP(B64,пр.взв!$B$7:$H$70,4,0),\"\")","v":""},{"$f":"IFERROR(VLOOKUP(B64,пр.взв!$B$7:$H$70,5,0),\"\")","v":""},{"$f":"IFERROR(VLOOKUP(B64,пр.взв!$B$7:$H$70,6,0),\"\")","v":""},{"$f":"IFERROR(VLOOKUP(B64,пр.взв!$B$7:$H$70,7,0),\"\")","v":""}]
["37-64",{"$f":"пр.хода!AI29","v":50},{"$f":"IFERROR(VLOOKUP(B65,пр.взв!$B$7:$H$70,2,0),\"\")","v":""},{"$f":"IFERROR(VLOOKUP(B65,пр.взв!$B$7:$H$70,3,0),\"\")","v":""},{"$f":"IFERROR(VLOOKUP(B65,пр.взв!$B$7:$H$70,4,0),\"\")","v":""},{"$f":"IFERROR(VLOOKUP(B65,пр.взв!$B$7:$H$70,5,0),\"\")","v":""},{"$f":"IFERROR(VLOOKUP(B65,пр.взв!$B$7:$H$70,6,0),\"\")","v":""},{"$f":"IFERROR(VLOOKUP(B65,пр.взв!$B$7:$H$70,7,0),\"\")","v":""}]
["37-64",{"$f":"пр.хода!AI14","v":5},{"$f":"IFERROR(VLOOKUP(B66,пр.взв!$B$7:$H$70,2,0),\"\")","v":"БАНАЕВ Магомед-Салах Бисланович"},{"$f":"IFERROR(VLOOKUP(B66,пр.взв!$B$7:$H$70,3,0),\"\")","v":"18.03.1993, КМС"},{"$f":"IFERROR(VLOOKUP(B66,пр.взв!$B$7:$H$70,4,0),\"\")","v":"СКФО"},{"$f":"IFERROR(VLOOKUP(B66,пр.взв!$B$7:$H$70,5,0),\"\")","v":"РСО-Алания, Д"},{"$f":"IFERROR(VLOOKUP(B66,пр.взв!$B$7:$H$70,6,0),\"\")","v":"-"},{"$f":"IFERROR(VLOOKUP(B66,пр.взв!$B$7:$H$70,7,0),\"\")","v":"Циклаури И, Чапаев В"}]
["37-64",{"$f":"пр.хода!AI43","v":48},{"$f":"IFERROR(VLOOKUP(B67,пр.взв!$B$7:$H$70,2,0),\"\")","v":""},{"$f":"IFERROR(VLOOKUP(B67,пр.взв!$B$7:$H$70,3,0),\"\")","v":""},{"$f":"IFERROR(VLOOKUP(B67,пр.взв!$B$7:$H$70,4,0),\"\")","v":""},{"$f":"IFERROR(VLOOKUP(B67,пр.взв!$B$7:$H$70,5,0),\"\")","v":""},{"$f":"IFERROR(VLOOKUP(B67,пр.взв!$B$7:$H$70,6,0),\"\")","v":""},{"$f":"IFERROR(VLOOKUP(B67,пр.взв!$B$7:$H$70,7,0),\"\")","v":""}]
["37-64",{"$f":"пр.хода!AI34","v":46},{"$f":"IFERROR(VLOOKUP(B68,пр.взв!$B$7:$H$70,2,0),\"\")","v":""},{"$f":"IFERROR(VLOOKUP(B68,пр.взв!$B$7:$H$70,3,0),\"\")","v":""},{"$f":"IFERROR(VLOOKUP(B68,пр.взв!$B$7:$H$70,4,0),\"\")","v":""},{"$f":"IFERROR(VLOOKUP(B68,пр.взв!$B$7:$H$70,5,0),\"\")","v":""},{"$f":"IFERROR(VLOOKUP(B68,пр.взв!$B$7:$H$70,6,0),\"\")","v":""},{"$f":"IFERROR(VLOOKUP(B68,пр.взв!$B$7:$H$70,7,0),\"\")","v":""}]
["37-64",{"$f":"пр.хода!AI25","v":63},{"$f":"IFERROR(VLOOKUP(B69,пр.взв!$B$7:$H$70,2,0),\"\")","v":""},{"$f":"IFERROR(VLOOKUP(B69,пр.взв!$B$7:$H$70,3,0),\"\")","v":""},{"$f":"IFERROR(VLOOKUP(B69,пр.взв!$B$7:$H$70,4,0),\"\")","v":""},{"$f":"IFERROR(VLOOKUP(B69,пр.взв!$B$7:$H$70,5,0),\"\")","v":""},{"$f":"IFERROR(VLOOKUP(B69,пр.взв!$B$7:$H$70,6,0),\"\")","v":""},{"$f":"IFERROR(VLOOKUP(B69,пр.взв!$B$7:$H$70,7,0),\"\")","v":""}]
[]
[{"$f":"пр.хода!A73","v":"Гл. судья, судья ВК"},null,null,null,null,{"$f":"пр.хода!G73","v":"С.Г. Шкедов"},null,{"$f":"пр.хода!J73","v":"/г. Владивосток/"}]
[]
[{"$f":"пр.хода!T73","v":"Гл. секретарь, судья ВК"},null,null,null,null,"Р.М. Закиров",null,{"$f":"[2]реквизиты!$G$9","v":"/г. Пермь/"}]

{"sheet":"наградной лист","index":5,"n_rows":32,"n_cols":10,"rows_kept":32,"cut":false,"hidden":false,"merged":[[0,0,0,7],[1,0,1,7],[2,0,2,7],[3,3,3,5],[10,0,13,0],[5,1,6,6],[5,0,8,0],[5,7,6,7],[7,1,8,3],[7,4,8,7],[12,1,13,3],[12,4,13,7],[10,1,11,6],[27,0,28,7],[20,0,23,0],[20,1,21,6],[20,7,21,7],[22,1,23,3],[22,4,23,7],[15,7,16,7],[15,0,18,0],[10,7,11,7],[15,1,16,6],[17,1,18,3],[17,4,18,7]]}
[{"$f":"[2]реквизиты!$A$2","v":"Чемпионат России по самбо среди мужчин, женщин и боевому самбо"}]
[{"$f":"[2]реквизиты!$A$3","v":"1-5 марта 2018г.                                              г.Хабаровск"}]
["НАГРАДНОЙ ЛИСТ"]
[null,null,null,{"$f":"пр.взв!$D$4","v":"В.к. 68 кг."}]
[]
["I м",{"$f":"IFERROR(VLOOKUP(J6,пр.взв!$B$7:$H$70,2,0),\"\")","v":"КЛЕЦКОВ Никита Валерьевич"},null,null,null,null,null,{"$f":"IFERROR(VLOOKUP(J6,пр.взв!$B$7:$H$70,3,0),\"\")","v":"26.11.1986, ЗМС"},null,{"$f":"пр.хода!M32","v":23}]
[]
[null,{"$f":"IFERROR(VLOOKUP(J6,пр.взв!$B$7:$H$70,4,0),\"\")","v":"М"},null,null,{"$f":"IFERROR(VLOOKUP(J6,пр.взв!$B$7:$H$70,5,0),\"\")","v":"Москва, \"Самбо-70\", Д"}]
[]
[]
["II м",{"$f":"IFERROR(VLOOKUP(J11,пр.взв!$B$7:$H$70,2,0),\"\")","v":"СУХОМЛИНОВ Евгений Игоревич"},null,null,null,null,null,{"$f":"IFERROR(VLOOKUP(J11,пр.взв!$B$7:$H$70,3,0),\"\")","v":"17.07.1991, МСМК"},null,{"$f":"пр.хода!M40","v":20}]
[]
[null,{"$f":"IFERROR(VLOOKUP(J11,пр.взв!$B$7:$H$70,4,0),\"\")","v":"ДВФО"},null,null,{"$f":"IFERROR(VLOOKUP(J11,пр.взв!$B$7:$H$70,5,0),\"\")","v":"Хабаровский край, Комсомольск, Д"}]
[]
[]
["III м",{"$f":"IFERROR(VLOOKUP(J16,пр.взв!$B$7:$H$70,2,0),\"\")","v":"ГАВРИЛОВ Максим Олегович"},null,null,null,null,null,{"$f":"IFERROR(VLOOKUP(J16,пр.взв!$B$7:$H$70,3,0),\"\")","v":"15.09.1993, МС"},null,{"$f":"пр.хода!R18","v":33}]
[]
[null,{"$f":"IFERROR(VLOOKUP(J16,пр.взв!$B$7:$H$70,4,0),\"\")","v":"М"},null,null,{"$f":"IFERROR(VLOOKUP(J16,пр.взв!$B$7:$H$70,5,0),\"\")","v":"Москва, \"Самбо-70\", ФСИН"}]
[]
[]
["III м",{"$f":"IFERROR(VLOOKUP(J21,пр.взв!$B$7:$H$70,2,0),\"\")","v":"БОНДАРЕВ Александр Витальевич"},null,null,null,null,null,{"$f":"IFERROR(VLOOKUP(J21,пр.взв!$B$7:$H$70,3,0),\"\")","v":"27.01.1990, МСМК"},null,{"$f":"пр.хода!R67","v":8}]
[]
[null,{"$f":"IFERROR(VLOOKUP(J21,пр.взв!$B$7:$H$70,4,0),\"\")","v":"ПФО"},null,null,{"$f":"IFERROR(VLOOKUP(J21,пр.взв!$B$7:$H$70,5,0),\"\")","v":"Чувашская р., Чебоксары"}]
[]
[]
["Тренер победителя:"]
[]
[{"$f":"IFERROR(VLOOKUP(J28,пр.взв!$B$7:$H$70,7,0),\"\")","v":"Филимонов СН, Павлов ДА"},null,null,null,null,null,null,null,null,{"$f":"пр.хода!M32","v":23}]
[]
[]
[]
["Награждение проводят:"]

{"sheet":"Ст Б","index":6,"n_rows":70,"n_cols":8,"rows_kept":70,"cut":false,"hidden":false,"merged":[[61,0,62,0],[61,1,62,1],[61,2,62,2],[61,3,62,3],[59,0,60,0],[59,1,60,1],[59,2,60,2],[59,3,60,3],[65,0,66,0],[65,1,66,1],[65,2,66,2],[65,3,66,3],[63,0,64,0],[63,1,64,1],[63,2,64,2],[63,3,64,3],[53,0,54,0],[53,1,54,1],[53,2,54,2],[53,3,54,3],[51,0,52,0],[51,1,52,1],[51,2,52,2],[51,3,52,3],[57,0,58,0],[57,1,58,1],[57,2,58,2],[57,3,58,3],[55,0,56,0],[55,1,56,1],[55,2,56,2],[55,3,56,3],[45,0,46,0],[45,1,46,1],[45,2,46,2],[45,3,46,3],[43,0,44,0],[43,1,44,1],[43,2,44,2],[43,3,44,3],[49,0,50,0],[49,1,50,1],[49,2,50,2],[49,3,50,3],[47,0,48,0],[47,1,48,1],[47,2,48,2],[47,3,48,3],[37,0,38,0],[37,1,38,1],[37,2,38,2],[37,3,38,3],[35,0,36,0],[35,1,36,1],[35,2,36,2],[35,3,36,3],[41,0,42,0],[41,1,42,1],[41,2,42,2],[41,3,42,3],[39,0,40,0],[39,1,40,1],[39,2,40,2],[39,3,40,3],[28,0,29,0],[28,1,29,1],[28,2,29,2],[28,3,29,3],[26,0,27,0],[26,1,27,1],[26,2,27,2],[26,3,27,3],[32,0,33,0],[32,1,33,1],[32,2,33,2],[32,3,33,3],[30,0,31,0],[30,1,31,1],[30,2,31,2],[30,3,31,3],[20,0,21,0],[20,1,21,1],[20,2,21,2],[20,3,21,3],[18,0,19,0],[18,1,19,1],[18,2,19,2],[18,3,19,3],[24,0,25,0],[24,1,25,1],[24,2,25,2],[24,3,25,3],[22,0,23,0],[22,1,23,1],[22,2,23,2],[22,3,23,3],[12,3,13,3],[10,0,11,0],[10,1,11,1],[10,2,11,2],[10,3,11,3],[16,0,17,0],[16,1,17,1],[16,2,17,2],[16,3,17,3],[14,0,15,0],[14,1,15,1],[14,2,15,2],[14,3,15,3],[4,0,5,0],[6,3,7,3],[69,4,70,4],[0,0,0,7],[1,0,1,6],[3,7,4,7],[2,0,3,0],[2,1,3,1],[2,2,3,2],[2,3,3,3],[1,7,2,7],[8,0,9,0],[8,1,9,1],[8,2,9,2],[8,3,9,3],[4,1,5,1],[4,2,5,2],[4,3,5,3],[6,0,7,0],[6,1,7,1],[6,2,7,2],[12,0,13,0],[12,1,13,1],[12,2,13,2]]}
["Чемпионат России по БОЕВОМУ САМБО "]
[null,null,null,null,null,null,null,{"$f":"HYPERLINK(#REF!)","v":{"$error":"#REF!"}}]
[2,{"$f":"VLOOKUP(A3,#REF!,2,FALSE)","v":{"$error":"#REF!"}},{"$f":"VLOOKUP(A3,#REF!,3,FALSE)","v":{"$error":"#REF!"}},{"$f":"VLOOKUP(A3,#REF!,4,FALSE)","v":{"$error":"#REF!"}}]
[null,null,null,null,null,null,null,"Подгруппа Б"]
[34,{"$f":"VLOOKUP(A5,#REF!,2,FALSE)","v":{"$error":"#REF!"}},{"$f":"VLOOKUP(A5,#REF!,3,FALSE)","v":{"$error":"#REF!"}},{"$f":"VLOOKUP(A5,#REF!,4,FALSE)","v":{"$error":"#REF!"}}]
[]
[18,{"$f":"VLOOKUP(A7,#REF!,2,FALSE)","v":{"$error":"#REF!"}},{"$f":"VLOOKUP(A7,#REF!,3,FALSE)","v":{"$error":"#REF!"}},{"$f":"VLOOKUP(A7,#REF!,4,FALSE)","v":{"$error":"#REF!"}}]
[]
[50,{"$f":"VLOOKUP(A9,#REF!,2,FALSE)","v":{"$error":"#REF!"}},{"$f":"VLOOKUP(A9,#REF!,3,FALSE)","v":{"$error":"#REF!"}},{"$f":"VLOOKUP(A9,#REF!,4,FALSE)","v":{"$error":"#REF!"}}]
[]
[10,{"$f":"VLOOKUP(A11,#REF!,2,FALSE)","v":{"$error":"#REF!"}},{"$f":"VLOOKUP(A11,#REF!,3,FALSE)","v":{"$error":"#REF!"}},{"$f":"VLOOKUP(A11,#REF!,4,FALSE)","v":{"$error":"#REF!"}}]
[]
[42,{"$f":"VLOOKUP(A13,#REF!,2,FALSE)","v":{"$error":"#REF!"}},{"$f":"VLOOKUP(A13,#REF!,3,FALSE)","v":{"$error":"#REF!"}},{"$f":"VLOOKUP(A13,#REF!,4,FALSE)","v":{"$error":"#REF!"}}]
[]
[26,{"$f":"VLOOKUP(A15,#REF!,2,FALSE)","v":{"$error":"#REF!"}},{"$f":"VLOOKUP(A15,#REF!,3,FALSE)","v":{"$error":"#REF!"}},{"$f":"VLOOKUP(A15,#REF!,4,FALSE)","v":{"$error":"#REF!"}}]
[]
[58,{"$f":"VLOOKUP(A17,#REF!,2,FALSE)","v":{"$error":"#REF!"}},{"$f":"VLOOKUP(A17,#REF!,3,FALSE)","v":{"$error":"#REF!"}},{"$f":"VLOOKUP(A17,#REF!,4,FALSE)","v":{"$error":"#REF!"}}]
[]
[6,{"$f":"VLOOKUP(A19,#REF!,2,FALSE)","v":{"$error":"#REF!"}},{"$f":"VLOOKUP(A19,#REF!,3,FALSE)","v":{"$error":"#REF!"}},{"$f":"VLOOKUP(A19,#REF!,4,FALSE)","v":{"$error":"#REF!"}}]
[]
[38,{"$f":"VLOOKUP(A21,#REF!,2,FALSE)","v":{"$error":"#REF!"}},{"$f":"VLOOKUP(A21,#REF!,3,FALSE)","v":{"$error":"#REF!"}},{"$f":"VLOOKUP(A21,#REF!,4,FALSE)","v":{"$error":"#REF!"}}]
[]
[22,{"$f":"VLOOKUP(A23,#REF!,2,FALSE)","v":{"$error":"#REF!"}},{"$f":"VLOOKUP(A23,#REF!,3,FALSE)","v":{"$error":"#REF!"}},{"$f":"VLOOKUP(A23,#REF!,4,FALSE)","v":{"$error":"#REF!"}}]
[]
[54,{"$f":"VLOOKUP(A25,#REF!,2,FALSE)","v":{"$error":"#REF!"}},{"$f":"VLOOKUP(A25,#REF!,3,FALSE)","v":{"$error":"#REF!"}},{"$f":"VLOOKUP(A25,#REF!,4,FALSE)","v":{"$error":"#REF!"}}]
[]
[14,{"$f":"VLOOKUP(A27,#REF!,2,FALSE)","v":{"$error":"#REF!"}},{"$f":"VLOOKUP(A27,#REF!,3,FALSE)","v":{"$error":"#REF!"}},{"$f":"VLOOKUP(A27,#REF!,4,FALSE)","v":{"$error":"#REF!"}}]
[]
[46,{"$f":"VLOOKUP(A29,#REF!,2,FALSE)","v":{"$error":"#REF!"}},{"$f":"VLOOKUP(A29,#REF!,3,FALSE)","v":{"$error":"#REF!"}},{"$f":"VLOOKUP(A29,#REF!,4,FALSE)","v":{"$error":"#REF!"}}]
[]
[30,{"$f":"VLOOKUP(A31,#REF!,2,FALSE)","v":{"$error":"#REF!"}},{"$f":"VLOOKUP(A31,#REF!,3,FALSE)","v":{"$error":"#REF!"}},{"$f":"VLOOKUP(A31,#REF!,4,FALSE)","v":{"$error":"#REF!"}}]
[]
[62,{"$f":"VLOOKUP(A33,#REF!,2,FALSE)","v":{"$error":"#REF!"}},{"$f":"VLOOKUP(A33,#REF!,3,FALSE)","v":{"$error":"#REF!"}},{"$f":"VLOOKUP(A33,#REF!,4,FALSE)","v":{"$error":"#REF!"}}]
[]
[]
[4,{"$f":"VLOOKUP(A36,#REF!,2,FALSE)","v":{"$error":"#REF!"}},{"$f":"VLOOKUP(A36,#REF!,3,FALSE)","v":{"$error":"#REF!"}},{"$f":"VLOOKUP(A36,#REF!,4,FALSE)","v":{"$error":"#REF!"}}]
[]
[36,{"$f":"VLOOKUP(A38,#REF!,2,FALSE)","v":{"$error":"#REF!"}},{"$f":"VLOOKUP(A38,#REF!,3,FALSE)","v":{"$error":"#REF!"}},{"$f":"VLOOKUP(A38,#REF!,4,FALSE)","v":{"$error":"#REF!"}}]
[]
[20,{"$f":"VLOOKUP(A40,#REF!,2,FALSE)","v":{"$error":"#REF!"}},{"$f":"VLOOKUP(A40,#REF!,3,FALSE)","v":{"$error":"#REF!"}},{"$f":"VLOOKUP(A40,#REF!,4,FALSE)","v":{"$error":"#REF!"}}]
[]
[52,{"$f":"VLOOKUP(A42,#REF!,2,FALSE)","v":{"$error":"#REF!"}},{"$f":"VLOOKUP(A42,#REF!,3,FALSE)","v":{"$error":"#REF!"}},{"$f":"VLOOKUP(A42,#REF!,4,FALSE)","v":{"$error":"#REF!"}}]
[]
[12,{"$f":"VLOOKUP(A44,#REF!,2,FALSE)","v":{"$error":"#REF!"}},{"$f":"VLOOKUP(A44,#REF!,3,FALSE)","v":{"$error":"#REF!"}},{"$f":"VLOOKUP(A44,#REF!,4,FALSE)","v":{"$error":"#REF!"}}]
[]
[44,{"$f":"VLOOKUP(A46,#REF!,2,FALSE)","v":{"$error":"#REF!"}},{"$f":"VLOOKUP(A46,#REF!,3,FALSE)","v":{"$error":"#REF!"}},{"$f":"VLOOKUP(A46,#REF!,4,FALSE)","v":{"$error":"#REF!"}}]
[]
[28,{"$f":"VLOOKUP(A48,#REF!,2,FALSE)","v":{"$error":"#REF!"}},{"$f":"VLOOKUP(A48,#REF!,3,FALSE)","v":{"$error":"#REF!"}},{"$f":"VLOOKUP(A48,#REF!,4,FALSE)","v":{"$error":"#REF!"}}]
[]
[60,{"$f":"VLOOKUP(A50,#REF!,2,FALSE)","v":{"$error":"#REF!"}},{"$f":"VLOOKUP(A50,#REF!,3,FALSE)","v":{"$error":"#REF!"}},{"$f":"VLOOKUP(A50,#REF!,4,FALSE)","v":{"$error":"#REF!"}}]
[]
[8,{"$f":"VLOOKUP(A52,#REF!,2,FALSE)","v":{"$error":"#REF!"}},{"$f":"VLOOKUP(A52,#REF!,3,FALSE)","v":{"$error":"#REF!"}},{"$f":"VLOOKUP(A52,#REF!,4,FALSE)","v":{"$error":"#REF!"}}]
[]
[40,{"$f":"VLOOKUP(A54,#REF!,2,FALSE)","v":{"$error":"#REF!"}},{"$f":"VLOOKUP(A54,#REF!,3,FALSE)","v":{"$error":"#REF!"}},{"$f":"VLOOKUP(A54,#REF!,4,FALSE)","v":{"$error":"#REF!"}}]
[]
[24,{"$f":"VLOOKUP(A56,#REF!,2,FALSE)","v":{"$error":"#REF!"}},{"$f":"VLOOKUP(A56,#REF!,3,FALSE)","v":{"$error":"#REF!"}},{"$f":"VLOOKUP(A56,#REF!,4,FALSE)","v":{"$error":"#REF!"}}]
[]
[56,{"$f":"VLOOKUP(A58,#REF!,2,FALSE)","v":{"$error":"#REF!"}},{"$f":"VLOOKUP(A58,#REF!,3,FALSE)","v":{"$error":"#REF!"}},{"$f":"VLOOKUP(A58,#REF!,4,FALSE)","v":{"$error":"#REF!"}}]
[]
[16,{"$f":"VLOOKUP(A60,#REF!,2,FALSE)","v":{"$error":"#REF!"}},{"$f":"VLOOKUP(A60,#REF!,3,FALSE)","v":{"$error":"#REF!"}},{"$f":"VLOOKUP(A60,#REF!,4,FALSE)","v":{"$error":"#REF!"}}]
[]
[48,{"$f":"VLOOKUP(A62,#REF!,2,FALSE)","v":{"$error":"#REF!"}},{"$f":"VLOOKUP(A62,#REF!,3,FALSE)","v":{"$error":"#REF!"}},{"$f":"VLOOKUP(A62,#REF!,4,FALSE)","v":{"$error":"#REF!"}}]
[]
[32,{"$f":"VLOOKUP(A64,#REF!,2,FALSE)","v":{"$error":"#REF!"}},{"$f":"VLOOKUP(A64,#REF!,3,FALSE)","v":{"$error":"#REF!"}},{"$f":"VLOOKUP(A64,#REF!,4,FALSE)","v":{"$error":"#REF!"}}]
[]
[64,{"$f":"VLOOKUP(A66,#REF!,2,FALSE)","v":{"$error":"#REF!"}},{"$f":"VLOOKUP(A66,#REF!,3,FALSE)","v":{"$error":"#REF!"}},{"$f":"VLOOKUP(A66,#REF!,4,FALSE)","v":{"$error":"#REF!"}}]
[]
[]
[]
["Утешительные встречи",null,null,null,{"$f":"HYPERLINK(#REF!)","v":{"$error":"#REF!"}},null,"Подгруппа Б1"]

{"sheet":"Ст А","index":7,"n_rows":72,"n_cols":8,"rows_kept":72,"cut":false,"hidden":false,"merged":[[61,0,62,0],[61,1,62,1],[61,2,62,2],[61,3,62,3],[59,0,60,0],[59,1,60,1],[59,2,60,2],[59,3,60,3],[65,0,66,0],[65,1,66,1],[65,2,66,2],[65,3,66,3],[63,0,64,0],[63,1,64,1],[63,2,64,2],[63,3,64,3],[53,0,54,0],[53,1,54,1],[53,2,54,2],[53,3,54,3],[51,0,52,0],[51,1,52,1],[51,2,52,2],[51,3,52,3],[57,0,58,0],[57,1,58,1],[57,2,58,2],[57,3,58,3],[55,0,56,0],[55,1,56,1],[55,2,56,2],[55,3,56,3],[45,0,46,0],[45,1,46,1],[45,2,46,2],[45,3,46,3],[43,0,44,0],[43,1,44,1],[43,2,44,2],[43,3,44,3],[49,0,50,0],[49,1,50,1],[49,2,50,2],[49,3,50,3],[47,0,48,0],[47,1,48,1],[47,2,48,2],[47,3,48,3],[37,0,38,0],[37,1,38,1],[37,2,38,2],[37,3,38,3],[35,0,36,0],[35,1,36,1],[35,2,36,2],[35,3,36,3],[41,0,42,0],[41,1,42,1],[41,2,42,2],[41,3,42,3],[39,0,40,0],[39,1,40,1],[39,2,40,2],[39,3,40,3],[28,0,29,0],[28,1,29,1],[28,2,29,2],[28,3,29,3],[26,0,27,0],[26,1,27,1],[26,2,27,2],[26,3,27,3],[32,0,33,0],[32,1,33,1],[32,2,33,2],[32,3,33,3],[30,0,31,0],[30,1,31,1],[30,2,31,2],[30,3,31,3],[20,0,21,0],[20,1,21,1],[20,2,21,2],[20,3,21,3],[18,0,19,0],[18,1,19,1],[18,2,19,2],[18,3,19,3],[24,0,25,0],[24,1,25,1],[24,2,25,2],[24,3,25,3],[22,0,23,0],[22,1,23,1],[22,2,23,2],[22,3,23,3],[12,3,13,3],[10,0,11,0],[10,1,11,1],[10,2,11,2],[10,3,11,3],[16,0,17,0],[16,1,17,1],[16,2,17,2],[16,3,17,3],[14,0,15,0],[14,1,15,1],[14,2,15,2],[14,3,15,3],[4,0,5,0],[6,3,7,3],[71,4,72,4],[0,0,0,7],[1,0,1,6],[4,7,5,7],[2,0,3,0],[2,1,3,1],[2,2,3,2],[2,3,3,3],[1,7,2,7],[8,0,9,0],[8,1,9,1],[8,2,9,2],[8,3,9,3],[4,1,5,1],[4,2,5,2],[4,3,5,3],[6,0,7,0],[6,1,7,1],[6,2,7,2],[12,0,13,0],[12,1,13,1],[12,2,13,2]]}
["Чемпионат России по БОЕВОМУ САМБО "]
[null,null,null,null,null,null,null,{"$f":"HYPERLINK(#REF!)","v":{"$error":"#REF!"}}]
[1,{"$f":"VLOOKUP(A3,#REF!,2,FALSE)","v":{"$error":"#REF!"}},{"$f":"VLOOKUP(A3,#REF!,3,FALSE)","v":{"$error":"#REF!"}},{"$f":"VLOOKUP(A3,#REF!,4,FALSE)","v":{"$error":"#REF!"}}]
[]
[33,{"$f":"VLOOKUP(A5,#REF!,2,FALSE)","v":{"$error":"#REF!"}},{"$f":"VLOOKUP(A5,#REF!,3,FALSE)","v":{"$error":"#REF!"}},{"$f":"VLOOKUP(A5,#REF!,4,FALSE)","v":{"$error":"#REF!"}},null,null,null,"Подгруппа А"]
[]
[17,{"$f":"VLOOKUP(A7,#REF!,2,FALSE)","v":{"$error":"#REF!"}},{"$f":"VLOOKUP(A7,#REF!,3,FALSE)","v":{"$error":"#REF!"}},{"$f":"VLOOKUP(A7,#REF!,4,FALSE)","v":{"$error":"#REF!"}}]
[]
[49,{"$f":"VLOOKUP(A9,#REF!,2,FALSE)","v":{"$error":"#REF!"}},{"$f":"VLOOKUP(A9,#REF!,3,FALSE)","v":{"$error":"#REF!"}},{"$f":"VLOOKUP(A9,#REF!,4,FALSE)","v":{"$error":"#REF!"}}]
[]
[9,{"$f":"VLOOKUP(A11,#REF!,2,FALSE)","v":{"$error":"#REF!"}},{"$f":"VLOOKUP(A11,#REF!,3,FALSE)","v":{"$error":"#REF!"}},{"$f":"VLOOKUP(A11,#REF!,4,FALSE)","v":{"$error":"#REF!"}}]
[]
[41,{"$f":"VLOOKUP(A13,#REF!,2,FALSE)","v":{"$error":"#REF!"}},{"$f":"VLOOKUP(A13,#REF!,3,FALSE)","v":{"$error":"#REF!"}},{"$f":"VLOOKUP(A13,#REF!,4,FALSE)","v":{"$error":"#REF!"}}]
[]
[25,{"$f":"VLOOKUP(A15,#REF!,2,FALSE)","v":{"$error":"#REF!"}},{"$f":"VLOOKUP(A15,#REF!,3,FALSE)","v":{"$error":"#REF!"}},{"$f":"VLOOKUP(A15,#REF!,4,FALSE)","v":{"$error":"#REF!"}}]
[]
[57,{"$f":"VLOOKUP(A17,#REF!,2,FALSE)","v":{"$error":"#REF!"}},{"$f":"VLOOKUP(A17,#REF!,3,FALSE)","v":{"$error":"#REF!"}},{"$f":"VLOOKUP(A17,#REF!,4,FALSE)","v":{"$error":"#REF!"}}]
[]
[5,{"$f":"VLOOKUP(A19,#REF!,2,FALSE)","v":{"$error":"#REF!"}},{"$f":"VLOOKUP(A19,#REF!,3,FALSE)","v":{"$error":"#REF!"}},{"$f":"VLOOKUP(A19,#REF!,4,FALSE)","v":{"$error":"#REF!"}}]
[]
[37,{"$f":"VLOOKUP(A21,#REF!,2,FALSE)","v":{"$error":"#REF!"}},{"$f":"VLOOKUP(A21,#REF!,3,FALSE)","v":{"$error":"#REF!"}},{"$f":"VLOOKUP(A21,#REF!,4,FALSE)","v":{"$error":"#REF!"}}]
[]
[21,{"$f":"VLOOKUP(A23,#REF!,2,FALSE)","v":{"$error":"#REF!"}},{"$f":"VLOOKUP(A23,#REF!,3,FALSE)","v":{"$error":"#REF!"}},{"$f":"VLOOKUP(A23,#REF!,4,FALSE)","v":{"$error":"#REF!"}}]
[]
[53,{"$f":"VLOOKUP(A25,#REF!,2,FALSE)","v":{"$error":"#REF!"}},{"$f":"VLOOKUP(A25,#REF!,3,FALSE)","v":{"$error":"#REF!"}},{"$f":"VLOOKUP(A25,#REF!,4,FALSE)","v":{"$error":"#REF!"}}]
[]
[13,{"$f":"VLOOKUP(A27,#REF!,2,FALSE)","v":{"$error":"#REF!"}},{"$f":"VLOOKUP(A27,#REF!,3,FALSE)","v":{"$error":"#REF!"}},{"$f":"VLOOKUP(A27,#REF!,4,FALSE)","v":{"$error":"#REF!"}}]
[]
[45,{"$f":"VLOOKUP(A29,#REF!,2,FALSE)","v":{"$error":"#REF!"}},{"$f":"VLOOKUP(A29,#REF!,3,FALSE)","v":{"$error":"#REF!"}},{"$f":"VLOOKUP(A29,#REF!,4,FALSE)","v":{"$error":"#REF!"}}]
[]
[29,{"$f":"VLOOKUP(A31,#REF!,2,FALSE)","v":{"$error":"#REF!"}},{"$f":"VLOOKUP(A31,#REF!,3,FALSE)","v":{"$error":"#REF!"}},{"$f":"VLOOKUP(A31,#REF!,4,FALSE)","v":{"$error":"#REF!"}}]
[]
[61,{"$f":"VLOOKUP(A33,#REF!,2,FALSE)","v":{"$error":"#REF!"}},{"$f":"VLOOKUP(A33,#REF!,3,FALSE)","v":{"$error":"#REF!"}},{"$f":"VLOOKUP(A33,#REF!,4,FALSE)","v":{"$error":"#REF!"}}]
[]
[]
[3,{"$f":"VLOOKUP(A36,#REF!,2,FALSE)","v":{"$error":"#REF!"}},{"$f":"VLOOKUP(A36,#REF!,3,FALSE)","v":{"$error":"#REF!"}},{"$f":"VLOOKUP(A36,#REF!,4,FALSE)","v":{"$error":"#REF!"}}]
[]
[35,{"$f":"VLOOKUP(A38,#REF!,2,FALSE)","v":{"$error":"#REF!"}},{"$f":"VLOOKUP(A38,#REF!,3,FALSE)","v":{"$error":"#REF!"}},{"$f":"VLOOKUP(A38,#REF!,4,FALSE)","v":{"$error":"#REF!"}}]
[]
[19,{"$f":"VLOOKUP(A40,#REF!,2,FALSE)","v":{"$error":"#REF!"}},{"$f":"VLOOKUP(A40,#REF!,3,FALSE)","v":{"$error":"#REF!"}},{"$f":"VLOOKUP(A40,#REF!,4,FALSE)","v":{"$error":"#REF!"}}]
[]
[51,{"$f":"VLOOKUP(A42,#REF!,2,FALSE)","v":{"$error":"#REF!"}},{"$f":"VLOOKUP(A42,#REF!,3,FALSE)","v":{"$error":"#REF!"}},{"$f":"VLOOKUP(A42,#REF!,4,FALSE)","v":{"$error":"#REF!"}}]
[]
[11,{"$f":"VLOOKUP(A44,#REF!,2,FALSE)","v":{"$error":"#REF!"}},{"$f":"VLOOKUP(A44,#REF!,3,FALSE)","v":{"$error":"#REF!"}},{"$f":"VLOOKUP(A44,#REF!,4,FALSE)","v":{"$error":"#REF!"}}]
[]
[43,{"$f":"VLOOKUP(A46,#REF!,2,FALSE)","v":{"$error":"#REF!"}},{"$f":"VLOOKUP(A46,#REF!,3,FALSE)","v":{"$error":"#REF!"}},{"$f":"VLOOKUP(A46,#REF!,4,FALSE)","v":{"$error":"#REF!"}}]
[]
[27,{"$f":"VLOOKUP(A48,#REF!,2,FALSE)","v":{"$error":"#REF!"}},{"$f":"VLOOKUP(A48,#REF!,3,FALSE)","v":{"$error":"#REF!"}},{"$f":"VLOOKUP(A48,#REF!,4,FALSE)","v":{"$error":"#REF!"}}]
[]
[59,{"$f":"VLOOKUP(A50,#REF!,2,FALSE)","v":{"$error":"#REF!"}},{"$f":"VLOOKUP(A50,#REF!,3,FALSE)","v":{"$error":"#REF!"}},{"$f":"VLOOKUP(A50,#REF!,4,FALSE)","v":{"$error":"#REF!"}}]
[]
[7,{"$f":"VLOOKUP(A52,#REF!,2,FALSE)","v":{"$error":"#REF!"}},{"$f":"VLOOKUP(A52,#REF!,3,FALSE)","v":{"$error":"#REF!"}},{"$f":"VLOOKUP(A52,#REF!,4,FALSE)","v":{"$error":"#REF!"}}]
[]
[39,{"$f":"VLOOKUP(A54,#REF!,2,FALSE)","v":{"$error":"#REF!"}},{"$f":"VLOOKUP(A54,#REF!,3,FALSE)","v":{"$error":"#REF!"}},{"$f":"VLOOKUP(A54,#REF!,4,FALSE)","v":{"$error":"#REF!"}}]
[]
[23,{"$f":"VLOOKUP(A56,#REF!,2,FALSE)","v":{"$error":"#REF!"}},{"$f":"VLOOKUP(A56,#REF!,3,FALSE)","v":{"$error":"#REF!"}},{"$f":"VLOOKUP(A56,#REF!,4,FALSE)","v":{"$error":"#REF!"}}]
[]
[55,{"$f":"VLOOKUP(A58,#REF!,2,FALSE)","v":{"$error":"#REF!"}},{"$f":"VLOOKUP(A58,#REF!,3,FALSE)","v":{"$error":"#REF!"}},{"$f":"VLOOKUP(A58,#REF!,4,FALSE)","v":{"$error":"#REF!"}}]
[]
[15,{"$f":"VLOOKUP(A60,#REF!,2,FALSE)","v":{"$error":"#REF!"}},{"$f":"VLOOKUP(A60,#REF!,3,FALSE)","v":{"$error":"#REF!"}},{"$f":"VLOOKUP(A60,#REF!,4,FALSE)","v":{"$error":"#REF!"}}]
[]
[47,{"$f":"VLOOKUP(A62,#REF!,2,FALSE)","v":{"$error":"#REF!"}},{"$f":"VLOOKUP(A62,#REF!,3,FALSE)","v":{"$error":"#REF!"}},{"$f":"VLOOKUP(A62,#REF!,4,FALSE)","v":{"$error":"#REF!"}}]
[]
[31,{"$f":"VLOOKUP(A64,#REF!,2,FALSE)","v":{"$error":"#REF!"}},{"$f":"VLOOKUP(A64,#REF!,3,FALSE)","v":{"$error":"#REF!"}},{"$f":"VLOOKUP(A64,#REF!,4,FALSE)","v":{"$error":"#REF!"}}]
[]
[63,{"$f":"VLOOKUP(A66,#REF!,2,FALSE)","v":{"$error":"#REF!"}},{"$f":"VLOOKUP(A66,#REF!,3,FALSE)","v":{"$error":"#REF!"}},{"$f":"VLOOKUP(A66,#REF!,4,FALSE)","v":{"$error":"#REF!"}}]
[]
[]
[]
[]
[]
["Утешительные встречи",null,null,null,{"$f":"HYPERLINK(#REF!)","v":{"$error":"#REF!"}},null,"Подгруппа А1"]