{"text_format":"1","workbook":"xlsx","n_sheets":6,"sheets":["рег.раб.","Инструкция","реквизиты","Лист1","Лист2","регистрация"],"not_rendered":{"charts":0,"images":1,"macros":1,"external_links":1,"defined_names":8,"comments":0,"pivot_tables":2},"unopened":[],"bounds":{"document_bytes":16777216,"sheet_cells":100000,"rows_first":2000,"rows_last":500,"rows_between":2000,"halvings":0,"cell_chars":16384,"cell_head_chars":4096},"cells_cut":0,"cells_raw":0,"read":"whole","date_system":"1900"}

{"sheet":"рег.раб.","index":0,"n_rows":966,"n_cols":42,"rows_kept":966,"cut":false,"hidden":true,"merged":[[3,18,4,18],[3,19,4,19],[3,20,4,20],[3,21,4,21],[3,22,4,22],[3,23,4,23],[3,12,4,12],[3,13,4,13],[3,14,4,14],[3,15,4,15],[3,16,4,16],[3,17,4,17],[3,6,4,6],[3,7,4,7],[3,8,4,8],[3,9,4,9],[3,10,4,10],[3,11,4,11],[0,0,0,20],[1,0,1,20],[1,30,1,35],[2,0,2,20],[3,0,4,0],[3,1,4,1],[3,2,4,2],[3,3,4,3],[3,4,4,4],[3,5,4,5],[9,28,10,28],[9,29,10,29],[9,30,10,30],[9,40,10,40],[11,28,12,28],[11,29,12,29],[11,30,12,30],[11,40,12,40],[5,41,6,41],[5,44,6,44],[7,28,8,28],[7,29,8,29],[7,30,8,30],[7,40,8,40],[7,41,8,41],[7,44,8,44],[3,38,4,38],[3,39,4,39],[5,28,6,28],[5,29,6,29],[5,30,6,30],[5,40,6,40],[3,32,4,32],[3,33,4,33],[3,34,4,34],[3,35,4,35],[3,36,4,36],[3,37,4,37],[3,25,4,25],[3,26,4,26],[3,28,4,28],[3,29,4,29],[3,30,4,30],[3,31,4,31],[29,28,30,28],[29,29,30,29],[29,30,30,30],[29,40,30,40],[31,28,32,28],[31,29,32,29],[31,30,32,30],[31,40,32,40],[25,28,26,28],[25,29,26,29],[25,30,26,30],[25,40,26,40],[27,28,28,28],[27,29,28,29],[27,30,28,30],[27,40,28,40],[21,28,22,28],[21,29,22,29],[21,30,22,30],[21,40,22,40],[23,28,24,28],[23,29,24,29],[23,30,24,30],[23,40,24,40],[17,28,18,28],[17,29,18,29],[17,30,18,30],[17,40,18,40],[19,28,20,28],[19,29,20,29],[19,30,20,30],[19,40,20,40],[13,28,14,28],[13,29,14,29],[13,30,14,30],[13,40,14,40],[15,28,16,28],[15,29,16,29],[15,30,16,30],[15,40,16,40],[43,41,44,41],[43,42,44,42],[43,43,44,43],[43,44,44,44],[43,45,44,45],[45,28,46,28],[45,29,46,29],[45,30,46,30],[45,40,46,40],[45,41,46,41],[41,28,42,28],[41,29,42,29],[41,30,42,30],[41,40,42,40],[43,28,44,28],[43,29,44,29],[43,30,44,30],[43,40,44,40],[37,28,38,28],[37,29,38,29],[37,30,38,30],[37,40,38,40],[39,28,40,28],[39,29,40,29],[39,30,40,30],[39,40,40,40],[33,28,34,28],[33,29,34,29],[33,30,34,30],[33,40,34,40],[35,28,36,28],[35,29,36,29],[35,30,36,30],[35,40,36,40],[51,45,52,45],[53,28,54,28],[53,29,54,29],[53,30,54,30],[53,40,54,40],[53,41,54,41],[53,42,54,42],[53,43,54,43],[53,44,54,44],[53,45,54,45],[49,44,50,44],[49,45,50,45],[51,28,52,28],[51,29,52,29],[51,30,52,30],[51,40,52,40],[51,41,52,41],[51,42,52,42],[51,43,52,43],[51,44,52,44],[47,43,48,43],[47,44,48,44],[47,45,48,45],[49,28,50,28],[49,29,50,29],[49,30,50,30],[49,40,50,40],[49,41,50,41],[49,42,50,42],[49,43,50,43],[45,42,46,42],[45,43,46,43],[45,44,46,44],[45,45,46,45],[47,28,48,28],[47,29,48,29],[47,30,48,30],[47,40,48,40],[47,41,48,41],[47,42,48,42],[59,45,60,45],[61,28,62,28],[61,29,62,29],[61,30,62,30],[61,40,62,40],[61,41,62,41],[61,42,62,42],[61,43,62,43],[61,44,62,44],[61,45,62,45],[57,44,58,44],[57,45,58,45],[59,28,60,28],[59,29,60,29],[59,30,60,30],[59,40,60,40],[59,41,60,41],[59,42,60,42],[59,43,60,43],[59,44,60,44],[55,43,56,43],[55,44,56,44],[55,45,56,45],[57,28,58,28],[57,29,58,29],[57,30,58,30],[57,40,58,40],[57,41,58,41],[57,42,58,42],[57,43,58,43],[55,28,56,28],[55,29,56,29],[55,30,56,30],[55,40,56,40],[55,41,56,41],[55,42,56,42],[67,45,68,45],[69,28,70,28],[69,29,70,29],[69,30,70,30],[69,40,70,40],[69,41,70,41],[69,42,70,42],[69,43,70,43],[69,44,70,44],[69,45,70,45],[65,44,66,44],[65,45,66,45],[67,28,68,28],[67,29,68,29],[67,30,68,30],[67,40,68,40],[67,41,68,41],[67,42,68,42],[67,43,68,43],[67,44,68,44],[63,43,64,43],[63,44,64,44],[63,45,64,45],[65,28,66,28],[65,29,66,29],[65,30,66,30],[65,40,66,40],[65,41,66,41],[65,42,66,42],[65,43,66,43],[63,28,64,28],[63,29,64,29],[63,30,64,30],[63,40,64,40],[63,41,64,41],[63,42,64,42],[75,45,76,45],[77,28,78,28],[77,29,78,29],[77,30,78,30],[77,40,78,40],[77,41,78,41],[77,42,78,42],[77,43,78,43],[77,44,78,44],[77,45,78,45],[73,44,74,44],[73,45,74,45],[75,28,76,28],[75,29,76,29],[75,30,76,30],[75,40,76,40],[75,41,76,41],[75,42,76,42],[75,43,76,43],[75,44,76,44],[71,43,72,43],[71,44,72,44],[71,45,72,45],[73,28,74,28],[73,29,74,29],[73,30,74,30],[73,40,74,40],[73,41,74,41],[73,42,74,42],[73,43,74,43],[71,28,72,28],[71,29,72,29],[71,30,72,30],[71,40,72,40],[71,41,72,41],[71,42,72,42],[83,45,84,45],[85,28,86,28],[85,29,86,29],[85,30,86,30],[85,40,86,40],[85,41,86,41],[85,42,86,42],[85,43,86,43],[85,44,86,44],[85,45,86,45],[81,44,82,44],[81,45,82,45],[83,28,84,28],[83,29,84,29],[83,30,84,30],[83,40,84,40],[83,41,84,41],[83,42,84,42],[83,43,84,43],[83,44,84,44],[79,43,80,43],[79,44,80,44],[79,45,80,45],[81,28,82,28],[81,29,82,29],[81,30,82,30],[81,40,82,40],[81,41,82,41],[81,42,82,42],[81,43,82,43],[79,28,80,28],[79,29,80,29],[79,30,80,30],[79,40,80,40],[79,41,80,41],[79,42,80,42],[91,45,92,45],[93,28,94,28],[93,29,94,29],[93,30,94,30],[93,40,94,40],[93,41,94,41],[93,42,94,42],[93,43,94,43],[93,44,94,44],[93,45,94,45],[89,44,90,44],[89,45,90,45],[91,28,92,28],[91,29,92,29],[91,30,92,30],[91,40,92,40],[91,41,92,41],[91,42,92,42],[91,43,92,43],[91,44,92,44],[87,43,88,43],[87,44,88,44],[87,45,88,45],[89,28,90,28],[89,29,90,29],[89,30,90,30],[89,40,90,40],[89,41,90,41],[89,42,90,42],[89,43,90,43],[87,28,88,28],[87,29,88,29],[87,30,88,30],[87,40,88,40],[87,41,88,41],[87,42,88,42],[99,42,100,42],[99,43,100,43],[99,44,100,44],[99,45,100,45],[101,25,102,25],[101,26,102,26],[101,28,102,28],[101,29,102,29],[101,30,102,30],[101,40,102,40],[97,42,98,42],[97,43,98,43],[97,44,98,44],[97,45,98,45],[99,26,100,26],[99,28,100,28],[99,29,100,29],[99,30,100,30],[99,40,100,40],[99,41,100,41],[95,42,96,42],[95,43,96,43],[95,44,96,44],[95,45,96,45],[97,26,98,26],[97,28,98,28],[97,29,98,29],[97,30,98,30],[97,40,98,40],[97,41,98,41],[95,26,96,26],[95,28,96,28],[95,29,96,29],[95,30,96,30],[95,40,96,40],[95,41,96,41],[107,40,108,40],[107,41,108,41],[107,42,108,42],[107,43,108,43],[107,44,108,44],[107,45,108,45],[105,41,106,41],[105,42,106,42],[105,43,106,43],[105,44,106,44],[105,45,106,45],[107,25,108,25],[107,26,108,26],[107,28,108,28],[107,29,108,29],[107,30,108,30],[105,25,106,25],[105,26,106,26],[105,28,106,28],[105,29,106,29],[105,30,106,30],[105,40,106,40],[103,40,104,40],[103,41,104,41],[103,42,104,42],[103,43,104,43],[103,44,104,44],[103,45,104,45],[101,41,102,41],[101,42,102,42],[101,43,102,43],[101,44,102,44],[101,45,102,45],[103,25,104,25],[103,26,104,26],[103,28,104,28],[103,29,104,29],[103,30,104,30],[115,40,116,40],[115,41,116,41],[115,42,116,42],[115,43,116,43],[115,44,116,44],[115,45,116,45],[113,41,114,41],[113,42,114,42],[113,43,114,43],[113,44,114,44],[113,45,114,45],[115,25,116,25],[115,26,116,26],[115,28,116,28],[115,29,116,29],[115,30,116,30],[113,25,114,25],[113,26,114,26],[113,28,114,28],[113,29,114,29],[113,30,114,30],[113,40,114,40],[111,40,112,40],[111,41,112,41],[111,42,112,42],[111,43,112,43],[111,44,112,44],[111,45,112,45],[109,41,110,41],[109,42,110,42],[109,43,110,43],[109,44,110,44],[109,45,110,45],[111,25,112,25],[111,26,112,26],[111,28,112,28],[111,29,112,29],[111,30,112,30],[109,25,110,25],[109,26,110,26],[109,28,110,28],[109,29,110,29],[109,30,110,30],[109,40,110,40],[123,40,124,40],[123,41,124,41],[123,42,124,42],[123,43,124,43],[123,44,124,44],[123,45,124,45],[121,41,122,41],[121,42,122,42],[121,43,122,43],[121,44,122,44],[121,45,122,45],[123,25,124,25],[123,26,124,26],[123,28,124,28],[123,29,124,29],[123,30,124,30],[121,25,122,25],[121,26,122,26],[121,28,122,28],[121,29,122,29],[121,30,122,30],[121,40,122,40],[119,40,120,40],[119,41,120,41],[119,42,120,42],[119,43,120,43],[119,44,120,44],[119,45,120,45],[117,41,118,41],[117,42,118,42],[117,43,118,43],[117,44,118,44],[117,45,118,45],[119,25,120,25],[119,26,120,26],[119,28,120,28],[119,29,120,29],[119,30,120,30],[117,25,118,25],[117,26,118,26],[117,28,118,28],[117,29,118,29],[117,30,118,30],[117,40,118,40],[131,40,132,40],[131,41,132,41],[131,42,132,42],[131,43,132,43],[131,44,132,44],[131,45,132,45],[129,41,130,41],[129,42,130,42],[129,43,130,43],[129,44,130,44],[129,45,130,45],[131,25,132,25],[131,26,132,26],[131,28,132,28],[131,29,132,29],[131,30,132,30],[129,25,130,25],[129,26,130,26],[129,28,130,28],[129,29,130,29],[129,30,130,30],[129,40,130,40],[127,40,128,40],[127,41,128,41],[127,42,128,42],[127,43,128,43],[127,44,128,44],[127,45,128,45],[125,41,126,41],[125,42,126,42],[125,43,126,43],[125,44,126,44],[125,45,126,45],[127,25,128,25],[127,26,128,26],[127,28,128,28],[127,29,128,29],[127,30,128,30],[125,25,126,25],[125,26,126,26],[125,28,126,28],[125,29,126,29],[125,30,126,30],[125,40,126,40],[139,40,140,40],[139,41,140,41],[139,42,140,42],[139,43,140,43],[139,44,140,44],[139,45,140,45],[137,41,138,41],[137,42,138,42],[137,43,138,43],[137,44,138,44],[137,45,138,45],[139,25,140,25],[139,26,140,26],[139,28,140,28],[139,29,140,29],[139,30,140,30],[137,25,138,25],[137,26,138,26],[137,28,138,28],[137,29,138,29],[137,30,138,30],[137,40,138,40],[135,40,136,40],[135,41,136,41],[135,42,136,42],[135,43,136,43],[135,44,136,44],[135,45,136,45],[133,41,134,41],[133,42,134,42],[133,43,134,43],[133,44,134,44],[133,45,134,45],[135,25,136,25],[135,26,136,26],[135,28,136,28],[135,29,136,29],[135,30,136,30],[133,25,134,25],[133,26,134,26],[133,28,134,28],[133,29,134,29],[133,30,134,30],[133,40,134,40],[147,40,148,40],[147,41,148,41],[147,42,148,42],[147,43,148,43],[147,44,148,44],[147,45,148,45],[145,41,146,41],[145,42,146,42],[145,43,146,43],[145,44,146,44],[145,45,146,45],[147,25,148,25],[147,26,148,26],[147,28,148,28],[147,29,148,29],[147,30,148,30],[145,25,146,25],[145,26,146,26],[145,28,146,28],[145,29,146,29],[145,30,146,30],[145,40,146,40],[143,40,144,40],[143,41,144,41],[143,42,144,42],[143,43,144,43],[143,44,144,44],[143,45,144,45],[141,41,142,41],[141,42,142,42],[141,43,142,43],[141,44,142,44],[141,45,142,45],[143,25,144,25],[143,26,144,26],[143,28,144,28],[143,29,144,29],[143,30,144,30],[141,25,142,25],[141,26,142,26],[141,28,142,28],[141,29,142,29],[141,30,142,30],[141,40,142,40],[155,40,156,40],[155,41,156,41],[155,42,156,42],[155,43,156,43],[155,44,156,44],[155,45,156,45],[153,41,154,41],[153,42,154,42],[153,43,154,43],[153,44,154,44],[153,45,154,45],[155,25,156,25],[155,26,156,26],[155,28,156,28],[155,29,156,29],[155,30,156,30],[153,25,154,25],[153,26,154,26],[153,28,154,28],[153,29,154,29],[153,30,154,30],[153,40,154,40],[151,40,152,40],[151,41,152,41],[151,42,152,42],[151,43,152,43],[151,44,152,44],[151,45,152,45],[149,41,150,41],[149,42,150,42],[149,43,150,43],[149,44,150,44],[149,45,150,45],[151,25,152,25],[151,26,152,26],[151,28,152,28],[151,29,152,29],[151,30,152,30],[149,25,150,25],[149,26,150,26],[149,28,150,28],[149,29,150,29],[149,30,150,30],[149,40,150,40],[163,40,164,40],[163,41,164,41],[163,42,164,42],[163,43,164,43],[163,44,164,44],[163,45,164,45],[161,41,162,41],[161,42,162,42],[161,43,162,43],[161,44,162,44],[161,45,162,45],[163,25,164,25],[163,26,164,26],[163,28,164,28],[163,29,164,29],[163,30,164,30],[161,25,162,25],[161,26,162,26],[161,28,162,28],[161,29,162,29],[161,30,162,30],[161,40,162,40],[159,40,160,40],[159,41,160,41],[159,42,160,42],[159,43,160,43],[159,44,160,44],[159,45,160,45],[157,41,158,41],[157,42,158,42],[157,43,158,43],[157,44,158,44],[157,45,158,45],[159,25,160,25],[159,26,160,26],[159,28,160,28],[159,29,160,29],[159,30,160,30],[157,25,158,25],[157,26,158,26],[157,28,158,28],[157,29,158,29],[157,30,158,30],[157,40,158,40],[171,40,172,40],[171,41,172,41],[171,42,172,42],[171,43,172,43],[171,44,172,44],[171,45,172,45],[169,41,170,41],[169,42,170,42],[169,43,170,43],[169,44,170,44],[169,45,170,45],[171,25,172,25],[171,26,172,26],[171,28,172,28],[171,29,172,29],[171,30,172,30],[169,25,170,25],[169,26,170,26],[169,28,170,28],[169,29,170,29],[169,30,170,30],[169,40,170,40],[167,40,168,40],[167,41,168,41],[167,42,168,42],[167,43,168,43],[167,44,168,44],[167,45,168,45],[165,41,166,41],[165,42,166,42],[165,43,166,43],[165,44,166,44],[165,45,166,45],[167,25,168,25],[167,26,168,26],[167,28,168,28],[167,29,168,29],[167,30,168,30],[165,25,166,25],[165,26,166,26],[165,28,166,28],[165,29,166,29],[165,30,166,30],[165,40,166,40],[179,40,180,40],[179,41,180,41],[179,42,180,42],[179,43,180,43],[179,44,180,44],[179,45,180,45],[177,41,178,41],[177,42,178,42],[177,43,178,43],[177,44,178,44],[177,45,178,45],[179,25,180,25],[179,26,180,26],[179,28,180,28],[179,29,180,29],[179,30,180,30],[177,25,178,25],[177,26,178,26],[177,28,178,28],[177,29,178,29],[177,30,178,30],[177,40,178,40],[175,40,176,40],[175,41,176,41],[175,42,176,42],[175,43,176,43],[175,44,176,44],[175,45,176,45],[173,41,174,41],[173,42,174,42],[173,43,174,43],[173,44,174,44],[173,45,174,45],[175,25,176,25],[175,26,176,26],[175,28,176,28],[175,29,176,29],[175,30,176,30],[173,25,174,25],[173,26,174,26],[173,28,174,28],[173,29,174,29],[173,30,174,30],[173,40,174,40],[187,40,188,40],[187,41,188,41],[187,42,188,42],[187,43,188,43],[187,44,188,44],[187,45,188,45],[185,41,186,41],[185,42,186,42],[185,43,186,43],[185,44,186,44],[185,45,186,45],[187,25,188,25],[187,26,188,26],[187,28,188,28],[187,29,188,29],[187,30,188,30],[185,25,186,25],[185,26,186,26],[185,28,186,28],[185,29,186,29],[185,30,186,30],[185,40,186,40],[183,40,184,40],[183,41,184,41],[183,42,184,42],[183,43,184,43],[183,44,184,44],[183,45,184,45],[181,41,182,41],[181,42,182,42],[181,43,182,43],[181,44,182,44],[181,45,182,45],[183,25,184,25],[183,26,184,26],[183,28,184,28],[183,29,184,29],[183,30,184,30],[181,25,182,25],[181,26,182,26],[181,28,182,28],[181,29,182,29],[181,30,182,30],[181,40,182,40],[197,40,198,40],[197,41,198,41],[197,42,198,42],[197,43,198,43],[197,44,198,44],[197,45,198,45],[193,41,194,41],[193,42,194,42],[193,43,194,43],[193,44,194,44],[193,45,194,45],[197,25,198,25],[197,26,198,26],[197,28,198,28],[197,29,198,29],[197,30,198,30],[193,25,194,25],[193,26,194,26],[193,28,194,28],[193,29,194,29],[193,30,194,30],[193,40,194,40],[191,40,192,40],[191,41,192,41],[191,42,192,42],[191,43,192,43],[191,44,192,44],[191,45,192,45],[189,41,190,41],[189,42,190,42],[189,43,190,43],[189,44,190,44],[189,45,190,45],[191,25,192,25],[191,26,192,26],[191,28,192,28],[191,29,192,29],[191,30,192,30],[189,25,190,25],[189,26,190,26],[189,28,190,28],[189,29,190,29],[189,30,190,30],[189,40,190,40],[206,40,207,40],[206,41,207,41],[206,42,207,42],[206,43,207,43],[206,44,207,44],[206,45,207,45],[204,41,205,41],[204,42,205,42],[204,43,205,43],[204,44,205,44],[204,45,205,45],[206,25,207,25],[206,26,207,26],[206,28,207,28],[206,29,207,29],[206,30,207,30],[204,25,205,25],[204,26,205,26],[204,28,205,28],[204,29,205,29],[204,30,205,30],[204,40,205,40],[202,40,203,40],[202,41,203,41],[202,42,203,42],[202,43,203,43],[202,44,203,44],[202,45,203,45],[200,41,201,41],[200,42,201,42],[200,43,201,43],[200,44,201,44],[200,45,201,45],[202,25,203,25],[202,26,203,26],[202,28,203,28],[202,29,203,29],[202,30,203,30],[200,25,201,25],[200,26,201,26],[200,28,201,28],[200,29,201,29],[200,30,201,30],[200,40,201,40],[214,40,215,40],[214,41,215,41],[214,42,215,42],[214,43,215,43],[214,44,215,44],[214,45,215,45],[212,41,213,41],[212,42,213,42],[212,43,213,43],[212,44,213,44],[212,45,213,45],[214,25,215,25],[214,26,215,26],[214,28,215,28],[214,29,215,29],[214,30,215,30],[212,25,213,25],[212,26,213,26],[212,28,213,28],[212,29,213,29],[212,30,213,30],[212,40,213,40],[210,40,211,40],[210,41,211,41],[210,42,211,42],[210,43,211,43],[210,44,211,44],[210,45,211,45],[208,41,209,41],[208,42,209,42],[208,43,209,43],[208,44,209,44],[208,45,209,45],[210,25,211,25],[210,26,211,26],[210,28,211,28],[210,29,211,29],[210,30,211,30],[208,25,209,25],[208,26,209,26],[208,28,209,28],[208,29,209,29]],"merged_total":19462,"flags":["merged_cut"]}
[]
[null,null,null,null,null,null,null,null,null,null,null,null,null,null,null,null,null,null,null,null,null,null,null,null,null,null,null,null,null,null,"ИНТСРУКЦИЯ",null,null,null,null,null,null,null,"КМС","МС","МСМК","ЗМС"]
[]
["№ рег.","№ п/п","№ п/ж","в.к.","Ф.И.О.","дата","раз","окр","суб","гор","вед","трен","вес",null,null,null,"Ф.И.О.","Дата рожд., разряд","округ","Субъект, город, ведомство","№ карточки","Тренер"]
[]
[null,null,3,44,"ЗАМКОВОЙ Артем Алексеевич","010204","кмс","сфо","алтайский","бийск","мо","Гусев А.В. ",{"$f":"D6","v":44},null,null,null,{"$f":"CONCATENATE(AH6,AI6)","v":"ЗАМКОВОЙ Артем Алексеевич"},{"$f":"CONCATENATE(AJ6,\".\",AK6,\".\",AL6,\",\",\" \",AN6)","v":"01.02.04, КМС"},{"$f":"UPPER(H6)","v":"СФО"},{"$f":"CONCATENATE(PROPER(I6),\", \",PROPER(J6),\", \",UPPER(K6))","v":"Алтайский, Бийск, МО"},null,{"$f":"PROPER(L6)","v":"Гусев А.В. "},{"$f":"MID(E6,FIND(\"\",E6)*1,1)","v":"З"},{"$f":"IF(COUNTIF(E$5:E6,E6)=1,ROW()-1)","v":5},null,"Мешкеев Э.А.","1994-04-20",null,{"$f":"Z6","v":"Мешкеев Э.А."},null,null,{"$f":"IFERROR(LEFT(E6,FIND(\" \",E6)-1),E6)","v":"ЗАМКОВОЙ"},{"$f":"MID(E6,FIND(\" \",E6)*1,27)","v":" Артем Алексеевич"},{"$f":"UPPER(AF6)","v":"ЗАМКОВОЙ"},{"$f":"PROPER(AG6)","v":" Артем Алексеевич"},{"$f":"MID($F6,FIND(\"\",$F6)*1,2)","v":"01"},{"$f":"MID($F6,FIND(\"\",$F6)*3,2)","v":"02"},{"$f":"MID($F6,FIND(\"\",$F6)*5,2)","v":"04"},{"$f":"G6","v":"кмс"},{"$f":"IF(AM6=\"кмс\",AM$2,IF(AM6=\"мс\",AN$2,IF(AM6=\"мсмк\",AO$2,IF(AM6=\"змс\",AP$2,AM6))))","v":"КМС"}]
[null,1,null,57,"БУЛАТОВ Шамиль Радикович","260896","кмс","=AB7","Амурская","тюмень","мо","гаранин е.а. бондарь е.в.",57,null,null,null,"БУЛАТОВ Шамиль Радикович","26.08.96, КМС",{"$f":"AB7","v":"ДФО"},"Амурская, Тюмень, МО",null,"Гаранин Е.А. Бондарь Е.В.",{"$f":"MID(E7,FIND(\"\",E7)*1,1)","v":"Б"},{"$f":"VLOOKUP(Y7,Y$7:AA$94,3,FALSE)","v":"ДФО"},{"$f":"I7","v":"Амурская"},"Амурская","ДФО",{"$f":"X7","v":"ДФО"},null,null,null,{"$f":"IFERROR(LEFT(E7,FIND(\" \",E7)-1),E7)","v":"БУЛАТОВ"},{"$f":"MID(E7,FIND(\" \",E7)*1,27)","v":" Шамиль Радикович"},{"$f":"UPPER(AF7)","v":"БУЛАТОВ"},{"$f":"PROPER(AG7)","v":" Шамиль Радикович"},{"$f":"MID($F7,FIND(\"\",$F7)*1,2)","v":"26"},{"$f":"MID($F7,FIND(\"\",$F7)*3,2)","v":"08"},{"$f":"MID($F7,FIND(\"\",$F7)*5,2)","v":"96"},{"$f":"G7","v":"кмс"},{"$f":"IF(AM7=\"кмс\",AM$2,IF(AM7=\"мс\",AN$2,IF(AM7=\"мсмк\",AO$2,IF(AM7=\"змс\",AP$2,AM7))))","v":"КМС"}]
[null,2,"св3",57,"БЕСЛАНЕЕВ Темирлан Асланович","070298","кмс","=ВПР(I7;Y7:Z29;2;ложь)","Еврейская АО","тюмень","мо","гаранин е.а. бондарь е.в.",57,null,null,null,"БЕСЛАНЕЕВ Темирлан Асланович","07.02.98, КМС",{"$f":"AB8","v":"ДФО"},"Еврейская Ао, Тюмень, МО",null,"Гаранин Е.А. Бондарь Е.В.",{"$f":"MID(E8,FIND(\"\",E8)*1,1)","v":"Б"},{"$f":"VLOOKUP(Y8,Y$7:AA$94,3,FALSE)","v":"ДФО"},{"$f":"I8","v":"Еврейская АО"},"Еврейская АО","ДФО",{"$f":"X8","v":"ДФО"},{"$f":"Z7","v":"Амурская"},null,null,{"$f":"IFERROR(LEFT(E8,FIND(\" \",E8)-1),E8)","v":"БЕСЛАНЕЕВ"},{"$f":"MID(E8,FIND(\" \",E8)*1,27)","v":" Темирлан Асланович"},{"$f":"UPPER(AF8)","v":"БЕСЛАНЕЕВ"},{"$f":"PROPER(AG8)","v":" Темирлан Асланович"},{"$f":"MID($F8,FIND(\"\",$F8)*1,2)","v":"07"},{"$f":"MID($F8,FIND(\"\",$F8)*3,2)","v":"02"},{"$f":"MID($F8,FIND(\"\",$F8)*5,2)","v":"98"},{"$f":"G8","v":"кмс"},{"$f":"IF(AM8=\"кмс\",AM$2,IF(AM8=\"мс\",AN$2,IF(AM8=\"мсмк\",AO$2,IF(AM8=\"змс\",AP$2,AM8))))","v":"КМС"}]
[null,3,null,68,"Карасев Николай Александрович","020697","кмс","=ВПР(I7;Y7:Z29;2;ложь)","Камчатский","тюмень","мо","гаранин е.а. бондарь е.в.",68,null,null,null,"КАРАСЕВ Николай Александрович","02.06.97, КМС","ДФО","Камчатский, Тюмень, МО",null,"Гаранин Е.А. Бондарь Е.В.",{"$f":"MID(E9,FIND(\"\",E9)*1,1)","v":"К"},"ДФО","Камчатский","Камчатский","ДФО","ДФО",null,null,null,"Карасев"," Николай Александрович","КАРАСЕВ"," Николай Александрович","02","06","97","кмс","КМС"]
[null,4,null,82,"Путинцев Иван Тимофеевич","090994","кмс","=ВПР(I7;Y7:Z29;2;ложь)","Корякский АО","тюмень","мо","гаранин е.а. бондарь е.в.",82,null,null,null,"ПУТИНЦЕВ Иван Тимофеевич","09.09.94, КМС","ДФО","Корякский Ао, Тюмень, МО",null,"Гаранин Е.А. Бондарь Е.В.",null,"ДФО","Корякский АО","Корякский АО","ДФО","ДФО",{"$f":"Z8","v":"Еврейская АО"},null,null,"Путинцев"," Иван Тимофеевич","ПУТИНЦЕВ"," Иван Тимофеевич","09","09","94","кмс","КМС"]
[null,5,null,100,"Сотников Тимур Владимирович","211079","кмс","=ВПР(I9;Y7:Z27;2)","Магаданская","магадан","мо","коробков с.и.",100,null,null,null,"СОТНИКОВ Тимур Владимирович","21.10.79, КМС","ДФО","Магаданская, Магадан, МО",null,"Коробков С.И.",null,"ДФО","Магаданская","Магаданская","ДФО","ДФО",null,null,null,"Сотников"," Тимур Владимирович","СОТНИКОВ"," Тимур Владимирович","21","10","79","кмс","КМС"]
[null,6,null,62,"Чинкадзе Давид Гиевич","260188","мс","=ВПР(I9;Y7:Z27;2)","Приморский","прокопьевск","мо","Баглаев В.Г. Вальтеев А.М.",62,null,null,null,"ЧИНКАДЗЕ Давид Гиевич","26.01.88, МС","ДФО","Приморский, Прокопьевск, МО",null,"Баглаев В.Г. Вальтеев А.М.",null,"ДФО","Приморский","Приморский","ДФО","ДФО",{"$f":"Z9","v":"Камчатский"},null,null,"Чинкадзе"," Давид Гиевич","ЧИНКАДЗЕ"," Давид Гиевич","26","01","88","мс","МС"]
[null,7,null,74,"фартов амир асланович","011286","кмс","=ВПР(I9;Y7:Z27;2)","Р.Саха (Якутия)","прокопьевск","мо","Донцов Г.А. Вальтеев А.М.",74,null,null,null,"ФАРТОВ Амир Асланович","01.12.86, КМС","ДФО","Р.Саха (Якутия), Прокопьевск, МО",null,"Донцов Г.А. Вальтеев А.М.",null,"ДФО","Р.Саха (Якутия)","Р.Саха (Якутия)","ДФО","ДФО",null,null,null,"фартов"," амир асланович","ФАРТОВ"," Амир Асланович","01","12","86","кмс","КМС"]
[null,8,null,57,"БОДРОВ Иван Дмитриевич","200499","кмс","=ВПР(I9;Y7:Z27;2)","Сахалинская","новокузнецк","мо","кызлаков л.а.",57,null,null,null,"БОДРОВ Иван Дмитриевич","20.04.99, КМС","ДФО","Сахалинская, Новокузнецк, МО",null,"Кызлаков Л.А.",null,"ДФО","Сахалинская","Сахалинская","ДФО","ДФО",{"$f":"Z10","v":"Корякский АО"},null,null,"БОДРОВ"," Иван Дмитриевич","БОДРОВ"," Иван Дмитриевич","20","04","99","кмс","КМС"]
[null,9,null,52,"ГАДЖИЕВ Магамедал Октаевчич","96","кмс","=ВПР(I9;Y7:Z27;2)","Хабаровский","новосибирск","д","томилови.а. гуща р.а.",{"$f":"D15","v":52},null,null,null,{"$f":"CONCATENATE(AH15,AI15)","v":"ГАДЖИЕВ Магамедал Октаевчич"},{"$f":"CONCATENATE(AJ15,\".\",AK15,\".\",AL15,\",\",\" \",AN15)","v":"96.., КМС"},"ДФО",{"$f":"CONCATENATE(PROPER(I15),\", \",PROPER(J15),\", \",UPPER(K15))","v":"Хабаровский, Новосибирск, Д"},null,{"$f":"PROPER(L15)","v":"Томилови.А. Гуща Р.А."},null,"ДФО","Хабаровский","Хабаровский","ДФО","ДФО",null,null,null,"ГАДЖИЕВ"," Магамедал Октаевчич","ГАДЖИЕВ"," Магамедал Октаевчич","96","","","кмс","КМС"]
[null,10,null,62,"ГОДОВНИКОВ Виталий Андреевич","96","кмс","=ВПР(I9;Y7:Z27;2)","Чукотский АО","новосибирск","д","томилови.а. гуща р.а.",{"$f":"D16","v":62},null,null,null,{"$f":"CONCATENATE(AH16,AI16)","v":"ГОДОВНИКОВ Виталий Андреевич"},{"$f":"CONCATENATE(AJ16,\".\",AK16,\".\",AL16,\",\",\" \",AN16)","v":"96.., КМС"},"ДФО",{"$f":"CONCATENATE(PROPER(I16),\", \",PROPER(J16),\", \",UPPER(K16))","v":"Чукотский Ао, Новосибирск, Д"},null,{"$f":"PROPER(L16)","v":"Томилови.А. Гуща Р.А."},null,"ДФО","Чукотский АО","Чукотский АО","ДФО","ДФО",{"$f":"Z11","v":"Магаданская"},null,null,"ГОДОВНИКОВ"," Виталий Андреевич","ГОДОВНИКОВ"," Виталий Андреевич","96","","","кмс","КМС"]
[null,11,null,68,"СЕЛИВЁРСТОВ Степан Владимирович","96","кмс","=ВПР(I9;Y7:Z27;2)","Р.Башкортостан","новосибирск","д","томилови.а. гуща р.а.",68,null,null,null,"СЕЛИВЁРСТОВ Степан Владимирович","96.., КМС","ПФО","Р.Башкортостан, Новосибирск, Д",null,"Томилови.А. Гуща Р.А.",null,"ПФО","Р.Башкортостан","Р.Башкортостан","ПФО","ПФО",null,null,null,"СЕЛИВЁРСТОВ"," Степан Владимирович","СЕЛИВЁРСТОВ"," Степан Владимирович","96","","","кмс","КМС"]
[null,12,null,68,"ЩИКОТА Артур Михайлович","98","кмс","=X18","Кировская","новосибирск","д","томилови.а. гуща р.а.",68,null,null,null,"ЩИКОТА Артур Михайлович","98.., КМС","ПФО","Кировская, Новосибирск, Д",null,"Томилови.А. Гуща Р.А.",null,"ПФО","Кировская","Кировская","ПФО","ПФО",{"$f":"Z12","v":"Приморский"},null,null,"ЩИКОТА"," Артур Михайлович","ЩИКОТА"," Артур Михайлович","98","","","кмс","КМС"]
[null,13,null,68,"АЛИМОВ Самир Артурович","97","кмс","ПФО","Р.Марий Эл","новосибирск","д","томилови.а. гуща р.а.",68,null,null,null,"АЛИМОВ Самир Артурович","97.., КМС","ПФО","Р.Марий Эл, Новосибирск, Д",null,"Томилови.А. Гуща Р.А.",null,"ПФО","Р.Марий Эл","Р.Марий Эл","ПФО","ПФО",null,null,null,"АЛИМОВ"," Самир Артурович","АЛИМОВ"," Самир Артурович","97","","","кмс","КМС"]
[null,14,null,68,"Макушкин Максим Алексеевич","96","кмс","ПФО","Р.Мордовия","новосибирск","д","томилови.а. гуща р.а.",68,null,null,null,"МАКУШКИН Максим Алексеевич","96.., КМС","ПФО","Р.Мордовия, Новосибирск, Д",null,"Томилови.А. Гуща Р.А.",null,"ПФО","Р.Мордовия","Р.Мордовия","ПФО","ПФО",{"$f":"Z13","v":"Р.Саха (Якутия)"},null,null,"Макушкин"," Максим Алексеевич","МАКУШКИН"," Максим Алексеевич","96","","","кмс","КМС"]
[null,15,null,74,"Петроченков Никита Васильевич","98","кмс","ПФО","Нижегородская","новосибирск","д","томилови.а. гуща р.а.",74,null,null,null,"ПЕТРОЧЕНКОВ Никита Васильевич","98.., КМС","ПФО","Нижегородская, Новосибирск, Д",null,"Томилови.А. Гуща Р.А.",null,"ПФО","Нижегородская","Нижегородская","ПФО","ПФО",null,null,null,"Петроченков"," Никита Васильевич","ПЕТРОЧЕНКОВ"," Никита Васильевич","98","","","кмс","КМС"]
[null,16,null,82,"Девятов Арсений Антонович","94","кмс","ПФО","Оренбургская","новосибирск","д","томилови.а. гуща р.а.",82,null,null,null,"ДЕВЯТОВ Арсений Антонович","94.., КМС","ПФО","Оренбургская, Новосибирск, Д",null,"Томилови.А. Гуща Р.А.",null,"ПФО","Оренбургская","Оренбургская","ПФО","ПФО",{"$f":"Z14","v":"Сахалинская"},null,null,"Девятов"," Арсений Антонович","ДЕВЯТОВ"," Арсений Антонович","94","","","кмс","КМС"]
[null,17,null,90,"ТУРДУМАМАТОВ Биймен Нургазыевич","97","кмс","ПФО","Пензенская","новосибирск","д","томилови.а. гуща р.а.",90,null,null,null,"ТУРДУМАМАТОВ Биймен Нургазыевич","97.., КМС","ПФО","Пензенская, Новосибирск, Д",null,"Томилови.А. Гуща Р.А.",null,"ПФО","Пензенская","Пензенская","ПФО","ПФО",null,null,null,"ТУРДУМАМАТОВ"," Биймен Нургазыевич","ТУРДУМАМАТОВ"," Биймен Нургазыевич","97","","","кмс","КМС"]
[null,18,null,90,"БОЧКОВ Андрей Александрович","96","кмс","ПФО","Пермский","новосибирск","д","томилови.а. гуща р.а.",90,null,null,null,"БОЧКОВ Андрей Александрович","96.., КМС","ПФО","Пермский, Новосибирск, Д",null,"Томилови.А. Гуща Р.А.",null,"ПФО","Пермский","Пермский","ПФО","ПФО",{"$f":"Z15","v":"Хабаровский"},null,null,"БОЧКОВ"," Андрей Александрович","БОЧКОВ"," Андрей Александрович","96","","","кмс","КМС"]
[null,19,null,90,"ПЯТКИН Никита Сергеевич","96","кмс","ПФО","Самарская","новосибирск","д","томилови.а. гуща р.а.",90,null,null,null,"ПЯТКИН Никита Сергеевич","96.., КМС","ПФО","Самарская, Новосибирск, Д",null,"Томилови.А. Гуща Р.А.",null,"ПФО","Самарская","Самарская","ПФО","ПФО",null,null,null,"ПЯТКИН"," Никита Сергеевич","ПЯТКИН"," Никита Сергеевич","96","","","кмс","КМС"]
[null,20,null,52,"Непомнящих Алексей Александрович","300597","мс","ПФО","Саратовская","горно-алтайск","д","Тайпинов В.Л.",52,null,null,null,"НЕПОМНЯЩИХ Алексей Александрович","30.05.97, МС","ПФО","Саратовская, Горно-Алтайск, Д",null,"Тайпинов В.Л.",null,"ПФО","Саратовская","Саратовская","ПФО","ПФО",{"$f":"Z16","v":"Чукотский АО"},null,null,"Непомнящих"," Алексей Александрович","НЕПОМНЯЩИХ"," Алексей Александрович","30","05","97","мс","МС"]
[null,21,null,52,"Магомедов Абдулла Гунашевич","220990","мс","ПФО","Р.Татарстан","горно-алтайск","д","Яйтаков М.Я. Бачимов Г.Ю.",52,null,null,null,"МАГОМЕДОВ Абдулла Гунашевич","22.09.90, МС","ПФО","Р.Татарстан, Горно-Алтайск, Д",null,"Яйтаков М.Я. Бачимов Г.Ю.",null,"ПФО","Р.Татарстан","Р.Татарстан","ПФО","ПФО",null,null,null,"Магомедов"," Абдулла Гунашевич","МАГОМЕДОВ"," Абдулла Гунашевич","22","09","90","мс","МС"]
[null,22,null,57,"Рагимов Джамал Абдурагимович","220890","мс","ПФО","Удмуртская","горно-алтайск","д","Яйтаков М.Я. Челчушев В.Б.",57,null,null,null,"РАГИМОВ Джамал Абдурагимович","22.08.90, МС","ПФО","Удмуртская, Горно-Алтайск, Д",null,"Яйтаков М.Я. Челчушев В.Б.",null,"ПФО","Удмуртская","Удмуртская","ПФО","ПФО",{"$f":"Z17","v":"Р.Башкортостан"},null,null,"Рагимов"," Джамал Абдурагимович","РАГИМОВ"," Джамал Абдурагимович","22","08","90","мс","МС"]
[null,23,null,57,"Таймазов Тамирлан Магомедович","270594","мс","ПФО","Ульяновская","горно-алтайск","пр","аткунов с.ю. чичинов р.р.",57,null,null,null,"ТАЙМАЗОВ Тамирлан Магомедович","27.05.94, МС","ПФО","Ульяновская, Горно-Алтайск, ПР",null,"Аткунов С.Ю. Чичинов Р.Р.",null,"ПФО","Ульяновская","Ульяновская","ПФО","ПФО",null,null,null,"Таймазов"," Тамирлан Магомедович","ТАЙМАЗОВ"," Тамирлан Магомедович","27","05","94","мс","МС"]
[null,24,null,57,"ЛЯХОВСКИЙ Даниил Владимирович","150993","кмс","ПФО","Чувашская","горно-алтайск","д","Тайпинов В.Л.",57,null,null,null,"ЛЯХОВСКИЙ Даниил Владимирович","15.09.93, КМС","ПФО","Чувашская, Горно-Алтайск, Д",null,"Тайпинов В.Л.",null,"ПФО","Чувашская","Чувашская","ПФО","ПФО",{"$f":"Z18","v":"Кировская"},null,null,"ЛЯХОВСКИЙ"," Даниил Владимирович","ЛЯХОВСКИЙ"," Даниил Владимирович","15","09","93","кмс","КМС"]
[null,25,null,57,"Веселов Денис Вячеславович","221290","мс","СЗФО","Архангельская","горно-алтайск","д","яйтаков м.я.",57,null,null,null,"ВЕСЕЛОВ Денис Вячеславович","22.12.90, МС","СЗФО","Архангельская, Горно-Алтайск, Д",null,"Яйтаков М.Я.",null,"СЗФО","Архангельская","Архангельская","СЗФО","СЗФО",null,null,null,"Веселов"," Денис Вячеславович","ВЕСЕЛОВ"," Денис Вячеславович","22","12","90","мс","МС"]
[null,26,null,62,"Жерносеков Александр Павлович","031295","кмс","СЗФО","Вологодская","горно-алтайск","д","Тайпинов В.Л.",62,null,null,null,"ЖЕРНОСЕКОВ Александр Павлович","03.12.95, КМС","СЗФО","Вологодская, Горно-Алтайск, Д",null,"Тайпинов В.Л.",null,"СЗФО","Вологодская","Вологодская","СЗФО","СЗФО",{"$f":"Z19","v":"Р.Марий Эл"},null,null,"Жерносеков"," Александр Павлович","ЖЕРНОСЕКОВ"," Александр Павлович","03","12","95","кмс","КМС"]
[null,27,null,62,"Лученко Виталий Егеньевич","270693","кмс","СЗФО","Калининградская","горно-алтайск","пр","качашев о.и.",62,null,null,null,"ЛУЧЕНКО Виталий Егеньевич","27.06.93, КМС","СЗФО","Калининградская, Горно-Алтайск, ПР",null,"Качашев О.И.",null,"СЗФО","Калининградская","Калининградская","СЗФО","СЗФО",null,null,null,"Лученко"," Виталий Егеньевич","ЛУЧЕНКО"," Виталий Егеньевич","27","06","93","кмс","КМС"]
[null,28,null,62,"БАЙЫШБЕКОВ Нурсен Марленович","010991","мсмк","СЗФО","Р.Карелия","горно-алтайск","д","Яйтаков М.Я.",62,null,null,null,"БАЙЫШБЕКОВ Нурсен Марленович","01.09.91, МСМК","СЗФО","Р.Карелия, Горно-Алтайск, Д",null,"Яйтаков М.Я.",null,"СЗФО","Р.Карелия","Р.Карелия","СЗФО","СЗФО",{"$f":"Z20","v":"Р.Мордовия"},null,null,"БАЙЫШБЕКОВ"," Нурсен Марленович","БАЙЫШБЕКОВ"," Нурсен Марленович","01","09","91","мсмк","МСМК"]
[null,29,null,68,"ПАНОВ Дмитрий Сергеевич","290489","кмс","СЗФО","Р.Коми","горно-алтайск","д","Яйтаков М.Я. Челчушев В.Б.",68,null,null,null,"ПАНОВ Дмитрий Сергеевич","29.04.89, КМС","СЗФО","Р.Коми, Горно-Алтайск, Д",null,"Яйтаков М.Я. Челчушев В.Б.",null,"СЗФО","Р.Коми","Р.Коми","СЗФО","СЗФО",null,null,null,"ПАНОВ"," Дмитрий Сергеевич","ПАНОВ"," Дмитрий Сергеевич","29","04","89","кмс","КМС"]
[null,30,null,68,"ПЕТРОВ Никита Юрьевич","100190","кмс","СЗФО","Ленинградская","горно-алтайск","д","яйтаковм.я.",68,null,null,null,"ПЕТРОВ Никита Юрьевич","10.01.90, КМС","СЗФО","Ленинградская, Горно-Алтайск, Д",null,"Яйтаковм.Я.",null,"СЗФО","Ленинградская","Ленинградская","СЗФО","СЗФО",{"$f":"Z21","v":"Нижегородская"},null,null,"ПЕТРОВ"," Никита Юрьевич","ПЕТРОВ"," Никита Юрьевич","10","01","90","кмс","КМС"]
[null,31,null,68,"Гогов Муоат Ляурсаеович","110896","мс","СЗФО","Мурманская","горно-алтайск","пр","аткунов с.ю. чичинов р.р.",68,null,null,null,"ГОГОВ Муоат Ляурсаеович","11.08.96, МС","СЗФО","Мурманская, Горно-Алтайск, ПР",null,"Аткунов С.Ю. Чичинов Р.Р.",null,"СЗФО","Мурманская","Мурманская","СЗФО","СЗФО",null,null,null,"Гогов"," Муоат Ляурсаеович","ГОГОВ"," Муоат Ляурсаеович","11","08","96","мс","МС"]
[null,32,null,68,"АМИРХАНОВ Эмин Фазильевич","130182","мсмк","СЗФО","Ненецкий АО","горно-алтайск","д","яйтаков м.я.",68,null,null,null,"АМИРХАНОВ Эмин Фазильевич","13.01.82, МСМК","СЗФО","Ненецкий Ао, Горно-Алтайск, Д",null,"Яйтаков М.Я.",null,"СЗФО","Ненецкий АО","Ненецкий АО","СЗФО","СЗФО",{"$f":"Z22","v":"Оренбургская"},null,null,"АМИРХАНОВ"," Эмин Фазильевич","АМИРХАНОВ"," Эмин Фазильевич","13","01","82","мсмк","МСМК"]
[null,33,null,68,"КАМОЛТДИНОВ Ахад Рустамович","190594","мс","СЗФО","Новгородская","горно-алтайск","д","Яйтаков М.Я. Челчушев В.Б.",68,null,null,null,"КАМОЛТДИНОВ Ахад Рустамович","19.05.94, МС","СЗФО","Новгородская, Горно-Алтайск, Д",null,"Яйтаков М.Я. Челчушев В.Б.",null,"СЗФО","Новгородская","Новгородская","СЗФО","СЗФО",null,null,null,"КАМОЛТДИНОВ"," Ахад Рустамович","КАМОЛТДИНОВ"," Ахад Рустамович","19","05","94","мс","МС"]
[null,34,null,62,"ДЕРЕВЯНКО Захар Александрович","170492","кмс","СЗФО","Псковская","бердск","мо","стулов с.н.",62,null,null,null,"ДЕРЕВЯНКО Захар Александрович","17.04.92, КМС","СЗФО","Псковская, Бердск, МО",null,"Стулов С.Н.",null,"СЗФО","Псковская","Псковская","СЗФО","СЗФО",{"$f":"Z23","v":"Пензенская"},null,null,"ДЕРЕВЯНКО"," Захар Александрович","ДЕРЕВЯНКО"," Захар Александрович","17","04","92","кмс","КМС"]
[null,35,null,52,"ШИШКИН Денис Дмитриевич","280198","кмс","СФО","Агинский Бурятский АО","славгород","мо","мулеев а.в.",52,null,null,null,"ШИШКИН Денис Дмитриевич","28.01.98, КМС","СФО","Агинский Бурятский Ао, Славгород, МО",null,"Мулеев А.В.",null,"СФО","Агинский Бурятский АО","Агинский Бурятский АО","СФО","СФО",null,null,null,"ШИШКИН"," Денис Дмитриевич","ШИШКИН"," Денис Дмитриевич","28","01","98","кмс","КМС"]
[null,36,null,74,"ЗЕМЛЯНОВ Максим Андреевич","010894","кмс","СФО","Р.Алтай","новосибирск","мо","Гилязов Р.м.",74,null,null,null,"ЗЕМЛЯНОВ Максим Андреевич","01.08.94, КМС","СФО","Р.Алтай, Новосибирск, МО",null,"Гилязов Р.М.",null,"СФО","Р.Алтай","Р.Алтай","СФО","СФО",{"$f":"Z24","v":"Пермский"},null,null,"ЗЕМЛЯНОВ"," Максим Андреевич","ЗЕМЛЯНОВ"," Максим Андреевич","01","08","94","кмс","КМС"]
[null,37,null,82,"РУСУ Владислав Лилианович","010887","кмс","СФО","Алтайский","новосибирск","мо","кулеш м.в. Кулеш п.в.",82,null,null,null,"РУСУ Владислав Лилианович","01.08.87, КМС","СФО","Алтайский, Новосибирск, МО",null,"Кулеш М.В. Кулеш П.В.",null,"СФО","Алтайский","Алтайский","СФО","СФО",null,null,null,"РУСУ"," Владислав Лилианович","РУСУ"," Владислав Лилианович","01","08","87","кмс","КМС"]
[null,38,null,62,"КУЗНЕЦОВ Иван Александрович","200194","кмс","СФО","Р.Бурятия","новосибирск","мо","Кулеш М.В., Кулеш П.В.",62,null,null,null,"КУЗНЕЦОВ Иван Александрович","20.01.94, КМС","ДФО","Р.Бурятия, Новосибирск, МО",null,"Кулеш М.В., Кулеш П.В.",null,"ДФО","Р.Бурятия","Р.Бурятия","ДФО","ДФО",{"$f":"Z25","v":"Самарская"},null,null,"КУЗНЕЦОВ"," Иван Александрович","КУЗНЕЦОВ"," Иван Александрович","20","01","94","кмс","КМС"]
[null,39,null,62,"КАШТАЕВ Семен Юрьевич","311094","кмс","СФО","Иркутская","новосибирск","мо","Кулеш М.В., Кулеш П.В.",62,null,null,null,"КАШТАЕВ Семен Юрьевич","31.10.94, КМС","СФО","Иркутская, Новосибирск, МО",null,"Кулеш М.В., Кулеш П.В.",null,"СФО","Иркутская","Иркутская","СФО","СФО",null,null,null,"КАШТАЕВ"," Семен Юрьевич","КАШТАЕВ"," Семен Юрьевич","31","10","94","кмс","КМС"]
[null,40,null,62,"ПЛИЕВ Султан Баширович","130486","кмс","СФО","Кемеровская","новосибирск","мо","Постников Д.М.",62,null,null,null,"ПЛИЕВ Султан Баширович","13.04.86, КМС","СФО","Кемеровская, Новосибирск, МО",null,"Постников Д.М.",null,"СФО","Кемеровская","Кемеровская","СФО","СФО",{"$f":"Z26","v":"Саратовская"},null,null,"ПЛИЕВ"," Султан Баширович","ПЛИЕВ"," Султан Баширович","13","04","86","кмс","КМС"]
[null,41,null,68,"КУЧЕВ Никита Алексеевич","211285","кмс","СФО","Красноярский","новосибирск","д","Кулеш М.В., Постников Д.М.",68,null,null,null,"КУЧЕВ Никита Алексеевич","21.12.85, КМС","СФО","Красноярский, Новосибирск, Д",null,"Кулеш М.В., Постников Д.М.",null,"СФО","Красноярский","Красноярский","СФО","СФО",null,null,null,"КУЧЕВ"," Никита Алексеевич","КУЧЕВ"," Никита Алексеевич","21","12","85","кмс","КМС"]
[null,42,null,74,"февралев евгений дмитриевич","230395","кмс","СФО","Новосибирская","новосибирск","мо","Кулеш М.В., Постников Д.М.",74,null,null,null,"ФЕВРАЛЕВ Евгений Дмитриевич","23.03.95, КМС","СФО","Новосибирская, Новосибирск, МО",null,"Кулеш М.В., Постников Д.М.",null,"СФО","Новосибирская","Новосибирская","СФО","СФО",null,null,null,"февралев"," евгений дмитриевич","ФЕВРАЛЕВ"," Евгений Дмитриевич","23","03","95","кмс","КМС"]
[null,43,null,74,"ШПАК Данил Александрович","141293","кмс","СФО","Омская","новосибирск","мо","Кулеш М.В., Кулеш П.В.",74,null,null,null,"ШПАК Данил Александрович","14.12.93, КМС","СФО","Омская, Новосибирск, МО",null,"Кулеш М.В., Кулеш П.В.",null,"СФО","Омская","Омская","СФО","СФО",null,null,null,"ШПАК"," Данил Александрович","ШПАК"," Данил Александрович","14","12","93","кмс","КМС"]
[null,44,null,90,"БОГУС Азир Рустамович","160682","кмс","СФО","Томская","новосибирск","мо","Кулеш М.В., Кулеш П.В.",90,null,null,null,"БОГУС Азир Рустамович","16.06.82, КМС","СФО","Томская, Новосибирск, МО",null,"Кулеш М.В., Кулеш П.В.",null,"СФО","Томская","Томская","СФО","СФО",null,null,null,"БОГУС"," Азир Рустамович","БОГУС"," Азир Рустамович","16","06","82","кмс","КМС"]
[null,45,null,"св100","ТУГУЗ Тимур Муратович","040496","кмс","СФО","Р.Тыва","новосибирск","мо","Постников Д.М.","св100",null,null,null,"ТУГУЗ Тимур Муратович","04.04.96, КМС","СФО","Р.Тыва, Новосибирск, МО",null,"Постников Д.М.",null,"СФО","Р.Тыва","Р.Тыва","СФО","СФО",null,null,null,"ТУГУЗ"," Тимур Муратович","ТУГУЗ"," Тимур Муратович","04","04","96","кмс","КМС"]
[null,46,null,90,"КУШУ Тамерлан Рустамович","98","кмс","СФО","Усть-Ордынский Бурятский АО","новосибирск","д","томилови.а. гуща р.а.",90,null,null,null,"КУШУ Тамерлан Рустамович","98.., КМС","СФО","Усть-Ордынский Бурятский Ао, Новосибирск, Д",null,"Томилови.А. Гуща Р.А.",null,"СФО","Усть-Ордынский Бурятский АО","Усть-Ордынский Бурятский АО","СФО","СФО",null,null,null,"КУШУ"," Тамерлан Рустамович","КУШУ"," Тамерлан Рустамович","98","","","кмс","КМС"]
[null,47,null,"св102","РЕЗНИКОВ Илья Олегович","93","кмс","СФО","Р.Хакасия","новосибирск","д","томилови.а. гуща р.а.","св102",null,null,null,"РЕЗНИКОВ Илья Олегович","93.., КМС","СФО","Р.Хакасия, Новосибирск, Д",null,"Томилови.А. Гуща Р.А.",null,"СФО","Р.Хакасия","Р.Хакасия","СФО","СФО",null,null,null,"РЕЗНИКОВ"," Илья Олегович","РЕЗНИКОВ"," Илья Олегович","93","","","кмс","КМС"]
[null,48,null,"св103","ГЛАДЫНЮК Максим Денисович","96","кмс","СФО","Забайкальский","новосибирск","д","томилови.а. гуща р.а.","св103",null,null,null,"ГЛАДЫНЮК Максим Денисович","96.., КМС","ДФО","Забайкальский, Новосибирск, Д",null,"Томилови.А. Гуща Р.А.",null,"ДФО","Забайкальский","Забайкальский","ДФО","ДФО",null,null,null,"ГЛАДЫНЮК"," Максим Денисович","ГЛАДЫНЮК"," Максим Денисович","96","","","кмс","КМС"]
[null,49,null,"св104","ФИЛИМОНОВ Михаил Кириллович","88","1р","УФО","Курганская","новосибирск","д","томилови.а. гуща р.а.","св104",null,null,null,"ФИЛИМОНОВ Михаил Кириллович","88.., 1р","УФО","Курганская, Новосибирск, Д",null,"Томилови.А. Гуща Р.А.",null,"УФО","Курганская","Курганская","УФО","УФО",null,null,null,"ФИЛИМОНОВ"," Михаил Кириллович","ФИЛИМОНОВ"," Михаил Кириллович","88","","","1р","1р"]
[null,50,null,52,"АЛИЕВ Семён Сергеевич","060887","кмс","УФО","Свердловская","новосибирск","мо","шеховцов А.А.",52,null,null,null,"АЛИЕВ Семён Сергеевич","06.08.87, КМС","УФО","Свердловская, Новосибирск, МО",null,"Шеховцов А.А.",null,"УФО","Свердловская","Свердловская","УФО","УФО",null,null,null,"АЛИЕВ"," Семён Сергеевич","АЛИЕВ"," Семён Сергеевич","06","08","87","кмс","КМС"]
[null,51,null,57,"Кузнецов Никита Алексеевич","140299","кмс","УФО","Тюменская","новосибирск","мо","шеховцов А.А.",57,null,null,null,"КУЗНЕЦОВ Никита Алексеевич","14.02.99, КМС","УФО","Тюменская, Новосибирск, МО",null,"Шеховцов А.А.",null,"УФО","Тюменская","Тюменская","УФО","УФО",null,null,null,"Кузнецов"," Никита Алексеевич","КУЗНЕЦОВ"," Никита Алексеевич","14","02","99","кмс","КМС"]
[null,52,null,62,"СОНОВ Идар Инусович","170786","кмс","УФО","ХМАО","новосибирск","мо","шеховцов А.А.",62,null,null,null,"СОНОВ Идар Инусович","17.07.86, КМС","УФО","Хмао, Новосибирск, МО",null,"Шеховцов А.А.",null,"УФО","ХМАО","ХМАО","УФО","УФО",null,null,null,"СОНОВ"," Идар Инусович","СОНОВ"," Идар Инусович","17","07","86","кмс","КМС"]
[null,53,null,62,"НАГОЕВ Темир Артурович","300988","кмс","УФО","Челябинская","новосибирск","мо","шеховцов А.А.",62,null,null,null,"НАГОЕВ Темир Артурович","30.09.88, КМС","УФО","Челябинская, Новосибирск, МО",null,"Шеховцов А.А.",null,"УФО","Челябинская","Челябинская","УФО","УФО",null,null,null,"НАГОЕВ"," Темир Артурович","НАГОЕВ"," Темир Артурович","30","09","88","кмс","КМС"]
[null,54,null,62,"ЛУЕВ Борис Анзорович","070886","кмс","УФО","ЯНАО","новосибирск","мо","шеховцов А.А.",62,null,null,null,"ЛУЕВ Борис Анзорович","07.08.86, КМС","УФО","Янао, Новосибирск, МО",null,"Шеховцов А.А.",null,"УФО","ЯНАО","ЯНАО","УФО","УФО",null,null,null,"ЛУЕВ"," Борис Анзорович","ЛУЕВ"," Борис Анзорович","07","08","86","кмс","КМС"]
[null,55,null,68,"Абрамянц Ашот Анушаванович","070589","кмс","ЦФО","Белгородская","новосибирск","мо","шеховцов А.А.",68,null,null,null,"АБРАМЯНЦ Ашот Анушаванович","07.05.89, КМС","ЦФО","Белгородская, Новосибирск, МО",null,"Шеховцов А.А.",null,"ЦФО","Белгородская","Белгородская","ЦФО","ЦФО",null,null,null,"Абрамянц"," Ашот Анушаванович","АБРАМЯНЦ"," Ашот Анушаванович","07","05","89","кмс","КМС"]
[null,56,null,68,"Бунаков Ярослав Денисович","240197","кмс","ЦФО","Брянская","новосибирск","мо","шеховцов А.А.",68,null,null,null,"БУНАКОВ Ярослав Денисович","24.01.97, КМС","ЦФО","Брянская, Новосибирск, МО",null,"Шеховцов А.А.",null,"ЦФО","Брянская","Брянская","ЦФО","ЦФО",null,null,null,"Бунаков"," Ярослав Денисович","БУНАКОВ"," Ярослав Денисович","24","01","97","кмс","КМС"]
[null,57,null,82,"Выборнов Игнат Владимирович","010892","мс","ЦФО","Владимирская","новосибирск","мо","шеховцов А.А.",82,null,null,null,"ВЫБОРНОВ Игнат Владимирович","01.08.92, МС","ЦФО","Владимирская, Новосибирск, МО",null,"Шеховцов А.А.",null,"ЦФО","Владимирская","Владимирская","ЦФО","ЦФО",null,null,null,"Выборнов"," Игнат Владимирович","ВЫБОРНОВ"," Игнат Владимирович","01","08","92","мс","МС"]
[null,58,null,82,"Провоторов Глеб Романович","260795","кмс","ЦФО","Воронежская","новосибирск","мо","шеховцов А.А.",82,null,null,null,"ПРОВОТОРОВ Глеб Романович","26.07.95, КМС","ЦФО","Воронежская, Новосибирск, МО",null,"Шеховцов А.А.",null,"ЦФО","Воронежская","Воронежская","ЦФО","ЦФО",null,null,null,"Провоторов"," Глеб Романович","ПРОВОТОРОВ"," Глеб Романович","26","07","95","кмс","КМС"]
[null,59,null,82,"Фомин Андрей Андреевич","121292","мс","ЦФО","Ивановская","новосибирск","мо","шеховцов А.А.",82,null,null,null,"ФОМИН Андрей Андреевич","12.12.92, МС","ЦФО","Ивановская, Новосибирск, МО",null,"Шеховцов А.А.",null,"ЦФО","Ивановская","Ивановская","ЦФО","ЦФО",null,null,null,"Фомин"," Андрей Андреевич","ФОМИН"," Андрей Андреевич","12","12","92","мс","МС"]
[null,60,null,90,"Чаус Альберт Эдуардович","210795","кмс","ЦФО","Калужская","новосибирск","мо","шеховцов А.А.",90,null,null,null,"ЧАУС Альберт Эдуардович","21.07.95, КМС","ЦФО","Калужская, Новосибирск, МО",null,"Шеховцов А.А.",null,"ЦФО","Калужская","Калужская","ЦФО","ЦФО",null,null,null,"Чаус"," Альберт Эдуардович","ЧАУС"," Альберт Эдуардович","21","07","95","кмс","КМС"]
[null,61,null,57,"Шаповалов Николай Александрович","96","мс","ЦФО","Костромская","новосибирск","д","поспелов к.г. Михалевич а.и.",57,null,null,null,"ШАПОВАЛОВ Николай Александрович","96.., МС","ЦФО","Костромская, Новосибирск, Д",null,"Поспелов К.Г. Михалевич А.И.",null,"ЦФО","Костромская","Костромская","ЦФО","ЦФО",null,null,null,"Шаповалов"," Николай Александрович","ШАПОВАЛОВ"," Николай Александрович","96","","","мс","МС"]
[null,62,null,57,"ИВАНОВ Никита Алексеевич","98","кмс","ЦФО","Курская","новосибирск","д","поспелов к.г. Михалевич а.и.",57,null,null,null,"ИВАНОВ Никита Алексеевич","98.., КМС","ЦФО","Курская, Новосибирск, Д",null,"Поспелов К.Г. Михалевич А.И.",null,"ЦФО","Курская","Курская","ЦФО","ЦФО",null,null,null,"ИВАНОВ"," Никита Алексеевич","ИВАНОВ"," Никита Алексеевич","98","","","кмс","КМС"]
[null,63,null,62,"БЛАГОДАРЕВ Александр Александрович","97","кмс","ЦФО","Липецкая","новосибирск","д","поспелов к.г. Михалевич а.и.",62,null,null,null,"БЛАГОДАРЕВ Александр Александрович","97.., КМС","ЦФО","Липецкая, Новосибирск, Д",null,"Поспелов К.Г. Михалевич А.И.",null,"ЦФО","Липецкая","Липецкая","ЦФО","ЦФО",null,null,null,"БЛАГОДАРЕВ"," Александр Александрович","БЛАГОДАРЕВ"," Александр Александрович","97","","","кмс","КМС"]
[null,64,null,62,"Гогов Анзор Асланович","97","кмс","ЦФО","Московская","новосибирск","д","поспелов к.г. Михалевич а.и.",62,null,null,null,"ГОГОВ Анзор Асланович","97.., КМС","ЦФО","Московская, Новосибирск, Д",null,"Поспелов К.Г. Михалевич А.И.",null,"ЦФО","Московская","Московская","ЦФО","ЦФО",null,null,null,"Гогов"," Анзор Асланович","ГОГОВ"," Анзор Асланович","97","","","кмс","КМС"]
[null,65,null,62,"БАЛУКОВ Даниил Ильич","96","кмс","ЦФО","Орловская","новосибирск","д","поспелов к.г. Михалевич а.и.",62,null,null,null,"БАЛУКОВ Даниил Ильич","96.., КМС","ЦФО","Орловская, Новосибирск, Д",null,"Поспелов К.Г. Михалевич А.И.",null,"ЦФО","Орловская","Орловская","ЦФО","ЦФО",null,null,null,"БАЛУКОВ"," Даниил Ильич","БАЛУКОВ"," Даниил Ильич","96","","","кмс","КМС"]
[null,66,null,62,"МАМЕДОВ Заур Гакимович","96","кмс","ЦФО","Рязанская","новосибирск","д","поспелов к.г. Михалевич а.и.",62,null,null,null,"МАМЕДОВ Заур Гакимович","96.., КМС",{"$f":"AB72","v":"ЦФО"},"Рязанская, Новосибирск, Д",null,"Поспелов К.Г. Михалевич А.И.",null,{"$f":"VLOOKUP(Y72,Y$7:AA$94,3,FALSE)","v":"ЦФО"},{"$f":"I72","v":"Рязанская"},"Рязанская","ЦФО",{"$f":"X72","v":"ЦФО"},null,null,null,{"$f":"IFERROR(LEFT(E72,FIND(\" \",E72)-1),E72)","v":"МАМЕДОВ"},{"$f":"MID(E72,FIND(\" \",E72)*1,27)","v":" Заур Гакимович"},{"$f":"UPPER(AF72)","v":"МАМЕДОВ"},{"$f":"PROPER(AG72)","v":" Заур Гакимович"},{"$f":"MID($F72,FIND(\"\",$F72)*1,2)","v":"96"},{"$f":"MID($F72,FIND(\"\",$F72)*3,2)","v":""},{"$f":"MID($F72,FIND(\"\",$F72)*5,2)","v":""},{"$f":"G72","v":"кмс"},{"$f":"IF(AM72=\"кмс\",AM$2,IF(AM72=\"мс\",AN$2,IF(AM72=\"мсмк\",AO$2,IF(AM72=\"змс\",AP$2,AM72))))","v":"КМС"}]
[null,67,null,68,"Морозов Анатолий Александрович","95","кмс","ЦФО","Смоленская","новосибирск","д","поспелов к.г. Михалевич а.и.",68,null,null,null,"МОРОЗОВ Анатолий Александрович","95.., КМС","ЦФО","Смоленская, Новосибирск, Д",null,"Поспелов К.Г. Михалевич А.И.",null,"ЦФО","Смоленская","Смоленская","ЦФО","ЦФО",null,null,null,"Морозов"," Анатолий Александрович","МОРОЗОВ"," Анатолий Александрович","95","","","кмс","КМС"]
[null,68,null,68,"РОМАНОВ Никита Андреевич","97","1р","ЦФО","Тамбовская","новосибирск","д","поспелов к.г. Михалевич а.и.",68,null,null,null,"РОМАНОВ Никита Андреевич","97.., 1р","ЦФО","Тамбовская, Новосибирск, Д",null,"Поспелов К.Г. Михалевич А.И.",null,"ЦФО","Тамбовская","Тамбовская","ЦФО","ЦФО",null,null,null,"РОМАНОВ"," Никита Андреевич","РОМАНОВ"," Никита Андреевич","97","","","1р","1р"]
[null,69,null,82,"СИМОНЯН Рафаел Людвигович","95","кмс","ЦФО","Тверская","новосибирск","д","поспелов к.г. Михалевич а.и.",82,null,null,null,"СИМОНЯН Рафаел Людвигович","95.., КМС","ЦФО","Тверская, Новосибирск, Д",null,"Поспелов К.Г. Михалевич А.И.",null,"ЦФО","Тверская","Тверская","ЦФО","ЦФО",null,null,null,"СИМОНЯН"," Рафаел Людвигович","СИМОНЯН"," Рафаел Людвигович","95","","","кмс","КМС"]
[null,70,null,82,"ПЕГОВ Юрий Алексеевич","98","1р","ЦФО","Тульская","новосибирск","д","поспелов к.г. Михалевич а.и.",82,null,null,null,"ПЕГОВ Юрий Алексеевич","98.., 1р","ЦФО","Тульская, Новосибирск, Д",null,"Поспелов К.Г. Михалевич А.И.",null,"ЦФО","Тульская","Тульская","ЦФО","ЦФО",null,null,null,"ПЕГОВ"," Юрий Алексеевич","ПЕГОВ"," Юрий Алексеевич","98","","","1р","1р"]
[null,71,null,82,"Петров Максим Алексеевич","95","кмс","ЦФО","Ярославская","новосибирск","д","поспелов к.г. Михалевич а.и.",82,null,null,null,"ПЕТРОВ Максим Алексеевич","95.., КМС","ЦФО","Ярославская, Новосибирск, Д",null,"Поспелов К.Г. Михалевич А.И.",null,"ЦФО","Ярославская","Ярославская","ЦФО","ЦФО",null,null,null,"Петров"," Максим Алексеевич","ПЕТРОВ"," Максим Алексеевич","95","","","кмс","КМС"]
[null,72,null,90,"Долматов Макар Владимирович","96","кмс","СКФО","Р.Дагестан","новосибирск","д","поспелов к.г. Михалевич а.и.",90,null,null,null,"ДОЛМАТОВ Макар Владимирович","96.., КМС","СКФО","Р.Дагестан, Новосибирск, Д",null,"Поспелов К.Г. Михалевич А.И.",null,"СКФО","Р.Дагестан","Р.Дагестан","СКФО","СКФО",null,null,null,"Долматов"," Макар Владимирович","ДОЛМАТОВ"," Макар Владимирович","96","","","кмс","КМС"]
[null,73,null,74,"Максимов Сергей Анатольевич","060695","мс","СКФО","Р.Ингушетия","бийск","мо","Шалюта П.В. Гуляев А.М.",74,null,null,null,"МАКСИМОВ Сергей Анатольевич","06.06.95, МС","СКФО","Р.Ингушетия, Бийск, МО",null,"Шалюта П.В. Гуляев А.М.",null,"СКФО","Р.Ингушетия","Р.Ингушетия","СКФО","СКФО",null,null,null,"Максимов"," Сергей Анатольевич","МАКСИМОВ"," Сергей Анатольевич","06","06","95","мс","МС"]
[null,74,null,0,"Наумов Александр Сергеевич","010199","кмс","СКФО","КБР","бийск","мо","Димитриенко И.В. Гуляев А.М.",{"$f":"D80","v":0},null,null,null,{"$f":"CONCATENATE(AH80,AI80)","v":"НАУМОВ Александр Сергеевич"},{"$f":"CONCATENATE(AJ80,\".\",AK80,\".\",AL80,\",\",\" \",AN80)","v":"01.01.99, КМС"},"СКФО",{"$f":"CONCATENATE(PROPER(I80),\", \",PROPER(J80),\", \",UPPER(K80))","v":"Кбр, Бийск, МО"},null,{"$f":"PROPER(L80)","v":"Димитриенко И.В. Гуляев А.М."},null,"СКФО","КБР","КБР","СКФО","СКФО",null,null,null,"Наумов"," Александр Сергеевич","НАУМОВ"," Александр Сергеевич","01","01","99","кмс","КМС"]
[null,75,null,52,"АДАЛИМОВ Алексей Андреевич","251198","кмс","СКФО","КЧР","бийск","мо","Шалюта П.В.",52,null,null,null,"АДАЛИМОВ Алексей Андреевич","25.11.98, КМС","СКФО","Кчр, Бийск, МО",null,"Шалюта П.В.",null,"СКФО","КЧР","КРЧ","СКФО","СКФО",null,null,null,"АДАЛИМОВ"," Алексей Андреевич","АДАЛИМОВ"," Алексей Андреевич","25","11","98","кмс","КМС"]
[null,76,null,68,"СТРАТИЕВСКИЙ Даниил Евгеньевич","250589","кмс","СКФО","РСО-Алания","бийск","мо","Дурыманов Н.В. Гуляев А.М.",68,null,null,null,"СТРАТИЕВСКИЙ Даниил Евгеньевич","25.05.89, КМС","СКФО","Рсо-Алания, Бийск, МО",null,"Дурыманов Н.В. Гуляев А.М.",null,"СКФО","РСО-Алания","РСО-Алания","СКФО","СКФО",null,null,null,"СТРАТИЕВСКИЙ"," Даниил Евгеньевич","СТРАТИЕВСКИЙ"," Даниил Евгеньевич","25","05","89","кмс","КМС"]
[null,77,null,74,"Логвиненко Александр Сергеевич","020397","кмс","СКФО","Ставропольский","бийск","мо","Димитриенко И.В. Петрунько А.Ю.",74,null,null,null,"ЛОГВИНЕНКО Александр Сергеевич","02.03.97, КМС","СКФО","Ставропольский, Бийск, МО",null,"Димитриенко И.В. Петрунько А.Ю.",null,"СКФО","Ставропольский","Ставропольский","СКФО","СКФО",null,null,null,"Логвиненко"," Александр Сергеевич","ЛОГВИНЕНКО"," Александр Сергеевич","02","03","97","кмс","КМС"]
[null,78,null,52,"ВЯТКИН Артем Валерьевич","140995","кмс","СКФО","Чеченская","абакан","мо","таскараков в.м. фоминых а.в.",52,null,null,null,"ВЯТКИН Артем Валерьевич","14.09.95, КМС","СКФО","Чеченская, Абакан, МО",null,"Таскараков В.М. Фоминых А.В.",null,"СКФО","Чеченская","Чеченская","СКФО","СКФО",null,null,null,"ВЯТКИН"," Артем Валерьевич","ВЯТКИН"," Артем Валерьевич","14","09","95","кмс","КМС"]
[null,79,null,57,"Кожихов Алексей Александрович","060693","мс","ЮФО","Р.Адыгея","абакан","мо","таскараков в.м. фоминых а.в.",57,null,null,null,"КОЖИХОВ Алексей Александрович","06.06.93, МС","ЮФО","Р.Адыгея, Абакан, МО",null,"Таскараков В.М. Фоминых А.В.",null,"ЮФО","Р.Адыгея","Р.Адыгея","ЮФО","ЮФО",null,null,null,"Кожихов"," Алексей Александрович","КОЖИХОВ"," Алексей Александрович","06","06","93","мс","МС"]
[null,80,null,52,"АЛЕШКИН Максим Александрович","170293","кмс","ЮФО","Астраханская","абакан","мо","таскараков в.м. фоминых а.в.",52,null,null,null,"АЛЕШКИН Максим Александрович","17.02.93, КМС","ЮФО","Астраханская, Абакан, МО",null,"Таскараков В.М. Фоминых А.В.",null,"ЮФО","Астраханская","Астраханская","ЮФО","ЮФО",null,null,null,"АЛЕШКИН"," Максим Александрович","АЛЕШКИН"," Максим Александрович","17","02","93","кмс","КМС"]
[null,81,null,57,"ГАЙРБЕКОВ Адрохман Арбиевич","070990к","кмс","ЮФО","Волгоградская","абакан","мо","таскараков в.м. фоминых а.в.",57,null,null,null,"ГАЙРБЕКОВ Адрохман Арбиевич","07.09.90, КМС","ЮФО","Волгоградская, Абакан, МО",null,"Таскараков В.М. Фоминых А.В.",null,"ЮФО","Волгоградская","Волгоградская","ЮФО","ЮФО",null,null,null,"ГАЙРБЕКОВ"," Адрохман Арбиевич","ГАЙРБЕКОВ"," Адрохман Арбиевич","07","09","90","кмс","КМС"]
[null,null,null,57,"Ботвинников Данила Андреевич","030895","кмс","ЮФО","Р.Калмыкия","красноярск","мо","саградян в.о.",57,null,null,null,"БОТВИННИКОВ Данила Андреевич","03.08.95, КМС","ЮФО","Р.Калмыкия, Красноярск, МО",null,"Саградян В.О.",null,"ЮФО","Р.Калмыкия","Р.Калмыкия","ЮФО","ЮФО",null,null,null,"Ботвинников"," Данила Андреевич","БОТВИННИКОВ"," Данила Андреевич","03","08","95","кмс","КМС"]
[null,null,null,62,"Мужагидов Джамал Гаджиевич","291298","кмс","ЮФО","Краснодарский","красноярск","мо","синатулин с.в. Знаменсий г.е.",62,null,null,null,"МУЖАГИДОВ Джамал Гаджиевич","29.12.98, КМС","ЮФО","Краснодарский, Красноярск, МО",null,"Синатулин С.В. Знаменсий Г.Е.",null,"ЮФО","Краснодарский","Краснодарский","ЮФО","ЮФО",null,null,null,"Мужагидов"," Джамал Гаджиевич","МУЖАГИДОВ"," Джамал Гаджиевич","29","12","98","кмс","КМС"]
[null,null,null,57,"Порох Артем Вячеславович","161097","кмс","ЮФО","Ростовская","красноярск","мо","синатулин с.в. Знаменсий г.е.",57,null,null,null,"ПОРОХ Артем Вячеславович","16.10.97, КМС","ЮФО","Ростовская, Красноярск, МО",null,"Синатулин С.В. Знаменсий Г.Е.",null,"ЮФО","Ростовская","Ростовская","ЮФО","ЮФО",null,null,null,"Порох"," Артем Вячеславович","ПОРОХ"," Артем Вячеславович","16","10","97","кмс","КМС"]
[null,null,null,74,"КЮЛЯН Ашот Сергеевич","190499","кмс","ЮФО","Р.Крым","красноярск","мо","синатулин с.в. Знаменсий г.е.",74,null,null,null,"КЮЛЯН Ашот Сергеевич","19.04.99, КМС","ЮФО","Р.Крым, Красноярск, МО",null,"Синатулин С.В. Знаменсий Г.Е.",null,"ЮФО","Р.Крым","Р.Крым","ЮФО","ЮФО",null,null,null,"КЮЛЯН"," Ашот Сергеевич","КЮЛЯН"," Ашот Сергеевич","19","04","99","кмс","КМС"]
[null,null,null,74,"ВИКТОРОВ Даниил Сергеевич","101297","кмс","Севастопль","Севастопль","красноярск","мо","Блинов М.Г.",74,null,null,null,"ВИКТОРОВ Даниил Сергеевич","10.12.97, КМС","ЮФО","Севастопль, Красноярск, МО",null,"Блинов М.Г.",null,"ЮФО","Севастопль","Севастополь","ЮФО","ЮФО",null,null,null,"ВИКТОРОВ"," Даниил Сергеевич","ВИКТОРОВ"," Даниил Сергеевич","10","12","97","кмс","КМС"]
[null,null,null,82,"КОВАЛЕВСКИЙ Ярослав Владимирович","271196","кмс","Москва","Москва","ужур","мо","воробьев а.а.",82,null,null,null,"КОВАЛЕВСКИЙ Ярослав Владимирович","27.11.96, КМС","Москва","Москва, Ужур, МО",null,"Воробьев А.А.",null,"Москва","Москва","Москва","Москва","Москва",null,null,null,"КОВАЛЕВСКИЙ"," Ярослав Владимирович","КОВАЛЕВСКИЙ"," Ярослав Владимирович","27","11","96","кмс","КМС"]
[null,null,null,52,"РАСУХАНОВ Рахим Ьурадович","041198","кмс","СПБ","Санкт-Петербург","красноярск","мо","знаменский г.е. кудрявцев в.м.",52,null,null,null,"РАСУХАНОВ Рахим Ьурадович","04.11.98, КМС","СПБ","Санкт-Петербург, Красноярск, МО",null,"Знаменский Г.Е. Кудрявцев В.М.",null,"СПБ","Санкт-Петербург","Санкт-Петербург","СПБ","СПБ",null,null,null,"РАСУХАНОВ"," Рахим Ьурадович","РАСУХАНОВ"," Рахим Ьурадович","04","11","98","кмс","КМС"]
[null,null,null,38,"КАКОТКИН Александр Ильич","100506","1ю",null,"Красноярский","шарыпово","мс","Ягонский А.А.",38,null,null,null,"КАКОТКИН Александр Ильич","10.05.06, 1ю","СФО","Красноярский, Шарыпово, МС",null,"Ягонский А.А.",null,"СФО","Красноярский",null,null,"СФО",null,null,null,"КАКОТКИН"," Александр Ильич","КАКОТКИН"," Александр Ильич","10","05","06","1ю","1ю"]
[null,null,null,50,"ЖУКОВСКИЙ Егор Александрович","050405","2ю",null,"Красноярский","лесосибирск","мо","Галкин В.Ф.",50,null,null,null,"ЖУКОВСКИЙ Егор Александрович","05.04.05, 2ю","СФО","Красноярский, Лесосибирск, МО",null,"Галкин В.Ф.",null,"СФО","Красноярский",null,null,"СФО",null,null,null,"ЖУКОВСКИЙ"," Егор Александрович","ЖУКОВСКИЙ"," Егор Александрович","05","04","05","2ю","2ю"]
[null,null,null,59,"АНЧЁК Амир Аскерович","300105","1ю",null,"Красноярский","шарыпово","мс","Ягонский А.А.",59,null,null,null,"АНЧЁК Амир Аскерович","30.01.05, 1ю","СФО","Красноярский, Шарыпово, МС",null,"Ягонский А.А.",null,"СФО","Красноярский",null,null,"СФО",null,null,null,"АНЧЁК"," Амир Аскерович","АНЧЁК"," Амир Аскерович","30","01","05","1ю","1ю"]
[null,null,null,35,"ТЛЕХУРАЙ Мурат Мурадинович","060705","1ю",null,"Тульская","тула","мо","Бородаенко В.Н. Шишкин Д.в",35,null,null,null,"ТЛЕХУРАЙ Мурат Мурадинович","06.07.05, 1ю","ЦФО","Тульская, Тула, МО",null,"Бородаенко В.Н. Шишкин Д.В",null,"ЦФО","Тульская",null,null,"ЦФО",null,null,null,"ТЛЕХУРАЙ"," Мурат Мурадинович","ТЛЕХУРАЙ"," Мурат Мурадинович","06","07","05","1ю","1ю"]
[null,null,null,35,"КОЛПАКОВ Кирилл Евгеньевич","010805","1ю",null,"Тульская","тула","мо","Бородаенко В.Н. Ковях Н.А.",35,null,null,null,"КОЛПАКОВ Кирилл Евгеньевич","01.08.05, 1ю","ЦФО","Тульская, Тула, МО",null,"Бородаенко В.Н. Ковях Н.А.",null,"ЦФО","Тульская",null,null,"ЦФО",null,null,null,"КОЛПАКОВ"," Кирилл Евгеньевич","КОЛПАКОВ"," Кирилл Евгеньевич","01","08","05","1ю","1ю"]
[null,null,null,38,"ХОПРЯНИНОВ Егор Игоревич","020305","1ю",null,"Тульская","богородицк","мо","белокопытов и.п.",38,null,null,null,"ХОПРЯНИНОВ Егор Игоревич","02.03.05, 1ю","ЦФО","Тульская, Богородицк, МО",null,"Белокопытов И.П.",null,"ЦФО","Тульская",null,null,"ЦФО",null,null,null,"ХОПРЯНИНОВ"," Егор Игоревич","ХОПРЯНИНОВ"," Егор Игоревич","02","03","05","1ю","1ю"]
[null,null,null,38,"ЗЕЙТЛЕНОК Иван Владимирович","280506","1ю",null,"Тульская","тула","мо","копейкин п.с.",38,null,null,null,"ЗЕЙТЛЕНОК Иван Владимирович","28.05.06, 1ю","ЦФО","Тульская, Тула, МО",null,"Копейкин П.С.",null,"ЦФО","Тульская",null,null,"ЦФО",null,null,null,"ЗЕЙТЛЕНОК"," Иван Владимирович","ЗЕЙТЛЕНОК"," Иван Владимирович","28","05","06","1ю","1ю"]
[null,null,null,"71+","ЕРШОВ Никита Андреевич","280105","1ю",null,"Тульская","тула","мо","Бородаенко В.Н. Ковях Н.А.","71+",null,null,null,"ЕРШОВ Никита Андреевич","28.01.05, 1ю","ЦФО","Тульская, Тула, МО",null,"Бородаенко В.Н. Ковях Н.А.",null,"ЦФО","Тульская",null,null,"ЦФО",null,null,null,"ЕРШОВ"," Никита Андреевич","ЕРШОВ"," Никита Андреевич","28","01","05","1ю","1ю"]
[null,null,null,54,"МОЛОДЬКОВ Егор Александрович","020705","1ю",null,"Калининградская","калининград","мо","Кацер В.М.",54,null,null,null,"МОЛОДЬКОВ Егор Александрович","02.07.05, 1ю","СЗФО","Калининградская, Калининград, МО",null,"Кацер В.М.",null,"СЗФО","Калининградская",null,null,"СЗФО",null,null,null,"МОЛОДЬКОВ"," Егор Александрович","МОЛОДЬКОВ"," Егор Александрович","02","07","05","1ю","1ю"]
[null,null,null,65,"КАМБИЕВ Тамерлан Резуанович","170605","1ю",null,"Калининградская","калининград","мо","Ярмолюк В.С. Ярмолюк Н.С.",65,null,null,null,"КАМБИЕВ Тамерлан Резуанович","17.06.05, 1ю","СЗФО","Калининградская, Калининград, МО",null,"Ярмолюк В.С. Ярмолюк Н.С.",null,"СЗФО","Калининградская",null,null,"СЗФО",null,null,null,"КАМБИЕВ"," Тамерлан Резуанович","КАМБИЕВ"," Тамерлан Резуанович","17","06","05","1ю","1ю"]
[null,null,null,71,"КОЧЕСОКОВ Тамерлан Хамидбиевич","121205","1ю",null,"Калининградская","калининград","мо","Шалимов В.А. Шалимова А.Г.",71,null,null,null,"КОЧЕСОКОВ Тамерлан Хамидбиевич","12.12.05, 1ю","СЗФО","Калининградская, Калининград, МО",null,"Шалимов В.А. Шалимова А.Г.",null,"СЗФО","Калининградская",null,null,"СЗФО",null,null,null,"КОЧЕСОКОВ"," Тамерлан Хамидбиевич","КОЧЕСОКОВ"," Тамерлан Хамидбиевич","12","12","05","1ю","1ю"]
[null,null,null,"71+","колегоа никита дмитриевич","010105","1ю",null,"Калининградская","калининград","мо","Шалимов В.А. Шалимова А.Г.","71+",null,null,null,"КОЛЕГОА Никита Дмитриевич","01.01.05, 1ю","СЗФО","Калининградская, Калининград, МО",null,"Шалимов В.А. Шалимова А.Г.",null,"СЗФО","Калининградская",null,null,"СЗФО",null,null,null,"колегоа"," никита дмитриевич","КОЛЕГОА"," Никита Дмитриевич","01","01","05","1ю","1ю"]
[null,null,null,71,"Бунаков Михаил Денисович","010205","1ю",null,"Вологодская","вологда","мо","Рабош А. И. Алексеев А. А.",71,null,null,null,"БУНАКОВ Михаил Денисович","01.02.05, 1ю","СЗФО","Вологодская, Вологда, МО",null,"Рабош А. И. Алексеев А. А.",null,"СЗФО","Вологодская",null,null,"СЗФО",null,null,null,"Бунаков"," Михаил Денисович","БУНАКОВ"," Михаил Денисович","01","02","05","1ю","1ю"]
[null,null,null,42,"Казарьянц Николай Артемович","100106","1ю",null,"Вологодская","вологда","мо","Проскуряков В. М.",42,null,null,null,"КАЗАРЬЯНЦ Николай Артемович","10.01.06, 1ю","СЗФО","Вологодская, Вологда, МО",null,"Проскуряков В. М.",null,"СЗФО","Вологодская",null,null,"СЗФО",null,null,null,"Казарьянц"," Николай Артемович","КАЗАРЬЯНЦ"," Николай Артемович","10","01","06","1ю","1ю"]
[null,null,null,38,"Кохан Юрий Петрович","120805","1ю",null,"Вологодская","вологда","мо","Филиппов М. В. Иванова Т. А.",38,null,null,null,"КОХАН Юрий Петрович","12.08.05, 1ю","СЗФО","Вологодская, Вологда, МО",null,"Филиппов М. В. Иванова Т. А.",null,"СЗФО","Вологодская",null,null,"СЗФО",null,null,null,"Кохан"," Юрий Петрович","КОХАН"," Юрий Петрович","12","08","05","1ю","1ю"]
[null,null,null,46,"Савинов Варлам Евгеньевич","010105","1ю",null,"Вологодская","вологда","мо","Филиппов М. В. Иванова Т. А.",46,null,null,null,"САВИНОВ Варлам Евгеньевич","01.01.05, 1ю","СЗФО","Вологодская, Вологда, МО",null,"Филиппов М. В. Иванова Т. А.",null,"СЗФО","Вологодская",null,null,"СЗФО",null,null,null,"Савинов"," Варлам Евгеньевич","САВИНОВ"," Варлам Евгеньевич","01","01","05","1ю","1ю"]
[null,null,null,54,"Скакунов Евгений Андреевич","280105","1ю",null,"Вологодская","вологда","мо","Репин О. А.",54,null,null,null,"СКАКУНОВ Евгений Андреевич","28.01.05, 1ю","СЗФО","Вологодская, Вологда, МО",null,"Репин О. А.",null,"СЗФО","Вологодская",null,null,"СЗФО",null,null,null,"Скакунов"," Евгений Андреевич","СКАКУНОВ"," Евгений Андреевич","28","01","05","1ю","1ю"]
[null,null,null,59,"Чуприна Артем Анатольевич","160205","1ю",null,"Мурманская","мурманск","мо","Гольнев П.А.",59,null,null,null,"ЧУПРИНА Артем Анатольевич","16.02.05, 1ю","СЗФО","Мурманская, Мурманск, МО",null,"Гольнев П.А.",null,"СЗФО","Мурманская",null,null,"СЗФО",null,null,null,"Чуприна"," Артем Анатольевич","ЧУПРИНА"," Артем Анатольевич","16","02","05","1ю","1ю"]
[null,null,null,35,"ГРЯЗНОВ Кирилл Алексеевич","100806","1ю",null,"КБР","нальчик","д","пченашев м. ошхунов б.",35,null,null,null,"ГРЯЗНОВ Кирилл Алексеевич","10.08.06, 1ю","СКФО","Кбр, Нальчик, Д",null,"Пченашев М. Ошхунов Б.",null,"СКФО","КБР",null,null,"СКФО",null,null,null,"ГРЯЗНОВ"," Кирилл Алексеевич","ГРЯЗНОВ"," Кирилл Алексеевич","10","08","06","1ю","1ю"]
[null,null,null,38,"Джамбаев Умар-Алий Альбертович","230107","1ю",null,"КБР","нальчик","д","пченашев м. ошхунов б.",38,null,null,null,"ДЖАМБАЕВ Умар-Алий Альбертович","23.01.07, 1ю","СКФО","Кбр, Нальчик, Д",null,"Пченашев М. Ошхунов Б.",null,"СКФО","КБР",null,null,"СКФО",null,null,null,"Джамбаев"," Умар-Алий Альбертович","ДЖАМБАЕВ"," Умар-Алий Альбертович","23","01","07","1ю","1ю"]
[null,null,null,38,"Узденов Амин Русланович","280905","1ю",null,"КБР","нальчик","д","пченашев м. ошхунов б.",38,null,null,null,"УЗДЕНОВ Амин Русланович","28.09.05, 1ю","СКФО","Кбр, Нальчик, Д",null,"Пченашев М. Ошхунов Б.",null,"СКФО","КБР",null,null,"СКФО",null,null,null,"Узденов"," Амин Русланович","УЗДЕНОВ"," Амин Русланович","28","09","05","1ю","1ю"]
[null,null,null,38,"Гаджиахмедов Шамиль Инадиевич","311206","1ю",null,"КБР","нальчик","д","карамышев с",38,null,null,null,"ГАДЖИАХМЕДОВ Шамиль Инадиевич","31.12.06, 1ю","СКФО","Кбр, Нальчик, Д",null,"Карамышев С",null,"СКФО","КБР",null,null,"СКФО",null,null,null,"Гаджиахмедов"," Шамиль Инадиевич","ГАДЖИАХМЕДОВ"," Шамиль Инадиевич","31","12","06","1ю","1ю"]
[null,null,null,42,"БЕКЕЕВ Абдурахман Шамилович","281206","1ю",null,"КБР","нальчик","д","пченашев м. ошхунов б.",42,null,null,null,"БЕКЕЕВ Абдурахман Шамилович","28.12.06, 1ю","СКФО","Кбр, Нальчик, Д",null,"Пченашев М. Ошхунов Б.",null,"СКФО","КБР",null,null,"СКФО",null,null,null,"БЕКЕЕВ"," Абдурахман Шамилович","БЕКЕЕВ"," Абдурахман Шамилович","28","12","06","1ю","1ю"]
[null,null,null,42,"ВОРОНЦОВ Никита Денисович","100407","1ю",null,"КБР","нальчик","д","карамышев с",42,null,null,null,"ВОРОНЦОВ Никита Денисович","10.04.07, 1ю","СКФО","Кбр, Нальчик, Д",null,"Карамышев С",null,"СКФО","КБР",null,null,"СКФО",null,null,null,"ВОРОНЦОВ"," Никита Денисович","ВОРОНЦОВ"," Никита Денисович","10","04","07","1ю","1ю"]
[null,null,null,50,"ПОПОВ Никон Юрьевич","180805","1ю",null,"КБР","нальчик","д","пченашев м. ошхунов б.",50,null,null,null,"ПОПОВ Никон Юрьевич","18.08.05, 1ю","СКФО","Кбр, Нальчик, Д",null,"Пченашев М. Ошхунов Б.",null,"СКФО","КБР",null,null,"СКФО",null,null,null,"ПОПОВ"," Никон Юрьевич","ПОПОВ"," Никон Юрьевич","18","08","05","1ю","1ю"]
[null,null,null,50,"ЯХЬЯЕВ Ахмед Заурович","240605","1ю",null,"КБР","нальчик","д","махов о.",50,null,null,null,"ЯХЬЯЕВ Ахмед Заурович","24.06.05, 1ю","СКФО","Кбр, Нальчик, Д",null,"Махов О.",null,"СКФО","КБР",null,null,"СКФО",null,null,null,"ЯХЬЯЕВ"," Ахмед Заурович","ЯХЬЯЕВ"," Ахмед Заурович","24","06","05","1ю","1ю"]
[null,null,null,54,"Алиев Рустам Ильхам оглы","121005","1ю",null,"КБР","нальчик","д","пченашев м. ошхунов б.",54,null,null,null,"АЛИЕВ Рустам Ильхам Оглы","12.10.05, 1ю","СКФО","Кбр, Нальчик, Д",null,"Пченашев М. Ошхунов Б.",null,"СКФО","КБР",null,null,"СКФО",null,null,null,"Алиев"," Рустам Ильхам оглы","АЛИЕВ"," Рустам Ильхам Оглы","12","10","05","1ю","1ю"]
[null,null,null,59,"Резников Димитрий Андреевич","140205","1ю",null,"КБР","нальчик","д","карамышев с",59,null,null,null,"РЕЗНИКОВ Димитрий Андреевич","14.02.05, 1ю","СКФО","Кбр, Нальчик, Д",null,"Карамышев С",null,"СКФО","КБР",null,null,"СКФО",null,null,null,"Резников"," Димитрий Андреевич","РЕЗНИКОВ"," Димитрий Андреевич","14","02","05","1ю","1ю"]
[null,null,null,"71+","Таскин Роман Игоревич","020605","1ю",null,"КБР","нальчик","д","бунятов а.","71+",null,null,null,"ТАСКИН Роман Игоревич","02.06.05, 1ю","СКФО","Кбр, Нальчик, Д",null,"Бунятов А.",null,"СКФО","КБР",null,null,"СКФО",null,null,null,"Таскин"," Роман Игоревич","ТАСКИН"," Роман Игоревич","02","06","05","1ю","1ю"]
[null,null,null,38,"Коноров Алексей Васильевич","160305","1ю",null,"Чеченская","грозный","мс","юсупов х.",38,null,null,null,"КОНОРОВ Алексей Васильевич","16.03.05, 1ю","СКФО","Чеченская, Грозный, МС",null,"Юсупов Х.",null,"СКФО","Чеченская",null,null,"СКФО",null,null,null,"Коноров"," Алексей Васильевич","КОНОРОВ"," Алексей Васильевич","16","03","05","1ю","1ю"]
[null,null,null,50,"КАРТАВЧЕНКО Илья Валерьевич","150206","1ю",null,"Чеченская","грозный","мс","асанов в.",50,null,null,null,"КАРТАВЧЕНКО Илья Валерьевич","15.02.06, 1ю","СКФО","Чеченская, Грозный, МС",null,"Асанов В.",null,"СКФО","Чеченская",null,null,"СКФО",null,null,null,"КАРТАВЧЕНКО"," Илья Валерьевич","КАРТАВЧЕНКО"," Илья Валерьевич","15","02","06","1ю","1ю"]
[null,null,null,65,"БЕКТАШОВ Эрбол Акжолович","080505","1ю",null,"Чеченская","грозный","мс","асанов в.",65,null,null,null,"БЕКТАШОВ Эрбол Акжолович","08.05.05, 1ю","СКФО","Чеченская, Грозный, МС",null,"Асанов В.",null,"СКФО","Чеченская",null,null,"СКФО",null,null,null,"БЕКТАШОВ"," Эрбол Акжолович","БЕКТАШОВ"," Эрбол Акжолович","08","05","05","1ю","1ю"]
[null,null,null,"71+","СОЛУЯНОВ Тимур Витальевич","270405","1ю",null,"Чеченская","грозный","мс","дениев р.","71+",null,null,null,"СОЛУЯНОВ Тимур Витальевич","27.04.05, 1ю","СКФО","Чеченская, Грозный, МС",null,"Дениев Р.",null,"СКФО","Чеченская",null,null,"СКФО",null,null,null,"СОЛУЯНОВ"," Тимур Витальевич","СОЛУЯНОВ"," Тимур Витальевич","27","04","05","1ю","1ю"]
[null,null,null,59,"Сергеев Павел Алексеевич","191105","1ю",null,"Р.Ингушетия",null,null,"чахкиев и.м.",59,null,null,null,"СЕРГЕЕВ Павел Алексеевич","19.11.05, 1ю","СКФО","Р.Ингушетия, , ",null,"Чахкиев И.М.",null,"СКФО","Р.Ингушетия",null,null,"СКФО",null,null,null,"Сергеев"," Павел Алексеевич","СЕРГЕЕВ"," Павел Алексеевич","19","11","05","1ю","1ю"]
[null,null,null,35,"Беляков Андрей Андреевич","280505","1ю",null,"Р.Ингушетия",null,null,"султыгов м.б.",35,null,null,null,"БЕЛЯКОВ Андрей Андреевич","28.05.05, 1ю","СКФО","Р.Ингушетия, , ",null,"Султыгов М.Б.",null,"СКФО","Р.Ингушетия",null,null,"СКФО",null,null,null,"Беляков"," Андрей Андреевич","БЕЛЯКОВ"," Андрей Андреевич","28","05","05","1ю","1ю"]
[null,null,null,65,"НЕВЕСЕНКО Владимир Михайлович","070605","1ю",null,"Р.Ингушетия",null,null,"хамхоев м.",65,null,null,null,"НЕВЕСЕНКО Владимир Михайлович","07.06.05, 1ю","СКФО","Р.Ингушетия, , ",null,"Хамхоев М.",null,"СКФО","Р.Ингушетия",null,null,"СКФО",null,null,null,"НЕВЕСЕНКО"," Владимир Михайлович","НЕВЕСЕНКО"," Владимир Михайлович","07","06","05","1ю","1ю"]
[null,null,null,46,"Магомедов Шамиль Абдулаевич","050606","1ю",null,"р.тыва","кызыл","мо","монгуш ш.д. монгуш т.о.",46,null,null,null,"МАГОМЕДОВ Шамиль Абдулаевич","05.06.06, 1ю","СФО","Р.Тыва, Кызыл, МО",null,"Монгуш Ш.Д. Монгуш Т.О.",null,"СФО","р.тыва",null,null,"СФО",null,null,null,"Магомедов"," Шамиль Абдулаевич","МАГОМЕДОВ"," Шамиль Абдулаевич","05","06","06","1ю","1ю"]
[null,null,null,46,"Убушиев Баир Викторович","230905","2р",null,"Рязанская","рязань","пр","савельев с.а. виноградов а.а.",46,null,null,null,"УБУШИЕВ Баир Викторович","23.09.05, 2р","ЦФО","Рязанская, Рязань, ПР",null,"Савельев С.А. Виноградов А.А.",null,"ЦФО","Рязанская",null,null,"ЦФО",null,null,null,"Убушиев"," Баир Викторович","УБУШИЕВ"," Баир Викторович","23","09","05","2р","2р"]
[null,null,null,50,"ЧЕРНОВ Игорь Олегович","030406","1ю",null,"Рязанская","рязань","пр","шульгина о.а.",50,null,null,null,"ЧЕРНОВ Игорь Олегович","03.04.06, 1ю","ЦФО","Рязанская, Рязань, ПР",null,"Шульгина О.А.",null,"ЦФО","Рязанская",null,null,"ЦФО",null,null,null,"ЧЕРНОВ"," Игорь Олегович","ЧЕРНОВ"," Игорь Олегович","03","04","06","1ю","1ю"]
[null,null,null,59,"ХАСАНШИН Карим Равилевич","110705","2р",null,"Рязанская","рязань","пр","савельев с.а. виноградов а.а.",59,null,null,null,"ХАСАНШИН Карим Равилевич","11.07.05, 2р","ЦФО","Рязанская, Рязань, ПР",null,"Савельев С.А. Виноградов А.А.",null,"ЦФО","Рязанская",null,null,"ЦФО",null,null,null,"ХАСАНШИН"," Карим Равилевич","ХАСАНШИН"," Карим Равилевич","11","07","05","2р","2р"]
[null,null,null,59,"ГОЛОБОРОДЬКО Дмитрий Максимович","081205","1ю",null,"Рязанская","рязань","пр","сытник м.п.",59,null,null,null,"ГОЛОБОРОДЬКО Дмитрий Максимович","08.12.05, 1ю","ЦФО","Рязанская, Рязань, ПР",null,"Сытник М.П.",null,"ЦФО","Рязанская",null,null,"ЦФО",null,null,null,"ГОЛОБОРОДЬКО"," Дмитрий Максимович","ГОЛОБОРОДЬКО"," Дмитрий Максимович","08","12","05","1ю","1ю"]
[null,null,null,35,"Алексеев Никита Михайлович","250205","1ю",null,"р.коми","ухта","мо","балов с.а.",35,null,null,null,"АЛЕКСЕЕВ Никита Михайлович","25.02.05, 1ю",{"$f":"AB136","v":"СЗФО"},"Р.Коми, Ухта, МО",null,"Балов С.А.",null,{"$f":"VLOOKUP(Y136,Y$7:AA$94,3,FALSE)","v":"СЗФО"},{"$f":"I136","v":"р.коми"},null,null,{"$f":"X136","v":"СЗФО"},null,null,null,{"$f":"IFERROR(LEFT(E136,FIND(\" \",E136)-1),E136)","v":"Алексеев"},{"$f":"MID(E136,FIND(\" \",E136)*1,27)","v":" Никита Михайлович"},{"$f":"UPPER(AF136)","v":"АЛЕКСЕЕВ"},{"$f":"PROPER(AG136)","v":" Никита Михайлович"},{"$f":"MID($F136,FIND(\"\",$F136)*1,2)","v":"25"},{"$f":"MID($F136,FIND(\"\",$F136)*3,2)","v":"02"},{"$f":"MID($F136,FIND(\"\",$F136)*5,2)","v":"05"},{"$f":"G136","v":"1ю"},{"$f":"IF(AM136=\"кмс\",AM$2,IF(AM136=\"мс\",AN$2,IF(AM136=\"мсмк\",AO$2,IF(AM136=\"змс\",AP$2,AM136))))","v":"1ю"}]
[null,null,null,71,"Даниелян Артур Арташесович","040105","1ю",null,"Р.Марий Эл",null,"мо","осипов д.н. ельцов м.в.",71,null,null,null,"ДАНИЕЛЯН Артур Арташесович","04.01.05, 1ю","ПФО","Р.Марий Эл, , МО",null,"Осипов Д.Н. Ельцов М.В.",null,"ПФО","Р.Марий Эл",null,null,"ПФО",null,null,null,"Даниелян"," Артур Арташесович","ДАНИЕЛЯН"," Артур Арташесович","04","01","05","1ю","1ю"]
[null,null,null,35,"СУСЛИН Дмитрий Андреевич","170505","2р",null,"Саратовская","энгельс","мо","филиппов в.в.",35,null,null,null,"СУСЛИН Дмитрий Андреевич","17.05.05, 2р","ПФО","Саратовская, Энгельс, МО",null,"Филиппов В.В.",null,"ПФО","Саратовская",null,null,"ПФО",null,null,null,"СУСЛИН"," Дмитрий Андреевич","СУСЛИН"," Дмитрий Андреевич","17","05","05","2р","2р"]
[null,null,null,38,"ЗАХАРЯН Марат Генрикович","231205","2р",null,"Саратовская","энгельс","мо","филиппов в.в.",38,null,null,null,"ЗАХАРЯН Марат Генрикович","23.12.05, 2р","ПФО","Саратовская, Энгельс, МО",null,"Филиппов В.В.",null,"ПФО","Саратовская",null,null,"ПФО",null,null,null,"ЗАХАРЯН"," Марат Генрикович","ЗАХАРЯН"," Марат Генрикович","23","12","05","2р","2р"]
[null,null,null,38,"Кайшев Георгий Андреевич","190306","1ю",null,"Саратовская","ртищево","мо","галушкин в.в.",38,null,null,null,"КАЙШЕВ Георгий Андреевич","19.03.06, 1ю","ПФО","Саратовская, Ртищево, МО",null,"Галушкин В.В.",null,"ПФО","Саратовская",null,null,"ПФО",null,null,null,"Кайшев"," Георгий Андреевич","КАЙШЕВ"," Георгий Андреевич","19","03","06","1ю","1ю"]
[null,null,null,46,"Керимов Сайгид Ражабович","080805","1р",null,"Саратовская","балашов","мо","демин а.а.",46,null,null,null,"КЕРИМОВ Сайгид Ражабович","08.08.05, 1р","ПФО","Саратовская, Балашов, МО",null,"Демин А.А.",null,"ПФО","Саратовская",null,null,"ПФО",null,null,null,"Керимов"," Сайгид Ражабович","КЕРИМОВ"," Сайгид Ражабович","08","08","05","1р","1р"]
[null,null,null,46,"ЮЗВИК Роман Сергеевич","020706","1ю",null,"Саратовская","ртищево","мо","галушкин в.в.",46,null,null,null,"ЮЗВИК Роман Сергеевич","02.07.06, 1ю","ПФО","Саратовская, Ртищево, МО",null,"Галушкин В.В.",null,"ПФО","Саратовская",null,null,"ПФО",null,null,null,"ЮЗВИК"," Роман Сергеевич","ЮЗВИК"," Роман Сергеевич","02","07","06","1ю","1ю"]
[null,null,null,50,"АПОЯН Барсех Татулович","121005","2р",null,"Саратовская","энгельс","мо","никитин а.п.",50,null,null,null,"АПОЯН Барсех Татулович","12.10.05, 2р","ПФО","Саратовская, Энгельс, МО",null,"Никитин А.П.",null,"ПФО","Саратовская",null,null,"ПФО",null,null,null,"АПОЯН"," Барсех Татулович","АПОЯН"," Барсех Татулович","12","10","05","2р","2р"]
[null,null,null,50,"ХРУПАЛО Данил Алексеевич","250706","1ю",null,"Саратовская","балашов","мо","глухов в.н.",{"$f":"D144","v":50},null,null,null,{"$f":"CONCATENATE(AH144,AI144)","v":"ХРУПАЛО Данил Алексеевич"},{"$f":"CONCATENATE(AJ144,\".\",AK144,\".\",AL144,\",\",\" \",AN144)","v":"25.07.06, 1ю"},"ПФО",{"$f":"CONCATENATE(PROPER(I144),\", \",PROPER(J144),\", \",UPPER(K144))","v":"Саратовская, Балашов, МО"},null,{"$f":"PROPER(L144)","v":"Глухов В.Н."},null,"ПФО","Саратовская",null,null,"ПФО",null,null,null,"ХРУПАЛО"," Данил Алексеевич","ХРУПАЛО"," Данил Алексеевич","25","07","06","1ю","1ю"]
[null,null,null,59,"КОЛПАКОВ Кирилл Евгеньевич","030405","1р",null,"Саратовская","балашов","мо","демин а.а.",59,null,null,null,"КОЛПАКОВ Кирилл Евгеньевич","03.04.05, 1р","ПФО","Саратовская, Балашов, МО",null,"Демин А.А.",null,"ПФО","Саратовская",null,null,"ПФО",null,null,null,"КОЛПАКОВ"," Кирилл Евгеньевич","КОЛПАКОВ"," Кирилл Евгеньевич","03","04","05","1р","1р"]
[null,null,null,59,"ВАРЕЛЬДЖЯН Эдуард Аркадьевич","140405","1ю",null,"Саратовская","саратов","мо","мироненко а.о. леонтьев а.н.",59,null,null,null,"ВАРЕЛЬДЖЯН Эдуард Аркадьевич","14.04.05, 1ю","ПФО","Саратовская, Саратов, МО",null,"Мироненко А.О. Леонтьев А.Н.",null,"ПФО","Саратовская",null,null,"ПФО",null,null,null,"ВАРЕЛЬДЖЯН"," Эдуард Аркадьевич","ВАРЕЛЬДЖЯН"," Эдуард Аркадьевич","14","04","05","1ю","1ю"]
[null,null,null,65,"ХАДИПАШ Дамир Тимурович","150105","1ю",null,"Саратовская","саратов","мо","мироненко а.о. леонтьев а.н.",65,null,null,null,"ХАДИПАШ Дамир Тимурович","15.01.05, 1ю","ПФО","Саратовская, Саратов, МО",null,"Мироненко А.О. Леонтьев А.Н.",null,"ПФО","Саратовская",null,null,"ПФО",null,null,null,"ХАДИПАШ"," Дамир Тимурович","ХАДИПАШ"," Дамир Тимурович","15","01","05","1ю","1ю"]
[null,null,null,65,"ХАТХОХУ Рустам Адамович","280805","2р",null,"Саратовская","балашов","мо","демин а.а. пчелинцев  р.и.",65,null,null,null,"ХАТХОХУ Рустам Адамович","28.08.05, 2р","ПФО","Саратовская, Балашов, МО",null,"Демин А.А. Пчелинцев  Р.И.",null,"ПФО","Саратовская",null,null,"ПФО",null,null,null,"ХАТХОХУ"," Рустам Адамович","ХАТХОХУ"," Рустам Адамович","28","08","05","2р","2р"]
[null,null,null,71,"ПРИМАК Петр Александрович","110105","1р",null,"Саратовская","балашов","мо","демин а.а.",71,null,null,null,"ПРИМАК Петр Александрович","11.01.05, 1р","ПФО","Саратовская, Балашов, МО",null,"Демин А.А.",null,"ПФО","Саратовская",null,null,"ПФО",null,null,null,"ПРИМАК"," Петр Александрович","ПРИМАК"," Петр Александрович","11","01","05","1р","1р"]
[null,null,null,"71+","ВАСИЛЕНКОВ Артур Андреевич","050805","1ю",null,"Саратовская","петровск","мо","акимов в.м. прынцева м.в.","71+",null,null,null,"ВАСИЛЕНКОВ Артур Андреевич","05.08.05, 1ю","ПФО","Саратовская, Петровск, МО",null,"Акимов В.М. Прынцева М.В.",null,"ПФО","Саратовская",null,null,"ПФО",null,null,null,"ВАСИЛЕНКОВ"," Артур Андреевич","ВАСИЛЕНКОВ"," Артур Андреевич","05","08","05","1ю","1ю"]
[null,null,null,"71+","КОНДЖОРЯН Артур Альбертович","300405","2р",null,"Саратовская","саратов","мо","нестеренко с.в.","71+",null,null,null,"КОНДЖОРЯН Артур Альбертович","30.04.05, 2р","ПФО","Саратовская, Саратов, МО",null,"Нестеренко С.В.",null,"ПФО","Саратовская",null,null,"ПФО",null,null,null,"КОНДЖОРЯН"," Артур Альбертович","КОНДЖОРЯН"," Артур Альбертович","30","04","05","2р","2р"]
[null,null,null,35,"УЖАНОВ Игорь Алексеевич","250107","1ю",null,"Р.Адыгея",null,"мо","хабаху а.б. чесебиев а.а.",35,null,null,null,"УЖАНОВ Игорь Алексеевич","25.01.07, 1ю","ЮФО","Р.Адыгея, , МО",null,"Хабаху А.Б. Чесебиев А.А.",null,"ЮФО","Р.Адыгея",null,null,"ЮФО",null,null,null,"УЖАНОВ"," Игорь Алексеевич","УЖАНОВ"," Игорь Алексеевич","25","01","07","1ю","1ю"]
[null,null,null,35,"Акопян Эрик Саркисович","181105","1ю",null,"Р.Адыгея",null,"мо","хабаху а.б.",35,null,null,null,"АКОПЯН Эрик Саркисович","18.11.05, 1ю","ЮФО","Р.Адыгея, , МО",null,"Хабаху А.Б.",null,"ЮФО","Р.Адыгея",null,null,"ЮФО",null,null,null,"Акопян"," Эрик Саркисович","АКОПЯН"," Эрик Саркисович","18","11","05","1ю","1ю"]
[null,null,null,38,"Бабаян Владислав Вячеславович","110406","1ю",null,"Р.Адыгея",null,"мо","хабаху а.б. чесебиев а.а.",38,null,null,null,"БАБАЯН Владислав Вячеславович","11.04.06, 1ю","ЮФО","Р.Адыгея, , МО",null,"Хабаху А.Б. Чесебиев А.А.",null,"ЮФО","Р.Адыгея",null,null,"ЮФО",null,null,null,"Бабаян"," Владислав Вячеславович","БАБАЯН"," Владислав Вячеславович","11","04","06","1ю","1ю"]
[null,null,null,35,"Васильев Александр Ильич","010406","1ю",null,"Р.Адыгея",null,"мо","совмен б.г.",35,null,null,null,"ВАСИЛЬЕВ Александр Ильич","01.04.06, 1ю","ЮФО","Р.Адыгея, , МО",null,"Совмен Б.Г.",null,"ЮФО","Р.Адыгея",null,null,"ЮФО",null,null,null,"Васильев"," Александр Ильич","ВАСИЛЬЕВ"," Александр Ильич","01","04","06","1ю","1ю"]
[null,null,null,38,"Иванов Артем Александрович","231005","1ю",null,"Р.Адыгея",null,"мо","гомлешко а.а.",38,null,null,null,"ИВАНОВ Артем Александрович","23.10.05, 1ю","ЮФО","Р.Адыгея, , МО",null,"Гомлешко А.А.",null,"ЮФО","Р.Адыгея",null,null,"ЮФО",null,null,null,"Иванов"," Артем Александрович","ИВАНОВ"," Артем Александрович","23","10","05","1ю","1ю"]
[null,null,null,42,"Макаренко Артем Евгеньевич","220505","1ю",null,"Р.Адыгея",null,"мо","хакуринов д.а.",42,null,null,null,"МАКАРЕНКО Артем Евгеньевич","22.05.05, 1ю","ЮФО","Р.Адыгея, , МО",null,"Хакуринов Д.А.",null,"ЮФО","Р.Адыгея",null,null,"ЮФО",null,null,null,"Макаренко"," Артем Евгеньевич","МАКАРЕНКО"," Артем Евгеньевич","22","05","05","1ю","1ю"]
[null,null,null,42,"Чакиров Василий Юрьевич","011205","1ю",null,"Р.Адыгея",null,"мо","нагой и.г.",42,null,null,null,"ЧАКИРОВ Василий Юрьевич","01.12.05, 1ю","ЮФО","Р.Адыгея, , МО",null,"Нагой И.Г.",null,"ЮФО","Р.Адыгея",null,null,"ЮФО",null,null,null,"Чакиров"," Василий Юрьевич","ЧАКИРОВ"," Василий Юрьевич","01","12","05","1ю","1ю"]
[null,null,null,42,"ПАЖО Данил Юрьевич","270106","1ю",null,"Р.Адыгея",null,"мо","совмен б.г.",42,null,null,null,"ПАЖО Данил Юрьевич","27.01.06, 1ю","ЮФО","Р.Адыгея, , МО",null,"Совмен Б.Г.",null,"ЮФО","Р.Адыгея",null,null,"ЮФО",null,null,null,"ПАЖО"," Данил Юрьевич","ПАЖО"," Данил Юрьевич","27","01","06","1ю","1ю"]
[null,null,null,46,"Хукматов Далер Мукимович","131005","1ю",null,"Р.Адыгея",null,"мо","хабаху а.б. чесебиев а.а.",46,null,null,null,"ХУКМАТОВ Далер Мукимович","13.10.05, 1ю","ЮФО","Р.Адыгея, , МО",null,"Хабаху А.Б. Чесебиев А.А.",null,"ЮФО","Р.Адыгея",null,null,"ЮФО",null,null,null,"Хукматов"," Далер Мукимович","ХУКМАТОВ"," Далер Мукимович","13","10","05","1ю","1ю"]
[null,null,null,46,"БЕССОНОВ Рудольф Сергеевич","060405","1ю",null,"Р.Адыгея",null,"мо","гуатыж х.а.",46,null,null,null,"БЕССОНОВ Рудольф Сергеевич","06.04.05, 1ю","ЮФО","Р.Адыгея, , МО",null,"Гуатыж Х.А.",null,"ЮФО","Р.Адыгея",null,null,"ЮФО",null,null,null,"БЕССОНОВ"," Рудольф Сергеевич","БЕССОНОВ"," Рудольф Сергеевич","06","04","05","1ю","1ю"]
[null,null,null,46,"ЗЕЙНАЛОВ Давид Акифович","230805","1ю",null,"Р.Адыгея",null,"мо","четыз а.",46,null,null,null,"ЗЕЙНАЛОВ Давид Акифович","23.08.05, 1ю","ЮФО","Р.Адыгея, , МО",null,"Четыз А.",null,"ЮФО","Р.Адыгея",null,null,"ЮФО",null,null,null,"ЗЕЙНАЛОВ"," Давид Акифович","ЗЕЙНАЛОВ"," Давид Акифович","23","08","05","1ю","1ю"]
[null,null,null,50,"ОСТРОУМОВ Алексей Алексеевич","030105","1ю",null,"Р.Адыгея",null,"мо","джаримок р.н.  джаримок н.ш.",50,null,null,null,"ОСТРОУМОВ Алексей Алексеевич","03.01.05, 1ю","ЮФО","Р.Адыгея, , МО",null,"Джаримок Р.Н.  Джаримок Н.Ш.",null,"ЮФО","Р.Адыгея",null,null,"ЮФО",null,null,null,"ОСТРОУМОВ"," Алексей Алексеевич","ОСТРОУМОВ"," Алексей Алексеевич","03","01","05","1ю","1ю"]
[null,null,"д","71+","САЛИМОВ Арафат Ильзатович","131005","1ю",null,"Р.Адыгея",null,"мо","ачмиз з.х. наш ш.а.","71+",null,null,null,"САЛИМОВ Арафат Ильзатович","13.10.05, 1ю","ЮФО","Р.Адыгея, , МО",null,"Ачмиз З.Х. Наш Ш.А.",null,"ЮФО","Р.Адыгея",null,null,"ЮФО",null,null,null,"САЛИМОВ"," Арафат Ильзатович","САЛИМОВ"," Арафат Ильзатович","13","10","05","1ю","1ю"]
[null,null,"д","71+","СВИРИДОВ Иван Андреевич","300106","1ю",null,"Р.Адыгея",null,"мо","ачмиз з.х. наш ш.а.","71+",null,null,null,"СВИРИДОВ Иван Андреевич","30.01.06, 1ю","ЮФО","Р.Адыгея, , МО",null,"Ачмиз З.Х. Наш Ш.А.",null,"ЮФО","Р.Адыгея",null,null,"ЮФО",null,null,null,"СВИРИДОВ"," Иван Андреевич","СВИРИДОВ"," Иван Андреевич","30","01","06","1ю","1ю"]
[null,null,null,35,"ГЕНЕРАЛОВ Александр Павлович","020307","1ю",null,"Сахалинская","южно-сахалинск","мо","югай а.а.",35,null,null,null,"ГЕНЕРАЛОВ Александр Павлович","02.03.07, 1ю","ДФО","Сахалинская, Южно-Сахалинск, МО",null,"Югай А.А.",null,"ДФО","Сахалинская",null,null,"ДФО",null,null,null,"ГЕНЕРАЛОВ"," Александр Павлович","ГЕНЕРАЛОВ"," Александр Павлович","02","03","07","1ю","1ю"]
[null,null,null,71,"Муслиев Висхан Ибрагимович","270105","1ю",null,"Сахалинская","корсаков","мо","подгорный а.а. исычко к.п.",71,null,null,null,"МУСЛИЕВ Висхан Ибрагимович","27.01.05, 1ю","ДФО","Сахалинская, Корсаков, МО",null,"Подгорный А.А. Исычко К.П.",null,"ДФО","Сахалинская",null,null,"ДФО",null,null,null,"Муслиев"," Висхан Ибрагимович","МУСЛИЕВ"," Висхан Ибрагимович","27","01","05","1ю","1ю"]
[null,null,null,42,"НАЧАРОВ Александр Викторович","280905","1ю",null,"Смоленская","смоленск","мо","гореленков с.а. ермаченков с.а.",42,null,null,null,"НАЧАРОВ Александр Викторович","28.09.05, 1ю","ЦФО","Смоленская, Смоленск, МО",null,"Гореленков С.А. Ермаченков С.А.",null,"ЦФО","Смоленская",null,null,"ЦФО",null,null,null,"НАЧАРОВ"," Александр Викторович","НАЧАРОВ"," Александр Викторович","28","09","05","1ю","1ю"]
[null,null,null,42,"ВЕДЕНИЕВ Кирилл Евгеньевич","230605","1ю",null,"Смоленская","смоленск","мо","мальцев а.в. Федяев в.а.",42,null,null,null,"ВЕДЕНИЕВ Кирилл Евгеньевич","23.06.05, 1ю","ЦФО","Смоленская, Смоленск, МО",null,"Мальцев А.В. Федяев В.А.",null,"ЦФО","Смоленская",null,null,"ЦФО",null,null,null,"ВЕДЕНИЕВ"," Кирилл Евгеньевич","ВЕДЕНИЕВ"," Кирилл Евгеньевич","23","06","05","1ю","1ю"]
[null,null,null,46,"ШУМИЛИН Владислав Алексеевич","230105","1ю",null,"Смоленская","смоленск","мо","гореленков с.а. ермаченков с.а.",46,null,null,null,"ШУМИЛИН Владислав Алексеевич","23.01.05, 1ю","ЦФО","Смоленская, Смоленск, МО",null,"Гореленков С.А. Ермаченков С.А.",null,"ЦФО","Смоленская",null,null,"ЦФО",null,null,null,"ШУМИЛИН"," Владислав Алексеевич","ШУМИЛИН"," Владислав Алексеевич","23","01","05","1ю","1ю"]
[null,null,null,42,"абрамьянц ашот анушаванович","191005","1ю",null,"Краснодарский","армавир","мо","погосян в.г.",42,null,null,null,"АБРАМЬЯНЦ Ашот Анушаванович","19.10.05, 1ю","ЮФО","Краснодарский, Армавир, МО",null,"Погосян В.Г.",null,"ЮФО","Краснодарский",null,null,"ЮФО",null,null,null,"абрамьянц"," ашот анушаванович","АБРАМЬЯНЦ"," Ашот Анушаванович","19","10","05","1ю","1ю"]
[null,null,null,42,"карасев николай александрович","181205","1ю",null,"Краснодарский","сочи","мо","антонян р.а.",42,null,null,null,"КАРАСЕВ Николай Александрович","18.12.05, 1ю","ЮФО","Краснодарский, Сочи, МО",null,"Антонян Р.А.",null,"ЮФО","Краснодарский",null,null,"ЮФО",null,null,null,"карасев"," николай александрович","КАРАСЕВ"," Николай Александрович","18","12","05","1ю","1ю"]
[null,null,null,42,"бунаков михаил денисович","180305","1ю",null,"Краснодарский","армавир","мо","погосян в.г.",42,null,null,null,"БУНАКОВ Михаил Денисович","18.03.05, 1ю","ЮФО","Краснодарский, Армавир, МО",null,"Погосян В.Г.",null,"ЮФО","Краснодарский",null,null,"ЮФО",null,null,null,"бунаков"," михаил денисович","БУНАКОВ"," Михаил Денисович","18","03","05","1ю","1ю"]
[null,null,null,42,"Казарьянц Николай Артемович","090205","1ю",null,"Краснодарский","армавир","мо","бородин в.г. Горобец а.ф.",42,null,null,null,"КАЗАРЬЯНЦ Николай Артемович","09.02.05, 1ю","ЮФО","Краснодарский, Армавир, МО",null,"Бородин В.Г. Горобец А.Ф.",null,"ЮФО","Краснодарский",null,null,"ЮФО",null,null,null,"Казарьянц"," Николай Артемович","КАЗАРЬЯНЦ"," Николай Артемович","09","02","05","1ю","1ю"]
[null,null,null,42,"азарян семен сергеевич","010904","1ю",null,"Краснодарский","армавир","мо","кицианс а.р.",42,null,null,null,"АЗАРЯН Семен Сергеевич","01.09.04, 1ю","ЮФО","Краснодарский, Армавир, МО",null,"Кицианс А.Р.",null,"ЮФО","Краснодарский",null,null,"ЮФО",null,null,null,"азарян"," семен сергеевич","АЗАРЯН"," Семен Сергеевич","01","09","04","1ю","1ю"]
[null,null,null,46,"хачатурян артуш ованесович","040103","кмс",null,"Краснодарский","армавир","мо","бородин в.г.",46,null,null,null,"ХАЧАТУРЯН Артуш Ованесович","04.01.03, КМС","ЮФО","Краснодарский, Армавир, МО",null,"Бородин В.Г.",null,"ЮФО","Краснодарский",null,null,"ЮФО",null,null,null,"хачатурян"," артуш ованесович","ХАЧАТУРЯН"," Артуш Ованесович","04","01","03","кмс","КМС"]
[null,null,null,46,"сафарян михаил арменакович","131003","1ю",null,"Краснодарский","армавир","мо","мгдсян е.з.",46,null,null,null,"САФАРЯН Михаил Арменакович","13.10.03, 1ю","ЮФО","Краснодарский, Армавир, МО",null,"Мгдсян Е.З.",null,"ЮФО","Краснодарский",null,null,"ЮФО",null,null,null,"сафарян"," михаил арменакович","САФАРЯН"," Михаил Арменакович","13","10","03","1ю","1ю"]
[null,null,null,46,"кеян владимир григорович","010704","1ю",null,"Краснодарский","армавир","мо","кицианс а.р.",46,null,null,null,"КЕЯН Владимир Григорович","01.07.04, 1ю","ЮФО","Краснодарский, Армавир, МО",null,"Кицианс А.Р.",null,"ЮФО","Краснодарский",null,null,"ЮФО",null,null,null,"кеян"," владимир григорович","КЕЯН"," Владимир Григорович","01","07","04","1ю","1ю"]
[null,null,null,50,"аведян артур оганесович","261003","1ю",null,"Краснодарский","сочи","мо","антонян р.а.",50,null,null,null,"АВЕДЯН Артур Оганесович","26.10.03, 1ю","ЮФО","Краснодарский, Сочи, МО",null,"Антонян Р.А.",null,"ЮФО","Краснодарский",null,null,"ЮФО",null,null,null,"аведян"," артур оганесович","АВЕДЯН"," Артур Оганесович","26","10","03","1ю","1ю"]
[null,null,null,50,"антонян карен русланович","210104","1ю",null,"Краснодарский","сочи","мо","антонян р.а.",50,null,null,null,"АНТОНЯН Карен Русланович","21.01.04, 1ю","ЮФО","Краснодарский, Сочи, МО",null,"Антонян Р.А.",null,"ЮФО","Краснодарский",null,null,"ЮФО",null,null,null,"антонян"," карен русланович","АНТОНЯН"," Карен Русланович","21","01","04","1ю","1ю"]
[null,null,null,55,"малхасов аслан малхасович","291103","кмс",null,"Краснодарский","армавир","мо","погосян в.г.",55,null,null,null,"МАЛХАСОВ Аслан Малхасович","29.11.03, КМС","ЮФО","Краснодарский, Армавир, МО",null,"Погосян В.Г.",null,"ЮФО","Краснодарский",null,null,"ЮФО",null,null,null,"малхасов"," аслан малхасович","МАЛХАСОВ"," Аслан Малхасович","29","11","03","кмс","КМС"]
[null,null,null,60,"гедаров рашид темурович","050903","1ю",null,"Краснодарский","калининский","мо","евгеньев э.в.",60,null,null,null,"ГЕДАРОВ Рашид Темурович","05.09.03, 1ю","ЮФО","Краснодарский, Калининский, МО",null,"Евгеньев Э.В.",null,"ЮФО","Краснодарский",null,null,"ЮФО",null,null,null,"гедаров"," рашид темурович","ГЕДАРОВ"," Рашид Темурович","05","09","03","1ю","1ю"]
[null,null,null,60,"ватаев феликс николаевич","220403","1ю",null,"Краснодарский","армавир","мо","мгдсян е.з. кочиев а.а.",60,null,null,null,"ВАТАЕВ Феликс Николаевич","22.04.03, 1ю","ЮФО","Краснодарский, Армавир, МО",null,"Мгдсян Е.З. Кочиев А.А.",null,"ЮФО","Краснодарский",null,null,"ЮФО",null,null,null,"ватаев"," феликс николаевич","ВАТАЕВ"," Феликс Николаевич","22","04","03","1ю","1ю"]
[null,null,null,60,"биев азамат рамазанович","260903","1ю",null,"Краснодарский","армавир","мо","псеунов м.а.",60,null,null,null,"БИЕВ Азамат Рамазанович","26.09.03, 1ю","ЮФО","Краснодарский, Армавир, МО",null,"Псеунов М.А.",null,"ЮФО","Краснодарский",null,null,"ЮФО",null,null,null,"биев"," азамат рамазанович","БИЕВ"," Азамат Рамазанович","26","09","03","1ю","1ю"]
[null,null,null,72,"гарибян артур эдуардович","120203","1ю",null,"Краснодарский","армавир","мо","бордин в.г.",72,null,null,null,"ГАРИБЯН Артур Эдуардович","12.02.03, 1ю","ЮФО","Краснодарский, Армавир, МО",null,"Бордин В.Г.",null,"ЮФО","Краснодарский",null,null,"ЮФО",null,null,null,"гарибян"," артур эдуардович","ГАРИБЯН"," Артур Эдуардович","12","02","03","1ю","1ю"]
[null,null,null,78,"титов никита дмитриевич","030303","1ю",null,"Краснодарский","сочи","мо","антонян р.а.",78,null,null,null,"ТИТОВ Никита Дмитриевич","03.03.03, 1ю","ЮФО","Краснодарский, Сочи, МО",null,"Антонян Р.А.",null,"ЮФО","Краснодарский",null,null,"ЮФО",null,null,null,"титов"," никита дмитриевич","ТИТОВ"," Никита Дмитриевич","03","03","03","1ю","1ю"]
[null,null,null,84,"никифоров даниил денисович","100903","1ю",null,"Краснодарский","армавир","мо","бородин в.г. Евгеньев э.в.",84,null,null,null,"НИКИФОРОВ Даниил Денисович","10.09.03, 1ю","ЮФО","Краснодарский, Армавир, МО",null,"Бородин В.Г. Евгеньев Э.В.",null,"ЮФО","Краснодарский",null,null,"ЮФО",null,null,null,"никифоров"," даниил денисович","НИКИФОРОВ"," Даниил Денисович","10","09","03","1ю","1ю"]
[null,null,null,"84+","креймер александр валерьевич","120504","1ю",null,"Краснодарский","армавир","мо","погосян в.г.","84+",null,null,null,"КРЕЙМЕР Александр Валерьевич","12.05.04, 1ю","ЮФО","Краснодарский, Армавир, МО",null,"Погосян В.Г.",null,"ЮФО","Краснодарский",null,null,"ЮФО",null,null,null,"креймер"," александр валерьевич","КРЕЙМЕР"," Александр Валерьевич","12","05","04","1ю","1ю"]
[null,null,null,"84+","гацоев давид аланович","100603","1ю",null,"Краснодарский","армавир","мо","мгдсян е.з. кочиев а.а.","84+",null,null,null,"ГАЦОЕВ Давид Аланович","10.06.03, 1ю","ЮФО","Краснодарский, Армавир, МО",null,"Мгдсян Е.З. Кочиев А.А.",null,"ЮФО","Краснодарский",null,null,"ЮФО",null,null,null,"гацоев"," давид аланович","ГАЦОЕВ"," Давид Аланович","10","06","03","1ю","1ю"]
[null,null,null,42,"багдасаров руслан мамиконович","060505","1ю",null,"Краснодарский","армавир","мо","саокян а.р.",42,null,null,null,"БАГДАСАРОВ Руслан Мамиконович","06.05.05, 1ю","ЮФО","Краснодарский, Армавир, МО",null,"Саокян А.Р.",null,"ЮФО","Краснодарский",null,null,"ЮФО",null,null,null,"багдасаров"," руслан мамиконович","БАГДАСАРОВ"," Руслан Мамиконович","06","05","05","1ю","1ю"]
[null,null,null,42,"оганесян эдуард епремович","181203","1ю",null,"Краснодарский","сочи","мо","антонян р.а.",42,null,null,null,"ОГАНЕСЯН Эдуард Епремович","18.12.03, 1ю","ЮФО","Краснодарский, Сочи, МО",null,"Антонян Р.А.",null,"ЮФО","Краснодарский",null,null,"ЮФО",null,null,null,"оганесян"," эдуард епремович","ОГАНЕСЯН"," Эдуард Епремович","18","12","03","1ю","1ю"]
[null,null,null,42,"папоян алексан артурович","061105","1ю",null,"Краснодарский","сочи","мо","антонян р.а.",42,null,null,null,"ПАПОЯН Алексан Артурович","06.11.05, 1ю","ЮФО","Краснодарский, Сочи, МО",null,"Антонян Р.А.",null,"ЮФО","Краснодарский",null,null,"ЮФО",null,null,null,"папоян"," алексан артурович","ПАПОЯН"," Алексан Артурович","06","11","05","1ю","1ю"]
[null,null,null,null,"скакунов евгений андреевич",null,null,null,"Краснодарский","сочи","мо","бородин в.г. Горобец  .ф.",0,null,null,null,"СКАКУНОВ Евгений Андреевич",".., 0","ЮФО","Краснодарский, Сочи, МО",null,"Бородин В.Г. Горобец  .Ф.",null,"ЮФО","Краснодарский",null,null,"ЮФО",null,null,null,"скакунов"," евгений андреевич","СКАКУНОВ"," Евгений Андреевич","","","",0,0]
[null,null,null,55,"арутюнян эдуард сергеевич","230205","1ю",null,"Краснодарский","армавир","мо","погосян в.г.",55,null,null,null,"АРУТЮНЯН Эдуард Сергеевич","23.02.05, 1ю","ЮФО","Краснодарский, Армавир, МО",null,"Погосян В.Г.",null,"ЮФО","Краснодарский",null,null,"ЮФО",null,null,null,"арутюнян"," эдуард сергеевич","АРУТЮНЯН"," Эдуард Сергеевич","23","02","05","1ю","1ю"]
[null,null,null,55,"манукян ншан гарикович","251004","1ю",null,"Краснодарский","сочи","мо","антонян р.а.",55,null,null,null,"МАНУКЯН Ншан Гарикович","25.10.04, 1ю","ЮФО","Краснодарский, Сочи, МО",null,"Антонян Р.А.",null,"ЮФО","Краснодарский",null,null,"ЮФО",null,null,null,"манукян"," ншан гарикович","МАНУКЯН"," Ншан Гарикович","25","10","04","1ю","1ю"]
[null,null,null,55,"коцарь виталий максимович","160104","1ю",null,"Краснодарский","анапа","мо","гобече м.в.",55,null,null,null,"КОЦАРЬ Виталий Максимович","16.01.04, 1ю","ЮФО","Краснодарский, Анапа, МО",null,"Гобече М.В.",null,"ЮФО","Краснодарский",null,null,"ЮФО",null,null,null,"коцарь"," виталий максимович","КОЦАРЬ"," Виталий Максимович","16","01","04","1ю","1ю"]
[null,null,null,66,"нурджанян давид самвэлович","120105","1ю",null,"Краснодарский","армавир","мо","погосян в.г.",66,null,null,null,"НУРДЖАНЯН Давид Самвэлович","12.01.05, 1ю","ЮФО","Краснодарский, Армавир, МО",null,"Погосян В.Г.",null,"ЮФО","Краснодарский",null,null,"ЮФО",null,null,null,"нурджанян"," давид самвэлович","НУРДЖАНЯН"," Давид Самвэлович","12","01","05","1ю","1ю"]
[null,null,null,60,"шовгенов тимур юрьевич","060303","2р",null,"Краснодарский","армавир","мо","псеунов м.а.",60,null,null,null,"ШОВГЕНОВ Тимур Юрьевич","06.03.03, 2р","ЮФО","Краснодарский, Армавир, МО",null,"Псеунов М.А.",null,"ЮФО","Краснодарский",null,null,"ЮФО",null,null,null,"шовгенов"," тимур юрьевич","ШОВГЕНОВ"," Тимур Юрьевич","06","03","03","2р","2р"]
[null,null,null,66,"гаспарян руслан сергеевич","210703","1ю",null,"Краснодарский","анапа","мо","аскеров р.н.",66,null,null,null,"ГАСПАРЯН Руслан Сергеевич","21.07.03, 1ю","ЮФО","Краснодарский, Анапа, МО",null,"Аскеров Р.Н.",null,"ЮФО","Краснодарский",null,null,"ЮФО",null,null,null,"гаспарян"," руслан сергеевич","ГАСПАРЯН"," Руслан Сергеевич","21","07","03","1ю","1ю"]
[null,null,null,66,"солопон эдуард минасович","040203","кмс",null,"Краснодарский","анапа","мо","дурноян м.и. галоян с.п.",66,null,null,null,"СОЛОПОН Эдуард Минасович","04.02.03, КМС",{"$f":"AB200","v":"ЮФО"},"Краснодарский, Анапа, МО",null,"Дурноян М.И. Галоян С.П.",null,{"$f":"VLOOKUP(Y200,Y$7:AA$94,3,FALSE)","v":"ЮФО"},{"$f":"I200","v":"Краснодарский"},null,null,{"$f":"X200","v":"ЮФО"},null,null,null,{"$f":"IFERROR(LEFT(E200,FIND(\" \",E200)-1),E200)","v":"солопон"},{"$f":"MID(E200,FIND(\" \",E200)*1,27)","v":" эдуард минасович"},{"$f":"UPPER(AF200)","v":"СОЛОПОН"},{"$f":"PROPER(AG200)","v":" Эдуард Минасович"},{"$f":"MID($F200,FIND(\"\",$F200)*1,2)","v":"04"},{"$f":"MID($F200,FIND(\"\",$F200)*3,2)","v":"02"},{"$f":"MID($F200,FIND(\"\",$F200)*5,2)","v":"03"},{"$f":"G200","v":"кмс"},{"$f":"IF(AM200=\"кмс\",AM$2,IF(AM200=\"мс\",AN$2,IF(AM200=\"мсмк\",AO$2,IF(AM200=\"змс\",AP$2,AM200))))","v":"КМС"}]
[null,null,"д",66,"дарбинян самуел вартанович","2503-09-18","1ю",null,"Краснодарский","сочи","мо","хнкоян а.в.",66,null,null,null,"ДАРБИНЯН Самуел Вартанович","22.05.03, 1ю","ЮФО","Краснодарский, Сочи, МО",null,"Хнкоян А.В.",null,"ЮФО","Краснодарский",null,null,"ЮФО",null,null,null,"дарбинян"," самуел вартанович","ДАРБИНЯН"," Самуел Вартанович","22","05","03","1ю","1ю"]
[null,null,null,72,"акопян петр пайлакович","2393-08-26","1ю",null,"Краснодарский","анапа","мо","бедикян о.а.",72,null,null,null,"АКОПЯН Петр Пайлакович","18.03.04, 1ю","ЮФО","Краснодарский, Анапа, МО",null,"Бедикян О.А.",null,"ЮФО","Краснодарский",null,null,"ЮФО",null,null,null,"акопян"," петр пайлакович","АКОПЯН"," Петр Пайлакович","18","03","04","1ю","1ю"]
[null,null,null,72,"хайрутдинов микаель равильевич","2476-05-01","1ю",null,"Краснодарский","анапа","мо","шестопалов а.е.",72,null,null,null,"ХАЙРУТДИНОВ Микаель Равильевич","21.05.03, 1ю","ЮФО","Краснодарский, Анапа, МО",null,"Шестопалов А.Е.",null,"ЮФО","Краснодарский",null,null,"ЮФО",null,null,null,"хайрутдинов"," микаель равильевич","ХАЙРУТДИНОВ"," Микаель Равильевич","21","05","03","1ю","1ю"]
[null,null,null,78,"чуев илья викторович ","2530-04-10","1ю",null,"Краснодарский","анапа","мо","гобече м.в.",78,null,null,null,"ЧУЕВ Илья Викторович ","23.02.04, 1ю","ЮФО","Краснодарский, Анапа, МО",null,"Гобече М.В.",null,"ЮФО","Краснодарский",null,null,"ЮФО",null,null,null,"чуев"," илья викторович ","ЧУЕВ"," Илья Викторович ","23","02","04","1ю","1ю"]
[null,null,null,"84+","давтян николай левович","1956-12-14","1ю",null,"Краснодарский","павловский","мо","жидок а.с.","84+",null,null,null,"ДАВТЯН Николай Левович","20.80.3, 1ю","ЮФО","Краснодарский, Павловский, МО",null,"Жидок А.С.",null,"ЮФО","Краснодарский",null,null,"ЮФО",null,null,null,"давтян"," николай левович","ДАВТЯН"," Николай Левович","20","80","3","1ю","1ю"]
[null,null,null,84,"павлюков анджей анджеевич","2557-05-17","кмс",null,"Краснодарский","анапа","мо","кирпиченков ф.а.",84,null,null,null,"ПАВЛЮКОВ Анджей Анджеевич","24.01.03, КМС","ЮФО","Краснодарский, Анапа, МО",null,"Кирпиченков Ф.А.",null,"ЮФО","Краснодарский",null,null,"ЮФО",null,null,null,"павлюков"," анджей анджеевич","ПАВЛЮКОВ"," Анджей Анджеевич","24","01","03","кмс","КМС"]
[null,null,null,"84+","батчаев денис шамилевич","2532-03-10","кмс",null,"Краснодарский","анапа","мо","кирпиченков ф.а.","84+",null,null,null,"БАТЧАЕВ Денис Шамилевич","23.09.04, КМС","ЮФО","Краснодарский, Анапа, МО",null,"Кирпиченков Ф.А.",null,"ЮФО","Краснодарский",null,null,"ЮФО",null,null,null,"батчаев"," денис шамилевич","БАТЧАЕВ"," Денис Шамилевич","23","09","04","кмс","КМС"]
[null,null,null,50,"бамматов саид русланович","1958-01-18","1р",null,"Р.Дагестан","махачкала","мо","джамбеков т. Арсланбеков м.",{"$f":"D208","v":50},null,null,null,{"$f":"CONCATENATE(AH208,AI208)","v":"БАММАТОВ Саид Русланович"},{"$f":"CONCATENATE(AJ208,\".\",AK208,\".\",AL208,\",\",\" \",AN208)","v":"21.20.3, 1р"},"СКФО",{"$f":"CONCATENATE(PROPER(I208),\", \",PROPER(J208),\", \",UPPER(K208))","v":"Р.Дагестан, Махачкала, МО"},null,{"$f":"PROPER(L208)","v":"Джамбеков Т. Арсланбеков М."},null,"СКФО","Р.Дагестан",null,null,"СКФО",null,null,null,"бамматов"," саид русланович","БАММАТОВ"," Саид Русланович","21","20","3","1р","1р"]
[null,null,null,50,"гаджиев завир агавердиевич","2642-04-02","1р",null,"Р.Дагестан","махачкала","мо","джамбеков т. Арсланбеков м.",50,null,null,null,"ГАДЖИЕВ Завир Агавердиевич","27.11.03, 1р","СКФО","Р.Дагестан, Махачкала, МО",null,"Джамбеков Т. Арсланбеков М.",null,"СКФО","Р.Дагестан",null,null,"СКФО",null,null,null,"гаджиев"," завир агавердиевич","ГАДЖИЕВ"," Завир Агавердиевич","27","11","03","1р","1р"]
[null,null,null,55,"гебеков камалутдин маммаевич","2502-08-14","1р",null,"Р.Дагестан","махачкала","мо","джамбеков т. Арсланбеков м.",55,null,null,null,"ГЕБЕКОВ Камалутдин Маммаевич","22.01.03, 1р","СКФО","Р.Дагестан, Махачкала, МО",null,"Джамбеков Т. Арсланбеков М.",null,"СКФО","Р.Дагестан",null,null,"СКФО",null,null,null,"гебеков"," камалутдин маммаевич","ГЕБЕКОВ"," Камалутдин Маммаевич","22","01","03","1р","1р"]
[null,null,null,60,"кациев беслан хасанович","2067-04-16","1р",null,"Р.Ингушетия",null,null,"султыгов м.б.",60,null,null,null,"КАЦИЕВ Беслан Хасанович","61.10.3, 1р","СКФО","Р.Ингушетия, , ",null,"Султыгов М.Б.",null,"СКФО","Р.Ингушетия",null,null,"СКФО",null,null,null,"кациев"," беслан хасанович","КАЦИЕВ"," Беслан Хасанович","61","10","3","1р","1р"]
[null,null,null,55,"закураев каплан ауесович","050104","1р",null,"КБР",null,"мо","ошхунов б. пченашев м.",55,null,null,null,"ЗАКУРАЕВ Каплан Ауесович","05.01.04, 1р","СКФО","Кбр, , МО",null,"Ошхунов Б. Пченашев М.",null,"СКФО","КБР",null,null,"СКФО",null,null,null,"закураев"," каплан ауесович","ЗАКУРАЕВ"," Каплан Ауесович","05","01","04","1р","1р"]
[null,null,null,66,"куржиев алии владимирович","200103","1р",null,"КБР",null,"мо","ошхунов б. пченашев м.",66,null,null,null,"КУРЖИЕВ Алии Владимирович","20.01.03, 1р","СКФО","Кбр, , МО",null,"Ошхунов Б. Пченашев М.",null,"СКФО","КБР",null,null,"СКФО",null,null,null,"куржиев"," алии владимирович","КУРЖИЕВ"," Алии Владимирович","20","01","03","1р","1р"]
[null,null,null,42,"КАМБИЕВ Тамерлан Резуанович","281205","1р",null,"КБР",null,"мо","ошхунов б. пченашев м.",42,null,null,null,"КАМБИЕВ Тамерлан Резуанович","28.12.05, 1р","СКФО","Кбр, , МО",null,"Ошхунов Б. Пченашев М.",null,"СКФО","КБР",null,null,"СКФО",null,null,null,"КАМБИЕВ"," Тамерлан Резуанович","КАМБИЕВ"," Тамерлан Резуанович","28","12","05","1р","1р"]
[null,null,null,55,"аргашоков ренат муратович","180805","1р",null,"КБР",null,"мо","ошхунов б. пченашев м.",55,null,null,null,"АРГАШОКОВ Ренат Муратович","18.08.05, 1р","СКФО","Кбр, , МО",null,"Ошхунов Б. Пченашев М.",null,"СКФО","КБР",null,null,"СКФО",null,null,null,"аргашоков"," ренат муратович","АРГАШОКОВ"," Ренат Муратович","18","08","05","1р","1р"]
[null,null,null,46,"сонов инал инусович","170404","1р",null,"КБР",null,"мо","ошхунов б. пченашев м.",46,null,null,null,"СОНОВ Инал Инусович","17.04.04, 1р","СКФО","Кбр, , МО",null,"Ошхунов Б. Пченашев М.",null,"СКФО","КБР",null,null,"СКФО",null,null,null,"сонов"," инал инусович","СОНОВ"," Инал Инусович","17","04","04","1р","1р"]
[null,null,null,66,"мешев руслан артурович","041203","1р",null,"КБР",null,"мо","карамышев с",66,null,null,null,"МЕШЕВ Руслан Артурович","04.12.03, 1р","СКФО","Кбр, , МО",null,"Карамышев С",null,"СКФО","КБР",null,null,"СКФО",null,null,null,"мешев"," руслан артурович","МЕШЕВ"," Руслан Артурович","04","12","03","1р","1р"]
[null,null,null,50,"хапай рэдэд капланович","071105","1р",null,"Р.Адыгея","теучежского","мо","хашханок а.к.",50,null,null,null,"ХАПАЙ Рэдэд Капланович","07.11.05, 1р","ЮФО","Р.Адыгея, Теучежского, МО",null,"Хашханок А.К.",null,"ЮФО","Р.Адыгея",null,null,"ЮФО",null,null,null,"хапай"," рэдэд капланович","ХАПАЙ"," Рэдэд Капланович","07","11","05","1р","1р"]
[null,null,null,55,"свинчуков александр павлович","040203","1р",null,"брянская","брянск","ЮР","венцене с.ю. партнов с.в.",55,null,null,null,"СВИНЧУКОВ Александр Павлович","04.02.03, 1р","ЦФО","Брянская, Брянск, ЮР",null,"Венцене С.Ю. Партнов С.В.",null,"ЦФО","брянская",null,null,"ЦФО",null,null,null,"свинчуков"," александр павлович","СВИНЧУКОВ"," Александр Павлович","04","02","03","1р","1р"]
[null,null,null,84,"хвостенко михаил александрович","091003","1р",null,"брянская","брянск","ЮР","терешок а.а.",84,null,null,null,"ХВОСТЕНКО Михаил Александрович","09.10.03, 1р","ЦФО","Брянская, Брянск, ЮР",null,"Терешок А.А.",null,"ЦФО","брянская",null,null,"ЦФО",null,null,null,"хвостенко"," михаил александрович","ХВОСТЕНКО"," Михаил Александрович","09","10","03","1р","1р"]
[null,null,null,42,"русу владислав лилианович","130505","1ю",null,"янао","ноябрьск","мо","паршкова е.и.",42,null,null,null,"РУСУ Владислав Лилианович","13.05.05, 1ю","УФО","Янао, Ноябрьск, МО",null,"Паршкова Е.И.",null,"УФО","янао",null,null,"УФО",null,null,null,"русу"," владислав лилианович","РУСУ"," Владислав Лилианович","13","05","05","1ю","1ю"]
[null,null,null,55,"багдасарян эдуард арменович","131003","1ю",null,"Ростовская","ростов-на-дону","ЦСКА","саакян к.с. Пантелеев е.а.",55,null,null,null,"БАГДАСАРЯН Эдуард Арменович","13.10.03, 1ю","ЮФО","Ростовская, Ростов-На-Дону, ЦСКА",null,"Саакян К.С. Пантелеев Е.А.",null,"ЮФО","Ростовская",null,null,"ЮФО",null,null,null,"багдасарян"," эдуард арменович","БАГДАСАРЯН"," Эдуард Арменович","13","10","03","1ю","1ю"]
[null,null,null,55,"цыганков денис владиславович","160604","1ю",null,"Ростовская","ростов-на-дону","мо","мкртумян г.т.",55,null,null,null,"ЦЫГАНКОВ Денис Владиславович","16.06.04, 1ю","ЮФО","Ростовская, Ростов-На-Дону, МО",null,"Мкртумян Г.Т.",null,"ЮФО","Ростовская",null,null,"ЮФО",null,null,null,"цыганков"," денис владиславович","ЦЫГАНКОВ"," Денис Владиславович","16","06","04","1ю","1ю"]
[null,null,null,55,"багдасарян эрик арменович","131003","1ю",null,"Ростовская","ростов-на-дону","мо","мкртумян г.т.",55,null,null,null,"БАГДАСАРЯН Эрик Арменович","13.10.03, 1ю","ЮФО","Ростовская, Ростов-На-Дону, МО",null,"Мкртумян Г.Т.",null,"ЮФО","Ростовская",null,null,"ЮФО",null,null,null,"багдасарян"," эрик арменович","БАГДАСАРЯН"," Эрик Арменович","13","10","03","1ю","1ю"]
[null,null,null,78,"амуршаев джалал мухаммадович","210904","1ю",null,"Ростовская","сальск","мо","цой в.в.",78,null,null,null,"АМУРШАЕВ Джалал Мухаммадович","21.09.04, 1ю","ЮФО","Ростовская, Сальск, МО",null,"Цой В.В.",null,"ЮФО","Ростовская",null,null,"ЮФО",null,null,null,"амуршаев"," джалал мухаммадович","АМУРШАЕВ"," Джалал Мухаммадович","21","09","04","1ю","1ю"]
[null,null,null,"84+","бабасев алексей валерьевич","300404","1ю",null,"Ростовская","ростов-на-дону","мо","пантелеев е.а. новикова о.м.","84+",null,null,null,"БАБАСЕВ Алексей Валерьевич","30.04.04, 1ю","ЮФО","Ростовская, Ростов-На-Дону, МО",null,"Пантелеев Е.А. Новикова О.М.",null,"ЮФО","Ростовская",null,null,"ЮФО",null,null,null,"бабасев"," алексей валерьевич","БАБАСЕВ"," Алексей Валерьевич","30","04","04","1ю","1ю"]
[null,null,null,55,"шалинский ростислав павлович","190304","1ю",null,"Ростовская","ростов-на-дону","мо","саакян к.с. Пантелеев е.а.",55,null,null,null,"ШАЛИНСКИЙ Ростислав Павлович","19.03.04, 1ю","ЮФО","Ростовская, Ростов-На-Дону, МО",null,"Саакян К.С. Пантелеев Е.А.",null,"ЮФО","Ростовская",null,null,"ЮФО",null,null,null,"шалинский"," ростислав павлович","ШАЛИНСКИЙ"," Ростислав Павлович","19","03","04","1ю","1ю"]
[null,null,null,50,"бабенко владислав евгеньевич","010903","1ю",null,"Ростовская","ростов-на-дону","мо","бабаков в.в. Петрова в.а.",50,null,null,null,"БАБЕНКО Владислав Евгеньевич","01.09.03, 1ю","ЮФО","Ростовская, Ростов-На-Дону, МО",null,"Бабаков В.В. Петрова В.А.",null,"ЮФО","Ростовская",null,null,"ЮФО",null,null,null,"бабенко"," владислав евгеньевич","БАБЕНКО"," Владислав Евгеньевич","01","09","03","1ю","1ю"]
[null,null,"ж",55,"бабенко ярослав евгеньевич","010903","1ю",null,"Ростовская","ростов-на-дону","мо","бабаков в.в. Петрова в.а.",55,null,null,null,"БАБЕНКО Ярослав Евгеньевич","01.09.03, 1ю","ЮФО","Ростовская, Ростов-На-Дону, МО",null,"Бабаков В.В. Петрова В.А.",null,"ЮФО","Ростовская",null,null,"ЮФО",null,null,null,"бабенко"," ярослав евгеньевич","БАБЕНКО"," Ярослав Евгеньевич","01","09","03","1ю","1ю"]
[null,null,"ж",72,"крупинин дмитрий вадимович","050704","1ю",null,"Ростовская","ростов-на-дону","мо","бабаков в.в. Петрова в.а.",72,null,null,null,"КРУПИНИН Дмитрий Вадимович","05.07.04, 1ю","ЮФО","Ростовская, Ростов-На-Дону, МО",null,"Бабаков В.В. Петрова В.А.",null,"ЮФО","Ростовская",null,null,"ЮФО",null,null,null,"крупинин"," дмитрий вадимович","КРУПИНИН"," Дмитрий Вадимович","05","07","04","1ю","1ю"]
[null,null,"ж",50,"сапрыкин владислав николаевич","251003","1р",null,"москва",null,null,"леонтьев ",50,null,null,null,"САПРЫКИН Владислав Николаевич","25.10.03, 1р","Москва","Москва, , ",null,"Леонтьев ",null,"Москва","москва",null,null,"Москва",null,null,null,"сапрыкин"," владислав николаевич","САПРЫКИН"," Владислав Николаевич","25","10","03","1р","1р"]
[null,null,"ж",50,"кебедов магомед русланович","170603","1р",null,"москва",null,"м","вашурин",50,null,null,null,"КЕБЕДОВ Магомед Русланович","17.06.03, 1р","Москва","Москва, , М",null,"Вашурин",null,"Москва","москва",null,null,"Москва",null,null,null,"кебедов"," магомед русланович","КЕБЕДОВ"," Магомед Русланович","17","06","03","1р","1р"]
[null,null,null,66,"исаев абубакар хаважиевич","010403","1р",null,"Чеченская",null,"МС","асанов в. Расуханов а.",66,null,null,null,"ИСАЕВ Абубакар Хаважиевич","01.04.03, 1р","СКФО","Чеченская, , МС",null,"Асанов В. Расуханов А.",null,"СКФО","Чеченская",null,null,"СКФО",null,null,null,"исаев"," абубакар хаважиевич","ИСАЕВ"," Абубакар Хаважиевич","01","04","03","1р","1р"]
[null,null,null,60,"кернер илья русланович","200503","1р",null,"москва","\"С-70\"","МС","Кузнецов С.В. Вашурин В.В.",60,null,null,null,"КЕРНЕР Илья Русланович","20.05.03, 1р","Москва","Москва, \"С-70\", МС",null,"Кузнецов С.В. Вашурин В.В.",null,"Москва","москва",null,null,"Москва",null,null,null,"кернер"," илья русланович","КЕРНЕР"," Илья Русланович","20","05","03","1р","1р"]
[null,null,null,84,"НАГИЕВ Турал Максим Оглы","150205","1ю",null,"москва",null,"МС","курбанов а.д. ",84,null,null,null,"НАГИЕВ Турал Максим Оглы","15.02.05, 1ю","Москва","Москва, , МС",null,"Курбанов А.Д. ",null,"Москва","москва",null,null,"Москва",null,null,null,"НАГИЕВ"," Турал Максим Оглы","НАГИЕВ"," Турал Максим Оглы","15","02","05","1ю","1ю"]
[null,null,null,84,"семенов илья александрович","110103","2р",null,"москва",null,"МС","зиатдинов р.а. иванов н.с.",84,null,null,null,"СЕМЕНОВ Илья Александрович","11.01.03, 2р","Москва","Москва, , МС",null,"Зиатдинов Р.А. Иванов Н.С.",null,"Москва","москва",null,null,"Москва",null,null,null,"семенов"," илья александрович","СЕМЕНОВ"," Илья Александрович","11","01","03","2р","2р"]
[null,null,null,60,"шеткин артем алексеевич","231003","кмс",null,"Московская","ммбу","мс","степанов и.м. нагулин а.в.",60,null,null,null,"ШЕТКИН Артем Алексеевич","23.10.03, КМС","ЦФО","Московская, Ммбу, МС",null,"Степанов И.М. Нагулин А.В.",null,"ЦФО","Московская",null,null,"ЦФО",null,null,null,"шеткин"," артем алексеевич","ШЕТКИН"," Артем Алексеевич","23","10","03","кмс","КМС"]
[null,null,null,60,"петрунин данил александрович","250703","1р",null,"Свердловская","екатеринбург","мс","юсупов а.б. рыбин р.в.",60,null,null,null,"ПЕТРУНИН Данил Александрович","25.07.03, 1р","УФО","Свердловская, Екатеринбург, МС",null,"Юсупов А.Б. Рыбин Р.В.",null,"УФО","Свердловская",null,null,"УФО",null,null,null,"петрунин"," данил александрович","ПЕТРУНИН"," Данил Александрович","25","07","03","1р","1р"]
[null,null,null,66,"яковлев иван иванович","030503","1р",null,"Свердловская","ачит","мо","минниахметов а.с. Коростылев а.б.",66,null,null,null,"ЯКОВЛЕВ Иван Иванович","03.05.03, 1р","УФО","Свердловская, Ачит, МО",null,"Минниахметов А.С. Коростылев А.Б.",null,"УФО","Свердловская",null,null,"УФО",null,null,null,"яковлев"," иван иванович","ЯКОВЛЕВ"," Иван Иванович","03","05","03","1р","1р"]
[null,null,null,null,"гамзатов алим гаджиевич","190204","1р",null,"Ставропольский","ставрополь","мс","нурбагандов м.н.",0,null,null,null,"ГАМЗАТОВ Алим Гаджиевич","19.02.04, 1р","СКФО","Ставропольский, Ставрополь, МС",null,"Нурбагандов М.Н.",null,"СКФО","Ставропольский",null,null,"СКФО",null,null,null,"гамзатов"," алим гаджиевич","ГАМЗАТОВ"," Алим Гаджиевич","19","02","04","1р","1р"]
[null,null,null,"84+","пухаев захар васильевич","20.09.03","кмс",null,"РСО-Алания",null,"мс","швецов а.а.","84+",null,null,null,"ПУХАЕВ Захар Васильевич","20..0.9., КМС","СКФО","Рсо-Алания, , МС",null,"Швецов А.А.",null,"СКФО","РСО-Алания",null,null,"СКФО",null,null,null,"пухаев"," захар васильевич","ПУХАЕВ"," Захар Васильевич","20",".0","9.","кмс","КМС"]
[null,null,null,72,"тюхлов иван дмитриевич","250203","кмс",null,"Московская","можайск","мо","нагулин в.а.",72,null,null,null,"ТЮХЛОВ Иван Дмитриевич","25.02.03, КМС","ЦФО","Московская, Можайск, МО",null,"Нагулин В.А.",null,"ЦФО","Московская",null,null,"ЦФО",null,null,null,"тюхлов"," иван дмитриевич","ТЮХЛОВ"," Иван Дмитриевич","25","02","03","кмс","КМС"]
[null,null,null,null,"Грушковский Игорь Николаевич",null,null,null,null,null,null,"бородин в.г. Горобец р.ф.",0,null,null,null,"ГРУШКОВСКИЙ Игорь Николаевич",".., 0",{"$error":"#N/A"},", , ",null,"Бородин В.Г. Горобец Р.Ф.",null,{"$error":"#N/A"},0,null,null,{"$error":"#N/A"},null,null,null,"Грушковский"," Игорь Николаевич","ГРУШКОВСКИЙ"," Игорь Николаевич","","","",0,0]
[null,null,null,null,"Ионидис Эрик Давидович",null,null,null,null,null,null,"бородин в.г. Горобец о.ф.",0,null,null,null,"ИОНИДИС Эрик Давидович",".., 0",{"$error":"#N/A"},", , ",null,"Бородин В.Г. Горобец О.Ф.",null,{"$error":"#N/A"},0,null,null,{"$error":"#N/A"},null,null,null,"Ионидис"," Эрик Давидович","ИОНИДИС"," Эрик Давидович","","","",0,0]
[null,null,null,null,"Колбасов Максим Игоревич",null,null,null,null,null,null,"бородин в.г. Горобец о.ф.",0,null,null,null,"КОЛБАСОВ Максим Игоревич",".., 0",{"$error":"#N/A"},", , ",null,"Бородин В.Г. Горобец О.Ф.",null,{"$error":"#N/A"},0,null,null,{"$error":"#N/A"},null,null,null,"Колбасов"," Максим Игоревич","КОЛБАСОВ"," Максим Игоревич","","","",0,0]
[null,null,null,null,"Роганьян Артем Русланович",null,null,null,null,null,null,"бородин в.г. Горобец о.ф.",0,null,null,null,"РОГАНЬЯН Артем Русланович",".., 0",{"$error":"#N/A"},", , ",null,"Бородин В.Г. Горобец О.Ф.",null,{"$error":"#N/A"},0,null,null,{"$error":"#N/A"},null,null,null,"Роганьян"," Артем Русланович","РОГАНЬЯН"," Артем Русланович","","","",0,0]
[null,null,null,null,"Торосян Артур Валерьевич",null,null,null,null,null,null,"бородин в.г. Горобец о.ф.",0,null,null,null,"ТОРОСЯН Артур Валерьевич",".., 0",{"$error":"#N/A"},", , ",null,"Бородин В.Г. Горобец О.Ф.",null,{"$error":"#N/A"},0,null,null,{"$error":"#N/A"},null,null,null,"Торосян"," Артур Валерьевич","ТОРОСЯН"," Артур Валерьевич","","","",0,0]
[null,null,null,null,"ПЕРЕГРИМОВ Александр Вячеславович",null,null,null,null,null,null,"бородин в.г. Горобец  .ф.",0,null,null,null,"ПЕРЕГРИМОВ Александр Вячеславович",".., 0",{"$error":"#N/A"},", , ",null,"Бородин В.Г. Горобец  .Ф.",null,{"$error":"#N/A"},0,null,null,{"$error":"#N/A"},null,null,null,"ПЕРЕГРИМОВ"," Александр Вячеславович","ПЕРЕГРИМОВ"," Александр Вячеславович","","","",0,0]
[null,null,null,null,"ГАСЫМОВ Аслан Сеймур Оглы",null,null,null,null,null,null,null,0,null,null,null,"ГАСЫМОВ Аслан Сеймур Оглы",".., 0",{"$error":"#N/A"},", , ",null,"",null,{"$error":"#N/A"},0,null,null,{"$error":"#N/A"},null,null,null,"ГАСЫМОВ"," Аслан Сеймур Оглы","ГАСЫМОВ"," Аслан Сеймур Оглы","","","",0,0]
[null,null,null,null,"Зубков Егор Михайлович",null,null,null,null,null,null,"бородин в.г. Горобец у.ф.",0,null,null,null,"ЗУБКОВ Егор Михайлович",".., 0",{"$error":"#N/A"},", , ",null,"Бородин В.Г. Горобец У.Ф.",null,{"$error":"#N/A"},0,null,null,{"$error":"#N/A"},null,null,null,"Зубков"," Егор Михайлович","ЗУБКОВ"," Егор Михайлович","","","",0,0]
[null,null,null,null,"КОМОЛОВ Алексей Александрович",null,null,null,null,null,null,"бородин в.г. Горобец  .ф.",0,null,null,null,"КОМОЛОВ Алексей Александрович",".., 0",{"$error":"#N/A"},", , ",null,"Бородин В.Г. Горобец  .Ф.",null,{"$error":"#N/A"},0,null,null,{"$error":"#N/A"},null,null,null,"КОМОЛОВ"," Алексей Александрович","КОМОЛОВ"," Алексей Александрович","","","",0,0]
[null,null,null,null,"МАЕРОВ Кирилл Анатольевич",null,null,null,null,null,null,"бородин в.г. Горобец  .ф.",0,null,null,null,"МАЕРОВ Кирилл Анатольевич",".., 0",{"$error":"#N/A"},", , ",null,"Бородин В.Г. Горобец  .Ф.",null,{"$error":"#N/A"},0,null,null,{"$error":"#N/A"},null,null,null,"МАЕРОВ"," Кирилл Анатольевич","МАЕРОВ"," Кирилл Анатольевич","","","",0,0]
[null,null,null,null,"СОЛОВЬЁВ Артем Сергеевич",null,null,null,null,null,null,"бородин в.г. Горобец  .ф.",0,null,null,null,"СОЛОВЬЁВ Артем Сергеевич",".., 0",{"$error":"#N/A"},", , ",null,"Бородин В.Г. Горобец  .Ф.",null,{"$error":"#N/A"},0,null,null,{"$error":"#N/A"},null,null,null,"СОЛОВЬЁВ"," Артем Сергеевич","СОЛОВЬЁВ"," Артем Сергеевич","","","",0,0]
[null,null,null,null,"ХАМЕТООВ Абдужалил Джамбулатович",null,null,null,null,null,null,"бородин в.г. Горобец  .ф.",0,null,null,null,"ХАМЕТООВ Абдужалил Джамбулатович",".., 0",{"$error":"#N/A"},", , ",null,"Бородин В.Г. Горобец  .Ф.",null,{"$error":"#N/A"},0,null,null,{"$error":"#N/A"},null,null,null,"ХАМЕТООВ"," Абдужалил Джамбулатович","ХАМЕТООВ"," Абдужалил Джамбулатович","","","",0,0]
[null,null,null,null,"ЛИТВИНОВ Роман Валерьевич",null,null,null,null,null,null,"бородин в.г. Горобец  .ф.",0,null,null,null,"ЛИТВИНОВ Роман Валерьевич",".., 0",{"$error":"#N/A"},", , ",null,"Бородин В.Г. Горобец  .Ф.",null,{"$error":"#N/A"},0,null,null,{"$error":"#N/A"},null,null,null,"ЛИТВИНОВ"," Роман Валерьевич","ЛИТВИНОВ"," Роман Валерьевич","","","",0,0]
[null,null,null,null,"Шамшин Егор Алексеевич",null,null,null,null,null,null,"бородин в.г. Горобец а.ф.",0,null,null,null,"ШАМШИН Егор Алексеевич",".., 0",{"$error":"#N/A"},", , ",null,"Бородин В.Г. Горобец А.Ф.",null,{"$error":"#N/A"},0,null,null,{"$error":"#N/A"},null,null,null,"Шамшин"," Егор Алексеевич","ШАМШИН"," Егор Алексеевич","","","",0,0]
[null,null,null,null,"ФАРАФОНОВ Илья Константинович",null,null,null,null,null,null,"бородин в.г. Горобец  .ф.",0,null,null,null,"ФАРАФОНОВ Илья Константинович",".., 0",{"$error":"#N/A"},", , ",null,"Бородин В.Г. Горобец  .Ф.",null,{"$error":"#N/A"},0,null,null,{"$error":"#N/A"},null,null,null,"ФАРАФОНОВ"," Илья Константинович","ФАРАФОНОВ"," Илья Константинович","","","",0,0]
[null,null,null,null,"ЩЕНИКОВ Никита Дмитриевич",null,null,null,null,null,null,"бородин в.г. Горобец  .ф.",0,null,null,null,"ЩЕНИКОВ Никита Дмитриевич",".., 0",{"$error":"#N/A"},", , ",null,"Бородин В.Г. Горобец  .Ф.",null,{"$error":"#N/A"},0,null,null,{"$error":"#N/A"},null,null,null,"ЩЕНИКОВ"," Никита Дмитриевич","ЩЕНИКОВ"," Никита Дмитриевич","","","",0,0]
[null,null,null,null,"ИБРАГИМОВ Амин Азерович",null,null,null,null,null,null,"бородин в.г. Горобец  .ф.",0,null,null,null,"ИБРАГИМОВ Амин Азерович",".., 0",{"$error":"#N/A"},", , ",null,"Бородин В.Г. Горобец  .Ф.",null,{"$error":"#N/A"},0,null,null,{"$error":"#N/A"},null,null,null,"ИБРАГИМОВ"," Амин Азерович","ИБРАГИМОВ"," Амин Азерович","","","",0,0]
[null,null,null,null,"ДИДЕНКО Ярослав Алексеевич",null,null,null,null,null,null,"бородин в.г. Горобец  .ф.",0,null,null,null,"ДИДЕНКО Ярослав Алексеевич",".., 0",{"$error":"#N/A"},", , ",null,"Бородин В.Г. Горобец  .Ф.",null,{"$error":"#N/A"},0,null,null,{"$error":"#N/A"},null,null,null,"ДИДЕНКО"," Ярослав Алексеевич","ДИДЕНКО"," Ярослав Алексеевич","","","",0,0]
[null,null,null,null,"СЕРОВ Егор Евгеньевич",null,null,null,null,null,null,"бородин в.г. Горобец  .ф.",0,null,null,null,"СЕРОВ Егор Евгеньевич",".., 0",{"$error":"#N/A"},", , ",null,"Бородин В.Г. Горобец  .Ф.",null,{"$error":"#N/A"},0,null,null,{"$error":"#N/A"},null,null,null,"СЕРОВ"," Егор Евгеньевич","СЕРОВ"," Егор Евгеньевич","","","",0,0]
[null,null,null,null,"Выскребенцев Семен Евгеньевич",null,null,null,null,null,null,"бородин в.г. Горобец ы.ф.",0,null,null,null,"ВЫСКРЕБЕНЦЕВ Семен Евгеньевич",".., 0",{"$error":"#N/A"},", , ",null,"Бородин В.Г. Горобец Ы.Ф.",null,{"$error":"#N/A"},0,null,null,{"$error":"#N/A"},null,null,null,"Выскребенцев"," Семен Евгеньевич","ВЫСКРЕБЕНЦЕВ"," Семен Евгеньевич","","","",0,0]
[null,null,null,null,"РОМАНОВ Иван Геннадьевич",null,null,null,null,null,null,"бородин в.г. Горобец  .ф.",0,null,null,null,"РОМАНОВ Иван Геннадьевич",".., 0",{"$error":"#N/A"},", , ",null,"Бородин В.Г. Горобец  .Ф.",null,{"$error":"#N/A"},0,null,null,{"$error":"#N/A"},null,null,null,"РОМАНОВ"," Иван Геннадьевич","РОМАНОВ"," Иван Геннадьевич","","","",0,0]
[null,null,null,null,"ИБРАГИМОВ Артур Русланович",null,null,null,null,null,null,"бородин в.г. Горобец  .ф.",0,null,null,null,"ИБРАГИМОВ Артур Русланович",".., 0",{"$f":"AB264","v":{"$error":"#N/A"}},", , ",null,"Бородин В.Г. Горобец  .Ф.",null,{"$f":"VLOOKUP(Y264,Y$7:AA$94,3,FALSE)","v":{"$error":"#N/A"}},{"$f":"I264","v":0},null,null,{"$f":"X264","v":{"$error":"#N/A"}},null,null,null,{"$f":"IFERROR(LEFT(E264,FIND(\" \",E264)-1),E264)","v":"ИБРАГИМОВ"},{"$f":"MID(E264,FIND(\" \",E264)*1,27)","v":" Артур Русланович"},{"$f":"UPPER(AF264)","v":"ИБРАГИМОВ"},{"$f":"PROPER(AG264)","v":" Артур Русланович"},{"$f":"MID($F264,FIND(\"\",$F264)*1,2)","v":""},{"$f":"MID($F264,FIND(\"\",$F264)*3,2)","v":""},{"$f":"MID($F264,FIND(\"\",$F264)*5,2)","v":""},{"$f":"G264","v":0},{"$f":"IF(AM264=\"кмс\",AM$2,IF(AM264=\"мс\",AN$2,IF(AM264=\"мсмк\",AO$2,IF(AM264=\"змс\",AP$2,AM264))))","v":0}]
[null,null,null,null,"ДАНИЛИШИН Владимир Дмитриевич",null,null,null,null,null,null,"бородин в.г. Горобец  .ф.",0,null,null,null,"ДАНИЛИШИН Владимир Дмитриевич",".., 0",{"$error":"#N/A"},", , ",null,"Бородин В.Г. Горобец  .Ф.",null,{"$error":"#N/A"},0,null,null,{"$error":"#N/A"},null,null,null,"ДАНИЛИШИН"," Владимир Дмитриевич","ДАНИЛИШИН"," Владимир Дмитриевич","","","",0,0]
[null,null,null,null,"Тагиев Низами Низами Оглы",null,null,null,null,null,null,"погосян в.г.",0,null,null,null,"ТАГИЕВ Низами Низами Оглы",".., 0",{"$error":"#N/A"},", , ",null,"Погосян В.Г.",null,{"$error":"#N/A"},0,null,null,{"$error":"#N/A"},null,null,null,"Тагиев"," Низами Низами Оглы","ТАГИЕВ"," Низами Низами Оглы","","","",0,0]
[null,null,null,null,"Ятин Илья Алексеевич",null,null,null,null,null,null,"бородин в.г. Горобец т.ф.",0,null,null,null,"ЯТИН Илья Алексеевич",".., 0",{"$error":"#N/A"},", , ",null,"Бородин В.Г. Горобец Т.Ф.",null,{"$error":"#N/A"},0,null,null,{"$error":"#N/A"},null,null,null,"Ятин"," Илья Алексеевич","ЯТИН"," Илья Алексеевич","","","",0,0]
[null,null,0,null,"Дроздов Богдан Александрович",null,null,null,null,null,null,"бородин в.г. Горобец р.ф.",0,null,null,null,"ДРОЗДОВ Богдан Александрович",".., 0",{"$error":"#N/A"},", , ",null,"Бородин В.Г. Горобец Р.Ф.",null,{"$error":"#N/A"},0,null,null,{"$error":"#N/A"},null,null,null,"Дроздов"," Богдан Александрович","ДРОЗДОВ"," Богдан Александрович","","","",0,0]
[null,null,null,null,"Асланов Саид Шахбанович",null,null,null,null,null,null,"бородин в.г. Горобец с.ф.",0,null,null,null,"АСЛАНОВ Саид Шахбанович",".., 0",{"$error":"#N/A"},", , ",null,"Бородин В.Г. Горобец С.Ф.",null,{"$error":"#N/A"},0,null,null,{"$error":"#N/A"},null,null,null,"Асланов"," Саид Шахбанович","АСЛАНОВ"," Саид Шахбанович","","","",0,0]
[null,null,null,null,"Шанин Степан Алексеевич",null,null,null,null,null,null,"бородин в.г. Горобец а.ф.",0,null,null,null,"ШАНИН Степан Алексеевич",".., 0",{"$error":"#N/A"},", , ",null,"Бородин В.Г. Горобец А.Ф.",null,{"$error":"#N/A"},0,null,null,{"$error":"#N/A"},null,null,null,"Шанин"," Степан Алексеевич","ШАНИН"," Степан Алексеевич","","","",0,0]
[null,null,null,null,"СУТЯГИН Александр Андреевич",null,null,null,null,null,null,"бородин в.г. Горобец  .ф.",0,null,null,null,"СУТЯГИН Александр Андреевич",".., 0",{"$error":"#N/A"},", , ",null,"Бородин В.Г. Горобец  .Ф.",null,{"$error":"#N/A"},0,null,null,{"$error":"#N/A"},null,null,null,"СУТЯГИН"," Александр Андреевич","СУТЯГИН"," Александр Андреевич","","","",0,0]
[null,null,null,null,"Тагирбеков Махаммад Рамазанович",null,null,null,null,null,null,"бородин в.г. Горобец а.ф.",{"$f":"D272","v":0},null,null,null,{"$f":"CONCATENATE(AH272,AI272)","v":"ТАГИРБЕКОВ Махаммад Рамазанович"},{"$f":"CONCATENATE(AJ272,\".\",AK272,\".\",AL272,\",\",\" \",AN272)","v":".., 0"},{"$error":"#N/A"},{"$f":"CONCATENATE(PROPER(I272),\", \",PROPER(J272),\", \",UPPER(K272))","v":", , "},null,{"$f":"PROPER(L272)","v":"Бородин В.Г. Горобец А.Ф."},null,{"$error":"#N/A"},0,null,null,{"$error":"#N/A"},null,null,null,"Тагирбеков"," Махаммад Рамазанович","ТАГИРБЕКОВ"," Махаммад Рамазанович","","","",0,0]
[null,null,null,null,"Коберник Дмитрий Сергеевич",null,null,null,null,null,null,"бородин в.г. Горобец о.ф.",0,null,null,null,"КОБЕРНИК Дмитрий Сергеевич",".., 0",{"$error":"#N/A"},", , ",null,"Бородин В.Г. Горобец О.Ф.",null,{"$error":"#N/A"},0,null,null,{"$error":"#N/A"},null,null,null,"Коберник"," Дмитрий Сергеевич","КОБЕРНИК"," Дмитрий Сергеевич","","","",0,0]
[null,null,null,null,"ГИЛЬФАНОВ Адель Ильсурович",null,null,null,null,null,null,"бородин в.г. Горобец  .ф.",0,null,null,null,"ГИЛЬФАНОВ Адель Ильсурович",".., 0",{"$error":"#N/A"},", , ",null,"Бородин В.Г. Горобец  .Ф.",null,{"$error":"#N/A"},0,null,null,{"$error":"#N/A"},null,null,null,"ГИЛЬФАНОВ"," Адель Ильсурович","ГИЛЬФАНОВ"," Адель Ильсурович","","","",0,0]
[null,null,null,null,"БИЙСОЛТАНОВ Шамиль Бийсолтанович",null,null,null,null,null,null,"бородин в.г. Горобец  .ф.",0,null,null,null,"БИЙСОЛТАНОВ Шамиль Бийсолтанович",".., 0",{"$error":"#N/A"},", , ",null,"Бородин В.Г. Горобец  .Ф.",null,{"$error":"#N/A"},0,null,null,{"$error":"#N/A"},null,null,null,"БИЙСОЛТАНОВ"," Шамиль Бийсолтанович","БИЙСОЛТАНОВ"," Шамиль Бийсолтанович","","","",0,0]
[null,null,null,null,"ЯКОВЛЕВ Сергей Станиславович",null,null,null,null,null,null,"бородин в.г. Горобец  .ф.",0,null,null,null,"ЯКОВЛЕВ Сергей Станиславович",".., 0",{"$error":"#N/A"},", , ",null,"Бородин В.Г. Горобец  .Ф.",null,{"$error":"#N/A"},0,null,null,{"$error":"#N/A"},null,null,null,"ЯКОВЛЕВ"," Сергей Станиславович","ЯКОВЛЕВ"," Сергей Станиславович","","","",0,0]
[null,null,null,null,"МОРОЗОВ Иван Александрович",null,null,null,null,null,null,"бородин в.г. Горобец  .ф.",0,null,null,null,"МОРОЗОВ Иван Александрович",".., 0",{"$error":"#N/A"},", , ",null,"Бородин В.Г. Горобец  .Ф.",null,{"$error":"#N/A"},0,null,null,{"$error":"#N/A"},null,null,null,"МОРОЗОВ"," Иван Александрович","МОРОЗОВ"," Иван Александрович","","","",0,0]
[null,null,null,null,"БОРОДКИН Владислав Владимирович",null,null,null,null,null,null,"бородин в.г. Горобец  .ф.",0,null,null,null,"БОРОДКИН Владислав Владимирович",".., 0",{"$error":"#N/A"},", , ",null,"Бородин В.Г. Горобец  .Ф.",null,{"$error":"#N/A"},0,null,null,{"$error":"#N/A"},null,null,null,"БОРОДКИН"," Владислав Владимирович","БОРОДКИН"," Владислав Владимирович","","","",0,0]
[null,null,null,null,"ШАОВ Кантемир Замирович",null,null,null,null,null,null,"бородин в.г. Горобец  .ф.",0,null,null,null,"ШАОВ Кантемир Замирович",".., 0",{"$error":"#N/A"},", , ",null,"Бородин В.Г. Горобец  .Ф.",null,{"$error":"#N/A"},0,null,null,{"$error":"#N/A"},null,null,null,"ШАОВ"," Кантемир Замирович","ШАОВ"," Кантемир Замирович","","","",0,0]
[null,null,null,null,"Нурджанян Давид Самвелович",null,null,null,null,null,null,"бородин в.г. Горобец у.ф.",0,null,null,null,"НУРДЖАНЯН Давид Самвелович",".., 0",{"$error":"#N/A"},", , ",null,"Бородин В.Г. Горобец У.Ф.",null,{"$error":"#N/A"},0,null,null,{"$error":"#N/A"},null,null,null,"Нурджанян"," Давид Самвелович","НУРДЖАНЯН"," Давид Самвелович","","","",0,0]
[null,null,null,null,"Подгерский Назар Витальевич",null,null,null,null,null,null,"бородин в.г. Горобец о.ф.",0,null,null,null,"ПОДГЕРСКИЙ Назар Витальевич",".., 0",{"$error":"#N/A"},", , ",null,"Бородин В.Г. Горобец О.Ф.",null,{"$error":"#N/A"},0,null,null,{"$error":"#N/A"},null,null,null,"Подгерский"," Назар Витальевич","ПОДГЕРСКИЙ"," Назар Витальевич","","","",0,0]
[null,null,null,null,"Соляник Олег Евгеньевич",null,null,null,null,null,null,"бородин в.г. Горобец о.ф.",0,null,null,null,"СОЛЯНИК Олег Евгеньевич",".., 0",{"$error":"#N/A"},", , ",null,"Бородин В.Г. Горобец О.Ф.",null,{"$error":"#N/A"},0,null,null,{"$error":"#N/A"},null,null,null,"Соляник"," Олег Евгеньевич","СОЛЯНИК"," Олег Евгеньевич","","","",0,0]
[null,null,null,null,"САДОМСКИЙ Илья Вадимович",null,null,null,null,null,null,"бородин в.г. Горобец  .ф.",0,null,null,null,"САДОМСКИЙ Илья Вадимович",".., 0",{"$error":"#N/A"},", , ",null,"Бородин В.Г. Горобец  .Ф.",null,{"$error":"#N/A"},0,null,null,{"$error":"#N/A"},null,null,null,"САДОМСКИЙ"," Илья Вадимович","САДОМСКИЙ"," Илья Вадимович","","","",0,0]
[null,null,null,null,"Бостанов Ренат Расулович",null,null,null,null,null,null,"бородин в.г. Горобец о.ф.",0,null,null,null,"БОСТАНОВ Ренат Расулович",".., 0",{"$error":"#N/A"},", , ",null,"Бородин В.Г. Горобец О.Ф.",null,{"$error":"#N/A"},0,null,null,{"$error":"#N/A"},null,null,null,"Бостанов"," Ренат Расулович","БОСТАНОВ"," Ренат Расулович","","","",0,0]
[null,null,null,null,"АВТАНДИЛЯН Давид Георгиевич",null,null,null,null,null,null,"бородин в.г. Горобец  .ф.",0,null,null,null,"АВТАНДИЛЯН Давид Георгиевич",".., 0",{"$error":"#N/A"},", , ",null,"Бородин В.Г. Горобец  .Ф.",null,{"$error":"#N/A"},0,null,null,{"$error":"#N/A"},null,null,null,"АВТАНДИЛЯН"," Давид Георгиевич","АВТАНДИЛЯН"," Давид Георгиевич","","","",0,0]
[null,null,null,null,"БАЙТУЕВ Рустам Алилович",null,null,null,null,null,null,"бородин в.г. Горобец  .ф.",0,null,null,null,"БАЙТУЕВ Рустам Алилович",".., 0",{"$error":"#N/A"},", , ",null,"Бородин В.Г. Горобец  .Ф.",null,{"$error":"#N/A"},0,null,null,{"$error":"#N/A"},null,null,null,"БАЙТУЕВ"," Рустам Алилович","БАЙТУЕВ"," Рустам Алилович","","","",0,0]
[null,null,null,null,"КАЗАКОВ Даниил Игоревич",null,null,null,null,null,null,"бородин в.г. Горобец  .ф.",0,null,null,null,"КАЗАКОВ Даниил Игоревич",".., 0",{"$error":"#N/A"},", , ",null,"Бородин В.Г. Горобец  .Ф.",null,{"$error":"#N/A"},0,null,null,{"$error":"#N/A"},null,null,null,"КАЗАКОВ"," Даниил Игоревич","КАЗАКОВ"," Даниил Игоревич","","","",0,0]
[null,null,null,null,"КОЛОВЕРДОВ Феликс Дмитриевич",null,null,null,null,null,null,"бородин в.г. Горобец  .ф.",0,null,null,null,"КОЛОВЕРДОВ Феликс Дмитриевич",".., 0",{"$error":"#N/A"},", , ",null,"Бородин В.Г. Горобец  .Ф.",null,{"$error":"#N/A"},0,null,null,{"$error":"#N/A"},null,null,null,"КОЛОВЕРДОВ"," Феликс Дмитриевич","КОЛОВЕРДОВ"," Феликс Дмитриевич","","","",0,0]
[null,null,null,null,"НАЗАРЫЧЕВ Алексей Константинович",null,null,null,null,null,null,"бородин в.г. Горобец  .ф.",0,null,null,null,"НАЗАРЫЧЕВ Алексей Константинович",".., 0",{"$error":"#N/A"},", , ",null,"Бородин В.Г. Горобец  .Ф.",null,{"$error":"#N/A"},0,null,null,{"$error":"#N/A"},null,null,null,"НАЗАРЫЧЕВ"," Алексей Константинович","НАЗАРЫЧЕВ"," Алексей Константинович","","","",0,0]
[null,null,null,null,"Рыжанов Артём Сергеевич",null,null,null,null,null,null,"бородин в.г. Горобец ы.ф.",0,null,null,null,"РЫЖАНОВ Артём Сергеевич",".., 0",{"$error":"#N/A"},", , ",null,"Бородин В.Г. Горобец Ы.Ф.",null,{"$error":"#N/A"},0,null,null,{"$error":"#N/A"},null,null,null,"Рыжанов"," Артём Сергеевич","РЫЖАНОВ"," Артём Сергеевич","","","",0,0]
[null,null,null,null,"СОСНОВСКИЙ Семён Николаевич",null,null,null,null,null,null,"бородин в.г. Горобец  .ф.",0,null,null,null,"СОСНОВСКИЙ Семён Николаевич",".., 0",{"$error":"#N/A"},", , ",null,"Бородин В.Г. Горобец  .Ф.",null,{"$error":"#N/A"},0,null,null,{"$error":"#N/A"},null,null,null,"СОСНОВСКИЙ"," Семён Николаевич","СОСНОВСКИЙ"," Семён Николаевич","","","",0,0]
[null,null,null,null,"Ефанов Артём Анатольевич",null,null,null,null,null,null,"бородин в.г. Горобец ф.ф.",0,null,null,null,"ЕФАНОВ Артём Анатольевич",".., 0",{"$error":"#N/A"},", , ",null,"Бородин В.Г. Горобец Ф.Ф.",null,{"$error":"#N/A"},0,null,null,{"$error":"#N/A"},null,null,null,"Ефанов"," Артём Анатольевич","ЕФАНОВ"," Артём Анатольевич","","","",0,0]
[null,null,null,null,"БОЛЬШУХИН Марк Игоревич",null,null,null,null,null,null,"бородин в.г. Горобец  .ф.",0,null,null,null,"БОЛЬШУХИН Марк Игоревич",".., 0",{"$error":"#N/A"},", , ",null,"Бородин В.Г. Горобец  .Ф.",null,{"$error":"#N/A"},0,null,null,{"$error":"#N/A"},null,null,null,"БОЛЬШУХИН"," Марк Игоревич","БОЛЬШУХИН"," Марк Игоревич","","","",0,0]
[null,null,null,null,"гришин евгений олегович",null,null,null,null,null,null,"погосян в.г.",0,null,null,null,"ГРИШИН Евгений Олегович",".., 0",{"$error":"#N/A"},", , ",null,"Погосян В.Г.",null,{"$error":"#N/A"},0,null,null,{"$error":"#N/A"},null,null,null,"гришин"," евгений олегович","ГРИШИН"," Евгений Олегович","","","",0,0]
[null,null,null,null,"СЕМЕНОВ Богдан Витальевич",null,null,null,null,null,null,"бородин в.г. Горобец  .ф.",0,null,null,null,"СЕМЕНОВ Богдан Витальевич",".., 0",{"$error":"#N/A"},", , ",null,"Бородин В.Г. Горобец  .Ф.",null,{"$error":"#N/A"},0,null,null,{"$error":"#N/A"},null,null,null,"СЕМЕНОВ"," Богдан Витальевич","СЕМЕНОВ"," Богдан Витальевич","","","",0,0]
[null,null,null,null,"Джалалов Зейнал Хаким - оглы",null,null,null,null,null,null,"бородин в.г. Горобец ж.ф.",0,null,null,null,"ДЖАЛАЛОВ Зейнал Хаким - Оглы",".., 0",{"$error":"#N/A"},", , ",null,"Бородин В.Г. Горобец Ж.Ф.",null,{"$error":"#N/A"},0,null,null,{"$error":"#N/A"},null,null,null,"Джалалов"," Зейнал Хаким - оглы","ДЖАЛАЛОВ"," Зейнал Хаким - Оглы","","","",0,0]
[null,null,null,null,"БУБНОВСКИЙ Яромир Андреевич",null,null,null,null,null,null,"бородин в.г. Горобец  .ф.",0,null,null,null,"БУБНОВСКИЙ Яромир Андреевич",".., 0",{"$error":"#N/A"},", , ",null,"Бородин В.Г. Горобец  .Ф.",null,{"$error":"#N/A"},0,null,null,{"$error":"#N/A"},null,null,null,"БУБНОВСКИЙ"," Яромир Андреевич","БУБНОВСКИЙ"," Яромир Андреевич","","","",0,0]
[null,null,null,null,"МИРОШНИЧЕНКО Владислав Вадимович",null,null,null,null,null,null,"бородин в.г. Горобец  .ф.",0,null,null,null,"МИРОШНИЧЕНКО Владислав Вадимович",".., 0",{"$error":"#N/A"},", , ",null,"Бородин В.Г. Горобец  .Ф.",null,{"$error":"#N/A"},0,null,null,{"$error":"#N/A"},null,null,null,"МИРОШНИЧЕНКО"," Владислав Вадимович","МИРОШНИЧЕНКО"," Владислав Вадимович","","","",0,0]
[null,null,null,null,"Бадмаев Эрдни Константинович",null,null,null,null,null,null,"бородин в.г. Горобец а.ф.",0,null,null,null,"БАДМАЕВ Эрдни Константинович",".., 0",{"$error":"#N/A"},", , ",null,"Бородин В.Г. Горобец А.Ф.",null,{"$error":"#N/A"},0,null,null,{"$error":"#N/A"},null,null,null,"Бадмаев"," Эрдни Константинович","БАДМАЕВ"," Эрдни Константинович","","","",0,0]
[null,null,null,null,"МИХАЛЬЧУК Иван Дмитриевич",null,null,null,null,null,null,"бородин в.г. Горобец  .ф.",0,null,null,null,"МИХАЛЬЧУК Иван Дмитриевич",".., 0",{"$error":"#N/A"},", , ",null,"Бородин В.Г. Горобец  .Ф.",null,{"$error":"#N/A"},0,null,null,{"$error":"#N/A"},null,null,null,"МИХАЛЬЧУК"," Иван Дмитриевич","МИХАЛЬЧУК"," Иван Дмитриевич","","","",0,0]
[null,null,null,null,"Горячев Кирилл Ильич",null,null,null,null,null,null,"бородин в.г. Горобец о.ф.",0,null,null,null,"ГОРЯЧЕВ Кирилл Ильич",".., 0",{"$error":"#N/A"},", , ",null,"Бородин В.Г. Горобец О.Ф.",null,{"$error":"#N/A"},0,null,null,{"$error":"#N/A"},null,null,null,"Горячев"," Кирилл Ильич","ГОРЯЧЕВ"," Кирилл Ильич","","","",0,0]
[null,null,null,null,"Шелковников Кирилл Александрович",null,null,null,null,null,null,"бородин в.г. Горобец е.ф.",0,null,null,null,"ШЕЛКОВНИКОВ Кирилл Александрович",".., 0",{"$error":"#N/A"},", , ",null,"Бородин В.Г. Горобец Е.Ф.",null,{"$error":"#N/A"},0,null,null,{"$error":"#N/A"},null,null,null,"Шелковников"," Кирилл Александрович","ШЕЛКОВНИКОВ"," Кирилл Александрович","","","",0,0]
[null,null,null,null,"Трушко Сергей Андреевич",null,null,null,null,null,null,"бородин в.г. Горобец р.ф.",0,null,null,null,"ТРУШКО Сергей Андреевич",".., 0",{"$error":"#N/A"},", , ",null,"Бородин В.Г. Горобец Р.Ф.",null,{"$error":"#N/A"},0,null,null,{"$error":"#N/A"},null,null,null,"Трушко"," Сергей Андреевич","ТРУШКО"," Сергей Андреевич","","","",0,0]
[null,null,null,null,"Сторожев Данила Валерьевич",null,null,null,null,null,null,"бородин в.г. Горобец т.ф.",0,null,null,null,"СТОРОЖЕВ Данила Валерьевич",".., 0",{"$error":"#N/A"},", , ",null,"Бородин В.Г. Горобец Т.Ф.",null,{"$error":"#N/A"},0,null,null,{"$error":"#N/A"},null,null,null,"Сторожев"," Данила Валерьевич","СТОРОЖЕВ"," Данила Валерьевич","","","",0,0]
[null,null,null,null,"ГОЛОДНОВ Денис Антонович",null,null,null,null,null,null,"бородин в.г. Горобец  .ф.",0,null,null,null,"ГОЛОДНОВ Денис Антонович",".., 0",{"$error":"#N/A"},", , ",null,"Бородин В.Г. Горобец  .Ф.",null,{"$error":"#N/A"},0,null,null,{"$error":"#N/A"},null,null,null,"ГОЛОДНОВ"," Денис Антонович","ГОЛОДНОВ"," Денис Антонович","","","",0,0]
[null,null,null,null,"Тагирбеков Мухаммад Рамазанович",null,null,null,null,null,null,"бородин в.г. Горобец а.ф.",0,null,null,null,"ТАГИРБЕКОВ Мухаммад Рамазанович",".., 0",{"$error":"#N/A"},", , ",null,"Бородин В.Г. Горобец А.Ф.",null,{"$error":"#N/A"},0,null,null,{"$error":"#N/A"},null,null,null,"Тагирбеков"," Мухаммад Рамазанович","ТАГИРБЕКОВ"," Мухаммад Рамазанович","","","",0,0]
[null,null,null,null,"Долаев Тимур Магометович",null,null,null,null,null,null,"бородин в.г. Горобец о.ф.",0,null,null,null,"ДОЛАЕВ Тимур Магометович",".., 0",{"$error":"#N/A"},", , ",null,"Бородин В.Г. Горобец О.Ф.",null,{"$error":"#N/A"},0,null,null,{"$error":"#N/A"},null,null,null,"Долаев"," Тимур Магометович","ДОЛАЕВ"," Тимур Магометович","","","",0,0]
[null,null,null,null,"Могилевич Назар Владимирович",null,null,null,null,null,null,"бородин в.г. Горобец о.ф.",0,null,null,null,"МОГИЛЕВИЧ Назар Владимирович",".., 0",{"$error":"#N/A"},", , ",null,"Бородин В.Г. Горобец О.Ф.",null,{"$error":"#N/A"},0,null,null,{"$error":"#N/A"},null,null,null,"Могилевич"," Назар Владимирович","МОГИЛЕВИЧ"," Назар Владимирович","","","",0,0]
[null,null,null,null,"Спесивцев Роман Денисович",null,null,null,null,null,null,"бородин в.г. Горобец п.ф.",0,null,null,null,"СПЕСИВЦЕВ Роман Денисович",".., 0",{"$error":"#N/A"},", , ",null,"Бородин В.Г. Горобец П.Ф.",null,{"$error":"#N/A"},0,null,null,{"$error":"#N/A"},null,null,null,"Спесивцев"," Роман Денисович","СПЕСИВЦЕВ"," Роман Денисович","","","",0,0]
["д",null,null,null,"КОТИК Алексей Сергеевич",null,null,null,null,null,null,"бородин в.г. Горобец  .ф.",0,null,null,null,"КОТИК Алексей Сергеевич",".., 0",{"$error":"#N/A"},", , ",null,"Бородин В.Г. Горобец  .Ф.",null,{"$error":"#N/A"},0,null,null,{"$error":"#N/A"},null,null,null,"КОТИК"," Алексей Сергеевич","КОТИК"," Алексей Сергеевич","","","",0,0]
[null,null,null,null,"АЛХАСОВ Ислам Асхабович",null,null,null,null,null,null,"бородин в.г. Горобец  .ф.",0,null,null,null,"АЛХАСОВ Ислам Асхабович",".., 0",{"$error":"#N/A"},", , ",null,"Бородин В.Г. Горобец  .Ф.",null,{"$error":"#N/A"},0,null,null,{"$error":"#N/A"},null,null,null,"АЛХАСОВ"," Ислам Асхабович","АЛХАСОВ"," Ислам Асхабович","","","",0,0]
["д",null,null,null,"АДАМЕНКО Никита Сергеевич",null,null,null,null,null,null,"бородин в.г. Горобец  .ф.",0,null,null,null,"АДАМЕНКО Никита Сергеевич",".., 0",{"$error":"#N/A"},", , ",null,"Бородин В.Г. Горобец  .Ф.",null,{"$error":"#N/A"},0,null,null,{"$error":"#N/A"},null,null,null,"АДАМЕНКО"," Никита Сергеевич","АДАМЕНКО"," Никита Сергеевич","","","",0,0]
[null,null,null,null,"МАВЛИКАЕВ Артур Альфизович",null,null,null,null,null,null,"бородин в.г. Горобец  .ф.",0,null,null,null,"МАВЛИКАЕВ Артур Альфизович",".., 0",{"$error":"#N/A"},", , ",null,"Бородин В.Г. Горобец  .Ф.",null,{"$error":"#N/A"},0,null,null,{"$error":"#N/A"},null,null,null,"МАВЛИКАЕВ"," Артур Альфизович","МАВЛИКАЕВ"," Артур Альфизович","","","",0,0]
["д",null,null,null,"МАМЕДОВ Нихат Ильхам Оглы",null,null,null,null,null,null,null,0,null,null,null,"МАМЕДОВ Нихат Ильхам Оглы",".., 0",{"$error":"#N/A"},", , ",null,"",null,{"$error":"#N/A"},0,null,null,{"$error":"#N/A"},null,null,null,"МАМЕДОВ"," Нихат Ильхам Оглы","МАМЕДОВ"," Нихат Ильхам Оглы","","","",0,0]
[null,null,null,null,"СКОМОРОХОВ Владислав Владимирович",null,null,null,null,null,null,"бородин в.г. Горобец  .ф.",0,null,null,null,"СКОМОРОХОВ Владислав Владимирович",".., 0",{"$error":"#N/A"},", , ",null,"Бородин В.Г. Горобец  .Ф.",null,{"$error":"#N/A"},0,null,null,{"$error":"#N/A"},null,null,null,"СКОМОРОХОВ"," Владислав Владимирович","СКОМОРОХОВ"," Владислав Владимирович","","","",0,0]
["д",null,null,null,"ГУЦУЛ Владислав Олегович",null,null,null,null,null,null,"бородин в.г. Горобец  .ф.",0,null,null,null,"ГУЦУЛ Владислав Олегович",".., 0",{"$error":"#N/A"},", , ",null,"Бородин В.Г. Горобец  .Ф.",null,{"$error":"#N/A"},0,null,null,{"$error":"#N/A"},null,null,null,"ГУЦУЛ"," Владислав Олегович","ГУЦУЛ"," Владислав Олегович","","","",0,0]
[null,null,null,null,"БУЛГАКОВ Алексей Александрович",null,null,null,null,null,null,"бородин в.г. Горобец  .ф.",0,null,null,null,"БУЛГАКОВ Алексей Александрович",".., 0",{"$error":"#N/A"},", , ",null,"Бородин В.Г. Горобец  .Ф.",null,{"$error":"#N/A"},0,null,null,{"$error":"#N/A"},null,null,null,"БУЛГАКОВ"," Алексей Александрович","БУЛГАКОВ"," Алексей Александрович","","","",0,0]
["д",null,null,null,"ФЕДУРОВ Иван Сергеевич",null,null,null,null,null,null,"бородин в.г. Горобец  .ф.",0,null,null,null,"ФЕДУРОВ Иван Сергеевич",".., 0",{"$error":"#N/A"},", , ",null,"Бородин В.Г. Горобец  .Ф.",null,{"$error":"#N/A"},0,null,null,{"$error":"#N/A"},null,null,null,"ФЕДУРОВ"," Иван Сергеевич","ФЕДУРОВ"," Иван Сергеевич","","","",0,0]
[null,null,null,null,"ЖУКОВ Иван Дмитриевич",null,null,null,null,null,null,"бородин в.г. Горобец  .ф.",0,null,null,null,"ЖУКОВ Иван Дмитриевич",".., 0",{"$error":"#N/A"},", , ",null,"Бородин В.Г. Горобец  .Ф.",null,{"$error":"#N/A"},0,null,null,{"$error":"#N/A"},null,null,null,"ЖУКОВ"," Иван Дмитриевич","ЖУКОВ"," Иван Дмитриевич","","","",0,0]
["д",null,null,null,"ЧЕРКАСОВ Данила Максимович",null,null,null,null,null,null,"бородин в.г. Горобец  .ф.",0,null,null,null,"ЧЕРКАСОВ Данила Максимович",".., 0",{"$error":"#N/A"},", , ",null,"Бородин В.Г. Горобец  .Ф.",null,{"$error":"#N/A"},0,null,null,{"$error":"#N/A"},null,null,null,"ЧЕРКАСОВ"," Данила Максимович","ЧЕРКАСОВ"," Данила Максимович","","","",0,0]
[null,null,null,null,"ГАЛКИН Андрей Александрович",null,null,null,null,null,null,"бородин в.г. Горобец  .ф.",0,null,null,null,"ГАЛКИН Андрей Александрович",".., 0",{"$error":"#N/A"},", , ",null,"Бородин В.Г. Горобец  .Ф.",null,{"$error":"#N/A"},0,null,null,{"$error":"#N/A"},null,null,null,"ГАЛКИН"," Андрей Александрович","ГАЛКИН"," Андрей Александрович","","","",0,0]
["д",null,null,null,"АРХИПОВ Петр Эдуардович",null,null,null,null,null,null,"бородин в.г. Горобец  .ф.",0,null,null,null,"АРХИПОВ Петр Эдуардович",".., 0",{"$error":"#N/A"},", , ",null,"Бородин В.Г. Горобец  .Ф.",null,{"$error":"#N/A"},0,null,null,{"$error":"#N/A"},null,null,null,"АРХИПОВ"," Петр Эдуардович","АРХИПОВ"," Петр Эдуардович","","","",0,0]
[null,null,null,null,"ФОМИН Денис Алексеевич",null,null,null,null,null,null,"бородин в.г. Горобец  .ф.",0,null,null,null,"ФОМИН Денис Алексеевич",".., 0",{"$error":"#N/A"},", , ",null,"Бородин В.Г. Горобец  .Ф.",null,{"$error":"#N/A"},0,null,null,{"$error":"#N/A"},null,null,null,"ФОМИН"," Денис Алексеевич","ФОМИН"," Денис Алексеевич","","","",0,0]
["д",null,null,null,"КОШУТИН Семён Алексеевич",null,null,null,null,null,null,"бородин в.г. Горобец  .ф.",0,null,null,null,"КОШУТИН Семён Алексеевич",".., 0",{"$error":"#N/A"},", , ",null,"Бородин В.Г. Горобец  .Ф.",null,{"$error":"#N/A"},0,null,null,{"$error":"#N/A"},null,null,null,"КОШУТИН"," Семён Алексеевич","КОШУТИН"," Семён Алексеевич","","","",0,0]
[null,null,null,null,"БУГАЕНКО Даниил Викторович",null,null,null,null,null,null,"бородин в.г. Горобец  .ф.",0,null,null,null,"БУГАЕНКО Даниил Викторович",".., 0",{"$error":"#N/A"},", , ",null,"Бородин В.Г. Горобец  .Ф.",null,{"$error":"#N/A"},0,null,null,{"$error":"#N/A"},null,null,null,"БУГАЕНКО"," Даниил Викторович","БУГАЕНКО"," Даниил Викторович","","","",0,0]
["д",null,null,null,"ХОТУЛЕВ Артем Андреевич",null,null,null,null,null,null,"бородин в.г. Горобец  .ф.",0,null,null,null,"ХОТУЛЕВ Артем Андреевич",".., 0",{"$error":"#N/A"},", , ",null,"Бородин В.Г. Горобец  .Ф.",null,{"$error":"#N/A"},0,null,null,{"$error":"#N/A"},null,null,null,"ХОТУЛЕВ"," Артем Андреевич","ХОТУЛЕВ"," Артем Андреевич","","","",0,0]
[null,null,null,null,"ПРОКОФЬЕВ Кирилл Сергеевич",null,null,null,null,null,null,"бородин в.г. Горобец  .ф.",0,null,null,null,"ПРОКОФЬЕВ Кирилл Сергеевич",".., 0",{"$error":"#N/A"},", , ",null,"Бородин В.Г. Горобец  .Ф.",null,{"$error":"#N/A"},0,null,null,{"$error":"#N/A"},null,null,null,"ПРОКОФЬЕВ"," Кирилл Сергеевич","ПРОКОФЬЕВ"," Кирилл Сергеевич","","","",0,0]
["д",null,null,null,"Варданян Григорий Артемович",null,null,null,null,null,null,"бородин в.г. Горобец а.ф.",0,null,null,null,"ВАРДАНЯН Григорий Артемович",".., 0",{"$f":"AB328","v":{"$error":"#N/A"}},", , ",null,"Бородин В.Г. Горобец А.Ф.",null,{"$f":"VLOOKUP(Y328,Y$7:AA$94,3,FALSE)","v":{"$error":"#N/A"}},{"$f":"I328","v":0},null,null,{"$f":"X328","v":{"$error":"#N/A"}},null,null,null,{"$f":"IFERROR(LEFT(E328,FIND(\" \",E328)-1),E328)","v":"Варданян"},{"$f":"MID(E328,FIND(\" \",E328)*1,27)","v":" Григорий Артемович"},{"$f":"UPPER(AF328)","v":"ВАРДАНЯН"},{"$f":"PROPER(AG328)","v":" Григорий Артемович"},{"$f":"MID($F328,FIND(\"\",$F328)*1,2)","v":""},{"$f":"MID($F328,FIND(\"\",$F328)*3,2)","v":""},{"$f":"MID($F328,FIND(\"\",$F328)*5,2)","v":""},{"$f":"G328","v":0},{"$f":"IF(AM328=\"кмс\",AM$2,IF(AM328=\"мс\",AN$2,IF(AM328=\"мсмк\",AO$2,IF(AM328=\"змс\",AP$2,AM328))))","v":0}]
[null,null,null,null,"Точинов Андрей Дмитриевич",null,null,null,null,null,null,"бородин в.г. Горобец о.ф.",0,null,null,null,"ТОЧИНОВ Андрей Дмитриевич",".., 0",{"$error":"#N/A"},", , ",null,"Бородин В.Г. Горобец О.Ф.",null,{"$error":"#N/A"},0,null,null,{"$error":"#N/A"},null,null,null,"Точинов"," Андрей Дмитриевич","ТОЧИНОВ"," Андрей Дмитриевич","","","",0,0]
[null,null,null,null,"БУГРОВ Даниил Игоревич",null,null,null,null,null,null,"бородин в.г. Горобец  .ф.",0,null,null,null,"БУГРОВ Даниил Игоревич",".., 0",{"$error":"#N/A"},", , ",null,"Бородин В.Г. Горобец  .Ф.",null,{"$error":"#N/A"},0,null,null,{"$error":"#N/A"},null,null,null,"БУГРОВ"," Даниил Игоревич","БУГРОВ"," Даниил Игоревич","","","",0,0]
[null,null,null,null,"ГЕРАСИМЕНКО Валерий Александрович",null,null,null,null,null,null,"бородин в.г. Горобец  .ф.",0,null,null,null,"ГЕРАСИМЕНКО Валерий Александрович",".., 0",{"$error":"#N/A"},", , ",null,"Бородин В.Г. Горобец  .Ф.",null,{"$error":"#N/A"},0,null,null,{"$error":"#N/A"},null,null,null,"ГЕРАСИМЕНКО"," Валерий Александрович","ГЕРАСИМЕНКО"," Валерий Александрович","","","",0,0]
[null,null,null,null,"ПАВЛЮЧЕНКОВ Иван Дмитриевич",null,null,null,null,null,null,"бородин в.г. Горобец  .ф.",0,null,null,null,"ПАВЛЮЧЕНКОВ Иван Дмитриевич",".., 0",{"$error":"#N/A"},", , ",null,"Бородин В.Г. Горобец  .Ф.",null,{"$error":"#N/A"},0,null,null,{"$error":"#N/A"},null,null,null,"ПАВЛЮЧЕНКОВ"," Иван Дмитриевич","ПАВЛЮЧЕНКОВ"," Иван Дмитриевич","","","",0,0]
[null,null,null,null,"ТАРУСОВ Семён Валерьевич",null,null,null,null,null,null,"бородин в.г. Горобец  .ф.",0,null,null,null,"ТАРУСОВ Семён Валерьевич",".., 0",{"$error":"#N/A"},", , ",null,"Бородин В.Г. Горобец  .Ф.",null,{"$error":"#N/A"},0,null,null,{"$error":"#N/A"},null,null,null,"ТАРУСОВ"," Семён Валерьевич","ТАРУСОВ"," Семён Валерьевич","","","",0,0]
[null,null,null,null,"ХАУСТОВ Дмитрий Владимирович",null,null,null,null,null,null,"бородин в.г. Горобец  .ф.",0,null,null,null,"ХАУСТОВ Дмитрий Владимирович",".., 0",{"$error":"#N/A"},", , ",null,"Бородин В.Г. Горобец  .Ф.",null,{"$error":"#N/A"},0,null,null,{"$error":"#N/A"},null,null,null,"ХАУСТОВ"," Дмитрий Владимирович","ХАУСТОВ"," Дмитрий Владимирович","","","",0,0]
[null,null,null,null,"Даев Данила Вячеславович",null,null,null,null,null,null,"бородин в.г. Горобец а.ф.",0,null,null,null,"ДАЕВ Данила Вячеславович",".., 0",{"$error":"#N/A"},", , ",null,"Бородин В.Г. Горобец А.Ф.",null,{"$error":"#N/A"},0,null,null,{"$error":"#N/A"},null,null,null,"Даев"," Данила Вячеславович","ДАЕВ"," Данила Вячеславович","","","",0,0]
[null,null,null,null,"Жилин Никита Вадимович",null,null,null,null,null,null,"бородин в.г. Горобец и.ф.",{"$f":"D336","v":0},null,null,null,{"$f":"CONCATENATE(AH336,AI336)","v":"ЖИЛИН Никита Вадимович"},{"$f":"CONCATENATE(AJ336,\".\",AK336,\".\",AL336,\",\",\" \",AN336)","v":".., 0"},{"$error":"#N/A"},{"$f":"CONCATENATE(PROPER(I336),\", \",PROPER(J336),\", \",UPPER(K336))","v":", , "},null,{"$f":"PROPER(L336)","v":"Бородин В.Г. Горобец И.Ф."},null,{"$error":"#N/A"},0,null,null,{"$error":"#N/A"},null,null,null,"Жилин"," Никита Вадимович","ЖИЛИН"," Никита Вадимович","","","",0,0]
[null,null,null,null,"ИСИН Марат Омбутаевич",null,null,null,null,null,null,"бородин в.г. Горобец  .ф.",0,null,null,null,"ИСИН Марат Омбутаевич",".., 0",{"$error":"#N/A"},", , ",null,"Бородин В.Г. Горобец  .Ф.",null,{"$error":"#N/A"},0,null,null,{"$error":"#N/A"},null,null,null,"ИСИН"," Марат Омбутаевич","ИСИН"," Марат Омбутаевич","","","",0,0]
[null,null,null,null,"ДЖУГУРЯН Агаси Жорович",null,null,null,null,null,null,"бородин в.г. Горобец  .ф.",0,null,null,null,"ДЖУГУРЯН Агаси Жорович",".., 0",{"$error":"#N/A"},", , ",null,"Бородин В.Г. Горобец  .Ф.",null,{"$error":"#N/A"},0,null,null,{"$error":"#N/A"},null,null,null,"ДЖУГУРЯН"," Агаси Жорович","ДЖУГУРЯН"," Агаси Жорович","","","",0,0]
[null,null,null,null,"ЯРЫГИН Андрей Владимирович",null,null,null,null,null,null,"бородин в.г. Горобец  .ф.",0,null,null,null,"ЯРЫГИН Андрей Владимирович",".., 0",{"$error":"#N/A"},", , ",null,"Бородин В.Г. Горобец  .Ф.",null,{"$error":"#N/A"},0,null,null,{"$error":"#N/A"},null,null,null,"ЯРЫГИН"," Андрей Владимирович","ЯРЫГИН"," Андрей Владимирович","","","",0,0]
[null,null,null,null,"Амирханов Расул Биймурзаевич",null,null,null,null,null,null,"бородин в.г. Горобец м.ф.",0,null,null,null,"АМИРХАНОВ Расул Биймурзаевич",".., 0",{"$error":"#N/A"},", , ",null,"Бородин В.Г. Горобец М.Ф.",null,{"$error":"#N/A"},0,null,null,{"$error":"#N/A"},null,null,null,"Амирханов"," Расул Биймурзаевич","АМИРХАНОВ"," Расул Биймурзаевич","","","",0,0]
[null,null,null,null,"Ибрагимов Магомед Исаевич",null,null,null,null,null,null,"бородин в.г. Горобец б.ф.",0,null,null,null,"ИБРАГИМОВ Магомед Исаевич",".., 0",{"$error":"#N/A"},", , ",null,"Бородин В.Г. Горобец Б.Ф.",null,{"$error":"#N/A"},0,null,null,{"$error":"#N/A"},null,null,null,"Ибрагимов"," Магомед Исаевич","ИБРАГИМОВ"," Магомед Исаевич","","","",0,0]
[null,null,null,null,"Умеров Радмир Наильевич",null,null,null,null,null,null,"бородин в.г. Горобец м.ф.",0,null,null,null,"УМЕРОВ Радмир Наильевич",".., 0",{"$error":"#N/A"},", , ",null,"Бородин В.Г. Горобец М.Ф.",null,{"$error":"#N/A"},0,null,null,{"$error":"#N/A"},null,null,null,"Умеров"," Радмир Наильевич","УМЕРОВ"," Радмир Наильевич","","","",0,0]
[null,null,null,null,"Курбанов Магомед Насруллаевич",null,null,null,null,null,null,"бородин в.г. Горобец у.ф.",0,null,null,null,"КУРБАНОВ Магомед Насруллаевич",".., 0",{"$error":"#N/A"},", , ",null,"Бородин В.Г. Горобец У.Ф.",null,{"$error":"#N/A"},0,null,null,{"$error":"#N/A"},null,null,null,"Курбанов"," Магомед Насруллаевич","КУРБАНОВ"," Магомед Насруллаевич","","","",0,0]
[null,null,null,null,"Двойников Захар Михайлович",null,null,null,null,null,null,"бородин в.г. Горобец в.ф.",0,null,null,null,"ДВОЙНИКОВ Захар Михайлович",".., 0",{"$error":"#N/A"},", , ",null,"Бородин В.Г. Горобец В.Ф.",null,{"$error":"#N/A"},0,null,null,{"$error":"#N/A"},null,null,null,"Двойников"," Захар Михайлович","ДВОЙНИКОВ"," Захар Михайлович","","","",0,0]
[null,null,null,null,"Живора Александр Федорович",null,null,null,null,null,null,"бородин в.г. Горобец и.ф.",0,null,null,null,"ЖИВОРА Александр Федорович",".., 0",{"$error":"#N/A"},", , ",null,"Бородин В.Г. Горобец И.Ф.",null,{"$error":"#N/A"},0,null,null,{"$error":"#N/A"},null,null,null,"Живора"," Александр Федорович","ЖИВОРА"," Александр Федорович","","","",0,0]
[null,null,null,null,"ПЕРЕКРАСОВ Олег Евгеньевич",null,null,null,null,null,null,"бородин в.г. Горобец  .ф.",0,null,null,null,"ПЕРЕКРАСОВ Олег Евгеньевич",".., 0",{"$error":"#N/A"},", , ",null,"Бородин В.Г. Горобец  .Ф.",null,{"$error":"#N/A"},0,null,null,{"$error":"#N/A"},null,null,null,"ПЕРЕКРАСОВ"," Олег Евгеньевич","ПЕРЕКРАСОВ"," Олег Евгеньевич","","","",0,0]
[null,null,null,null,"ЗАИКИН Илья Владимирович",null,null,null,null,null,null,"бородин в.г. Горобец  .ф.",0,null,null,null,"ЗАИКИН Илья Владимирович","2004, 1ю",{"$error":"#N/A"},", , ",null,"Бородин В.Г. Горобец  .Ф.",null,{"$error":"#N/A"},0,null,null,{"$error":"#N/A"},null,null,null,"ЗАИКИН"," Илья Владимирович","ЗАИКИН"," Илья Владимирович","","","",0,0]
[null,null,null,null,"ОВСЯННИКОВ Тимофей Сергеевич",null,null,null,null,null,null,"бородин в.г. Горобец  .ф.",0,null,null,null,"ОВСЯННИКОВ Тимофей Сергеевич","2004, 2ю",{"$error":"#N/A"},", , ",null,"Бородин В.Г. Горобец  .Ф.",null,{"$error":"#N/A"},0,null,null,{"$error":"#N/A"},null,null,null,"ОВСЯННИКОВ"," Тимофей Сергеевич","ОВСЯННИКОВ"," Тимофей Сергеевич","","","",0,0]
[null,null,null,null,"КНЯЗЕВ Егор Андреевич",null,null,null,null,null,null,"бородин в.г. Горобец  .ф.",0,null,null,null,"КНЯЗЕВ Егор Андреевич","2006, 3ю",{"$error":"#N/A"},", , ",null,"Бородин В.Г. Горобец  .Ф.",null,{"$error":"#N/A"},0,null,null,{"$error":"#N/A"},null,null,null,"КНЯЗЕВ"," Егор Андреевич","КНЯЗЕВ"," Егор Андреевич","","","",0,0]
[null,null,null,null,"КАЛАБИН Артем Вадимович",null,null,null,null,null,null,"бородин в.г. Горобец  .ф.",0,null,null,null,"КАЛАБИН Артем Вадимович","2004, 3ю",{"$error":"#N/A"},", , ",null,"Бородин В.Г. Горобец  .Ф.",null,{"$error":"#N/A"},0,null,null,{"$error":"#N/A"},null,null,null,"КАЛАБИН"," Артем Вадимович","КАЛАБИН"," Артем Вадимович","","","",0,0]
[null,null,null,null,"ИСАЕВ Дени Асламбекович",null,null,null,null,null,null,"бородин в.г. Горобец  .ф.",0,null,null,null,"ИСАЕВ Дени Асламбекович","2004, 2ю",{"$error":"#N/A"},", , ",null,"Бородин В.Г. Горобец  .Ф.",null,{"$error":"#N/A"},0,null,null,{"$error":"#N/A"},null,null,null,"ИСАЕВ"," Дени Асламбекович","ИСАЕВ"," Дени Асламбекович","","","",0,0]
[null,null,null,null,"ГАМБОТОВ Муслим Мустафаевич",null,null,null,null,null,null,"бородин в.г. Горобец  .ф.",0,null,null,null,"ГАМБОТОВ Муслим Мустафаевич","2004, 2ю",{"$error":"#N/A"},", , ",null,"Бородин В.Г. Горобец  .Ф.",null,{"$error":"#N/A"},0,null,null,{"$error":"#N/A"},null,null,null,"ГАМБОТОВ"," Муслим Мустафаевич","ГАМБОТОВ"," Муслим Мустафаевич","","","",0,0]
[null,null,null,null,"Сергеев никита алексеевич",null,null,null,null,null,null,"погосян в.г.",0,null,null,null,"СЕРГЕЕВ Никита Алексеевич","2006, 3ю",{"$error":"#N/A"},", , ",null,"Погосян В.Г.",null,{"$error":"#N/A"},0,null,null,{"$error":"#N/A"},null,null,null,"Сергеев"," никита алексеевич","СЕРГЕЕВ"," Никита Алексеевич","","","",0,0]
[null,null,null,null,"медведев артем анатольевич",null,null,null,null,null,null,"погосян в.г.",0,null,null,null,"МЕДВЕДЕВ Артем Анатольевич","2006, 3ю",{"$error":"#N/A"},", , ",null,"Погосян В.Г.",null,{"$error":"#N/A"},0,null,null,{"$error":"#N/A"},null,null,null,"медведев"," артем анатольевич","МЕДВЕДЕВ"," Артем Анатольевич","","","",0,0]
[null,null,null,null,"ТИТАЕВ Михаил Михайлович",null,null,null,null,null,null,"бородин в.г. Горобец  .ф.",0,null,null,null,"ТИТАЕВ Михаил Михайлович","2005, 3ю",{"$error":"#N/A"},", , ",null,"Бородин В.Г. Горобец  .Ф.",null,{"$error":"#N/A"},0,null,null,{"$error":"#N/A"},null,null,null,"ТИТАЕВ"," Михаил Михайлович","ТИТАЕВ"," Михаил Михайлович","","","",0,0]
[null,null,null,null,"НАУМОВ Сергей Сергеевич",null,null,null,null,null,null,"бородин в.г. Горобец  .ф.",0,null,null,null,"НАУМОВ Сергей Сергеевич","2006, 3ю",{"$error":"#N/A"},", , ",null,"Бородин В.Г. Горобец  .Ф.",null,{"$error":"#N/A"},0,null,null,{"$error":"#N/A"},null,null,null,"НАУМОВ"," Сергей Сергеевич","НАУМОВ"," Сергей Сергеевич","","","",0,0]
[null,null,null,null,"Ткаченко Вадим Александрович",null,null,null,null,null,null,"бородин в.г. Горобец к.ф.",0,null,null,null,"ТКАЧЕНКО Вадим Александрович","2006, 3ю",{"$error":"#N/A"},", , ",null,"Бородин В.Г. Горобец К.Ф.",null,{"$error":"#N/A"},0,null,null,{"$error":"#N/A"},null,null,null,"Ткаченко"," Вадим Александрович","ТКАЧЕНКО"," Вадим Александрович","","","",0,0]
[null,null,null,null,"ПАПИДЗЕ Гурами Теймуразович",null,null,null,null,null,null,"бородин в.г. Горобец  .ф.",0,null,null,null,"ПАПИДЗЕ Гурами Теймуразович","2006, 3ю",{"$error":"#N/A"},", , ",null,"Бородин В.Г. Горобец  .Ф.",null,{"$error":"#N/A"},0,null,null,{"$error":"#N/A"},null,null,null,"ПАПИДЗЕ"," Гурами Теймуразович","ПАПИДЗЕ"," Гурами Теймуразович","","","",0,0]
[null,null,null,null,"МОРДОВСКОЙ Даниил Витальевич",null,null,null,null,null,null,"бородин в.г. Горобец  .ф.",0,null,null,null,"МОРДОВСКОЙ Даниил Витальевич","2004, 3ю",{"$error":"#N/A"},", , ",null,"Бородин В.Г. Горобец  .Ф.",null,{"$error":"#N/A"},0,null,null,{"$error":"#N/A"},null,null,null,"МОРДОВСКОЙ"," Даниил Витальевич","МОРДОВСКОЙ"," Даниил Витальевич","","","",0,0]
[null,null,null,null,"ВОРОНЦОВ Данил Константинович",null,null,null,null,null,null,"бородин в.г. Горобец  .ф.",0,null,null,null,"ВОРОНЦОВ Данил Константинович","2006, 3ю",{"$error":"#N/A"},", , ",null,"Бородин В.Г. Горобец  .Ф.",null,{"$error":"#N/A"},0,null,null,{"$error":"#N/A"},null,null,null,"ВОРОНЦОВ"," Данил Константинович","ВОРОНЦОВ"," Данил Константинович","","","",0,0]
[null,null,null,null,"ЖУК Артем Игоревич",null,null,null,null,null,null,"бородин в.г. Горобец  .ф.",0,null,null,null,"ЖУК Артем Игоревич","2004, 3ю",{"$error":"#N/A"},", , ",null,"Бородин В.Г. Горобец  .Ф.",null,{"$error":"#N/A"},0,null,null,{"$error":"#N/A"},null,null,null,"ЖУК"," Артем Игоревич","ЖУК"," Артем Игоревич","","","",0,0]
[null,null,null,null,"Мишарин Максим Андреевич",null,null,null,null,null,null,"бородин в.г. Горобец и.ф.",0,null,null,null,"МИШАРИН Максим Андреевич","2005, 3ю",{"$error":"#N/A"},", , ",null,"Бородин В.Г. Горобец И.Ф.",null,{"$error":"#N/A"},0,null,null,{"$error":"#N/A"},null,null,null,"Мишарин"," Максим Андреевич","МИШАРИН"," Максим Андреевич","","","",0,0]
[null,null,null,null,"Урусов Ибрагим Русланович",null,null,null,null,null,null,"бородин в.г. Горобец р.ф.",0,null,null,null,"УРУСОВ Ибрагим Русланович","2005, 3ю",{"$error":"#N/A"},", , ",null,"Бородин В.Г. Горобец Р.Ф.",null,{"$error":"#N/A"},0,null,null,{"$error":"#N/A"},null,null,null,"Урусов"," Ибрагим Русланович","УРУСОВ"," Ибрагим Русланович","","","",0,0]
[null,null,null,null,"Шевырев Дмитрий Сергеевич",null,null,null,null,null,null,"бородин в.г. Горобец е.ф.",0,null,null,null,"ШЕВЫРЕВ Дмитрий Сергеевич","2006, 3ю",{"$error":"#N/A"},", , ",null,"Бородин В.Г. Горобец Е.Ф.",null,{"$error":"#N/A"},0,null,null,{"$error":"#N/A"},null,null,null,"Шевырев"," Дмитрий Сергеевич","ШЕВЫРЕВ"," Дмитрий Сергеевич","","","",0,0]
[null,null,null,null,"Каракетов Бияслан Исмаилович",null,null,null,null,null,null,"бородин в.г. Горобец а.ф.",0,null,null,null,"КАРАКЕТОВ Бияслан Исмаилович","2004, 1ю",{"$error":"#N/A"},", , ",null,"Бородин В.Г. Горобец А.Ф.",null,{"$error":"#N/A"},0,null,null,{"$error":"#N/A"},null,null,null,"Каракетов"," Бияслан Исмаилович","КАРАКЕТОВ"," Бияслан Исмаилович","","","",0,0]
[null,null,null,null,"БУЛДАКОВ Николай Егорович",null,null,null,null,null,null,"бородин в.г. Горобец  .ф.",0,null,null,null,"БУЛДАКОВ Николай Егорович","2006, 3ю",{"$error":"#N/A"},", , ",null,"Бородин В.Г. Горобец  .Ф.",null,{"$error":"#N/A"},0,null,null,{"$error":"#N/A"},null,null,null,"БУЛДАКОВ"," Николай Егорович","БУЛДАКОВ"," Николай Егорович","","","",0,0]
[null,null,null,null,"ВАСИЛЬЕВ Петр Андреевич",null,null,null,null,null,null,"бородин в.г. Горобец  .ф.",0,null,null,null,"ВАСИЛЬЕВ Петр Андреевич","2005, 3ю",{"$error":"#N/A"},", , ",null,"Бородин В.Г. Горобец  .Ф.",null,{"$error":"#N/A"},0,null,null,{"$error":"#N/A"},null,null,null,"ВАСИЛЬЕВ"," Петр Андреевич","ВАСИЛЬЕВ"," Петр Андреевич","","","",0,0]
[null,null,null,null,"ЕМЕЛЬЯНЕНКО Иван Ильич",null,null,null,null,null,null,"бородин в.г. Горобец  .ф.",0,null,null,null,"ЕМЕЛЬЯНЕНКО Иван Ильич","2006, 3ю",{"$error":"#N/A"},", , ",null,"Бородин В.Г. Горобец  .Ф.",null,{"$error":"#N/A"},0,null,null,{"$error":"#N/A"},null,null,null,"ЕМЕЛЬЯНЕНКО"," Иван Ильич","ЕМЕЛЬЯНЕНКО"," Иван Ильич","","","",0,0]
[null,null,null,null,"КАЗАРЯН Артур Гарикович",null,null,null,null,null,null,"бородин в.г. Горобец  .ф.",0,null,null,null,"КАЗАРЯН Артур Гарикович","2004, 1ю",{"$error":"#N/A"},", , ",null,"Бородин В.Г. Горобец  .Ф.",null,{"$error":"#N/A"},0,null,null,{"$error":"#N/A"},null,null,null,"КАЗАРЯН"," Артур Гарикович","КАЗАРЯН"," Артур Гарикович","","","",0,0]
[null,null,null,null,"КИРЬЯНОВ Никита Владимирович",null,null,null,null,null,null,"бородин в.г. Горобец  .ф.",0,null,null,null,"КИРЬЯНОВ Никита Владимирович","2004, 1ю",{"$error":"#N/A"},", , ",null,"Бородин В.Г. Горобец  .Ф.",null,{"$error":"#N/A"},0,null,null,{"$error":"#N/A"},null,null,null,"КИРЬЯНОВ"," Никита Владимирович","КИРЬЯНОВ"," Никита Владимирович","","","",0,0]
[null,null,null,null,"ТЕМИРБОЛАТОВ Ислам Тимурович",null,null,null,null,null,null,"бородин в.г. Горобец  .ф.",0,null,null,null,"ТЕМИРБОЛАТОВ Ислам Тимурович","2004, 1ю",{"$error":"#N/A"},", , ",null,"Бородин В.Г. Горобец  .Ф.",null,{"$error":"#N/A"},0,null,null,{"$error":"#N/A"},null,null,null,"ТЕМИРБОЛАТОВ"," Ислам Тимурович","ТЕМИРБОЛАТОВ"," Ислам Тимурович","","","",0,0]
[null,null,null,null,"Даев Артём Вячеславович",null,null,null,null,null,null,"бородин в.г. Горобец а.ф.",0,null,null,null,"ДАЕВ Артём Вячеславович","2004, 1ю",{"$error":"#N/A"},", , ",null,"Бородин В.Г. Горобец А.Ф.",null,{"$error":"#N/A"},0,null,null,{"$error":"#N/A"},null,null,null,"Даев"," Артём Вячеславович","ДАЕВ"," Артём Вячеславович","","","",0,0]
[null,null,null,null,"Кокорев Георгий Вячеславович",null,null,null,null,null,null,"бородин в.г. Горобец о.ф.",0,null,null,null,"КОКОРЕВ Георгий Вячеславович","2004, 1ю",{"$error":"#N/A"},", , ",null,"Бородин В.Г. Горобец О.Ф.",null,{"$error":"#N/A"},0,null,null,{"$error":"#N/A"},null,null,null,"Кокорев"," Георгий Вячеславович","КОКОРЕВ"," Георгий Вячеславович","","","",0,0]
[null,null,null,null,"ЧЕРЕПАНОВ Алексей Константинович",null,null,null,null,null,null,"бородин в.г. Горобец  .ф.",0,null,null,null,"ЧЕРЕПАНОВ Алексей Константинович","2004, 1ю",{"$error":"#N/A"},", , ",null,"Бородин В.Г. Горобец  .Ф.",null,{"$error":"#N/A"},0,null,null,{"$error":"#N/A"},null,null,null,"ЧЕРЕПАНОВ"," Алексей Константинович","ЧЕРЕПАНОВ"," Алексей Константинович","","","",0,0]
[null,null,null,null,"Матяж Александр Эдуардович",null,null,null,null,null,null,"бородин в.г. Горобец а.ф.",0,null,null,null,"МАТЯЖ Александр Эдуардович","2004, 1ю",{"$error":"#N/A"},", , ",null,"Бородин В.Г. Горобец А.Ф.",null,{"$error":"#N/A"},0,null,null,{"$error":"#N/A"},null,null,null,"Матяж"," Александр Эдуардович","МАТЯЖ"," Александр Эдуардович","","","",0,0]
[null,null,null,null,"ОВЧАРЕНКО Даниил Алексеевич",null,null,null,null,null,null,"бородин в.г. Горобец  .ф.",0,null,null,null,"ОВЧАРЕНКО Даниил Алексеевич","2005, 2ю",{"$error":"#N/A"},", , ",null,"Бородин В.Г. Горобец  .Ф.",null,{"$error":"#N/A"},0,null,null,{"$error":"#N/A"},null,null,null,"ОВЧАРЕНКО"," Даниил Алексеевич","ОВЧАРЕНКО"," Даниил Алексеевич","","","",0,0]
[null,null,null,null,"МАКАРОВ Тимур Макарович",null,null,null,null,null,null,"бородин в.г. Горобец  .ф.",0,null,null,null,"МАКАРОВ Тимур Макарович","2005, 3ю",{"$error":"#N/A"},", , ",null,"Бородин В.Г. Горобец  .Ф.",null,{"$error":"#N/A"},0,null,null,{"$error":"#N/A"},null,null,null,"МАКАРОВ"," Тимур Макарович","МАКАРОВ"," Тимур Макарович","","","",0,0]
[null,null,null,null,"Вивтоненко Дмитрий Сергеевич",null,null,null,null,null,null,"бородин в.г. Горобец и.ф.",0,null,null,null,"ВИВТОНЕНКО Дмитрий Сергеевич","2004, 1ю",{"$error":"#N/A"},", , ",null,"Бородин В.Г. Горобец И.Ф.",null,{"$error":"#N/A"},0,null,null,{"$error":"#N/A"},null,null,null,"Вивтоненко"," Дмитрий Сергеевич","ВИВТОНЕНКО"," Дмитрий Сергеевич","","","",0,0]
[null,null,null,null,"МИРОНОВ Георгий Олегович",null,null,null,null,null,null,"бородин в.г. Горобец  .ф.",0,null,null,null,"МИРОНОВ Георгий Олегович","2004, 1ю",{"$error":"#N/A"},", , ",null,"Бородин В.Г. Горобец  .Ф.",null,{"$error":"#N/A"},0,null,null,{"$error":"#N/A"},null,null,null,"МИРОНОВ"," Георгий Олегович","МИРОНОВ"," Георгий Олегович","","","",0,0]
[null,null,null,null,"Чубуков Святослав Андреевич",null,null,null,null,null,null,"бородин в.г. Горобец у.ф.",0,null,null,null,"ЧУБУКОВ Святослав Андреевич","2004, 1ю",{"$error":"#N/A"},", , ",null,"Бородин В.Г. Горобец У.Ф.",null,{"$error":"#N/A"},0,null,null,{"$error":"#N/A"},null,null,null,"Чубуков"," Святослав Андреевич","ЧУБУКОВ"," Святослав Андреевич","","","",0,0]
[null,null,null,null,"ИНИШЕВ Егор Геннадьевич",null,null,null,null,null,null,"бородин в.г. Горобец  .ф.",0,null,null,null,"ИНИШЕВ Егор Геннадьевич","2005, 2ю",{"$error":"#N/A"},", , ",null,"Бородин В.Г. Горобец  .Ф.",null,{"$error":"#N/A"},0,null,null,{"$error":"#N/A"},null,null,null,"ИНИШЕВ"," Егор Геннадьевич","ИНИШЕВ"," Егор Геннадьевич","","","",0,0]
[null,null,null,null,"Тюнин Никита Алексеевич",null,null,null,null,null,null,"бородин в.г. Горобец ю.ф.",0,null,null,null,"ТЮНИН Никита Алексеевич","2005, 2ю",{"$error":"#N/A"},", , ",null,"Бородин В.Г. Горобец Ю.Ф.",null,{"$error":"#N/A"},0,null,null,{"$error":"#N/A"},null,null,null,"Тюнин"," Никита Алексеевич","ТЮНИН"," Никита Алексеевич","","","",0,0]
[null,null,null,null,"СЕМЕНОВ Данил Сергеевич",null,null,null,null,null,null,"бородин в.г. Горобец  .ф.",0,null,null,null,"СЕМЕНОВ Данил Сергеевич","2005, 2ю",{"$error":"#N/A"},", , ",null,"Бородин В.Г. Горобец  .Ф.",null,{"$error":"#N/A"},0,null,null,{"$error":"#N/A"},null,null,null,"СЕМЕНОВ"," Данил Сергеевич","СЕМЕНОВ"," Данил Сергеевич","","","",0,0]
[null,null,null,null,"Зинов Владислав Владимирович",null,null,null,null,null,null,"бородин в.г. Горобец и.ф.",0,null,null,null,"ЗИНОВ Владислав Владимирович","2004, 1ю",{"$error":"#N/A"},", , ",null,"Бородин В.Г. Горобец И.Ф.",null,{"$error":"#N/A"},0,null,null,{"$error":"#N/A"},null,null,null,"Зинов"," Владислав Владимирович","ЗИНОВ"," Владислав Владимирович","","","",0,0]
[null,null,null,null,"БУДАНЦЕВ Артём Александрович",null,null,null,null,null,null,"бородин в.г. Горобец  .ф.",0,null,null,null,"БУДАНЦЕВ Артём Александрович","2005, 2ю",{"$error":"#N/A"},", , ",null,"Бородин В.Г. Горобец  .Ф.",null,{"$error":"#N/A"},0,null,null,{"$error":"#N/A"},null,null,null,"БУДАНЦЕВ"," Артём Александрович","БУДАНЦЕВ"," Артём Александрович","","","",0,0]
[null,null,null,null,"КОНДРАТЬЕВ Никита Игоревич",null,null,null,null,null,null,"бородин в.г. Горобец  .ф.",0,null,null,null,"КОНДРАТЬЕВ Никита Игоревич","2004, 1ю",{"$error":"#N/A"},", , ",null,"Бородин В.Г. Горобец  .Ф.",null,{"$error":"#N/A"},0,null,null,{"$error":"#N/A"},null,null,null,"КОНДРАТЬЕВ"," Никита Игоревич","КОНДРАТЬЕВ"," Никита Игоревич","","","",0,0]
[null,null,null,null,"ОСИПОВ Даниил Витальевич",null,null,null,null,null,null,"бородин в.г. Горобец  .ф.",0,null,null,null,"ОСИПОВ Даниил Витальевич","2005, 2ю",{"$error":"#N/A"},", , ",null,"Бородин В.Г. Горобец  .Ф.",null,{"$error":"#N/A"},0,null,null,{"$error":"#N/A"},null,null,null,"ОСИПОВ"," Даниил Витальевич","ОСИПОВ"," Даниил Витальевич","","","",0,0]
[null,null,null,null,"ПАХОМОВ Вадим Александрович",null,null,null,null,null,null,"бородин в.г. Горобец  .ф.",0,null,null,null,"ПАХОМОВ Вадим Александрович","2005, 2ю",{"$error":"#N/A"},", , ",null,"Бородин В.Г. Горобец  .Ф.",null,{"$error":"#N/A"},0,null,null,{"$error":"#N/A"},null,null,null,"ПАХОМОВ"," Вадим Александрович","ПАХОМОВ"," Вадим Александрович","","","",0,0]
[null,null,null,null,"ЧЕРКАШИН Владимир Алексеевич",null,null,null,null,null,null,"бородин в.г. Горобец  .ф.",0,null,null,null,"ЧЕРКАШИН Владимир Алексеевич","2005, 3ю",{"$error":"#N/A"},", , ",null,"Бородин В.Г. Горобец  .Ф.",null,{"$error":"#N/A"},0,null,null,{"$error":"#N/A"},null,null,null,"ЧЕРКАШИН"," Владимир Алексеевич","ЧЕРКАШИН"," Владимир Алексеевич","","","",0,0]
[null,null,null,null,"Жданов Максим Владимирович",null,null,null,null,null,null,"бородин в.г. Горобец д.ф.",0,null,null,null,"ЖДАНОВ Максим Владимирович","2004, 2ю",{"$error":"#N/A"},", , ",null,"Бородин В.Г. Горобец Д.Ф.",null,{"$error":"#N/A"},0,null,null,{"$error":"#N/A"},null,null,null,"Жданов"," Максим Владимирович","ЖДАНОВ"," Максим Владимирович","","","",0,0]
[null,null,null,null,"Сурнин Егор Михайлович",null,null,null,null,null,null,"бородин в.г. Горобец у.ф.",0,null,null,null,"СУРНИН Егор Михайлович","2005, 3ю",{"$error":"#N/A"},", , ",null,"Бородин В.Г. Горобец У.Ф.",null,{"$error":"#N/A"},0,null,null,{"$error":"#N/A"},null,null,null,"Сурнин"," Егор Михайлович","СУРНИН"," Егор Михайлович","","","",0,0]
[null,null,null,null,"Мусаев Рафаэль Русланович",null,null,null,null,null,null,"бородин в.г. Горобец у.ф.",0,null,null,null,"МУСАЕВ Рафаэль Русланович","2005, 3ю",{"$f":"AB392","v":{"$error":"#N/A"}},", , ",null,"Бородин В.Г. Горобец У.Ф.",null,{"$f":"VLOOKUP(Y392,Y$7:AA$94,3,FALSE)","v":{"$error":"#N/A"}},{"$f":"I392","v":0},null,null,{"$f":"X392","v":{"$error":"#N/A"}},null,null,null,{"$f":"IFERROR(LEFT(E392,FIND(\" \",E392)-1),E392)","v":"Мусаев"},{"$f":"MID(E392,FIND(\" \",E392)*1,27)","v":" Рафаэль Русланович"},{"$f":"UPPER(AF392)","v":"МУСАЕВ"},{"$f":"PROPER(AG392)","v":" Рафаэль Русланович"},{"$f":"MID($F392,FIND(\"\",$F392)*1,2)","v":""},{"$f":"MID($F392,FIND(\"\",$F392)*3,2)","v":""},{"$f":"MID($F392,FIND(\"\",$F392)*5,2)","v":""},{"$f":"G392","v":0},{"$f":"IF(AM392=\"кмс\",AM$2,IF(AM392=\"мс\",AN$2,IF(AM392=\"мсмк\",AO$2,IF(AM392=\"змс\",AP$2,AM392))))","v":0}]
[null,null,null,null,"Селиванов Артем Леонидович",null,null,null,null,null,null,"бородин в.г. Горобец е.ф.",0,null,null,null,"СЕЛИВАНОВ Артем Леонидович","2005, 3ю",{"$error":"#N/A"},", , ",null,"Бородин В.Г. Горобец Е.Ф.",null,{"$error":"#N/A"},0,null,null,{"$error":"#N/A"},null,null,null,"Селиванов"," Артем Леонидович","СЕЛИВАНОВ"," Артем Леонидович","","","",0,0]
[null,null,null,null,"АРАПОВ Иван Николаевич",null,null,null,null,null,null,"бородин в.г. Горобец  .ф.",0,null,null,null,"АРАПОВ Иван Николаевич","2006, 3ю",{"$error":"#N/A"},", , ",null,"Бородин В.Г. Горобец  .Ф.",null,{"$error":"#N/A"},0,null,null,{"$error":"#N/A"},null,null,null,"АРАПОВ"," Иван Николаевич","АРАПОВ"," Иван Николаевич","","","",0,0]
[null,null,null,null,"ПИСКУНОВ Сергей Олегович",null,null,null,null,null,null,"бородин в.г. Горобец  .ф.",0,null,null,null,"ПИСКУНОВ Сергей Олегович","2006, 3ю",{"$error":"#N/A"},", , ",null,"Бородин В.Г. Горобец  .Ф.",null,{"$error":"#N/A"},0,null,null,{"$error":"#N/A"},null,null,null,"ПИСКУНОВ"," Сергей Олегович","ПИСКУНОВ"," Сергей Олегович","","","",0,0]
[null,null,null,null,"ШАПИЕВ Тимур Шапиевич",null,null,null,null,null,null,"бородин в.г. Горобец  .ф.",0,null,null,null,"ШАПИЕВ Тимур Шапиевич","2005, 3ю",{"$error":"#N/A"},", , ",null,"Бородин В.Г. Горобец  .Ф.",null,{"$error":"#N/A"},0,null,null,{"$error":"#N/A"},null,null,null,"ШАПИЕВ"," Тимур Шапиевич","ШАПИЕВ"," Тимур Шапиевич","","","",0,0]
[null,null,null,null,"ЮРАЩУК Александр Николаевич",null,null,null,null,null,null,"бородин в.г. Горобец  .ф.",0,null,null,null,"ЮРАЩУК Александр Николаевич","2005, 3ю",{"$error":"#N/A"},", , ",null,"Бородин В.Г. Горобец  .Ф.",null,{"$error":"#N/A"},0,null,null,{"$error":"#N/A"},null,null,null,"ЮРАЩУК"," Александр Николаевич","ЮРАЩУК"," Александр Николаевич","","","",0,0]
[null,null,null,null,"ГРИШИН Иван Владимирович",null,null,null,null,null,null,"бородин в.г. Горобец  .ф.",0,null,null,null,"ГРИШИН Иван Владимирович","2006, 3ю",{"$error":"#N/A"},", , ",null,"Бородин В.Г. Горобец  .Ф.",null,{"$error":"#N/A"},0,null,null,{"$error":"#N/A"},null,null,null,"ГРИШИН"," Иван Владимирович","ГРИШИН"," Иван Владимирович","","","",0,0]
[null,null,null,null,"БЖЕМБАХОВ Эльдар Заурович",null,null,null,null,null,null,"бородин в.г. Горобец  .ф.",0,null,null,null,"БЖЕМБАХОВ Эльдар Заурович","2004, 2ю",{"$error":"#N/A"},", , ",null,"Бородин В.Г. Горобец  .Ф.",null,{"$error":"#N/A"},0,null,null,{"$error":"#N/A"},null,null,null,"БЖЕМБАХОВ"," Эльдар Заурович","БЖЕМБАХОВ"," Эльдар Заурович","","","",0,0]
[null,null,null,null,"Калайджян Ашот Ашотович",null,null,null,null,null,null,"бородин в.г. Горобец а.ф.",{"$f":"D400","v":0},null,null,null,{"$f":"CONCATENATE(AH400,AI400)","v":"КАЛАЙДЖЯН Ашот Ашотович"},"2004, 2ю",{"$error":"#N/A"},{"$f":"CONCATENATE(PROPER(I400),\", \",PROPER(J400),\", \",UPPER(K400))","v":", , "},null,{"$f":"PROPER(L400)","v":"Бородин В.Г. Горобец А.Ф."},null,{"$error":"#N/A"},0,null,null,{"$error":"#N/A"},null,null,null,"Калайджян"," Ашот Ашотович","КАЛАЙДЖЯН"," Ашот Ашотович","","","",0,0]
[null,null,null,null,"Ясницкий Ярослав Викторович",null,null,null,null,null,null,"бородин в.г. Горобец с.ф.",0,null,null,null,"ЯСНИЦКИЙ Ярослав Викторович","2004, 2ю",{"$error":"#N/A"},", , ",null,"Бородин В.Г. Горобец С.Ф.",null,{"$error":"#N/A"},0,null,null,{"$error":"#N/A"},null,null,null,"Ясницкий"," Ярослав Викторович","ЯСНИЦКИЙ"," Ярослав Викторович","","","",0,0]
[null,null,null,null,"джанаев булат тимурович",null,null,null,null,null,null,"погосян в.г.",0,null,null,null,"ДЖАНАЕВ Булат Тимурович","2004, 2ю",{"$error":"#N/A"},", , ",null,"Погосян В.Г.",null,{"$error":"#N/A"},0,null,null,{"$error":"#N/A"},null,null,null,"джанаев"," булат тимурович","ДЖАНАЕВ"," Булат Тимурович","","","",0,0]
[null,null,null,null,"Подлесных Даниил Владимирович",null,null,null,null,null,null,"бородин в.г. Горобец о.ф.",0,null,null,null,"ПОДЛЕСНЫХ Даниил Владимирович","2004, 2ю",{"$error":"#N/A"},", , ",null,"Бородин В.Г. Горобец О.Ф.",null,{"$error":"#N/A"},0,null,null,{"$error":"#N/A"},null,null,null,"Подлесных"," Даниил Владимирович","ПОДЛЕСНЫХ"," Даниил Владимирович","","","",0,0]
[null,null,null,null,"КОНОВАЛОВ Владислав Сергеевич",null,null,null,null,null,null,"бородин в.г. Горобец  .ф.",0,null,null,null,"КОНОВАЛОВ Владислав Сергеевич","2006, 3ю",{"$error":"#N/A"},", , ",null,"Бородин В.Г. Горобец  .Ф.",null,{"$error":"#N/A"},0,null,null,{"$error":"#N/A"},null,null,null,"КОНОВАЛОВ"," Владислав Сергеевич","КОНОВАЛОВ"," Владислав Сергеевич","","","",0,0]
[null,null,null,null,"НАГИЕВ Турал Максим Оглы",null,null,null,null,null,null,null,0,null,null,null,"НАГИЕВ Турал Максим Оглы","2004, 2ю",{"$error":"#N/A"},", , ",null,"",null,{"$error":"#N/A"},0,null,null,{"$error":"#N/A"},null,null,null,"НАГИЕВ"," Турал Максим Оглы","НАГИЕВ"," Турал Максим Оглы","","","",0,0]
[null,null,null,null,"ШУБРАВЫЙ Дмитрий Андреевич",null,null,null,null,null,null,"бородин в.г. Горобец  .ф.",0,null,null,null,"ШУБРАВЫЙ Дмитрий Андреевич","2005, 3ю",{"$error":"#N/A"},", , ",null,"Бородин В.Г. Горобец  .Ф.",null,{"$error":"#N/A"},0,null,null,{"$error":"#N/A"},null,null,null,"ШУБРАВЫЙ"," Дмитрий Андреевич","ШУБРАВЫЙ"," Дмитрий Андреевич","","","",0,0]
[null,null,null,null,"АНДРЕЕВ Владимир Михайлович",null,null,null,null,null,null,"бородин в.г. Горобец  .ф.",0,null,null,null,"АНДРЕЕВ Владимир Михайлович","2005, 3ю",{"$error":"#N/A"},", , ",null,"Бородин В.Г. Горобец  .Ф.",null,{"$error":"#N/A"},0,null,null,{"$error":"#N/A"},null,null,null,"АНДРЕЕВ"," Владимир Михайлович","АНДРЕЕВ"," Владимир Михайлович","","","",0,0]
[null,null,null,null,"Фролов Иван Дмитриевич",null,null,null,null,null,null,"бородин в.г. Горобец р.ф.",0,null,null,null,"ФРОЛОВ Иван Дмитриевич","2005, 3ю",{"$error":"#N/A"},", , ",null,"Бородин В.Г. Горобец Р.Ф.",null,{"$error":"#N/A"},0,null,null,{"$error":"#N/A"},null,null,null,"Фролов"," Иван Дмитриевич","ФРОЛОВ"," Иван Дмитриевич","","","",0,0]
[null,null,null,null,"ФИЛИПОВ Вячеслав Евгеньевич",null,null,null,null,null,null,"бородин в.г. Горобец  .ф.",0,null,null,null,"ФИЛИПОВ Вячеслав Евгеньевич","2005, 3ю",{"$error":"#N/A"},", , ",null,"Бородин В.Г. Горобец  .Ф.",null,{"$error":"#N/A"},0,null,null,{"$error":"#N/A"},null,null,null,"ФИЛИПОВ"," Вячеслав Евгеньевич","ФИЛИПОВ"," Вячеслав Евгеньевич","","","",0,0]
[null,null,null,null,"КАЧАЛОВ Андрей Алексеевич",null,null,null,null,null,null,"бородин в.г. Горобец  .ф.",0,null,null,null,"КАЧАЛОВ Андрей Алексеевич","2006,3ю",{"$error":"#N/A"},", , ",null,"Бородин В.Г. Горобец  .Ф.",null,{"$error":"#N/A"},0,null,null,{"$error":"#N/A"},null,null,null,"КАЧАЛОВ"," Андрей Алексеевич","КАЧАЛОВ"," Андрей Алексеевич","","","",0,0]
[null,null,null,null,"КИРЬЯНОВ Александр Александрович",null,null,null,null,null,null,"бородин в.г. Горобец  .ф.",0,null,null,null,"КИРЬЯНОВ Александр Александрович","2006,3ю",{"$error":"#N/A"},", , ",null,"Бородин В.Г. Горобец  .Ф.",null,{"$error":"#N/A"},0,null,null,{"$error":"#N/A"},null,null,null,"КИРЬЯНОВ"," Александр Александрович","КИРЬЯНОВ"," Александр Александрович","","","",0,0]
[null,null,null,null,"Давтян Валентин Степанович",null,null,null,null,null,null,"бородин в.г. Горобец а.ф.",0,null,null,null,"ДАВТЯН Валентин Степанович","2006,3ю",{"$error":"#N/A"},", , ",null,"Бородин В.Г. Горобец А.Ф.",null,{"$error":"#N/A"},0,null,null,{"$error":"#N/A"},null,null,null,"Давтян"," Валентин Степанович","ДАВТЯН"," Валентин Степанович","","","",0,0]
[null,null,null,null,"Малерян Эдуард Вагенакович",null,null,null,null,null,null,"бородин в.г. Горобец а.ф.",0,null,null,null,"МАЛЕРЯН Эдуард Вагенакович","2005,3ю",{"$error":"#N/A"},", , ",null,"Бородин В.Г. Горобец А.Ф.",null,{"$error":"#N/A"},0,null,null,{"$error":"#N/A"},null,null,null,"Малерян"," Эдуард Вагенакович","МАЛЕРЯН"," Эдуард Вагенакович","","","",0,0]
[null,null,null,null,"Моглатов Евгений Евгеньевич",null,null,null,null,null,null,"бородин в.г. Горобец о.ф.",0,null,null,null,"МОГЛАТОВ Евгений Евгеньевич","2004, 2ю",{"$error":"#N/A"},", , ",null,"Бородин В.Г. Горобец О.Ф.",null,{"$error":"#N/A"},0,null,null,{"$error":"#N/A"},null,null,null,"Моглатов"," Евгений Евгеньевич","МОГЛАТОВ"," Евгений Евгеньевич","","","",0,0]
[null,null,null,null,"КУЗНЕЦОВ Матвей Викторович",null,null,null,null,null,null,"бородин в.г. Горобец  .ф.",0,null,null,null,"КУЗНЕЦОВ Матвей Викторович","2004, 2ю",{"$error":"#N/A"},", , ",null,"Бородин В.Г. Горобец  .Ф.",null,{"$error":"#N/A"},0,null,null,{"$error":"#N/A"},null,null,null,"КУЗНЕЦОВ"," Матвей Викторович","КУЗНЕЦОВ"," Матвей Викторович","","","",0,0]
[null,null,null,null,"АБРАМЕНКОВ Александр Сергеевич",null,null,null,null,null,null,"бородин в.г. Горобец  .ф.",0,null,null,null,"АБРАМЕНКОВ Александр Сергеевич","2004, 2ю",{"$error":"#N/A"},", , ",null,"Бородин В.Г. Горобец  .Ф.",null,{"$error":"#N/A"},0,null,null,{"$error":"#N/A"},null,null,null,"АБРАМЕНКОВ"," Александр Сергеевич","АБРАМЕНКОВ"," Александр Сергеевич","","","",0,0]
[null,null,null,null,"ДРУГАКОВ Евгений Дмитриевич",null,null,null,null,null,null,"бородин в.г. Горобец  .ф.",0,null,null,null,"ДРУГАКОВ Евгений Дмитриевич",{"$f":"CONCATENATE(AJ417,\".\",AK417,\".\",AL417,\",\",\" \",AN417)","v":".., 0"},{"$error":"#N/A"},", , ",null,"Бородин В.Г. Горобец  .Ф.",null,{"$error":"#N/A"},0,null,null,{"$error":"#N/A"},null,null,null,"ДРУГАКОВ"," Евгений Дмитриевич","ДРУГАКОВ"," Евгений Дмитриевич","","","",0,0]
[null,null,null,null,"ШАПКИН Виталий Алексеевич",null,null,null,null,null,null,"бородин в.г. Горобец  .ф.",0,null,null,null,"ШАПКИН Виталий Алексеевич",".., 0",{"$error":"#N/A"},", , ",null,"Бородин В.Г. Горобец  .Ф.",null,{"$error":"#N/A"},0,null,null,{"$error":"#N/A"},null,null,null,"ШАПКИН"," Виталий Алексеевич","ШАПКИН"," Виталий Алексеевич","","","",0,0]
[null,null,null,null,"ЧУЖИНОВ Арсений Евгеньевич",null,null,null,null,null,null,"бородин в.г. Горобец  .ф.",0,null,null,null,"ЧУЖИНОВ Арсений Евгеньевич",".., 0",{"$error":"#N/A"},", , ",null,"Бородин В.Г. Горобец  .Ф.",null,{"$error":"#N/A"},0,null,null,{"$error":"#N/A"},null,null,null,"ЧУЖИНОВ"," Арсений Евгеньевич","ЧУЖИНОВ"," Арсений Евгеньевич","","","",0,0]
[null,null,null,null,"МУСХАДЖИЕВ Жабраил Русланович",null,null,null,null,null,null,"бородин в.г. Горобец  .ф.",0,null,null,null,"МУСХАДЖИЕВ Жабраил Русланович",".., 0",{"$error":"#N/A"},", , ",null,"Бородин В.Г. Горобец  .Ф.",null,{"$error":"#N/A"},0,null,null,{"$error":"#N/A"},null,null,null,"МУСХАДЖИЕВ"," Жабраил Русланович","МУСХАДЖИЕВ"," Жабраил Русланович","","","",0,0]
[null,null,null,null,"ШУЛЕКИН Михаил Мгоревич",null,null,null,null,null,null,"бородин в.г. Горобец  .ф.",0,null,null,null,"ШУЛЕКИН Михаил Мгоревич",".., 0",{"$error":"#N/A"},", , ",null,"Бородин В.Г. Горобец  .Ф.",null,{"$error":"#N/A"},0,null,null,{"$error":"#N/A"},null,null,null,"ШУЛЕКИН"," Михаил Мгоревич","ШУЛЕКИН"," Михаил Мгоревич","","","",0,0]
[null,null,null,null,"ШАШЛОВ Александр Вячеславович",null,null,null,null,null,null,"бородин в.г. Горобец  .ф.",0,null,null,null,"ШАШЛОВ Александр Вячеславович",".., 0",{"$error":"#N/A"},", , ",null,"Бородин В.Г. Горобец  .Ф.",null,{"$error":"#N/A"},0,null,null,{"$error":"#N/A"},null,null,null,"ШАШЛОВ"," Александр Вячеславович","ШАШЛОВ"," Александр Вячеславович","","","",0,0]
[null,null,null,null,"МАМХО Астемир Ачрамович",null,null,null,null,null,null,"бородин в.г. Горобец  .ф.",0,null,null,null,"МАМХО Астемир Ачрамович",".., 0",{"$error":"#N/A"},", , ",null,"Бородин В.Г. Горобец  .Ф.",null,{"$error":"#N/A"},0,null,null,{"$error":"#N/A"},null,null,null,"МАМХО"," Астемир Ачрамович","МАМХО"," Астемир Ачрамович","","","",0,0]
[null,null,null,null,"МАЛИШ Аскер Русланович",null,null,null,null,null,null,"бородин в.г. Горобец  .ф.",0,null,null,null,"МАЛИШ Аскер Русланович",".., 0",{"$error":"#N/A"},", , ",null,"Бородин В.Г. Горобец  .Ф.",null,{"$error":"#N/A"},0,null,null,{"$error":"#N/A"},null,null,null,"МАЛИШ"," Аскер Русланович","МАЛИШ"," Аскер Русланович","","","",0,0]
[null,null,null,null,null,null,null,null,null,null,null,null,0,null,null,null,{"$error":"#VALUE!"},".., 0",{"$error":"#N/A"},", , ",null,"",null,{"$error":"#N/A"},0,null,null,{"$error":"#N/A"},null,null,null,0,{"$error":"#VALUE!"},"0",{"$error":"#VALUE!"},"","","",0,0]
[null,null,null,null,null,null,null,null,null,null,null,null,0,null,null,null,{"$error":"#VALUE!"},".., 0",{"$error":"#N/A"},", , ",null,"",null,{"$error":"#N/A"},0,null,null,{"$error":"#N/A"},null,null,null,0,{"$error":"#VALUE!"},"0",{"$error":"#VALUE!"},"","","",0,0]
[null,null,null,null,null,null,null,null,null,null,null,null,0,null,null,null,{"$error":"#VALUE!"},".., 0",{"$error":"#N/A"},", , ",null,"",null,{"$error":"#N/A"},0,null,null,{"$error":"#N/A"},null,null,null,0,{"$error":"#VALUE!"},"0",{"$error":"#VALUE!"},"","","",0,0]
[null,null,null,null,null,null,null,null,null,null,null,null,0,null,null,null,{"$error":"#VALUE!"},".., 0",{"$error":"#N/A"},", , ",null,"",null,{"$error":"#N/A"},0,null,null,{"$error":"#N/A"},null,null,null,0,{"$error":"#VALUE!"},"0",{"$error":"#VALUE!"},"","","",0,0]
[null,null,null,null,null,null,null,null,null,null,null,null,0,null,null,null,{"$error":"#VALUE!"},".., 0",{"$error":"#N/A"},", , ",null,"",null,{"$error":"#N/A"},0,null,null,{"$error":"#N/A"},null,null,null,0,{"$error":"#VALUE!"},"0",{"$error":"#VALUE!"},"","","",0,0]
[null,null,null,null,null,null,null,null,null,null,null,null,0,null,null,null,{"$error":"#VALUE!"},".., 0",{"$error":"#N/A"},", , ",null,"",null,{"$error":"#N/A"},0,null,null,{"$error":"#N/A"},null,null,null,0,{"$error":"#VALUE!"},"0",{"$error":"#VALUE!"},"","","",0,0]
[null,null,null,null,null,null,null,null,null,null,null,null,0,null,null,null,{"$error":"#VALUE!"},".., 0",{"$error":"#N/A"},", , ",null,"",null,{"$error":"#N/A"},0,null,null,{"$error":"#N/A"},null,null,null,0,{"$error":"#VALUE!"},"0",{"$error":"#VALUE!"},"","","",0,0]
[null,null,null,null,null,null,null,null,null,null,null,null,0,null,null,null,{"$error":"#VALUE!"},".., 0",{"$error":"#N/A"},", , ",null,"",null,{"$error":"#N/A"},0,null,null,{"$error":"#N/A"},null,null,null,0,{"$error":"#VALUE!"},"0",{"$error":"#VALUE!"},"","","",0,0]
[null,null,null,null,null,null,null,null,null,null,null,null,0,null,null,null,{"$error":"#VALUE!"},".., 0",{"$error":"#N/A"},", , ",null,"",null,{"$error":"#N/A"},0,null,null,{"$error":"#N/A"},null,null,null,0,{"$error":"#VALUE!"},"0",{"$error":"#VALUE!"},"","","",0,0]
[null,null,null,null,null,null,null,null,null,null,null,null,0,null,null,null,{"$error":"#VALUE!"},".., 0",{"$error":"#N/A"},", , ",null,"",null,{"$error":"#N/A"},0,null,null,{"$error":"#N/A"},null,null,null,0,{"$error":"#VALUE!"},"0",{"$error":"#VALUE!"},"","","",0,0]
[null,null,null,null,null,null,null,null,null,null,null,null,0,null,null,null,{"$error":"#VALUE!"},".., 0",{"$error":"#N/A"},", , ",null,"",null,{"$error":"#N/A"},0,null,null,{"$error":"#N/A"},null,null,null,0,{"$error":"#VALUE!"},"0",{"$error":"#VALUE!"},"","","",0,0]
[null,null,null,null,null,null,null,null,null,null,null,null,0,null,null,null,{"$error":"#VALUE!"},".., 0",{"$error":"#N/A"},", , ",null,"",null,{"$error":"#N/A"},0,null,null,{"$error":"#N/A"},null,null,null,0,{"$error":"#VALUE!"},"0",{"$error":"#VALUE!"},"","","",0,0]
[null,null,null,null,null,null,null,null,null,null,null,null,0,null,null,null,{"$error":"#VALUE!"},".., 0",{"$error":"#N/A"},", , ",null,"",null,{"$error":"#N/A"},0,null,null,{"$error":"#N/A"},null,null,null,0,{"$error":"#VALUE!"},"0",{"$error":"#VALUE!"},"","","",0,0]
[null,null,null,null,null,null,null,null,null,null,null,null,0,null,null,null,{"$error":"#VALUE!"},".., 0",{"$error":"#N/A"},", , ",null,"",null,{"$error":"#N/A"},0,null,null,{"$error":"#N/A"},null,null,null,0,{"$error":"#VALUE!"},"0",{"$error":"#VALUE!"},"","","",0,0]
[null,null,null,null,null,null,null,null,null,null,null,null,0,null,null,null,{"$error":"#VALUE!"},".., 0",{"$error":"#N/A"},", , ",null,"",null,{"$error":"#N/A"},0,null,null,{"$error":"#N/A"},null,null,null,0,{"$error":"#VALUE!"},"0",{"$error":"#VALUE!"},"","","",0,0]
[null,null,null,null,null,null,null,null,null,null,null,null,0,null,null,null,{"$error":"#VALUE!"},".., 0",{"$error":"#N/A"},", , ",null,"",null,{"$error":"#N/A"},0,null,null,{"$error":"#N/A"},null,null,null,0,{"$error":"#VALUE!"},"0",{"$error":"#VALUE!"},"","","",0,0]
[null,null,null,null,null,null,null,null,null,null,null,null,0,null,null,null,{"$error":"#VALUE!"},".., 0",{"$error":"#N/A"},", , ",null,"",null,{"$error":"#N/A"},0,null,null,{"$error":"#N/A"},null,null,null,0,{"$error":"#VALUE!"},"0",{"$error":"#VALUE!"},"","","",0,0]
[null,null,null,null,null,null,null,null,null,null,null,null,0,null,null,null,{"$error":"#VALUE!"},".., 0",{"$error":"#N/A"},", , ",null,"",null,{"$error":"#N/A"},0,null,null,{"$error":"#N/A"},null,null,null,0,{"$error":"#VALUE!"},"0",{"$error":"#VALUE!"},"","","",0,0]
[null,null,null,null,null,null,null,null,null,null,null,null,0,null,null,null,{"$error":"#VALUE!"},".., 0",{"$error":"#N/A"},", , ",null,"",null,{"$error":"#N/A"},0,null,null,{"$error":"#N/A"},null,null,null,0,{"$error":"#VALUE!"},"0",{"$error":"#VALUE!"},"","","",0,0]
[null,null,null,null,null,null,null,null,null,null,null,null,0,null,null,null,{"$error":"#VALUE!"},".., 0",{"$error":"#N/A"},", , ",null,"",null,{"$error":"#N/A"},0,null,null,{"$error":"#N/A"},null,null,null,0,{"$error":"#VALUE!"},"0",{"$error":"#VALUE!"},"","","",0,0]
[null,null,null,null,null,null,null,null,null,null,null,null,0,null,null,null,{"$error":"#VALUE!"},".., 0",{"$error":"#N/A"},", , ",null,"",null,{"$error":"#N/A"},0,null,null,{"$error":"#N/A"},null,null,null,0,{"$error":"#VALUE!"},"0",{"$error":"#VALUE!"},"","","",0,0]
[null,null,null,null,null,null,null,null,null,null,null,null,0,null,null,null,{"$error":"#VALUE!"},".., 0",{"$error":"#N/A"},", , ",null,"",null,{"$error":"#N/A"},0,null,null,{"$error":"#N/A"},null,null,null,0,{"$error":"#VALUE!"},"0",{"$error":"#VALUE!"},"","","",0,0]
[null,null,null,null,null,null,null,null,null,null,null,null,0,null,null,null,{"$error":"#VALUE!"},".., 0",{"$error":"#N/A"},", , ",null,"",null,{"$error":"#N/A"},0,null,null,{"$error":"#N/A"},null,null,null,0,{"$error":"#VALUE!"},"0",{"$error":"#VALUE!"},"","","",0,0]
[null,null,null,null,null,null,null,null,null,null,null,null,0,null,null,null,{"$error":"#VALUE!"},".., 0",{"$error":"#N/A"},", , ",null,"",null,{"$error":"#N/A"},0,null,null,{"$error":"#N/A"},null,null,null,0,{"$error":"#VALUE!"},"0",{"$error":"#VALUE!"},"","","",0,0]
[null,null,null,null,null,null,null,null,null,null,null,null,0,null,null,null,{"$error":"#VALUE!"},".., 0",{"$error":"#N/A"},", , ",null,"",null,{"$error":"#N/A"},0,null,null,{"$error":"#N/A"},null,null,null,0,{"$error":"#VALUE!"},"0",{"$error":"#VALUE!"},"","","",0,0]
[null,null,null,null,null,null,null,null,null,null,null,null,0,null,null,null,{"$error":"#VALUE!"},".., 0",{"$error":"#N/A"},", , ",null,"",null,{"$error":"#N/A"},0,null,null,{"$error":"#N/A"},null,null,null,0,{"$error":"#VALUE!"},"0",{"$error":"#VALUE!"},"","","",0,0]
[null,null,null,null,null,null,null,null,null,null,null,null,0,null,null,null,{"$error":"#VALUE!"},".., 0",{"$error":"#N/A"},", , ",null,"",null,{"$error":"#N/A"},0,null,null,{"$error":"#N/A"},null,null,null,0,{"$error":"#VALUE!"},"0",{"$error":"#VALUE!"},"","","",0,0]
[null,null,null,null,null,null,null,null,null,null,null,null,0,null,null,null,{"$error":"#VALUE!"},".., 0",{"$error":"#N/A"},", , ",null,"",null,{"$error":"#N/A"},0,null,null,{"$error":"#N/A"},null,null,null,0,{"$error":"#VALUE!"},"0",{"$error":"#VALUE!"},"","","",0,0]
[null,null,null,null,null,null,null,null,null,null,null,null,0,null,null,null,{"$error":"#VALUE!"},".., 0",{"$error":"#N/A"},", , ",null,"",null,{"$error":"#N/A"},0,null,null,{"$error":"#N/A"},null,null,null,0,{"$error":"#VALUE!"},"0",{"$error":"#VALUE!"},"","","",0,0]
[null,null,null,null,null,null,null,null,null,null,null,null,0,null,null,null,{"$error":"#VALUE!"},".., 0",{"$error":"#N/A"},", , ",null,"",null,{"$error":"#N/A"},0,null,null,{"$error":"#N/A"},null,null,null,0,{"$error":"#VALUE!"},"0",{"$error":"#VALUE!"},"","","",0,0]
[null,null,null,null,null,null,null,null,null,null,null,null,0,null,null,null,{"$error":"#VALUE!"},".., 0",{"$error":"#N/A"},", , ",null,"",null,{"$error":"#N/A"},0,null,null,{"$error":"#N/A"},null,null,null,0,{"$error":"#VALUE!"},"0",{"$error":"#VALUE!"},"","","",0,0]
[null,null,null,null,null,null,null,null,null,null,null,null,0,null,null,null,{"$error":"#VALUE!"},".., 0",{"$f":"AB456","v":{"$error":"#N/A"}},", , ",null,"",null,{"$f":"VLOOKUP(Y456,Y$7:AA$94,3,FALSE)","v":{"$error":"#N/A"}},{"$f":"I456","v":0},null,null,{"$f":"X456","v":{"$error":"#N/A"}},null,null,null,{"$f":"IFERROR(LEFT(E456,FIND(\" \",E456)-1),E456)","v":0},{"$f":"MID(E456,FIND(\" \",E456)*1,27)","v":{"$error":"#VALUE!"}},{"$f":"UPPER(AF456)","v":"0"},{"$f":"PROPER(AG456)","v":{"$error":"#VALUE!"}},{"$f":"MID($F456,FIND(\"\",$F456)*1,2)","v":""},{"$f":"MID($F456,FIND(\"\",$F456)*3,2)","v":""},{"$f":"MID($F456,FIND(\"\",$F456)*5,2)","v":""},{"$f":"G456","v":0},{"$f":"IF(AM456=\"кмс\",AM$2,IF(AM456=\"мс\",AN$2,IF(AM456=\"мсмк\",AO$2,IF(AM456=\"змс\",AP$2,AM456))))","v":0}]
[null,null,null,null,null,null,null,null,null,null,null,null,0,null,null,null,{"$error":"#VALUE!"},".., 0",{"$f":"AB457","v":{"$error":"#N/A"}},", , ",null,"",null,{"$error":"#N/A"},0,null,null,{"$error":"#N/A"},null,null,null,0,{"$error":"#VALUE!"},"0",{"$error":"#VALUE!"},"","","",0,0]
[null,null,null,null,null,null,null,null,null,null,null,null,0,null,null,null,{"$error":"#VALUE!"},".., 0",{"$f":"AB458","v":{"$error":"#N/A"}},", , ",null,"",null,{"$error":"#N/A"},0,null,null,{"$error":"#N/A"},null,null,null,0,{"$error":"#VALUE!"},"0",{"$error":"#VALUE!"},"","","",0,0]
[null,null,null,null,null,null,null,null,null,null,null,null,0,null,null,null,{"$error":"#VALUE!"},".., 0",{"$f":"UPPER(H459)","v":""},", , ",null,"",null,{"$error":"#N/A"},0,null,null,{"$error":"#N/A"},null,null,null,0,{"$error":"#VALUE!"},"0",{"$error":"#VALUE!"},"","","",0,0]
[null,null,null,null,null,null,null,null,null,null,null,null,0,null,null,null,{"$error":"#VALUE!"},".., 0","",", , ",null,"",null,{"$error":"#N/A"},0,null,null,{"$error":"#N/A"},null,null,null,0,{"$error":"#VALUE!"},"0",{"$error":"#VALUE!"},"","","",0,0]
[null,null,null,null,null,null,null,null,null,null,null,null,0,null,null,null,{"$error":"#VALUE!"},".., 0","",", , ",null,"",null,{"$error":"#N/A"},0,null,null,{"$error":"#N/A"},null,null,null,0,{"$error":"#VALUE!"},"0",{"$error":"#VALUE!"},"","","",0,0]
[null,null,null,null,null,null,null,null,null,null,null,null,0,null,null,null,{"$error":"#VALUE!"},".., 0","",", , ",null,"",null,{"$error":"#N/A"},0,null,null,{"$error":"#N/A"},null,null,null,0,{"$error":"#VALUE!"},"0",{"$error":"#VALUE!"},"","","",0,0]
[null,null,null,null,null,null,null,null,null,null,null,null,0,null,null,null,{"$error":"#VALUE!"},".., 0","",", , ",null,"",null,{"$error":"#N/A"},0,null,null,{"$error":"#N/A"},null,null,null,0,{"$error":"#VALUE!"},"0",{"$error":"#VALUE!"},"","","",0,0]
[null,null,null,null,null,null,null,null,null,null,null,null,{"$f":"D464","v":0},null,null,null,{"$f":"CONCATENATE(AH464,AI464)","v":{"$error":"#VALUE!"}},".., 0","",{"$f":"CONCATENATE(PROPER(I464),\", \",PROPER(J464),\", \",UPPER(K464))","v":", , "},null,{"$f":"PROPER(L464)","v":""},null,{"$error":"#N/A"},0,null,null,{"$error":"#N/A"},null,null,null,0,{"$error":"#VALUE!"},"0",{"$error":"#VALUE!"},"","","",0,0]
[null,null,null,null,null,null,null,null,null,null,null,null,0,null,null,null,{"$error":"#VALUE!"},".., 0","",", , ",null,"",null,{"$error":"#N/A"},0,null,null,{"$error":"#N/A"},null,null,null,0,{"$error":"#VALUE!"},"0",{"$error":"#VALUE!"},"","","",0,0]
[null,null,null,null,null,null,null,null,null,null,null,null,0,null,null,null,{"$error":"#VALUE!"},".., 0","",", , ",null,"",null,{"$error":"#N/A"},0,null,null,{"$error":"#N/A"},null,null,null,0,{"$error":"#VALUE!"},"0",{"$error":"#VALUE!"},"","","",0,0]
[null,null,null,null,null,null,null,null,null,null,null,null,0,null,null,null,{"$error":"#VALUE!"},".., 0","",", , ",null,"",null,{"$error":"#N/A"},0,null,null,{"$error":"#N/A"},null,null,null,0,{"$error":"#VALUE!"},"0",{"$error":"#VALUE!"},"","","",0,0]
[null,null,null,null,null,null,null,null,null,null,null,null,0,null,null,null,{"$error":"#VALUE!"},".., 0","",", , ",null,"",null,{"$error":"#N/A"},0,null,null,{"$error":"#N/A"},null,null,null,0,{"$error":"#VALUE!"},"0",{"$error":"#VALUE!"},"","","",0,0]
[null,null,null,null,null,null,null,null,null,null,null,null,0,null,null,null,{"$error":"#VALUE!"},".., 0","",", , ",null,"",null,{"$error":"#N/A"},0,null,null,{"$error":"#N/A"},null,null,null,0,{"$error":"#VALUE!"},"0",{"$error":"#VALUE!"},"","","",0,0]
[null,null,null,null,null,null,null,null,null,null,null,null,0,null,null,null,{"$error":"#VALUE!"},".., 0","",", , ",null,"",null,{"$error":"#N/A"},0,null,null,{"$error":"#N/A"},null,null,null,0,{"$error":"#VALUE!"},"0",{"$error":"#VALUE!"},"","","",0,0]
[null,null,null,null,null,null,null,null,null,null,null,null,0,null,null,null,{"$error":"#VALUE!"},".., 0","",", , ",null,"",null,{"$error":"#N/A"},0,null,null,{"$error":"#N/A"},null,null,null,0,{"$error":"#VALUE!"},"0",{"$error":"#VALUE!"},"","","",0,0]
[null,null,null,null,null,null,null,null,null,null,null,null,0,null,null,null,{"$error":"#VALUE!"},".., 0","",", , ",null,"",null,{"$error":"#N/A"},0,null,null,{"$error":"#N/A"},null,null,null,0,{"$error":"#VALUE!"},"0",{"$error":"#VALUE!"},"","","",0,0]
[null,null,null,null,null,null,null,null,null,null,null,null,0,null,null,null,{"$error":"#VALUE!"},".., 0","",", , ",null,"",null,{"$error":"#N/A"},0,null,null,{"$error":"#N/A"},null,null,null,0,{"$error":"#VALUE!"},"0",{"$error":"#VALUE!"},"","","",0,0]
[null,null,null,null,null,null,null,null,null,null,null,null,0,null,null,null,{"$error":"#VALUE!"},".., 0","",", , ",null,"",null,{"$error":"#N/A"},0,null,null,{"$error":"#N/A"},null,null,null,0,{"$error":"#VALUE!"},"0",{"$error":"#VALUE!"},"","","",0,0]
[null,null,null,null,null,null,null,null,null,null,null,null,0,null,null,null,{"$error":"#VALUE!"},".., 0","",", , ",null,"",null,{"$error":"#N/A"},0,null,null,{"$error":"#N/A"},null,null,null,0,{"$error":"#VALUE!"},"0",{"$error":"#VALUE!"},"","","",0,0]
[null,null,null,null,null,null,null,null,null,null,null,null,0,null,null,null,{"$error":"#VALUE!"},".., 0","",", , ",null,"",null,{"$error":"#N/A"},0,null,null,{"$error":"#N/A"},null,null,null,0,{"$error":"#VALUE!"},"0",{"$error":"#VALUE!"},"","","",0,0]
[null,null,null,null,null,null,null,null,null,null,null,null,0,null,null,null,{"$error":"#VALUE!"},".., 0","",", , ",null,"",null,{"$error":"#N/A"},0,null,null,{"$error":"#N/A"},null,null,null,0,{"$error":"#VALUE!"},"0",{"$error":"#VALUE!"},"","","",0,0]
[null,null,null,null,null,null,null,null,null,null,null,null,{"$f":"D478","v":0},null,null,null,{"$f":"CONCATENATE(AH476,AI476)","v":{"$error":"#VALUE!"}},{"$f":"CONCATENATE(AJ476,\".\",AK476,\".\",AL476,\",\",\" \",AN476)","v":".., 0"},{"$f":"UPPER(H478)","v":""},{"$f":"CONCATENATE(PROPER(I478),\", \",PROPER(J478),\", \",UPPER(K478))","v":", , "},null,{"$f":"PROPER(L478)","v":""},null,null,null,null,null,null,null,null,null,0,{"$error":"#VALUE!"},"0",{"$error":"#VALUE!"},"","","",0,0]
[null,null,null,null,null,null,null,null,null,null,null,null,null,null,null,null,null,null,null,null,null,null,null,null,null,null,null,null,null,null,null,0,{"$error":"#VALUE!"},"0",{"$error":"#VALUE!"},"","","",0,0]
[null,null,null,null,null,null,null,null,null,null,null,null,{"$f":"D480","v":0},null,null,null,{"$f":"CONCATENATE(AH478,AI478)","v":{"$error":"#VALUE!"}},{"$f":"CONCATENATE(AJ478,\".\",AK478,\".\",AL478,\",\",\" \",AN478)","v":".., 0"},{"$f":"UPPER(H480)","v":""},{"$f":"CONCATENATE(PROPER(I480),\", \",PROPER(J480),\", \",UPPER(K480))","v":", , "},null,{"$f":"PROPER(L480)","v":""},null,null,null,null,null,null,null,null,null,{"$f":"IFERROR(LEFT(E482,FIND(\" \",E482)-1),E482)","v":0},{"$f":"MID(E482,FIND(\" \",E482)*1,27)","v":{"$error":"#VALUE!"}},{"$f":"UPPER(AF480)","v":"0"},{"$f":"PROPER(AG480)","v":{"$error":"#VALUE!"}},{"$f":"MID($F482,FIND(\"\",$F482)*1,2)","v":""},{"$f":"MID($F482,FIND(\"\",$F482)*3,2)","v":""},{"$f":"MID($F482,FIND(\"\",$F482)*5,2)","v":""},{"$f":"G482","v":0},{"$f":"IF(AM480=\"кмс\",AM$2,IF(AM480=\"мс\",AN$2,IF(AM480=\"мсмк\",AO$2,IF(AM480=\"змс\",AP$2,AM480))))","v":0}]
[]
[null,null,null,null,null,null,null,null,null,null,null,null,{"$f":"D482","v":0},null,null,null,{"$f":"CONCATENATE(AH480,AI480)","v":{"$error":"#VALUE!"}},{"$f":"CONCATENATE(AJ480,\".\",AK480,\".\",AL480,\",\",\" \",AN480)","v":".., 0"},{"$f":"UPPER(H482)","v":""},{"$f":"CONCATENATE(PROPER(I482),\", \",PROPER(J482),\", \",UPPER(K482))","v":", , "},null,{"$f":"PROPER(L482)","v":""},null,null,null,null,null,null,null,null,null,{"$f":"IFERROR(LEFT(E484,FIND(\" \",E484)-1),E484)","v":0},{"$f":"MID(E484,FIND(\" \",E484)*1,27)","v":{"$error":"#VALUE!"}},{"$f":"UPPER(AF482)","v":"0"},{"$f":"PROPER(AG482)","v":{"$error":"#VALUE!"}},{"$f":"MID($F484,FIND(\"\",$F484)*1,2)","v":""},{"$f":"MID($F484,FIND(\"\",$F484)*3,2)","v":""},{"$f":"MID($F484,FIND(\"\",$F484)*5,2)","v":""},{"$f":"G484","v":0},{"$f":"IF(AM482=\"кмс\",AM$2,IF(AM482=\"мс\",AN$2,IF(AM482=\"мсмк\",AO$2,IF(AM482=\"змс\",AP$2,AM482))))","v":0}]
[]
[null,null,null,null,null,null,null,null,null,null,null,null,{"$f":"D484","v":0},null,null,null,{"$f":"CONCATENATE(AH482,AI482)","v":{"$error":"#VALUE!"}},{"$f":"CONCATENATE(AJ482,\".\",AK482,\".\",AL482,\",\",\" \",AN482)","v":".., 0"},{"$f":"UPPER(H484)","v":""},{"$f":"CONCATENATE(PROPER(I484),\", \",PROPER(J484),\", \",UPPER(K484))","v":", , "},null,{"$f":"PROPER(L484)","v":""},null,null,null,null,null,null,null,null,null,{"$f":"IFERROR(LEFT(E486,FIND(\" \",E486)-1),E486)","v":0},{"$f":"MID(E486,FIND(\" \",E486)*1,27)","v":{"$error":"#VALUE!"}},{"$f":"UPPER(AF484)","v":"0"},{"$f":"PROPER(AG484)","v":{"$error":"#VALUE!"}},{"$f":"MID($F486,FIND(\"\",$F486)*1,2)","v":""},{"$f":"MID($F486,FIND(\"\",$F486)*3,2)","v":""},{"$f":"MID($F486,FIND(\"\",$F486)*5,2)","v":""},{"$f":"G486","v":0},{"$f":"IF(AM484=\"кмс\",AM$2,IF(AM484=\"мс\",AN$2,IF(AM484=\"мсмк\",AO$2,IF(AM484=\"змс\",AP$2,AM484))))","v":0}]
[]
[null,null,null,null,null,null,null,null,null,null,null,null,{"$f":"D486","v":0},null,null,null,{"$f":"CONCATENATE(AH484,AI484)","v":{"$error":"#VALUE!"}},{"$f":"CONCATENATE(AJ484,\".\",AK484,\".\",AL484,\",\",\" \",AN484)","v":".., 0"},{"$f":"UPPER(H486)","v":""},{"$f":"CONCATENATE(PROPER(I486),\", \",PROPER(J486),\", \",UPPER(K486))","v":", , "},null,{"$f":"PROPER(L486)","v":""},null,null,null,null,null,null,null,null,null,{"$f":"IFERROR(LEFT(E488,FIND(\" \",E488)-1),E488)","v":0},{"$f":"MID(E488,FIND(\" \",E488)*1,27)","v":{"$error":"#VALUE!"}},{"$f":"UPPER(AF486)","v":"0"},{"$f":"PROPER(AG486)","v":{"$error":"#VALUE!"}},{"$f":"MID($F488,FIND(\"\",$F488)*1,2)","v":""},{"$f":"MID($F488,FIND(\"\",$F488)*3,2)","v":""},{"$f":"MID($F488,FIND(\"\",$F488)*5,2)","v":""},{"$f":"G488","v":0},{"$f":"IF(AM486=\"кмс\",AM$2,IF(AM486=\"мс\",AN$2,IF(AM486=\"мсмк\",AO$2,IF(AM486=\"змс\",AP$2,AM486))))","v":0}]
[]
[null,null,null,null,null,null,null,null,null,null,null,null,{"$f":"D488","v":0},null,null,null,{"$f":"CONCATENATE(AH486,AI486)","v":{"$error":"#VALUE!"}},{"$f":"CONCATENATE(AJ486,\".\",AK486,\".\",AL486,\",\",\" \",AN486)","v":".., 0"},{"$f":"UPPER(H488)","v":""},{"$f":"CONCATENATE(PROPER(I488),\", \",PROPER(J488),\", \",UPPER(K488))","v":", , "},null,{"$f":"PROPER(L488)","v":""},null,null,null,null,null,null,null,null,null,{"$f":"IFERROR(LEFT(E490,FIND(\" \",E490)-1),E490)","v":0},{"$f":"MID(E490,FIND(\" \",E490)*1,27)","v":{"$error":"#VALUE!"}},{"$f":"UPPER(AF488)","v":"0"},{"$f":"PROPER(AG488)","v":{"$error":"#VALUE!"}},{"$f":"MID($F490,FIND(\"\",$F490)*1,2)","v":""},{"$f":"MID($F490,FIND(\"\",$F490)*3,2)","v":""},{"$f":"MID($F490,FIND(\"\",$F490)*5,2)","v":""},{"$f":"G490","v":0},{"$f":"IF(AM488=\"кмс\",AM$2,IF(AM488=\"мс\",AN$2,IF(AM488=\"мсмк\",AO$2,IF(AM488=\"змс\",AP$2,AM488))))","v":0}]
[]
[null,null,null,null,null,null,null,null,null,null,null,null,{"$f":"D490","v":0},null,null,null,{"$f":"CONCATENATE(AH488,AI488)","v":{"$error":"#VALUE!"}},{"$f":"CONCATENATE(AJ488,\".\",AK488,\".\",AL488,\",\",\" \",AN488)","v":".., 0"},{"$f":"UPPER(H490)","v":""},{"$f":"CONCATENATE(PROPER(I490),\", \",PROPER(J490),\", \",UPPER(K490))","v":", , "},null,{"$f":"PROPER(L490)","v":""},null,null,null,null,null,null,null,null,null,{"$f":"IFERROR(LEFT(E492,FIND(\" \",E492)-1),E492)","v":0},{"$f":"MID(E492,FIND(\" \",E492)*1,27)","v":{"$error":"#VALUE!"}},{"$f":"UPPER(AF490)","v":"0"},{"$f":"PROPER(AG490)","v":{"$error":"#VALUE!"}},{"$f":"MID($F492,FIND(\"\",$F492)*1,2)","v":""},{"$f":"MID($F492,FIND(\"\",$F492)*3,2)","v":""},{"$f":"MID($F492,FIND(\"\",$F492)*5,2)","v":""},{"$f":"G492","v":0},{"$f":"IF(AM490=\"кмс\",AM$2,IF(AM490=\"мс\",AN$2,IF(AM490=\"мсмк\",AO$2,IF(AM490=\"змс\",AP$2,AM490))))","v":0}]
[]
[null,null,null,null,null,null,null,null,null,null,null,null,{"$f":"D492","v":0},null,null,null,{"$f":"CONCATENATE(AH490,AI490)","v":{"$error":"#VALUE!"}},{"$f":"CONCATENATE(AJ490,\".\",AK490,\".\",AL490,\",\",\" \",AN490)","v":".., 0"},{"$f":"UPPER(H492)","v":""},{"$f":"CONCATENATE(PROPER(I492),\", \",PROPER(J492),\", \",UPPER(K492))","v":", , "},null,{"$f":"PROPER(L492)","v":""},null,null,null,null,null,null,null,null,null,{"$f":"IFERROR(LEFT(E494,FIND(\" \",E494)-1),E494)","v":0},{"$f":"MID(E494,FIND(\" \",E494)*1,27)","v":{"$error":"#VALUE!"}},{"$f":"UPPER(AF492)","v":"0"},{"$f":"PROPER(AG492)","v":{"$error":"#VALUE!"}},{"$f":"MID($F494,FIND(\"\",$F494)*1,2)","v":""},{"$f":"MID($F494,FIND(\"\",$F494)*3,2)","v":""},{"$f":"MID($F494,FIND(\"\",$F494)*5,2)","v":""},{"$f":"G494","v":0},{"$f":"IF(AM492=\"кмс\",AM$2,IF(AM492=\"мс\",AN$2,IF(AM492=\"мсмк\",AO$2,IF(AM492=\"змс\",AP$2,AM492))))","v":0}]
[]
[null,null,null,null,null,null,null,null,null,null,null,null,{"$f":"D494","v":0},null,null,null,{"$f":"CONCATENATE(AH492,AI492)","v":{"$error":"#VALUE!"}},{"$f":"CONCATENATE(AJ492,\".\",AK492,\".\",AL492,\",\",\" \",AN492)","v":".., 0"},{"$f":"UPPER(H494)","v":""},{"$f":"CONCATENATE(PROPER(I494),\", \",PROPER(J494),\", \",UPPER(K494))","v":", , "},null,{"$f":"PROPER(L494)","v":""},null,null,null,null,null,null,null,null,null,{"$f":"IFERROR(LEFT(E496,FIND(\" \",E496)-1),E496)","v":0},{"$f":"MID(E496,FIND(\" \",E496)*1,27)","v":{"$error":"#VALUE!"}},{"$f":"UPPER(AF494)","v":"0"},{"$f":"PROPER(AG494)","v":{"$error":"#VALUE!"}},{"$f":"MID($F496,FIND(\"\",$F496)*1,2)","v":""},{"$f":"MID($F496,FIND(\"\",$F496)*3,2)","v":""},{"$f":"MID($F496,FIND(\"\",$F496)*5,2)","v":""},{"$f":"G496","v":0},{"$f":"IF(AM494=\"кмс\",AM$2,IF(AM494=\"мс\",AN$2,IF(AM494=\"мсмк\",AO$2,IF(AM494=\"змс\",AP$2,AM494))))","v":0}]
[]
[null,null,null,null,null,null,null,null,null,null,null,null,{"$f":"D496","v":0},null,null,null,{"$f":"CONCATENATE(AH494,AI494)","v":{"$error":"#VALUE!"}},{"$f":"CONCATENATE(AJ494,\".\",AK494,\".\",AL494,\",\",\" \",AN494)","v":".., 0"},{"$f":"UPPER(H496)","v":""},{"$f":"CONCATENATE(PROPER(I496),\", \",PROPER(J496),\", \",UPPER(K496))","v":", , "},null,{"$f":"PROPER(L496)","v":""},null,null,null,null,null,null,null,null,null,{"$f":"IFERROR(LEFT(E498,FIND(\" \",E498)-1),E498)","v":0},{"$f":"MID(E498,FIND(\" \",E498)*1,27)","v":{"$error":"#VALUE!"}},{"$f":"UPPER(AF496)","v":"0"},{"$f":"PROPER(AG496)","v":{"$error":"#VALUE!"}},{"$f":"MID($F498,FIND(\"\",$F498)*1,2)","v":""},{"$f":"MID($F498,FIND(\"\",$F498)*3,2)","v":""},{"$f":"MID($F498,FIND(\"\",$F498)*5,2)","v":""},{"$f":"G498","v":0},{"$f":"IF(AM496=\"кмс\",AM$2,IF(AM496=\"мс\",AN$2,IF(AM496=\"мсмк\",AO$2,IF(AM496=\"змс\",AP$2,AM496))))","v":0}]
[]
[null,null,null,null,null,null,null,null,null,null,null,null,{"$f":"D498","v":0},null,null,null,{"$f":"CONCATENATE(AH496,AI496)","v":{"$error":"#VALUE!"}},{"$f":"CONCATENATE(AJ496,\".\",AK496,\".\",AL496,\",\",\" \",AN496)","v":".., 0"},{"$f":"UPPER(H498)","v":""},{"$f":"CONCATENATE(PROPER(I498),\", \",PROPER(J498),\", \",UPPER(K498))","v":", , "},null,{"$f":"PROPER(L498)","v":""},null,null,null,null,null,null,null,null,null,{"$f":"IFERROR(LEFT(E500,FIND(\" \",E500)-1),E500)","v":0},{"$f":"MID(E500,FIND(\" \",E500)*1,27)","v":{"$error":"#VALUE!"}},{"$f":"UPPER(AF498)","v":"0"},{"$f":"PROPER(AG498)","v":{"$error":"#VALUE!"}},{"$f":"MID($F500,FIND(\"\",$F500)*1,2)","v":""},{"$f":"MID($F500,FIND(\"\",$F500)*3,2)","v":""},{"$f":"MID($F500,FIND(\"\",$F500)*5,2)","v":""},{"$f":"G500","v":0},{"$f":"IF(AM498=\"кмс\",AM$2,IF(AM498=\"мс\",AN$2,IF(AM498=\"мсмк\",AO$2,IF(AM498=\"змс\",AP$2,AM498))))","v":0}]
[]
[null,null,null,null,null,null,null,null,null,null,null,null,{"$f":"D500","v":0},null,null,null,{"$f":"CONCATENATE(AH498,AI498)","v":{"$error":"#VALUE!"}},{"$f":"CONCATENATE(AJ498,\".\",AK498,\".\",AL498,\",\",\" \",AN498)","v":".., 0"},{"$f":"UPPER(H500)","v":""},{"$f":"CONCATENATE(PROPER(I500),\", \",PROPER(J500),\", \",UPPER(K500))","v":", , "},null,{"$f":"PROPER(L500)","v":""},null,null,null,null,null,null,null,null,null,{"$f":"IFERROR(LEFT(E502,FIND(\" \",E502)-1),E502)","v":0},{"$f":"MID(E502,FIND(\" \",E502)*1,27)","v":{"$error":"#VALUE!"}},{"$f":"UPPER(AF500)","v":"0"},{"$f":"PROPER(AG500)","v":{"$error":"#VALUE!"}},{"$f":"MID($F502,FIND(\"\",$F502)*1,2)","v":""},{"$f":"MID($F502,FIND(\"\",$F502)*3,2)","v":""},{"$f":"MID($F502,FIND(\"\",$F502)*5,2)","v":""},{"$f":"G502","v":0},{"$f":"IF(AM500=\"кмс\",AM$2,IF(AM500=\"мс\",AN$2,IF(AM500=\"мсмк\",AO$2,IF(AM500=\"змс\",AP$2,AM500))))","v":0}]
[]
[null,null,null,null,null,null,null,null,null,null,null,null,{"$f":"D502","v":0},null,null,null,{"$f":"CONCATENATE(AH500,AI500)","v":{"$error":"#VALUE!"}},{"$f":"CONCATENATE(AJ500,\".\",AK500,\".\",AL500,\",\",\" \",AN500)","v":".., 0"},{"$f":"UPPER(H502)","v":""},{"$f":"CONCATENATE(PROPER(I502),\", \",PROPER(J502),\", \",UPPER(K502))","v":", , "},null,{"$f":"PROPER(L502)","v":""},null,null,null,null,null,null,null,null,null,{"$f":"IFERROR(LEFT(E504,FIND(\" \",E504)-1),E504)","v":0},{"$f":"MID(E504,FIND(\" \",E504)*1,27)","v":{"$error":"#VALUE!"}},{"$f":"UPPER(AF502)","v":"0"},{"$f":"PROPER(AG502)","v":{"$error":"#VALUE!"}},{"$f":"MID($F504,FIND(\"\",$F504)*1,2)","v":""},{"$f":"MID($F504,FIND(\"\",$F504)*3,2)","v":""},{"$f":"MID($F504,FIND(\"\",$F504)*5,2)","v":""},{"$f":"G504","v":0},{"$f":"IF(AM502=\"кмс\",AM$2,IF(AM502=\"мс\",AN$2,IF(AM502=\"мсмк\",AO$2,IF(AM502=\"змс\",AP$2,AM502))))","v":0}]
[]
[null,null,null,null,null,null,null,null,null,null,null,null,{"$f":"D504","v":0},null,null,null,{"$f":"CONCATENATE(AH502,AI502)","v":{"$error":"#VALUE!"}},{"$f":"CONCATENATE(AJ502,\".\",AK502,\".\",AL502,\",\",\" \",AN502)","v":".., 0"},{"$f":"UPPER(H504)","v":""},{"$f":"CONCATENATE(PROPER(I504),\", \",PROPER(J504),\", \",UPPER(K504))","v":", , "},null,{"$f":"PROPER(L504)","v":""},null,null,null,null,null,null,null,null,null,{"$f":"IFERROR(LEFT(E506,FIND(\" \",E506)-1),E506)","v":0},{"$f":"MID(E506,FIND(\" \",E506)*1,27)","v":{"$error":"#VALUE!"}},{"$f":"UPPER(AF504)","v":"0"},{"$f":"PROPER(AG504)","v":{"$error":"#VALUE!"}},{"$f":"MID($F506,FIND(\"\",$F506)*1,2)","v":""},{"$f":"MID($F506,FIND(\"\",$F506)*3,2)","v":""},{"$f":"MID($F506,FIND(\"\",$F506)*5,2)","v":""},{"$f":"G506","v":0},{"$f":"IF(AM504=\"кмс\",AM$2,IF(AM504=\"мс\",AN$2,IF(AM504=\"мсмк\",AO$2,IF(AM504=\"змс\",AP$2,AM504))))","v":0}]
[]
[null,null,null,null,null,null,null,null,null,null,null,null,{"$f":"D506","v":0},null,null,null,{"$f":"CONCATENATE(AH504,AI504)","v":{"$error":"#VALUE!"}},{"$f":"CONCATENATE(AJ504,\".\",AK504,\".\",AL504,\",\",\" \",AN504)","v":".., 0"},{"$f":"UPPER(H506)","v":""},{"$f":"CONCATENATE(PROPER(I506),\", \",PROPER(J506),\", \",UPPER(K506))","v":", , "},null,{"$f":"PROPER(L506)","v":""},null,null,null,null,null,null,null,null,null,{"$f":"IFERROR(LEFT(E508,FIND(\" \",E508)-1),E508)","v":0},{"$f":"MID(E508,FIND(\" \",E508)*1,27)","v":{"$error":"#VALUE!"}},{"$f":"UPPER(AF506)","v":"0"},{"$f":"PROPER(AG506)","v":{"$error":"#VALUE!"}},{"$f":"MID($F508,FIND(\"\",$F508)*1,2)","v":""},{"$f":"MID($F508,FIND(\"\",$F508)*3,2)","v":""},{"$f":"MID($F508,FIND(\"\",$F508)*5,2)","v":""},{"$f":"G508","v":0},{"$f":"IF(AM506=\"кмс\",AM$2,IF(AM506=\"мс\",AN$2,IF(AM506=\"мсмк\",AO$2,IF(AM506=\"змс\",AP$2,AM506))))","v":0}]
[]
[null,null,null,null,null,null,null,null,null,null,null,null,{"$f":"D508","v":0},null,null,null,{"$f":"CONCATENATE(AH506,AI506)","v":{"$error":"#VALUE!"}},{"$f":"CONCATENATE(AJ506,\".\",AK506,\".\",AL506,\",\",\" \",AN506)","v":".., 0"},{"$f":"UPPER(H508)","v":""},{"$f":"CONCATENATE(PROPER(I508),\", \",PROPER(J508),\", \",UPPER(K508))","v":", , "},null,{"$f":"PROPER(L508)","v":""},null,null,null,null,null,null,null,null,null,{"$f":"IFERROR(LEFT(E510,FIND(\" \",E510)-1),E510)","v":0},{"$f":"MID(E510,FIND(\" \",E510)*1,27)","v":{"$error":"#VALUE!"}},{"$f":"UPPER(AF508)","v":"0"},{"$f":"PROPER(AG508)","v":{"$error":"#VALUE!"}},{"$f":"MID($F510,FIND(\"\",$F510)*1,2)","v":""},{"$f":"MID($F510,FIND(\"\",$F510)*3,2)","v":""},{"$f":"MID($F510,FIND(\"\",$F510)*5,2)","v":""},{"$f":"G510","v":0},{"$f":"IF(AM508=\"кмс\",AM$2,IF(AM508=\"мс\",AN$2,IF(AM508=\"мсмк\",AO$2,IF(AM508=\"змс\",AP$2,AM508))))","v":0}]
[]
[null,null,null,null,null,null,null,null,null,null,null,null,{"$f":"D510","v":0},null,null,null,{"$f":"CONCATENATE(AH508,AI508)","v":{"$error":"#VALUE!"}},{"$f":"CONCATENATE(AJ508,\".\",AK508,\".\",AL508,\",\",\" \",AN508)","v":".., 0"},{"$f":"UPPER(H510)","v":""},{"$f":"CONCATENATE(PROPER(I510),\", \",PROPER(J510),\", \",UPPER(K510))","v":", , "},null,{"$f":"PROPER(L510)","v":""},null,null,null,null,null,null,null,null,null,{"$f":"IFERROR(LEFT(E512,FIND(\" \",E512)-1),E512)","v":0},{"$f":"MID(E512,FIND(\" \",E512)*1,27)","v":{"$error":"#VALUE!"}},{"$f":"UPPER(AF510)","v":"0"},{"$f":"PROPER(AG510)","v":{"$error":"#VALUE!"}},{"$f":"MID($F512,FIND(\"\",$F512)*1,2)","v":""},{"$f":"MID($F512,FIND(\"\",$F512)*3,2)","v":""},{"$f":"MID($F512,FIND(\"\",$F512)*5,2)","v":""},{"$f":"G512","v":0},{"$f":"IF(AM510=\"кмс\",AM$2,IF(AM510=\"мс\",AN$2,IF(AM510=\"мсмк\",AO$2,IF(AM510=\"змс\",AP$2,AM510))))","v":0}]
[]
[null,null,null,null,null,null,null,null,null,null,null,null,{"$f":"D512","v":0},null,null,null,{"$f":"CONCATENATE(AH510,AI510)","v":{"$error":"#VALUE!"}},{"$f":"CONCATENATE(AJ510,\".\",AK510,\".\",AL510,\",\",\" \",AN510)","v":".., 0"},{"$f":"UPPER(H512)","v":""},{"$f":"CONCATENATE(PROPER(I512),\", \",PROPER(J512),\", \",UPPER(K512))","v":", , "},null,{"$f":"PROPER(L512)","v":""},null,null,null,null,null,null,null,null,null,{"$f":"IFERROR(LEFT(E514,FIND(\" \",E514)-1),E514)","v":0},{"$f":"MID(E514,FIND(\" \",E514)*1,27)","v":{"$error":"#VALUE!"}},{"$f":"UPPER(AF512)","v":"0"},{"$f":"PROPER(AG512)","v":{"$error":"#VALUE!"}},{"$f":"MID($F514,FIND(\"\",$F514)*1,2)","v":""},{"$f":"MID($F514,FIND(\"\",$F514)*3,2)","v":""},{"$f":"MID($F514,FIND(\"\",$F514)*5,2)","v":""},{"$f":"G514","v":0},{"$f":"IF(AM512=\"кмс\",AM$2,IF(AM512=\"мс\",AN$2,IF(AM512=\"мсмк\",AO$2,IF(AM512=\"змс\",AP$2,AM512))))","v":0}]
[]
[null,null,null,null,null,null,null,null,null,null,null,null,{"$f":"D514","v":0},null,null,null,{"$f":"CONCATENATE(AH512,AI512)","v":{"$error":"#VALUE!"}},{"$f":"CONCATENATE(AJ512,\".\",AK512,\".\",AL512,\",\",\" \",AN512)","v":".., 0"},{"$f":"UPPER(H514)","v":""},{"$f":"CONCATENATE(PROPER(I514),\", \",PROPER(J514),\", \",UPPER(K514))","v":", , "},null,{"$f":"PROPER(L514)","v":""},null,null,null,null,null,null,null,null,null,{"$f":"IFERROR(LEFT(E516,FIND(\" \",E516)-1),E516)","v":0},{"$f":"MID(E516,FIND(\" \",E516)*1,27)","v":{"$error":"#VALUE!"}},{"$f":"UPPER(AF514)","v":"0"},{"$f":"PROPER(AG514)","v":{"$error":"#VALUE!"}},{"$f":"MID($F516,FIND(\"\",$F516)*1,2)","v":""},{"$f":"MID($F516,FIND(\"\",$F516)*3,2)","v":""},{"$f":"MID($F516,FIND(\"\",$F516)*5,2)","v":""},{"$f":"G516","v":0},{"$f":"IF(AM514=\"кмс\",AM$2,IF(AM514=\"мс\",AN$2,IF(AM514=\"мсмк\",AO$2,IF(AM514=\"змс\",AP$2,AM514))))","v":0}]
[]
[null,null,null,null,null,null,null,null,null,null,null,null,{"$f":"D516","v":0},null,null,null,{"$f":"CONCATENATE(AH514,AI514)","v":{"$error":"#VALUE!"}},{"$f":"CONCATENATE(AJ514,\".\",AK514,\".\",AL514,\",\",\" \",AN514)","v":".., 0"},{"$f":"UPPER(H516)","v":""},{"$f":"CONCATENATE(PROPER(I516),\", \",PROPER(J516),\", \",UPPER(K516))","v":", , "},null,{"$f":"PROPER(L516)","v":""},null,null,null,null,null,null,null,null,null,{"$f":"IFERROR(LEFT(E518,FIND(\" \",E518)-1),E518)","v":0},{"$f":"MID(E518,FIND(\" \",E518)*1,27)","v":{"$error":"#VALUE!"}},{"$f":"UPPER(AF516)","v":"0"},{"$f":"PROPER(AG516)","v":{"$error":"#VALUE!"}},{"$f":"MID($F518,FIND(\"\",$F518)*1,2)","v":""},{"$f":"MID($F518,FIND(\"\",$F518)*3,2)","v":""},{"$f":"MID($F518,FIND(\"\",$F518)*5,2)","v":""},{"$f":"G518","v":0},{"$f":"IF(AM516=\"кмс\",AM$2,IF(AM516=\"мс\",AN$2,IF(AM516=\"мсмк\",AO$2,IF(AM516=\"змс\",AP$2,AM516))))","v":0}]
[]
[null,null,null,null,null,null,null,null,null,null,null,null,{"$f":"D518","v":0},null,null,null,{"$f":"CONCATENATE(AH516,AI516)","v":{"$error":"#VALUE!"}},{"$f":"CONCATENATE(AJ516,\".\",AK516,\".\",AL516,\",\",\" \",AN516)","v":".., 0"},{"$f":"UPPER(H518)","v":""},{"$f":"CONCATENATE(PROPER(I518),\", \",PROPER(J518),\", \",UPPER(K518))","v":", , "},null,{"$f":"PROPER(L518)","v":""},null,null,null,null,null,null,null,null,null,{"$f":"IFERROR(LEFT(E520,FIND(\" \",E520)-1),E520)","v":0},{"$f":"MID(E520,FIND(\" \",E520)*1,27)","v":{"$error":"#VALUE!"}},{"$f":"UPPER(AF518)","v":"0"},{"$f":"PROPER(AG518)","v":{"$error":"#VALUE!"}},{"$f":"MID($F520,FIND(\"\",$F520)*1,2)","v":""},{"$f":"MID($F520,FIND(\"\",$F520)*3,2)","v":""},{"$f":"MID($F520,FIND(\"\",$F520)*5,2)","v":""},{"$f":"G520","v":0},{"$f":"IF(AM518=\"кмс\",AM$2,IF(AM518=\"мс\",AN$2,IF(AM518=\"мсмк\",AO$2,IF(AM518=\"змс\",AP$2,AM518))))","v":0}]
[]
[null,null,null,null,null,null,null,null,null,null,null,null,{"$f":"D520","v":0},null,null,null,{"$f":"CONCATENATE(AH518,AI518)","v":{"$error":"#VALUE!"}},{"$f":"CONCATENATE(AJ518,\".\",AK518,\".\",AL518,\",\",\" \",AN518)","v":".., 0"},{"$f":"UPPER(H520)","v":""},{"$f":"CONCATENATE(PROPER(I520),\", \",PROPER(J520),\", \",UPPER(K520))","v":", , "},null,{"$f":"PROPER(L520)","v":""},null,null,null,null,null,null,null,null,null,{"$f":"IFERROR(LEFT(E522,FIND(\" \",E522)-1),E522)","v":0},{"$f":"MID(E522,FIND(\" \",E522)*1,27)","v":{"$error":"#VALUE!"}},{"$f":"UPPER(AF520)","v":"0"},{"$f":"PROPER(AG520)","v":{"$error":"#VALUE!"}},{"$f":"MID($F522,FIND(\"\",$F522)*1,2)","v":""},{"$f":"MID($F522,FIND(\"\",$F522)*3,2)","v":""},{"$f":"MID($F522,FIND(\"\",$F522)*5,2)","v":""},{"$f":"G522","v":0},{"$f":"IF(AM520=\"кмс\",AM$2,IF(AM520=\"мс\",AN$2,IF(AM520=\"мсмк\",AO$2,IF(AM520=\"змс\",AP$2,AM520))))","v":0}]
[]
[null,null,null,null,null,null,null,null,null,null,null,null,{"$f":"D522","v":0},null,null,null,{"$f":"CONCATENATE(AH520,AI520)","v":{"$error":"#VALUE!"}},{"$f":"CONCATENATE(AJ520,\".\",AK520,\".\",AL520,\",\",\" \",AN520)","v":".., 0"},{"$f":"UPPER(H522)","v":""},{"$f":"CONCATENATE(PROPER(I522),\", \",PROPER(J522),\", \",UPPER(K522))","v":", , "},null,{"$f":"PROPER(L522)","v":""},null,null,null,null,null,null,null,null,null,{"$f":"IFERROR(LEFT(E524,FIND(\" \",E524)-1),E524)","v":0},{"$f":"MID(E524,FIND(\" \",E524)*1,27)","v":{"$error":"#VALUE!"}},{"$f":"UPPER(AF522)","v":"0"},{"$f":"PROPER(AG522)","v":{"$error":"#VALUE!"}},{"$f":"MID($F524,FIND(\"\",$F524)*1,2)","v":""},{"$f":"MID($F524,FIND(\"\",$F524)*3,2)","v":""},{"$f":"MID($F524,FIND(\"\",$F524)*5,2)","v":""},{"$f":"G524","v":0},{"$f":"IF(AM522=\"кмс\",AM$2,IF(AM522=\"мс\",AN$2,IF(AM522=\"мсмк\",AO$2,IF(AM522=\"змс\",AP$2,AM522))))","v":0}]
[]
[null,null,null,null,null,null,null,null,null,null,null,null,{"$f":"D524","v":0},null,null,null,{"$f":"CONCATENATE(AH522,AI522)","v":{"$error":"#VALUE!"}},{"$f":"CONCATENATE(AJ522,\".\",AK522,\".\",AL522,\",\",\" \",AN522)","v":".., 0"},{"$f":"UPPER(H524)","v":""},{"$f":"CONCATENATE(PROPER(I524),\", \",PROPER(J524),\", \",UPPER(K524))","v":", , "},null,{"$f":"PROPER(L524)","v":""},null,null,null,null,null,null,null,null,null,{"$f":"IFERROR(LEFT(E526,FIND(\" \",E526)-1),E526)","v":0},{"$f":"MID(E526,FIND(\" \",E526)*1,27)","v":{"$error":"#VALUE!"}},{"$f":"UPPER(AF524)","v":"0"},{"$f":"PROPER(AG524)","v":{"$error":"#VALUE!"}},{"$f":"MID($F526,FIND(\"\",$F526)*1,2)","v":""},{"$f":"MID($F526,FIND(\"\",$F526)*3,2)","v":""},{"$f":"MID($F526,FIND(\"\",$F526)*5,2)","v":""},{"$f":"G526","v":0},{"$f":"IF(AM524=\"кмс\",AM$2,IF(AM524=\"мс\",AN$2,IF(AM524=\"мсмк\",AO$2,IF(AM524=\"змс\",AP$2,AM524))))","v":0}]
[]
[null,null,null,null,null,null,null,null,null,null,null,null,{"$f":"D526","v":0},null,null,null,{"$f":"CONCATENATE(AH524,AI524)","v":{"$error":"#VALUE!"}},{"$f":"CONCATENATE(AJ524,\".\",AK524,\".\",AL524,\",\",\" \",AN524)","v":".., 0"},{"$f":"UPPER(H526)","v":""},{"$f":"CONCATENATE(PROPER(I526),\", \",PROPER(J526),\", \",UPPER(K526))","v":", , "},null,{"$f":"PROPER(L526)","v":""},null,null,null,null,null,null,null,null,null,{"$f":"IFERROR(LEFT(E528,FIND(\" \",E528)-1),E528)","v":0},{"$f":"MID(E528,FIND(\" \",E528)*1,27)","v":{"$error":"#VALUE!"}},{"$f":"UPPER(AF526)","v":"0"},{"$f":"PROPER(AG526)","v":{"$error":"#VALUE!"}},{"$f":"MID($F528,FIND(\"\",$F528)*1,2)","v":""},{"$f":"MID($F528,FIND(\"\",$F528)*3,2)","v":""},{"$f":"MID($F528,FIND(\"\",$F528)*5,2)","v":""},{"$f":"G528","v":0},{"$f":"IF(AM526=\"кмс\",AM$2,IF(AM526=\"мс\",AN$2,IF(AM526=\"мсмк\",AO$2,IF(AM526=\"змс\",AP$2,AM526))))","v":0}]
[]
[null,null,null,null,null,null,null,null,null,null,null,null,{"$f":"D528","v":0},null,null,null,{"$f":"CONCATENATE(AH526,AI526)","v":{"$error":"#VALUE!"}},{"$f":"CONCATENATE(AJ526,\".\",AK526,\".\",AL526,\",\",\" \",AN526)","v":".., 0"},{"$f":"UPPER(H528)","v":""},{"$f":"CONCATENATE(PROPER(I528),\", \",PROPER(J528),\", \",UPPER(K528))","v":", , "},null,{"$f":"PROPER(L528)","v":""},null,null,null,null,null,null,null,null,null,{"$f":"IFERROR(LEFT(E530,FIND(\" \",E530)-1),E530)","v":0},{"$f":"MID(E530,FIND(\" \",E530)*1,27)","v":{"$error":"#VALUE!"}},{"$f":"UPPER(AF528)","v":"0"},{"$f":"PROPER(AG528)","v":{"$error":"#VALUE!"}},{"$f":"MID($F530,FIND(\"\",$F530)*1,2)","v":""},{"$f":"MID($F530,FIND(\"\",$F530)*3,2)","v":""},{"$f":"MID($F530,FIND(\"\",$F530)*5,2)","v":""},{"$f":"G530","v":0},{"$f":"IF(AM528=\"кмс\",AM$2,IF(AM528=\"мс\",AN$2,IF(AM528=\"мсмк\",AO$2,IF(AM528=\"змс\",AP$2,AM528))))","v":0}]
[]
[null,null,null,null,null,null,null,null,null,null,null,null,{"$f":"D530","v":0},null,null,null,{"$f":"CONCATENATE(AH528,AI528)","v":{"$error":"#VALUE!"}},{"$f":"CONCATENATE(AJ528,\".\",AK528,\".\",AL528,\",\",\" \",AN528)","v":".., 0"},{"$f":"UPPER(H530)","v":""},{"$f":"CONCATENATE(PROPER(I530),\", \",PROPER(J530),\", \",UPPER(K530))","v":", , "},null,{"$f":"PROPER(L530)","v":""},null,null,null,null,null,null,null,null,null,{"$f":"IFERROR(LEFT(E532,FIND(\" \",E532)-1),E532)","v":0},{"$f":"MID(E532,FIND(\" \",E532)*1,27)","v":{"$error":"#VALUE!"}},{"$f":"UPPER(AF530)","v":"0"},{"$f":"PROPER(AG530)","v":{"$error":"#VALUE!"}},{"$f":"MID($F532,FIND(\"\",$F532)*1,2)","v":""},{"$f":"MID($F532,FIND(\"\",$F532)*3,2)","v":""},{"$f":"MID($F532,FIND(\"\",$F532)*5,2)","v":""},{"$f":"G532","v":0},{"$f":"IF(AM530=\"кмс\",AM$2,IF(AM530=\"мс\",AN$2,IF(AM530=\"мсмк\",AO$2,IF(AM530=\"змс\",AP$2,AM530))))","v":0}]
[]
[null,null,null,null,null,null,null,null,null,null,null,null,{"$f":"D532","v":0},null,null,null,{"$f":"CONCATENATE(AH530,AI530)","v":{"$error":"#VALUE!"}},{"$f":"CONCATENATE(AJ530,\".\",AK530,\".\",AL530,\",\",\" \",AN530)","v":".., 0"},{"$f":"UPPER(H532)","v":""},{"$f":"CONCATENATE(PROPER(I532),\", \",PROPER(J532),\", \",UPPER(K532))","v":", , "},null,{"$f":"PROPER(L532)","v":""},null,null,null,null,null,null,null,null,null,{"$f":"IFERROR(LEFT(E534,FIND(\" \",E534)-1),E534)","v":0},{"$f":"MID(E534,FIND(\" \",E534)*1,27)","v":{"$error":"#VALUE!"}},{"$f":"UPPER(AF532)","v":"0"},{"$f":"PROPER(AG532)","v":{"$error":"#VALUE!"}},{"$f":"MID($F534,FIND(\"\",$F534)*1,2)","v":""},{"$f":"MID($F534,FIND(\"\",$F534)*3,2)","v":""},{"$f":"MID($F534,FIND(\"\",$F534)*5,2)","v":""},{"$f":"G534","v":0},{"$f":"IF(AM532=\"кмс\",AM$2,IF(AM532=\"мс\",AN$2,IF(AM532=\"мсмк\",AO$2,IF(AM532=\"змс\",AP$2,AM532))))","v":0}]
[]
[null,null,null,null,null,null,null,null,null,null,null,null,{"$f":"D534","v":0},null,null,null,{"$f":"CONCATENATE(AH532,AI532)","v":{"$error":"#VALUE!"}},{"$f":"CONCATENATE(AJ532,\".\",AK532,\".\",AL532,\",\",\" \",AN532)","v":".., 0"},{"$f":"UPPER(H534)","v":""},{"$f":"CONCATENATE(PROPER(I534),\", \",PROPER(J534),\", \",UPPER(K534))","v":", , "},null,{"$f":"PROPER(L534)","v":""},null,null,null,null,null,null,null,null,null,{"$f":"IFERROR(LEFT(E536,FIND(\" \",E536)-1),E536)","v":0},{"$f":"MID(E536,FIND(\" \",E536)*1,27)","v":{"$error":"#VALUE!"}},{"$f":"UPPER(AF534)","v":"0"},{"$f":"PROPER(AG534)","v":{"$error":"#VALUE!"}},{"$f":"MID($F536,FIND(\"\",$F536)*1,2)","v":""},{"$f":"MID($F536,FIND(\"\",$F536)*3,2)","v":""},{"$f":"MID($F536,FIND(\"\",$F536)*5,2)","v":""},{"$f":"G536","v":0},{"$f":"IF(AM534=\"кмс\",AM$2,IF(AM534=\"мс\",AN$2,IF(AM534=\"мсмк\",AO$2,IF(AM534=\"змс\",AP$2,AM534))))","v":0}]
[]
[null,null,null,null,null,null,null,null,null,null,null,null,{"$f":"D536","v":0},null,null,null,{"$f":"CONCATENATE(AH534,AI534)","v":{"$error":"#VALUE!"}},{"$f":"CONCATENATE(AJ534,\".\",AK534,\".\",AL534,\",\",\" \",AN534)","v":".., 0"},{"$f":"UPPER(H536)","v":""},{"$f":"CONCATENATE(PROPER(I536),\", \",PROPER(J536),\", \",UPPER(K536))","v":", , "},null,{"$f":"PROPER(L536)","v":""},null,null,null,null,null,null,null,null,null,{"$f":"IFERROR(LEFT(E538,FIND(\" \",E538)-1),E538)","v":0},{"$f":"MID(E538,FIND(\" \",E538)*1,27)","v":{"$error":"#VALUE!"}},{"$f":"UPPER(AF536)","v":"0"},{"$f":"PROPER(AG536)","v":{"$error":"#VALUE!"}},{"$f":"MID($F538,FIND(\"\",$F538)*1,2)","v":""},{"$f":"MID($F538,FIND(\"\",$F538)*3,2)","v":""},{"$f":"MID($F538,FIND(\"\",$F538)*5,2)","v":""},{"$f":"G538","v":0},{"$f":"IF(AM536=\"кмс\",AM$2,IF(AM536=\"мс\",AN$2,IF(AM536=\"мсмк\",AO$2,IF(AM536=\"змс\",AP$2,AM536))))","v":0}]
[]
[null,null,null,null,null,null,null,null,null,null,null,null,{"$f":"D538","v":0},null,null,null,{"$f":"CONCATENATE(AH536,AI536)","v":{"$error":"#VALUE!"}},{"$f":"CONCATENATE(AJ536,\".\",AK536,\".\",AL536,\",\",\" \",AN536)","v":".., 0"},{"$f":"UPPER(H538)","v":""},{"$f":"CONCATENATE(PROPER(I538),\", \",PROPER(J538),\", \",UPPER(K538))","v":", , "},null,{"$f":"PROPER(L538)","v":""},null,null,null,null,null,null,null,null,null,{"$f":"IFERROR(LEFT(E540,FIND(\" \",E540)-1),E540)","v":0},{"$f":"MID(E540,FIND(\" \",E540)*1,27)","v":{"$error":"#VALUE!"}},{"$f":"UPPER(AF538)","v":"0"},{"$f":"PROPER(AG538)","v":{"$error":"#VALUE!"}},{"$f":"MID($F540,FIND(\"\",$F540)*1,2)","v":""},{"$f":"MID($F540,FIND(\"\",$F540)*3,2)","v":""},{"$f":"MID($F540,FIND(\"\",$F540)*5,2)","v":""},{"$f":"G540","v":0},{"$f":"IF(AM538=\"кмс\",AM$2,IF(AM538=\"мс\",AN$2,IF(AM538=\"мсмк\",AO$2,IF(AM538=\"змс\",AP$2,AM538))))","v":0}]
[]
[null,null,null,null,null,null,null,null,null,null,null,null,{"$f":"D540","v":0},null,null,null,{"$f":"CONCATENATE(AH538,AI538)","v":{"$error":"#VALUE!"}},{"$f":"CONCATENATE(AJ538,\".\",AK538,\".\",AL538,\",\",\" \",AN538)","v":".., 0"},{"$f":"UPPER(H540)","v":""},{"$f":"CONCATENATE(PROPER(I540),\", \",PROPER(J540),\", \",UPPER(K540))","v":", , "},null,{"$f":"PROPER(L540)","v":""},null,null,null,null,null,null,null,null,null,{"$f":"IFERROR(LEFT(E542,FIND(\" \",E542)-1),E542)","v":0},{"$f":"MID(E542,FIND(\" \",E542)*1,27)","v":{"$error":"#VALUE!"}},{"$f":"UPPER(AF540)","v":"0"},{"$f":"PROPER(AG540)","v":{"$error":"#VALUE!"}},{"$f":"MID($F542,FIND(\"\",$F542)*1,2)","v":""},{"$f":"MID($F542,FIND(\"\",$F542)*3,2)","v":""},{"$f":"MID($F542,FIND(\"\",$F542)*5,2)","v":""},{"$f":"G542","v":0},{"$f":"IF(AM540=\"кмс\",AM$2,IF(AM540=\"мс\",AN$2,IF(AM540=\"мсмк\",AO$2,IF(AM540=\"змс\",AP$2,AM540))))","v":0}]
[]
[null,null,null,null,null,null,null,null,null,null,null,null,{"$f":"D542","v":0},null,null,null,{"$f":"CONCATENATE(AH540,AI540)","v":{"$error":"#VALUE!"}},{"$f":"CONCATENATE(AJ540,\".\",AK540,\".\",AL540,\",\",\" \",AN540)","v":".., 0"},{"$f":"UPPER(H542)","v":""},{"$f":"CONCATENATE(PROPER(I542),\", \",PROPER(J542),\", \",UPPER(K542))","v":", , "},null,{"$f":"PROPER(L542)","v":""},null,null,null,null,null,null,null,null,null,{"$f":"IFERROR(LEFT(E544,FIND(\" \",E544)-1),E544)","v":0},{"$f":"MID(E544,FIND(\" \",E544)*1,27)","v":{"$error":"#VALUE!"}},{"$f":"UPPER(AF542)","v":"0"},{"$f":"PROPER(AG542)","v":{"$error":"#VALUE!"}},{"$f":"MID($F544,FIND(\"\",$F544)*1,2)","v":""},{"$f":"MID($F544,FIND(\"\",$F544)*3,2)","v":""},{"$f":"MID($F544,FIND(\"\",$F544)*5,2)","v":""},{"$f":"G544","v":0},{"$f":"IF(AM542=\"кмс\",AM$2,IF(AM542=\"мс\",AN$2,IF(AM542=\"мсмк\",AO$2,IF(AM542=\"змс\",AP$2,AM542))))","v":0}]
[]
[null,null,null,null,null,null,null,null,null,null,null,null,{"$f":"D544","v":0},null,null,null,{"$f":"CONCATENATE(AH542,AI542)","v":{"$error":"#VALUE!"}},{"$f":"CONCATENATE(AJ542,\".\",AK542,\".\",AL542,\",\",\" \",AN542)","v":".., 0"},{"$f":"UPPER(H544)","v":""},{"$f":"CONCATENATE(PROPER(I544),\", \",PROPER(J544),\", \",UPPER(K544))","v":", , "},null,{"$f":"PROPER(L544)","v":""},null,null,null,null,null,null,null,null,null,{"$f":"IFERROR(LEFT(E546,FIND(\" \",E546)-1),E546)","v":0},{"$f":"MID(E546,FIND(\" \",E546)*1,27)","v":{"$error":"#VALUE!"}},{"$f":"UPPER(AF544)","v":"0"},{"$f":"PROPER(AG544)","v":{"$error":"#VALUE!"}},{"$f":"MID($F546,FIND(\"\",$F546)*1,2)","v":""},{"$f":"MID($F546,FIND(\"\",$F546)*3,2)","v":""},{"$f":"MID($F546,FIND(\"\",$F546)*5,2)","v":""},{"$f":"G546","v":0},{"$f":"IF(AM544=\"кмс\",AM$2,IF(AM544=\"мс\",AN$2,IF(AM544=\"мсмк\",AO$2,IF(AM544=\"змс\",AP$2,AM544))))","v":0}]
[]
[null,null,null,null,null,null,null,null,null,null,null,null,{"$f":"D546","v":0},null,null,null,{"$f":"CONCATENATE(AH544,AI544)","v":{"$error":"#VALUE!"}},{"$f":"CONCATENATE(AJ544,\".\",AK544,\".\",AL544,\",\",\" \",AN544)","v":".., 0"},{"$f":"UPPER(H546)","v":""},{"$f":"CONCATENATE(PROPER(I546),\", \",PROPER(J546),\", \",UPPER(K546))","v":", , "},null,{"$f":"PROPER(L546)","v":""},null,null,null,null,null,null,null,null,null,{"$f":"IFERROR(LEFT(E548,FIND(\" \",E548)-1),E548)","v":0},{"$f":"MID(E548,FIND(\" \",E548)*1,27)","v":{"$error":"#VALUE!"}},{"$f":"UPPER(AF546)","v":"0"},{"$f":"PROPER(AG546)","v":{"$error":"#VALUE!"}},{"$f":"MID($F548,FIND(\"\",$F548)*1,2)","v":""},{"$f":"MID($F548,FIND(\"\",$F548)*3,2)","v":""},{"$f":"MID($F548,FIND(\"\",$F548)*5,2)","v":""},{"$f":"G548","v":0},{"$f":"IF(AM546=\"кмс\",AM$2,IF(AM546=\"мс\",AN$2,IF(AM546=\"мсмк\",AO$2,IF(AM546=\"змс\",AP$2,AM546))))","v":0}]
[]
[null,null,null,null,null,null,null,null,null,null,null,null,{"$f":"D548","v":0},null,null,null,{"$f":"CONCATENATE(AH546,AI546)","v":{"$error":"#VALUE!"}},{"$f":"CONCATENATE(AJ546,\".\",AK546,\".\",AL546,\",\",\" \",AN546)","v":".., 0"},{"$f":"UPPER(H548)","v":""},{"$f":"CONCATENATE(PROPER(I548),\", \",PROPER(J548),\", \",UPPER(K548))","v":", , "},null,{"$f":"PROPER(L548)","v":""},null,null,null,null,null,null,null,null,null,{"$f":"IFERROR(LEFT(E550,FIND(\" \",E550)-1),E550)","v":0},{"$f":"MID(E550,FIND(\" \",E550)*1,27)","v":{"$error":"#VALUE!"}},{"$f":"UPPER(AF548)","v":"0"},{"$f":"PROPER(AG548)","v":{"$error":"#VALUE!"}},{"$f":"MID($F550,FIND(\"\",$F550)*1,2)","v":""},{"$f":"MID($F550,FIND(\"\",$F550)*3,2)","v":""},{"$f":"MID($F550,FIND(\"\",$F550)*5,2)","v":""},{"$f":"G550","v":0},{"$f":"IF(AM548=\"кмс\",AM$2,IF(AM548=\"мс\",AN$2,IF(AM548=\"мсмк\",AO$2,IF(AM548=\"змс\",AP$2,AM548))))","v":0}]
[]
[null,null,null,null,null,null,null,null,null,null,null,null,{"$f":"D550","v":0},null,null,null,{"$f":"CONCATENATE(AH548,AI548)","v":{"$error":"#VALUE!"}},{"$f":"CONCATENATE(AJ548,\".\",AK548,\".\",AL548,\",\",\" \",AN548)","v":".., 0"},{"$f":"UPPER(H550)","v":""},{"$f":"CONCATENATE(PROPER(I550),\", \",PROPER(J550),\", \",UPPER(K550))","v":", , "},null,{"$f":"PROPER(L550)","v":""},null,null,null,null,null,null,null,null,null,{"$f":"IFERROR(LEFT(E552,FIND(\" \",E552)-1),E552)","v":0},{"$f":"MID(E552,FIND(\" \",E552)*1,27)","v":{"$error":"#VALUE!"}},{"$f":"UPPER(AF550)","v":"0"},{"$f":"PROPER(AG550)","v":{"$error":"#VALUE!"}},{"$f":"MID($F552,FIND(\"\",$F552)*1,2)","v":""},{"$f":"MID($F552,FIND(\"\",$F552)*3,2)","v":""},{"$f":"MID($F552,FIND(\"\",$F552)*5,2)","v":""},{"$f":"G552","v":0},{"$f":"IF(AM550=\"кмс\",AM$2,IF(AM550=\"мс\",AN$2,IF(AM550=\"мсмк\",AO$2,IF(AM550=\"змс\",AP$2,AM550))))","v":0}]
[]
[null,null,null,null,null,null,null,null,null,null,null,null,{"$f":"D552","v":0},null,null,null,{"$f":"CONCATENATE(AH550,AI550)","v":{"$error":"#VALUE!"}},{"$f":"CONCATENATE(AJ550,\".\",AK550,\".\",AL550,\",\",\" \",AN550)","v":".., 0"},{"$f":"UPPER(H552)","v":""},{"$f":"CONCATENATE(PROPER(I552),\", \",PROPER(J552),\", \",UPPER(K552))","v":", , "},null,{"$f":"PROPER(L552)","v":""},null,null,null,null,null,null,null,null,null,{"$f":"IFERROR(LEFT(E554,FIND(\" \",E554)-1),E554)","v":0},{"$f":"MID(E554,FIND(\" \",E554)*1,27)","v":{"$error":"#VALUE!"}},{"$f":"UPPER(AF552)","v":"0"},{"$f":"PROPER(AG552)","v":{"$error":"#VALUE!"}},{"$f":"MID($F554,FIND(\"\",$F554)*1,2)","v":""},{"$f":"MID($F554,FIND(\"\",$F554)*3,2)","v":""},{"$f":"MID($F554,FIND(\"\",$F554)*5,2)","v":""},{"$f":"G554","v":0},{"$f":"IF(AM552=\"кмс\",AM$2,IF(AM552=\"мс\",AN$2,IF(AM552=\"мсмк\",AO$2,IF(AM552=\"змс\",AP$2,AM552))))","v":0}]
[]
[null,null,null,null,null,null,null,null,null,null,null,null,{"$f":"D554","v":0},null,null,null,{"$f":"CONCATENATE(AH552,AI552)","v":{"$error":"#VALUE!"}},{"$f":"CONCATENATE(AJ552,\".\",AK552,\".\",AL552,\",\",\" \",AN552)","v":".., 0"},{"$f":"UPPER(H554)","v":""},{"$f":"CONCATENATE(PROPER(I554),\", \",PROPER(J554),\", \",UPPER(K554))","v":", , "},null,{"$f":"PROPER(L554)","v":""},null,null,null,null,null,null,null,null,null,{"$f":"IFERROR(LEFT(E556,FIND(\" \",E556)-1),E556)","v":0},{"$f":"MID(E556,FIND(\" \",E556)*1,27)","v":{"$error":"#VALUE!"}},{"$f":"UPPER(AF554)","v":"0"},{"$f":"PROPER(AG554)","v":{"$error":"#VALUE!"}},{"$f":"MID($F556,FIND(\"\",$F556)*1,2)","v":""},{"$f":"MID($F556,FIND(\"\",$F556)*3,2)","v":""},{"$f":"MID($F556,FIND(\"\",$F556)*5,2)","v":""},{"$f":"G556","v":0},{"$f":"IF(AM554=\"кмс\",AM$2,IF(AM554=\"мс\",AN$2,IF(AM554=\"мсмк\",AO$2,IF(AM554=\"змс\",AP$2,AM554))))","v":0}]
[]
[null,null,null,null,null,null,null,null,null,null,null,null,{"$f":"D556","v":0},null,null,null,{"$f":"CONCATENATE(AH554,AI554)","v":{"$error":"#VALUE!"}},{"$f":"CONCATENATE(AJ554,\".\",AK554,\".\",AL554,\",\",\" \",AN554)","v":".., 0"},{"$f":"UPPER(H556)","v":""},{"$f":"CONCATENATE(PROPER(I556),\", \",PROPER(J556),\", \",UPPER(K556))","v":", , "},null,{"$f":"PROPER(L556)","v":""},null,null,null,null,null,null,null,null,null,{"$f":"IFERROR(LEFT(E558,FIND(\" \",E558)-1),E558)","v":0},{"$f":"MID(E558,FIND(\" \",E558)*1,27)","v":{"$error":"#VALUE!"}},{"$f":"UPPER(AF556)","v":"0"},{"$f":"PROPER(AG556)","v":{"$error":"#VALUE!"}},{"$f":"MID($F558,FIND(\"\",$F558)*1,2)","v":""},{"$f":"MID($F558,FIND(\"\",$F558)*3,2)","v":""},{"$f":"MID($F558,FIND(\"\",$F558)*5,2)","v":""},{"$f":"G558","v":0},{"$f":"IF(AM556=\"кмс\",AM$2,IF(AM556=\"мс\",AN$2,IF(AM556=\"мсмк\",AO$2,IF(AM556=\"змс\",AP$2,AM556))))","v":0}]
[]
[null,null,null,null,null,null,null,null,null,null,null,null,{"$f":"D558","v":0},null,null,null,{"$f":"CONCATENATE(AH556,AI556)","v":{"$error":"#VALUE!"}},{"$f":"CONCATENATE(AJ556,\".\",AK556,\".\",AL556,\",\",\" \",AN556)","v":".., 0"},{"$f":"UPPER(H558)","v":""},{"$f":"CONCATENATE(PROPER(I558),\", \",PROPER(J558),\", \",UPPER(K558))","v":", , "},null,{"$f":"PROPER(L558)","v":""},null,null,null,null,null,null,null,null,null,{"$f":"IFERROR(LEFT(E560,FIND(\" \",E560)-1),E560)","v":0},{"$f":"MID(E560,FIND(\" \",E560)*1,27)","v":{"$error":"#VALUE!"}},{"$f":"UPPER(AF558)","v":"0"},{"$f":"PROPER(AG558)","v":{"$error":"#VALUE!"}},{"$f":"MID($F560,FIND(\"\",$F560)*1,2)","v":""},{"$f":"MID($F560,FIND(\"\",$F560)*3,2)","v":""},{"$f":"MID($F560,FIND(\"\",$F560)*5,2)","v":""},{"$f":"G560","v":0},{"$f":"IF(AM558=\"кмс\",AM$2,IF(AM558=\"мс\",AN$2,IF(AM558=\"мсмк\",AO$2,IF(AM558=\"змс\",AP$2,AM558))))","v":0}]
[]
[null,null,null,null,null,null,null,null,null,null,null,null,{"$f":"D560","v":0},null,null,null,{"$f":"CONCATENATE(AH558,AI558)","v":{"$error":"#VALUE!"}},{"$f":"CONCATENATE(AJ558,\".\",AK558,\".\",AL558,\",\",\" \",AN558)","v":".., 0"},{"$f":"UPPER(H560)","v":""},{"$f":"CONCATENATE(PROPER(I560),\", \",PROPER(J560),\", \",UPPER(K560))","v":", , "},null,{"$f":"PROPER(L560)","v":""},null,null,null,null,null,null,null,null,null,{"$f":"IFERROR(LEFT(E562,FIND(\" \",E562)-1),E562)","v":0},{"$f":"MID(E562,FIND(\" \",E562)*1,27)","v":{"$error":"#VALUE!"}},{"$f":"UPPER(AF560)","v":"0"},{"$f":"PROPER(AG560)","v":{"$error":"#VALUE!"}},{"$f":"MID($F562,FIND(\"\",$F562)*1,2)","v":""},{"$f":"MID($F562,FIND(\"\",$F562)*3,2)","v":""},{"$f":"MID($F562,FIND(\"\",$F562)*5,2)","v":""},{"$f":"G562","v":0},{"$f":"IF(AM560=\"кмс\",AM$2,IF(AM560=\"мс\",AN$2,IF(AM560=\"мсмк\",AO$2,IF(AM560=\"змс\",AP$2,AM560))))","v":0}]
[]
[null,null,null,null,null,null,null,null,null,null,null,null,{"$f":"D562","v":0},null,null,null,{"$f":"CONCATENATE(AH560,AI560)","v":{"$error":"#VALUE!"}},{"$f":"CONCATENATE(AJ560,\".\",AK560,\".\",AL560,\",\",\" \",AN560)","v":".., 0"},{"$f":"UPPER(H562)","v":""},{"$f":"CONCATENATE(PROPER(I562),\", \",PROPER(J562),\", \",UPPER(K562))","v":", , "},null,{"$f":"PROPER(L562)","v":""},null,null,null,null,null,null,null,null,null,{"$f":"IFERROR(LEFT(E564,FIND(\" \",E564)-1),E564)","v":0},{"$f":"MID(E564,FIND(\" \",E564)*1,27)","v":{"$error":"#VALUE!"}},{"$f":"UPPER(AF562)","v":"0"},{"$f":"PROPER(AG562)","v":{"$error":"#VALUE!"}},{"$f":"MID($F564,FIND(\"\",$F564)*1,2)","v":""},{"$f":"MID($F564,FIND(\"\",$F564)*3,2)","v":""},{"$f":"MID($F564,FIND(\"\",$F564)*5,2)","v":""},{"$f":"G564","v":0},{"$f":"IF(AM562=\"кмс\",AM$2,IF(AM562=\"мс\",AN$2,IF(AM562=\"мсмк\",AO$2,IF(AM562=\"змс\",AP$2,AM562))))","v":0}]
[]
[null,null,null,null,null,null,null,null,null,null,null,null,{"$f":"D564","v":0},null,null,null,{"$f":"CONCATENATE(AH562,AI562)","v":{"$error":"#VALUE!"}},{"$f":"CONCATENATE(AJ562,\".\",AK562,\".\",AL562,\",\",\" \",AN562)","v":".., 0"},{"$f":"UPPER(H564)","v":""},{"$f":"CONCATENATE(PROPER(I564),\", \",PROPER(J564),\", \",UPPER(K564))","v":", , "},null,{"$f":"PROPER(L564)","v":""},null,null,null,null,null,null,null,null,null,{"$f":"IFERROR(LEFT(E566,FIND(\" \",E566)-1),E566)","v":0},{"$f":"MID(E566,FIND(\" \",E566)*1,27)","v":{"$error":"#VALUE!"}},{"$f":"UPPER(AF564)","v":"0"},{"$f":"PROPER(AG564)","v":{"$error":"#VALUE!"}},{"$f":"MID($F566,FIND(\"\",$F566)*1,2)","v":""},{"$f":"MID($F566,FIND(\"\",$F566)*3,2)","v":""},{"$f":"MID($F566,FIND(\"\",$F566)*5,2)","v":""},{"$f":"G566","v":0},{"$f":"IF(AM564=\"кмс\",AM$2,IF(AM564=\"мс\",AN$2,IF(AM564=\"мсмк\",AO$2,IF(AM564=\"змс\",AP$2,AM564))))","v":0}]
[]
[null,null,null,null,null,null,null,null,null,null,null,null,{"$f":"D566","v":0},null,null,null,{"$f":"CONCATENATE(AH564,AI564)","v":{"$error":"#VALUE!"}},{"$f":"CONCATENATE(AJ564,\".\",AK564,\".\",AL564,\",\",\" \",AN564)","v":".., 0"},{"$f":"UPPER(H566)","v":""},{"$f":"CONCATENATE(PROPER(I566),\", \",PROPER(J566),\", \",UPPER(K566))","v":", , "},null,{"$f":"PROPER(L566)","v":""},null,null,null,null,null,null,null,null,null,{"$f":"IFERROR(LEFT(E568,FIND(\" \",E568)-1),E568)","v":0},{"$f":"MID(E568,FIND(\" \",E568)*1,27)","v":{"$error":"#VALUE!"}},{"$f":"UPPER(AF566)","v":"0"},{"$f":"PROPER(AG566)","v":{"$error":"#VALUE!"}},{"$f":"MID($F568,FIND(\"\",$F568)*1,2)","v":""},{"$f":"MID($F568,FIND(\"\",$F568)*3,2)","v":""},{"$f":"MID($F568,FIND(\"\",$F568)*5,2)","v":""},{"$f":"G568","v":0},{"$f":"IF(AM566=\"кмс\",AM$2,IF(AM566=\"мс\",AN$2,IF(AM566=\"мсмк\",AO$2,IF(AM566=\"змс\",AP$2,AM566))))","v":0}]
[]
[null,null,null,null,null,null,null,null,null,null,null,null,{"$f":"D568","v":0},null,null,null,{"$f":"CONCATENATE(AH566,AI566)","v":{"$error":"#VALUE!"}},{"$f":"CONCATENATE(AJ566,\".\",AK566,\".\",AL566,\",\",\" \",AN566)","v":".., 0"},{"$f":"UPPER(H568)","v":""},{"$f":"CONCATENATE(PROPER(I568),\", \",PROPER(J568),\", \",UPPER(K568))","v":", , "},null,{"$f":"PROPER(L568)","v":""},null,null,null,null,null,null,null,null,null,{"$f":"IFERROR(LEFT(E570,FIND(\" \",E570)-1),E570)","v":0},{"$f":"MID(E570,FIND(\" \",E570)*1,27)","v":{"$error":"#VALUE!"}},{"$f":"UPPER(AF568)","v":"0"},{"$f":"PROPER(AG568)","v":{"$error":"#VALUE!"}},{"$f":"MID($F570,FIND(\"\",$F570)*1,2)","v":""},{"$f":"MID($F570,FIND(\"\",$F570)*3,2)","v":""},{"$f":"MID($F570,FIND(\"\",$F570)*5,2)","v":""},{"$f":"G570","v":0},{"$f":"IF(AM568=\"кмс\",AM$2,IF(AM568=\"мс\",AN$2,IF(AM568=\"мсмк\",AO$2,IF(AM568=\"змс\",AP$2,AM568))))","v":0}]
[]
[null,null,null,null,null,null,null,null,null,null,null,null,{"$f":"D570","v":0},null,null,null,{"$f":"CONCATENATE(AH568,AI568)","v":{"$error":"#VALUE!"}},{"$f":"CONCATENATE(AJ568,\".\",AK568,\".\",AL568,\",\",\" \",AN568)","v":".., 0"},{"$f":"UPPER(H570)","v":""},{"$f":"CONCATENATE(PROPER(I570),\", \",PROPER(J570),\", \",UPPER(K570))","v":", , "},null,{"$f":"PROPER(L570)","v":""},null,null,null,null,null,null,null,null,null,{"$f":"IFERROR(LEFT(E572,FIND(\" \",E572)-1),E572)","v":0},{"$f":"MID(E572,FIND(\" \",E572)*1,27)","v":{"$error":"#VALUE!"}},{"$f":"UPPER(AF570)","v":"0"},{"$f":"PROPER(AG570)","v":{"$error":"#VALUE!"}},{"$f":"MID($F572,FIND(\"\",$F572)*1,2)","v":""},{"$f":"MID($F572,FIND(\"\",$F572)*3,2)","v":""},{"$f":"MID($F572,FIND(\"\",$F572)*5,2)","v":""},{"$f":"G572","v":0},{"$f":"IF(AM570=\"кмс\",AM$2,IF(AM570=\"мс\",AN$2,IF(AM570=\"мсмк\",AO$2,IF(AM570=\"змс\",AP$2,AM570))))","v":0}]
[]
[null,null,null,null,null,null,null,null,null,null,null,null,{"$f":"D572","v":0},null,null,null,{"$f":"CONCATENATE(AH570,AI570)","v":{"$error":"#VALUE!"}},{"$f":"CONCATENATE(AJ570,\".\",AK570,\".\",AL570,\",\",\" \",AN570)","v":".., 0"},{"$f":"UPPER(H572)","v":""},{"$f":"CONCATENATE(PROPER(I572),\", \",PROPER(J572),\", \",UPPER(K572))","v":", , "},null,{"$f":"PROPER(L572)","v":""},null,null,null,null,null,null,null,null,null,{"$f":"IFERROR(LEFT(E574,FIND(\" \",E574)-1),E574)","v":0},{"$f":"MID(E574,FIND(\" \",E574)*1,27)","v":{"$error":"#VALUE!"}},{"$f":"UPPER(AF572)","v":"0"},{"$f":"PROPER(AG572)","v":{"$error":"#VALUE!"}},{"$f":"MID($F574,FIND(\"\",$F574)*1,2)","v":""},{"$f":"MID($F574,FIND(\"\",$F574)*3,2)","v":""},{"$f":"MID($F574,FIND(\"\",$F574)*5,2)","v":""},{"$f":"G574","v":0},{"$f":"IF(AM572=\"кмс\",AM$2,IF(AM572=\"мс\",AN$2,IF(AM572=\"мсмк\",AO$2,IF(AM572=\"змс\",AP$2,AM572))))","v":0}]
[]
[null,null,null,null,null,null,null,null,null,null,null,null,{"$f":"D574","v":0},null,null,null,{"$f":"CONCATENATE(AH572,AI572)","v":{"$error":"#VALUE!"}},{"$f":"CONCATENATE(AJ572,\".\",AK572,\".\",AL572,\",\",\" \",AN572)","v":".., 0"},{"$f":"UPPER(H574)","v":""},{"$f":"CONCATENATE(PROPER(I574),\", \",PROPER(J574),\", \",UPPER(K574))","v":", , "},null,{"$f":"PROPER(L574)","v":""},null,null,null,null,null,null,null,null,null,{"$f":"IFERROR(LEFT(E576,FIND(\" \",E576)-1),E576)","v":0},{"$f":"MID(E576,FIND(\" \",E576)*1,27)","v":{"$error":"#VALUE!"}},{"$f":"UPPER(AF574)","v":"0"},{"$f":"PROPER(AG574)","v":{"$error":"#VALUE!"}},{"$f":"MID($F576,FIND(\"\",$F576)*1,2)","v":""},{"$f":"MID($F576,FIND(\"\",$F576)*3,2)","v":""},{"$f":"MID($F576,FIND(\"\",$F576)*5,2)","v":""},{"$f":"G576","v":0},{"$f":"IF(AM574=\"кмс\",AM$2,IF(AM574=\"мс\",AN$2,IF(AM574=\"мсмк\",AO$2,IF(AM574=\"змс\",AP$2,AM574))))","v":0}]
[]
[null,null,null,null,null,null,null,null,null,null,null,null,{"$f":"D576","v":0},null,null,null,{"$f":"CONCATENATE(AH574,AI574)","v":{"$error":"#VALUE!"}},{"$f":"CONCATENATE(AJ574,\".\",AK574,\".\",AL574,\",\",\" \",AN574)","v":".., 0"},{"$f":"UPPER(H576)","v":""},{"$f":"CONCATENATE(PROPER(I576),\", \",PROPER(J576),\", \",UPPER(K576))","v":", , "},null,{"$f":"PROPER(L576)","v":""},null,null,null,null,null,null,null,null,null,{"$f":"IFERROR(LEFT(E578,FIND(\" \",E578)-1),E578)","v":0},{"$f":"MID(E578,FIND(\" \",E578)*1,27)","v":{"$error":"#VALUE!"}},{"$f":"UPPER(AF576)","v":"0"},{"$f":"PROPER(AG576)","v":{"$error":"#VALUE!"}},{"$f":"MID($F578,FIND(\"\",$F578)*1,2)","v":""},{"$f":"MID($F578,FIND(\"\",$F578)*3,2)","v":""},{"$f":"MID($F578,FIND(\"\",$F578)*5,2)","v":""},{"$f":"G578","v":0},{"$f":"IF(AM576=\"кмс\",AM$2,IF(AM576=\"мс\",AN$2,IF(AM576=\"мсмк\",AO$2,IF(AM576=\"змс\",AP$2,AM576))))","v":0}]
[]
[null,null,null,null,null,null,null,null,null,null,null,null,{"$f":"D578","v":0},null,null,null,{"$f":"CONCATENATE(AH576,AI576)","v":{"$error":"#VALUE!"}},{"$f":"CONCATENATE(AJ576,\".\",AK576,\".\",AL576,\",\",\" \",AN576)","v":".., 0"},{"$f":"UPPER(H578)","v":""},{"$f":"CONCATENATE(PROPER(I578),\", \",PROPER(J578),\", \",UPPER(K578))","v":", , "},null,{"$f":"PROPER(L578)","v":""},null,null,null,null,null,null,null,null,null,{"$f":"IFERROR(LEFT(E580,FIND(\" \",E580)-1),E580)","v":0},{"$f":"MID(E580,FIND(\" \",E580)*1,27)","v":{"$error":"#VALUE!"}},{"$f":"UPPER(AF578)","v":"0"},{"$f":"PROPER(AG578)","v":{"$error":"#VALUE!"}},{"$f":"MID($F580,FIND(\"\",$F580)*1,2)","v":""},{"$f":"MID($F580,FIND(\"\",$F580)*3,2)","v":""},{"$f":"MID($F580,FIND(\"\",$F580)*5,2)","v":""},{"$f":"G580","v":0},{"$f":"IF(AM578=\"кмс\",AM$2,IF(AM578=\"мс\",AN$2,IF(AM578=\"мсмк\",AO$2,IF(AM578=\"змс\",AP$2,AM578))))","v":0}]
[]
[null,null,null,null,null,null,null,null,null,null,null,null,{"$f":"D580","v":0},null,null,null,{"$f":"CONCATENATE(AH578,AI578)","v":{"$error":"#VALUE!"}},{"$f":"CONCATENATE(AJ578,\".\",AK578,\".\",AL578,\",\",\" \",AN578)","v":".., 0"},{"$f":"UPPER(H580)","v":""},{"$f":"CONCATENATE(PROPER(I580),\", \",PROPER(J580),\", \",UPPER(K580))","v":", , "},null,{"$f":"PROPER(L580)","v":""},null,null,null,null,null,null,null,null,null,{"$f":"IFERROR(LEFT(E582,FIND(\" \",E582)-1),E582)","v":0},{"$f":"MID(E582,FIND(\" \",E582)*1,27)","v":{"$error":"#VALUE!"}},{"$f":"UPPER(AF580)","v":"0"},{"$f":"PROPER(AG580)","v":{"$error":"#VALUE!"}},{"$f":"MID($F582,FIND(\"\",$F582)*1,2)","v":""},{"$f":"MID($F582,FIND(\"\",$F582)*3,2)","v":""},{"$f":"MID($F582,FIND(\"\",$F582)*5,2)","v":""},{"$f":"G582","v":0},{"$f":"IF(AM580=\"кмс\",AM$2,IF(AM580=\"мс\",AN$2,IF(AM580=\"мсмк\",AO$2,IF(AM580=\"змс\",AP$2,AM580))))","v":0}]
[]
[null,null,null,null,null,null,null,null,null,null,null,null,{"$f":"D582","v":0},null,null,null,{"$f":"CONCATENATE(AH580,AI580)","v":{"$error":"#VALUE!"}},{"$f":"CONCATENATE(AJ580,\".\",AK580,\".\",AL580,\",\",\" \",AN580)","v":".., 0"},{"$f":"UPPER(H582)","v":""},{"$f":"CONCATENATE(PROPER(I582),\", \",PROPER(J582),\", \",UPPER(K582))","v":", , "},null,{"$f":"PROPER(L582)","v":""},null,null,null,null,null,null,null,null,null,{"$f":"IFERROR(LEFT(E584,FIND(\" \",E584)-1),E584)","v":0},{"$f":"MID(E584,FIND(\" \",E584)*1,27)","v":{"$error":"#VALUE!"}},{"$f":"UPPER(AF582)","v":"0"},{"$f":"PROPER(AG582)","v":{"$error":"#VALUE!"}},{"$f":"MID($F584,FIND(\"\",$F584)*1,2)","v":""},{"$f":"MID($F584,FIND(\"\",$F584)*3,2)","v":""},{"$f":"MID($F584,FIND(\"\",$F584)*5,2)","v":""},{"$f":"G584","v":0},{"$f":"IF(AM582=\"кмс\",AM$2,IF(AM582=\"мс\",AN$2,IF(AM582=\"мсмк\",AO$2,IF(AM582=\"змс\",AP$2,AM582))))","v":0}]
[]
[null,null,null,null,null,null,null,null,null,null,null,null,{"$f":"D584","v":0},null,null,null,{"$f":"CONCATENATE(AH582,AI582)","v":{"$error":"#VALUE!"}},{"$f":"CONCATENATE(AJ582,\".\",AK582,\".\",AL582,\",\",\" \",AN582)","v":".., 0"},{"$f":"UPPER(H584)","v":""},{"$f":"CONCATENATE(PROPER(I584),\", \",PROPER(J584),\", \",UPPER(K584))","v":", , "},null,{"$f":"PROPER(L584)","v":""},null,null,null,null,null,null,null,null,null,{"$f":"IFERROR(LEFT(E586,FIND(\" \",E586)-1),E586)","v":0},{"$f":"MID(E586,FIND(\" \",E586)*1,27)","v":{"$error":"#VALUE!"}},{"$f":"UPPER(AF584)","v":"0"},{"$f":"PROPER(AG584)","v":{"$error":"#VALUE!"}},{"$f":"MID($F586,FIND(\"\",$F586)*1,2)","v":""},{"$f":"MID($F586,FIND(\"\",$F586)*3,2)","v":""},{"$f":"MID($F586,FIND(\"\",$F586)*5,2)","v":""},{"$f":"G586","v":0},{"$f":"IF(AM584=\"кмс\",AM$2,IF(AM584=\"мс\",AN$2,IF(AM584=\"мсмк\",AO$2,IF(AM584=\"змс\",AP$2,AM584))))","v":0}]
[]
[null,null,null,null,null,null,null,null,null,null,null,null,{"$f":"D586","v":0},null,null,null,{"$f":"CONCATENATE(AH584,AI584)","v":{"$error":"#VALUE!"}},{"$f":"CONCATENATE(AJ584,\".\",AK584,\".\",AL584,\",\",\" \",AN584)","v":".., 0"},{"$f":"UPPER(H586)","v":""},{"$f":"CONCATENATE(PROPER(I586),\", \",PROPER(J586),\", \",UPPER(K586))","v":", , "},null,{"$f":"PROPER(L586)","v":""},null,null,null,null,null,null,null,null,null,{"$f":"IFERROR(LEFT(E588,FIND(\" \",E588)-1),E588)","v":0},{"$f":"MID(E588,FIND(\" \",E588)*1,27)","v":{"$error":"#VALUE!"}},{"$f":"UPPER(AF586)","v":"0"},{"$f":"PROPER(AG586)","v":{"$error":"#VALUE!"}},{"$f":"MID($F588,FIND(\"\",$F588)*1,2)","v":""},{"$f":"MID($F588,FIND(\"\",$F588)*3,2)","v":""},{"$f":"MID($F588,FIND(\"\",$F588)*5,2)","v":""},{"$f":"G588","v":0},{"$f":"IF(AM586=\"кмс\",AM$2,IF(AM586=\"мс\",AN$2,IF(AM586=\"мсмк\",AO$2,IF(AM586=\"змс\",AP$2,AM586))))","v":0}]
[]
[null,null,null,null,null,null,null,null,null,null,null,null,{"$f":"D588","v":0},null,null,null,{"$f":"CONCATENATE(AH586,AI586)","v":{"$error":"#VALUE!"}},{"$f":"CONCATENATE(AJ586,\".\",AK586,\".\",AL586,\",\",\" \",AN586)","v":".., 0"},{"$f":"UPPER(H588)","v":""},{"$f":"CONCATENATE(PROPER(I588),\", \",PROPER(J588),\", \",UPPER(K588))","v":", , "},null,{"$f":"PROPER(L588)","v":""},null,null,null,null,null,null,null,null,null,{"$f":"IFERROR(LEFT(E590,FIND(\" \",E590)-1),E590)","v":0},{"$f":"MID(E590,FIND(\" \",E590)*1,27)","v":{"$error":"#VALUE!"}},{"$f":"UPPER(AF588)","v":"0"},{"$f":"PROPER(AG588)","v":{"$error":"#VALUE!"}},{"$f":"MID($F590,FIND(\"\",$F590)*1,2)","v":""},{"$f":"MID($F590,FIND(\"\",$F590)*3,2)","v":""},{"$f":"MID($F590,FIND(\"\",$F590)*5,2)","v":""},{"$f":"G590","v":0},{"$f":"IF(AM588=\"кмс\",AM$2,IF(AM588=\"мс\",AN$2,IF(AM588=\"мсмк\",AO$2,IF(AM588=\"змс\",AP$2,AM588))))","v":0}]
[]
[null,null,null,null,null,null,null,null,null,null,null,null,{"$f":"D590","v":0},null,null,null,{"$f":"CONCATENATE(AH588,AI588)","v":{"$error":"#VALUE!"}},{"$f":"CONCATENATE(AJ588,\".\",AK588,\".\",AL588,\",\",\" \",AN588)","v":".., 0"},{"$f":"UPPER(H590)","v":""},{"$f":"CONCATENATE(PROPER(I590),\", \",PROPER(J590),\", \",UPPER(K590))","v":", , "},null,{"$f":"PROPER(L590)","v":""},null,null,null,null,null,null,null,null,null,{"$f":"IFERROR(LEFT(E592,FIND(\" \",E592)-1),E592)","v":0},{"$f":"MID(E592,FIND(\" \",E592)*1,27)","v":{"$error":"#VALUE!"}},{"$f":"UPPER(AF590)","v":"0"},{"$f":"PROPER(AG590)","v":{"$error":"#VALUE!"}},{"$f":"MID($F592,FIND(\"\",$F592)*1,2)","v":""},{"$f":"MID($F592,FIND(\"\",$F592)*3,2)","v":""},{"$f":"MID($F592,FIND(\"\",$F592)*5,2)","v":""},{"$f":"G592","v":0},{"$f":"IF(AM590=\"кмс\",AM$2,IF(AM590=\"мс\",AN$2,IF(AM590=\"мсмк\",AO$2,IF(AM590=\"змс\",AP$2,AM590))))","v":0}]
[]
[null,null,null,null,null,null,null,null,null,null,null,null,{"$f":"D592","v":0},null,null,null,{"$f":"CONCATENATE(AH590,AI590)","v":{"$error":"#VALUE!"}},{"$f":"CONCATENATE(AJ590,\".\",AK590,\".\",AL590,\",\",\" \",AN590)","v":".., 0"},{"$f":"UPPER(H592)","v":""},{"$f":"CONCATENATE(PROPER(I592),\", \",PROPER(J592),\", \",UPPER(K592))","v":", , "},null,{"$f":"PROPER(L592)","v":""},null,null,null,null,null,null,null,null,null,{"$f":"IFERROR(LEFT(E594,FIND(\" \",E594)-1),E594)","v":0},{"$f":"MID(E594,FIND(\" \",E594)*1,27)","v":{"$error":"#VALUE!"}},{"$f":"UPPER(AF592)","v":"0"},{"$f":"PROPER(AG592)","v":{"$error":"#VALUE!"}},{"$f":"MID($F594,FIND(\"\",$F594)*1,2)","v":""},{"$f":"MID($F594,FIND(\"\",$F594)*3,2)","v":""},{"$f":"MID($F594,FIND(\"\",$F594)*5,2)","v":""},{"$f":"G594","v":0},{"$f":"IF(AM592=\"кмс\",AM$2,IF(AM592=\"мс\",AN$2,IF(AM592=\"мсмк\",AO$2,IF(AM592=\"змс\",AP$2,AM592))))","v":0}]
[]
[null,null,null,null,null,null,null,null,null,null,null,null,{"$f":"D594","v":0},null,null,null,{"$f":"CONCATENATE(AH592,AI592)","v":{"$error":"#VALUE!"}},{"$f":"CONCATENATE(AJ592,\".\",AK592,\".\",AL592,\",\",\" \",AN592)","v":".., 0"},{"$f":"UPPER(H594)","v":""},{"$f":"CONCATENATE(PROPER(I594),\", \",PROPER(J594),\", \",UPPER(K594))","v":", , "},null,{"$f":"PROPER(L594)","v":""},null,null,null,null,null,null,null,null,null,{"$f":"IFERROR(LEFT(E596,FIND(\" \",E596)-1),E596)","v":0},{"$f":"MID(E596,FIND(\" \",E596)*1,27)","v":{"$error":"#VALUE!"}},{"$f":"UPPER(AF594)","v":"0"},{"$f":"PROPER(AG594)","v":{"$error":"#VALUE!"}},{"$f":"MID($F596,FIND(\"\",$F596)*1,2)","v":""},{"$f":"MID($F596,FIND(\"\",$F596)*3,2)","v":""},{"$f":"MID($F596,FIND(\"\",$F596)*5,2)","v":""},{"$f":"G596","v":0},{"$f":"IF(AM594=\"кмс\",AM$2,IF(AM594=\"мс\",AN$2,IF(AM594=\"мсмк\",AO$2,IF(AM594=\"змс\",AP$2,AM594))))","v":0}]
[]
[null,null,null,null,null,null,null,null,null,null,null,null,{"$f":"D596","v":0},null,null,null,{"$f":"CONCATENATE(AH594,AI594)","v":{"$error":"#VALUE!"}},{"$f":"CONCATENATE(AJ594,\".\",AK594,\".\",AL594,\",\",\" \",AN594)","v":".., 0"},{"$f":"UPPER(H596)","v":""},{"$f":"CONCATENATE(PROPER(I596),\", \",PROPER(J596),\", \",UPPER(K596))","v":", , "},null,{"$f":"PROPER(L596)","v":""},null,null,null,null,null,null,null,null,null,{"$f":"IFERROR(LEFT(E598,FIND(\" \",E598)-1),E598)","v":0},{"$f":"MID(E598,FIND(\" \",E598)*1,27)","v":{"$error":"#VALUE!"}},{"$f":"UPPER(AF596)","v":"0"},{"$f":"PROPER(AG596)","v":{"$error":"#VALUE!"}},{"$f":"MID($F598,FIND(\"\",$F598)*1,2)","v":""},{"$f":"MID($F598,FIND(\"\",$F598)*3,2)","v":""},{"$f":"MID($F598,FIND(\"\",$F598)*5,2)","v":""},{"$f":"G598","v":0},{"$f":"IF(AM596=\"кмс\",AM$2,IF(AM596=\"мс\",AN$2,IF(AM596=\"мсмк\",AO$2,IF(AM596=\"змс\",AP$2,AM596))))","v":0}]
[]
[null,null,null,null,null,null,null,null,null,null,null,null,{"$f":"D598","v":0},null,null,null,{"$f":"CONCATENATE(AH596,AI596)","v":{"$error":"#VALUE!"}},{"$f":"CONCATENATE(AJ596,\".\",AK596,\".\",AL596,\",\",\" \",AN596)","v":".., 0"},{"$f":"UPPER(H598)","v":""},{"$f":"CONCATENATE(PROPER(I598),\", \",PROPER(J598),\", \",UPPER(K598))","v":", , "},null,{"$f":"PROPER(L598)","v":""},null,null,null,null,null,null,null,null,null,{"$f":"IFERROR(LEFT(E600,FIND(\" \",E600)-1),E600)","v":0},{"$f":"MID(E600,FIND(\" \",E600)*1,27)","v":{"$error":"#VALUE!"}},{"$f":"UPPER(AF598)","v":"0"},{"$f":"PROPER(AG598)","v":{"$error":"#VALUE!"}},{"$f":"MID($F600,FIND(\"\",$F600)*1,2)","v":""},{"$f":"MID($F600,FIND(\"\",$F600)*3,2)","v":""},{"$f":"MID($F600,FIND(\"\",$F600)*5,2)","v":""},{"$f":"G600","v":0},{"$f":"IF(AM598=\"кмс\",AM$2,IF(AM598=\"мс\",AN$2,IF(AM598=\"мсмк\",AO$2,IF(AM598=\"змс\",AP$2,AM598))))","v":0}]
[]
[null,null,null,null,null,null,null,null,null,null,null,null,{"$f":"D600","v":0},null,null,null,{"$f":"CONCATENATE(AH598,AI598)","v":{"$error":"#VALUE!"}},{"$f":"CONCATENATE(AJ598,\".\",AK598,\".\",AL598,\",\",\" \",AN598)","v":".., 0"},{"$f":"UPPER(H600)","v":""},{"$f":"CONCATENATE(PROPER(I600),\", \",PROPER(J600),\", \",UPPER(K600))","v":", , "},null,{"$f":"PROPER(L600)","v":""},null,null,null,null,null,null,null,null,null,{"$f":"IFERROR(LEFT(E602,FIND(\" \",E602)-1),E602)","v":0},{"$f":"MID(E602,FIND(\" \",E602)*1,27)","v":{"$error":"#VALUE!"}},{"$f":"UPPER(AF600)","v":"0"},{"$f":"PROPER(AG600)","v":{"$error":"#VALUE!"}},{"$f":"MID($F602,FIND(\"\",$F602)*1,2)","v":""},{"$f":"MID($F602,FIND(\"\",$F602)*3,2)","v":""},{"$f":"MID($F602,FIND(\"\",$F602)*5,2)","v":""},{"$f":"G602","v":0},{"$f":"IF(AM600=\"кмс\",AM$2,IF(AM600=\"мс\",AN$2,IF(AM600=\"мсмк\",AO$2,IF(AM600=\"змс\",AP$2,AM600))))","v":0}]
[]
[null,null,null,null,null,null,null,null,null,null,null,null,{"$f":"D602","v":0},null,null,null,{"$f":"CONCATENATE(AH600,AI600)","v":{"$error":"#VALUE!"}},{"$f":"CONCATENATE(AJ600,\".\",AK600,\".\",AL600,\",\",\" \",AN600)","v":".., 0"},{"$f":"UPPER(H602)","v":""},{"$f":"CONCATENATE(PROPER(I602),\", \",PROPER(J602),\", \",UPPER(K602))","v":", , "},null,{"$f":"PROPER(L602)","v":""},null,null,null,null,null,null,null,null,null,{"$f":"IFERROR(LEFT(E604,FIND(\" \",E604)-1),E604)","v":0},{"$f":"MID(E604,FIND(\" \",E604)*1,27)","v":{"$error":"#VALUE!"}},{"$f":"UPPER(AF602)","v":"0"},{"$f":"PROPER(AG602)","v":{"$error":"#VALUE!"}},{"$f":"MID($F604,FIND(\"\",$F604)*1,2)","v":""},{"$f":"MID($F604,FIND(\"\",$F604)*3,2)","v":""},{"$f":"MID($F604,FIND(\"\",$F604)*5,2)","v":""},{"$f":"G604","v":0},{"$f":"IF(AM602=\"кмс\",AM$2,IF(AM602=\"мс\",AN$2,IF(AM602=\"мсмк\",AO$2,IF(AM602=\"змс\",AP$2,AM602))))","v":0}]
[]
[null,null,null,null,null,null,null,null,null,null,null,null,{"$f":"D604","v":0},null,null,null,{"$f":"CONCATENATE(AH602,AI602)","v":{"$error":"#VALUE!"}},{"$f":"CONCATENATE(AJ602,\".\",AK602,\".\",AL602,\",\",\" \",AN602)","v":".., 0"},{"$f":"UPPER(H604)","v":""},{"$f":"CONCATENATE(PROPER(I604),\", \",PROPER(J604),\", \",UPPER(K604))","v":", , "},null,{"$f":"PROPER(L604)","v":""},null,null,null,null,null,null,null,null,null,{"$f":"IFERROR(LEFT(E606,FIND(\" \",E606)-1),E606)","v":0},{"$f":"MID(E606,FIND(\" \",E606)*1,27)","v":{"$error":"#VALUE!"}},{"$f":"UPPER(AF604)","v":"0"},{"$f":"PROPER(AG604)","v":{"$error":"#VALUE!"}},{"$f":"MID($F606,FIND(\"\",$F606)*1,2)","v":""},{"$f":"MID($F606,FIND(\"\",$F606)*3,2)","v":""},{"$f":"MID($F606,FIND(\"\",$F606)*5,2)","v":""},{"$f":"G606","v":0},{"$f":"IF(AM604=\"кмс\",AM$2,IF(AM604=\"мс\",AN$2,IF(AM604=\"мсмк\",AO$2,IF(AM604=\"змс\",AP$2,AM604))))","v":0}]
[]
[null,null,null,null,null,null,null,null,null,null,null,null,{"$f":"D606","v":0},null,null,null,{"$f":"CONCATENATE(AH604,AI604)","v":{"$error":"#VALUE!"}},{"$f":"CONCATENATE(AJ604,\".\",AK604,\".\",AL604,\",\",\" \",AN604)","v":".., 0"},{"$f":"UPPER(H606)","v":""},{"$f":"CONCATENATE(PROPER(I606),\", \",PROPER(J606),\", \",UPPER(K606))","v":", , "},null,{"$f":"PROPER(L606)","v":""},null,null,null,null,null,null,null,null,null,{"$f":"IFERROR(LEFT(E608,FIND(\" \",E608)-1),E608)","v":0},{"$f":"MID(E608,FIND(\" \",E608)*1,27)","v":{"$error":"#VALUE!"}},{"$f":"UPPER(AF606)","v":"0"},{"$f":"PROPER(AG606)","v":{"$error":"#VALUE!"}},{"$f":"MID($F608,FIND(\"\",$F608)*1,2)","v":""},{"$f":"MID($F608,FIND(\"\",$F608)*3,2)","v":""},{"$f":"MID($F608,FIND(\"\",$F608)*5,2)","v":""},{"$f":"G608","v":0},{"$f":"IF(AM606=\"кмс\",AM$2,IF(AM606=\"мс\",AN$2,IF(AM606=\"мсмк\",AO$2,IF(AM606=\"змс\",AP$2,AM606))))","v":0}]
[]
[null,null,null,null,null,null,null,null,null,null,null,null,{"$f":"D608","v":0},null,null,null,{"$f":"CONCATENATE(AH606,AI606)","v":{"$error":"#VALUE!"}},{"$f":"CONCATENATE(AJ606,\".\",AK606,\".\",AL606,\",\",\" \",AN606)","v":".., 0"},{"$f":"UPPER(H608)","v":""},{"$f":"CONCATENATE(PROPER(I608),\", \",PROPER(J608),\", \",UPPER(K608))","v":", , "},null,{"$f":"PROPER(L608)","v":""},null,null,null,null,null,null,null,null,null,{"$f":"IFERROR(LEFT(E610,FIND(\" \",E610)-1),E610)","v":0},{"$f":"MID(E610,FIND(\" \",E610)*1,27)","v":{"$error":"#VALUE!"}},{"$f":"UPPER(AF608)","v":"0"},{"$f":"PROPER(AG608)","v":{"$error":"#VALUE!"}},{"$f":"MID($F610,FIND(\"\",$F610)*1,2)","v":""},{"$f":"MID($F610,FIND(\"\",$F610)*3,2)","v":""},{"$f":"MID($F610,FIND(\"\",$F610)*5,2)","v":""},{"$f":"G610","v":0},{"$f":"IF(AM608=\"кмс\",AM$2,IF(AM608=\"мс\",AN$2,IF(AM608=\"мсмк\",AO$2,IF(AM608=\"змс\",AP$2,AM608))))","v":0}]
[]
[null,null,null,null,null,null,null,null,null,null,null,null,{"$f":"D610","v":0},null,null,null,{"$f":"CONCATENATE(AH608,AI608)","v":{"$error":"#VALUE!"}},{"$f":"CONCATENATE(AJ608,\".\",AK608,\".\",AL608,\",\",\" \",AN608)","v":".., 0"},{"$f":"UPPER(H610)","v":""},{"$f":"CONCATENATE(PROPER(I610),\", \",PROPER(J610),\", \",UPPER(K610))","v":", , "},null,{"$f":"PROPER(L610)","v":""},null,null,null,null,null,null,null,null,null,{"$f":"IFERROR(LEFT(E612,FIND(\" \",E612)-1),E612)","v":0},{"$f":"MID(E612,FIND(\" \",E612)*1,27)","v":{"$error":"#VALUE!"}},{"$f":"UPPER(AF610)","v":"0"},{"$f":"PROPER(AG610)","v":{"$error":"#VALUE!"}},{"$f":"MID($F612,FIND(\"\",$F612)*1,2)","v":""},{"$f":"MID($F612,FIND(\"\",$F612)*3,2)","v":""},{"$f":"MID($F612,FIND(\"\",$F612)*5,2)","v":""},{"$f":"G612","v":0},{"$f":"IF(AM610=\"кмс\",AM$2,IF(AM610=\"мс\",AN$2,IF(AM610=\"мсмк\",AO$2,IF(AM610=\"змс\",AP$2,AM610))))","v":0}]
[]
[null,null,null,null,null,null,null,null,null,null,null,null,{"$f":"D612","v":0},null,null,null,{"$f":"CONCATENATE(AH610,AI610)","v":{"$error":"#VALUE!"}},{"$f":"CONCATENATE(AJ610,\".\",AK610,\".\",AL610,\",\",\" \",AN610)","v":".., 0"},{"$f":"UPPER(H612)","v":""},{"$f":"CONCATENATE(PROPER(I612),\", \",PROPER(J612),\", \",UPPER(K612))","v":", , "},null,{"$f":"PROPER(L612)","v":""},null,null,null,null,null,null,null,null,null,{"$f":"IFERROR(LEFT(E614,FIND(\" \",E614)-1),E614)","v":0},{"$f":"MID(E614,FIND(\" \",E614)*1,27)","v":{"$error":"#VALUE!"}},{"$f":"UPPER(AF612)","v":"0"},{"$f":"PROPER(AG612)","v":{"$error":"#VALUE!"}},{"$f":"MID($F614,FIND(\"\",$F614)*1,2)","v":""},{"$f":"MID($F614,FIND(\"\",$F614)*3,2)","v":""},{"$f":"MID($F614,FIND(\"\",$F614)*5,2)","v":""},{"$f":"G614","v":0},{"$f":"IF(AM612=\"кмс\",AM$2,IF(AM612=\"мс\",AN$2,IF(AM612=\"мсмк\",AO$2,IF(AM612=\"змс\",AP$2,AM612))))","v":0}]
[]
[null,null,null,null,null,null,null,null,null,null,null,null,{"$f":"D614","v":0},null,null,null,{"$f":"CONCATENATE(AH612,AI612)","v":{"$error":"#VALUE!"}},{"$f":"CONCATENATE(AJ612,\".\",AK612,\".\",AL612,\",\",\" \",AN612)","v":".., 0"},{"$f":"UPPER(H614)","v":""},{"$f":"CONCATENATE(PROPER(I614),\", \",PROPER(J614),\", \",UPPER(K614))","v":", , "},null,{"$f":"PROPER(L614)","v":""},null,null,null,null,null,null,null,null,null,{"$f":"IFERROR(LEFT(E616,FIND(\" \",E616)-1),E616)","v":0},{"$f":"MID(E616,FIND(\" \",E616)*1,27)","v":{"$error":"#VALUE!"}},{"$f":"UPPER(AF614)","v":"0"},{"$f":"PROPER(AG614)","v":{"$error":"#VALUE!"}},{"$f":"MID($F616,FIND(\"\",$F616)*1,2)","v":""},{"$f":"MID($F616,FIND(\"\",$F616)*3,2)","v":""},{"$f":"MID($F616,FIND(\"\",$F616)*5,2)","v":""},{"$f":"G616","v":0},{"$f":"IF(AM614=\"кмс\",AM$2,IF(AM614=\"мс\",AN$2,IF(AM614=\"мсмк\",AO$2,IF(AM614=\"змс\",AP$2,AM614))))","v":0}]
[]
[null,null,null,null,null,null,null,null,null,null,null,null,{"$f":"D616","v":0},null,null,null,{"$f":"CONCATENATE(AH614,AI614)","v":{"$error":"#VALUE!"}},{"$f":"CONCATENATE(AJ614,\".\",AK614,\".\",AL614,\",\",\" \",AN614)","v":".., 0"},{"$f":"UPPER(H616)","v":""},{"$f":"CONCATENATE(PROPER(I616),\", \",PROPER(J616),\", \",UPPER(K616))","v":", , "},null,{"$f":"PROPER(L616)","v":""},null,null,null,null,null,null,null,null,null,{"$f":"IFERROR(LEFT(E618,FIND(\" \",E618)-1),E618)","v":0},{"$f":"MID(E618,FIND(\" \",E618)*1,27)","v":{"$error":"#VALUE!"}},{"$f":"UPPER(AF616)","v":"0"},{"$f":"PROPER(AG616)","v":{"$error":"#VALUE!"}},{"$f":"MID($F618,FIND(\"\",$F618)*1,2)","v":""},{"$f":"MID($F618,FIND(\"\",$F618)*3,2)","v":""},{"$f":"MID($F618,FIND(\"\",$F618)*5,2)","v":""},{"$f":"G618","v":0},{"$f":"IF(AM616=\"кмс\",AM$2,IF(AM616=\"мс\",AN$2,IF(AM616=\"мсмк\",AO$2,IF(AM616=\"змс\",AP$2,AM616))))","v":0}]
[]
[null,null,null,null,null,null,null,null,null,null,null,null,{"$f":"D618","v":0},null,null,null,{"$f":"CONCATENATE(AH616,AI616)","v":{"$error":"#VALUE!"}},{"$f":"CONCATENATE(AJ616,\".\",AK616,\".\",AL616,\",\",\" \",AN616)","v":".., 0"},{"$f":"UPPER(H618)","v":""},{"$f":"CONCATENATE(PROPER(I618),\", \",PROPER(J618),\", \",UPPER(K618))","v":", , "},null,{"$f":"PROPER(L618)","v":""},null,null,null,null,null,null,null,null,null,{"$f":"IFERROR(LEFT(E620,FIND(\" \",E620)-1),E620)","v":0},{"$f":"MID(E620,FIND(\" \",E620)*1,27)","v":{"$error":"#VALUE!"}},{"$f":"UPPER(AF618)","v":"0"},{"$f":"PROPER(AG618)","v":{"$error":"#VALUE!"}},{"$f":"MID($F620,FIND(\"\",$F620)*1,2)","v":""},{"$f":"MID($F620,FIND(\"\",$F620)*3,2)","v":""},{"$f":"MID($F620,FIND(\"\",$F620)*5,2)","v":""},{"$f":"G620","v":0},{"$f":"IF(AM618=\"кмс\",AM$2,IF(AM618=\"мс\",AN$2,IF(AM618=\"мсмк\",AO$2,IF(AM618=\"змс\",AP$2,AM618))))","v":0}]
[]
[null,null,null,null,null,null,null,null,null,null,null,null,{"$f":"D620","v":0},null,null,null,{"$f":"CONCATENATE(AH618,AI618)","v":{"$error":"#VALUE!"}},{"$f":"CONCATENATE(AJ618,\".\",AK618,\".\",AL618,\",\",\" \",AN618)","v":".., 0"},{"$f":"UPPER(H620)","v":""},{"$f":"CONCATENATE(PROPER(I620),\", \",PROPER(J620),\", \",UPPER(K620))","v":", , "},null,{"$f":"PROPER(L620)","v":""},null,null,null,null,null,null,null,null,null,{"$f":"IFERROR(LEFT(E622,FIND(\" \",E622)-1),E622)","v":0},{"$f":"MID(E622,FIND(\" \",E622)*1,27)","v":{"$error":"#VALUE!"}},{"$f":"UPPER(AF620)","v":"0"},{"$f":"PROPER(AG620)","v":{"$error":"#VALUE!"}},{"$f":"MID($F622,FIND(\"\",$F622)*1,2)","v":""},{"$f":"MID($F622,FIND(\"\",$F622)*3,2)","v":""},{"$f":"MID($F622,FIND(\"\",$F622)*5,2)","v":""},{"$f":"G622","v":0},{"$f":"IF(AM620=\"кмс\",AM$2,IF(AM620=\"мс\",AN$2,IF(AM620=\"мсмк\",AO$2,IF(AM620=\"змс\",AP$2,AM620))))","v":0}]
[]
[null,null,null,null,null,null,null,null,null,null,null,null,{"$f":"D622","v":0},null,null,null,{"$f":"CONCATENATE(AH620,AI620)","v":{"$error":"#VALUE!"}},{"$f":"CONCATENATE(AJ620,\".\",AK620,\".\",AL620,\",\",\" \",AN620)","v":".., 0"},{"$f":"UPPER(H622)","v":""},{"$f":"CONCATENATE(PROPER(I622),\", \",PROPER(J622),\", \",UPPER(K622))","v":", , "},null,{"$f":"PROPER(L622)","v":""},null,null,null,null,null,null,null,null,null,{"$f":"IFERROR(LEFT(E624,FIND(\" \",E624)-1),E624)","v":0},{"$f":"MID(E624,FIND(\" \",E624)*1,27)","v":{"$error":"#VALUE!"}},{"$f":"UPPER(AF622)","v":"0"},{"$f":"PROPER(AG622)","v":{"$error":"#VALUE!"}},{"$f":"MID($F624,FIND(\"\",$F624)*1,2)","v":""},{"$f":"MID($F624,FIND(\"\",$F624)*3,2)","v":""},{"$f":"MID($F624,FIND(\"\",$F624)*5,2)","v":""},{"$f":"G624","v":0},{"$f":"IF(AM622=\"кмс\",AM$2,IF(AM622=\"мс\",AN$2,IF(AM622=\"мсмк\",AO$2,IF(AM622=\"змс\",AP$2,AM622))))","v":0}]
[]
[null,null,null,null,null,null,null,null,null,null,null,null,{"$f":"D624","v":0},null,null,null,{"$f":"CONCATENATE(AH622,AI622)","v":{"$error":"#VALUE!"}},{"$f":"CONCATENATE(AJ622,\".\",AK622,\".\",AL622,\",\",\" \",AN622)","v":".., 0"},{"$f":"UPPER(H624)","v":""},{"$f":"CONCATENATE(PROPER(I624),\", \",PROPER(J624),\", \",UPPER(K624))","v":", , "},null,{"$f":"PROPER(L624)","v":""},null,null,null,null,null,null,null,null,null,{"$f":"IFERROR(LEFT(E626,FIND(\" \",E626)-1),E626)","v":0},{"$f":"MID(E626,FIND(\" \",E626)*1,27)","v":{"$error":"#VALUE!"}},{"$f":"UPPER(AF624)","v":"0"},{"$f":"PROPER(AG624)","v":{"$error":"#VALUE!"}},{"$f":"MID($F626,FIND(\"\",$F626)*1,2)","v":""},{"$f":"MID($F626,FIND(\"\",$F626)*3,2)","v":""},{"$f":"MID($F626,FIND(\"\",$F626)*5,2)","v":""},{"$f":"G626","v":0},{"$f":"IF(AM624=\"кмс\",AM$2,IF(AM624=\"мс\",AN$2,IF(AM624=\"мсмк\",AO$2,IF(AM624=\"змс\",AP$2,AM624))))","v":0}]
[]
[null,null,null,null,null,null,null,null,null,null,null,null,{"$f":"D626","v":0},null,null,null,{"$f":"CONCATENATE(AH624,AI624)","v":{"$error":"#VALUE!"}},{"$f":"CONCATENATE(AJ624,\".\",AK624,\".\",AL624,\",\",\" \",AN624)","v":".., 0"},{"$f":"UPPER(H626)","v":""},{"$f":"CONCATENATE(PROPER(I626),\", \",PROPER(J626),\", \",UPPER(K626))","v":", , "},null,{"$f":"PROPER(L626)","v":""},null,null,null,null,null,null,null,null,null,{"$f":"IFERROR(LEFT(E628,FIND(\" \",E628)-1),E628)","v":0},{"$f":"MID(E628,FIND(\" \",E628)*1,27)","v":{"$error":"#VALUE!"}},{"$f":"UPPER(AF626)","v":"0"},{"$f":"PROPER(AG626)","v":{"$error":"#VALUE!"}},{"$f":"MID($F628,FIND(\"\",$F628)*1,2)","v":""},{"$f":"MID($F628,FIND(\"\",$F628)*3,2)","v":""},{"$f":"MID($F628,FIND(\"\",$F628)*5,2)","v":""},{"$f":"G628","v":0},{"$f":"IF(AM626=\"кмс\",AM$2,IF(AM626=\"мс\",AN$2,IF(AM626=\"мсмк\",AO$2,IF(AM626=\"змс\",AP$2,AM626))))","v":0}]
[]
[null,null,null,null,null,null,null,null,null,null,null,null,{"$f":"D628","v":0},null,null,null,{"$f":"CONCATENATE(AH626,AI626)","v":{"$error":"#VALUE!"}},{"$f":"CONCATENATE(AJ626,\".\",AK626,\".\",AL626,\",\",\" \",AN626)","v":".., 0"},{"$f":"UPPER(H628)","v":""},{"$f":"CONCATENATE(PROPER(I628),\", \",PROPER(J628),\", \",UPPER(K628))","v":", , "},null,{"$f":"PROPER(L628)","v":""},null,null,null,null,null,null,null,null,null,{"$f":"IFERROR(LEFT(E630,FIND(\" \",E630)-1),E630)","v":0},{"$f":"MID(E630,FIND(\" \",E630)*1,27)","v":{"$error":"#VALUE!"}},{"$f":"UPPER(AF628)","v":"0"},{"$f":"PROPER(AG628)","v":{"$error":"#VALUE!"}},{"$f":"MID($F630,FIND(\"\",$F630)*1,2)","v":""},{"$f":"MID($F630,FIND(\"\",$F630)*3,2)","v":""},{"$f":"MID($F630,FIND(\"\",$F630)*5,2)","v":""},{"$f":"G630","v":0},{"$f":"IF(AM628=\"кмс\",AM$2,IF(AM628=\"мс\",AN$2,IF(AM628=\"мсмк\",AO$2,IF(AM628=\"змс\",AP$2,AM628))))","v":0}]
[]
[null,null,null,null,null,null,null,null,null,null,null,null,{"$f":"D630","v":0},null,null,null,{"$f":"CONCATENATE(AH628,AI628)","v":{"$error":"#VALUE!"}},{"$f":"CONCATENATE(AJ628,\".\",AK628,\".\",AL628,\",\",\" \",AN628)","v":".., 0"},{"$f":"UPPER(H630)","v":""},{"$f":"CONCATENATE(PROPER(I630),\", \",PROPER(J630),\", \",UPPER(K630))","v":", , "},null,{"$f":"PROPER(L630)","v":""},null,null,null,null,null,null,null,null,null,{"$f":"IFERROR(LEFT(E632,FIND(\" \",E632)-1),E632)","v":0},{"$f":"MID(E632,FIND(\" \",E632)*1,27)","v":{"$error":"#VALUE!"}},{"$f":"UPPER(AF630)","v":"0"},{"$f":"PROPER(AG630)","v":{"$error":"#VALUE!"}},{"$f":"MID($F632,FIND(\"\",$F632)*1,2)","v":""},{"$f":"MID($F632,FIND(\"\",$F632)*3,2)","v":""},{"$f":"MID($F632,FIND(\"\",$F632)*5,2)","v":""},{"$f":"G632","v":0},{"$f":"IF(AM630=\"кмс\",AM$2,IF(AM630=\"мс\",AN$2,IF(AM630=\"мсмк\",AO$2,IF(AM630=\"змс\",AP$2,AM630))))","v":0}]
[]
[null,null,null,null,null,null,null,null,null,null,null,null,{"$f":"D632","v":0},null,null,null,{"$f":"CONCATENATE(AH630,AI630)","v":{"$error":"#VALUE!"}},{"$f":"CONCATENATE(AJ630,\".\",AK630,\".\",AL630,\",\",\" \",AN630)","v":".., 0"},{"$f":"UPPER(H632)","v":""},{"$f":"CONCATENATE(PROPER(I632),\", \",PROPER(J632),\", \",UPPER(K632))","v":", , "},null,{"$f":"PROPER(L632)","v":""},null,null,null,null,null,null,null,null,null,{"$f":"IFERROR(LEFT(E634,FIND(\" \",E634)-1),E634)","v":0},{"$f":"MID(E634,FIND(\" \",E634)*1,27)","v":{"$error":"#VALUE!"}},{"$f":"UPPER(AF632)","v":"0"},{"$f":"PROPER(AG632)","v":{"$error":"#VALUE!"}},{"$f":"MID($F634,FIND(\"\",$F634)*1,2)","v":""},{"$f":"MID($F634,FIND(\"\",$F634)*3,2)","v":""},{"$f":"MID($F634,FIND(\"\",$F634)*5,2)","v":""},{"$f":"G634","v":0},{"$f":"IF(AM632=\"кмс\",AM$2,IF(AM632=\"мс\",AN$2,IF(AM632=\"мсмк\",AO$2,IF(AM632=\"змс\",AP$2,AM632))))","v":0}]
[]
[null,null,null,null,null,null,null,null,null,null,null,null,{"$f":"D634","v":0},null,null,null,{"$f":"CONCATENATE(AH632,AI632)","v":{"$error":"#VALUE!"}},{"$f":"CONCATENATE(AJ632,\".\",AK632,\".\",AL632,\",\",\" \",AN632)","v":".., 0"},{"$f":"UPPER(H634)","v":""},{"$f":"CONCATENATE(PROPER(I634),\", \",PROPER(J634),\", \",UPPER(K634))","v":", , "},null,{"$f":"PROPER(L634)","v":""},null,null,null,null,null,null,null,null,null,{"$f":"IFERROR(LEFT(E636,FIND(\" \",E636)-1),E636)","v":0},{"$f":"MID(E636,FIND(\" \",E636)*1,27)","v":{"$error":"#VALUE!"}},{"$f":"UPPER(AF634)","v":"0"},{"$f":"PROPER(AG634)","v":{"$error":"#VALUE!"}},{"$f":"MID($F636,FIND(\"\",$F636)*1,2)","v":""},{"$f":"MID($F636,FIND(\"\",$F636)*3,2)","v":""},{"$f":"MID($F636,FIND(\"\",$F636)*5,2)","v":""},{"$f":"G636","v":0},{"$f":"IF(AM634=\"кмс\",AM$2,IF(AM634=\"мс\",AN$2,IF(AM634=\"мсмк\",AO$2,IF(AM634=\"змс\",AP$2,AM634))))","v":0}]
[]
[null,null,null,null,null,null,null,null,null,null,null,null,{"$f":"D636","v":0},null,null,null,{"$f":"CONCATENATE(AH634,AI634)","v":{"$error":"#VALUE!"}},{"$f":"CONCATENATE(AJ634,\".\",AK634,\".\",AL634,\",\",\" \",AN634)","v":".., 0"},{"$f":"UPPER(H636)","v":""},{"$f":"CONCATENATE(PROPER(I636),\", \",PROPER(J636),\", \",UPPER(K636))","v":", , "},null,{"$f":"PROPER(L636)","v":""},null,null,null,null,null,null,null,null,null,{"$f":"IFERROR(LEFT(E638,FIND(\" \",E638)-1),E638)","v":0},{"$f":"MID(E638,FIND(\" \",E638)*1,27)","v":{"$error":"#VALUE!"}},{"$f":"UPPER(AF636)","v":"0"},{"$f":"PROPER(AG636)","v":{"$error":"#VALUE!"}},{"$f":"MID($F638,FIND(\"\",$F638)*1,2)","v":""},{"$f":"MID($F638,FIND(\"\",$F638)*3,2)","v":""},{"$f":"MID($F638,FIND(\"\",$F638)*5,2)","v":""},{"$f":"G638","v":0},{"$f":"IF(AM636=\"кмс\",AM$2,IF(AM636=\"мс\",AN$2,IF(AM636=\"мсмк\",AO$2,IF(AM636=\"змс\",AP$2,AM636))))","v":0}]
[]
[null,null,null,null,null,null,null,null,null,null,null,null,{"$f":"D638","v":0},null,null,null,{"$f":"CONCATENATE(AH636,AI636)","v":{"$error":"#VALUE!"}},{"$f":"CONCATENATE(AJ636,\".\",AK636,\".\",AL636,\",\",\" \",AN636)","v":".., 0"},{"$f":"UPPER(H638)","v":""},{"$f":"CONCATENATE(PROPER(I638),\", \",PROPER(J638),\", \",UPPER(K638))","v":", , "},null,{"$f":"PROPER(L638)","v":""},null,null,null,null,null,null,null,null,null,{"$f":"IFERROR(LEFT(E640,FIND(\" \",E640)-1),E640)","v":0},{"$f":"MID(E640,FIND(\" \",E640)*1,27)","v":{"$error":"#VALUE!"}},{"$f":"UPPER(AF638)","v":"0"},{"$f":"PROPER(AG638)","v":{"$error":"#VALUE!"}},{"$f":"MID($F640,FIND(\"\",$F640)*1,2)","v":""},{"$f":"MID($F640,FIND(\"\",$F640)*3,2)","v":""},{"$f":"MID($F640,FIND(\"\",$F640)*5,2)","v":""},{"$f":"G640","v":0},{"$f":"IF(AM638=\"кмс\",AM$2,IF(AM638=\"мс\",AN$2,IF(AM638=\"мсмк\",AO$2,IF(AM638=\"змс\",AP$2,AM638))))","v":0}]
[]
[null,null,null,null,null,null,null,null,null,null,null,null,{"$f":"D640","v":0},null,null,null,{"$f":"CONCATENATE(AH638,AI638)","v":{"$error":"#VALUE!"}},{"$f":"CONCATENATE(AJ638,\".\",AK638,\".\",AL638,\",\",\" \",AN638)","v":".., 0"},{"$f":"UPPER(H640)","v":""},{"$f":"CONCATENATE(PROPER(I640),\", \",PROPER(J640),\", \",UPPER(K640))","v":", , "},null,{"$f":"PROPER(L640)","v":""},null,null,null,null,null,null,null,null,null,{"$f":"IFERROR(LEFT(E642,FIND(\" \",E642)-1),E642)","v":0},{"$f":"MID(E642,FIND(\" \",E642)*1,27)","v":{"$error":"#VALUE!"}},{"$f":"UPPER(AF640)","v":"0"},{"$f":"PROPER(AG640)","v":{"$error":"#VALUE!"}},{"$f":"MID($F642,FIND(\"\",$F642)*1,2)","v":""},{"$f":"MID($F642,FIND(\"\",$F642)*3,2)","v":""},{"$f":"MID($F642,FIND(\"\",$F642)*5,2)","v":""},{"$f":"G642","v":0},{"$f":"IF(AM640=\"кмс\",AM$2,IF(AM640=\"мс\",AN$2,IF(AM640=\"мсмк\",AO$2,IF(AM640=\"змс\",AP$2,AM640))))","v":0}]
[]
[null,null,null,null,null,null,null,null,null,null,null,null,{"$f":"D642","v":0},null,null,null,{"$f":"CONCATENATE(AH640,AI640)","v":{"$error":"#VALUE!"}},{"$f":"CONCATENATE(AJ640,\".\",AK640,\".\",AL640,\",\",\" \",AN640)","v":".., 0"},{"$f":"UPPER(H642)","v":""},{"$f":"CONCATENATE(PROPER(I642),\", \",PROPER(J642),\", \",UPPER(K642))","v":", , "},null,{"$f":"PROPER(L642)","v":""},null,null,null,null,null,null,null,null,null,{"$f":"IFERROR(LEFT(E644,FIND(\" \",E644)-1),E644)","v":0},{"$f":"MID(E644,FIND(\" \",E644)*1,27)","v":{"$error":"#VALUE!"}},{"$f":"UPPER(AF642)","v":"0"},{"$f":"PROPER(AG642)","v":{"$error":"#VALUE!"}},{"$f":"MID($F644,FIND(\"\",$F644)*1,2)","v":""},{"$f":"MID($F644,FIND(\"\",$F644)*3,2)","v":""},{"$f":"MID($F644,FIND(\"\",$F644)*5,2)","v":""},{"$f":"G644","v":0},{"$f":"IF(AM642=\"кмс\",AM$2,IF(AM642=\"мс\",AN$2,IF(AM642=\"мсмк\",AO$2,IF(AM642=\"змс\",AP$2,AM642))))","v":0}]
[]
[null,null,null,null,null,null,null,null,null,null,null,null,{"$f":"D644","v":0},null,null,null,{"$f":"CONCATENATE(AH642,AI642)","v":{"$error":"#VALUE!"}},{"$f":"CONCATENATE(AJ642,\".\",AK642,\".\",AL642,\",\",\" \",AN642)","v":".., 0"},{"$f":"UPPER(H644)","v":""},{"$f":"CONCATENATE(PROPER(I644),\", \",PROPER(J644),\", \",UPPER(K644))","v":", , "},null,{"$f":"PROPER(L644)","v":""},null,null,null,null,null,null,null,null,null,{"$f":"IFERROR(LEFT(E646,FIND(\" \",E646)-1),E646)","v":0},{"$f":"MID(E646,FIND(\" \",E646)*1,27)","v":{"$error":"#VALUE!"}},{"$f":"UPPER(AF644)","v":"0"},{"$f":"PROPER(AG644)","v":{"$error":"#VALUE!"}},{"$f":"MID($F646,FIND(\"\",$F646)*1,2)","v":""},{"$f":"MID($F646,FIND(\"\",$F646)*3,2)","v":""},{"$f":"MID($F646,FIND(\"\",$F646)*5,2)","v":""},{"$f":"G646","v":0},{"$f":"IF(AM644=\"кмс\",AM$2,IF(AM644=\"мс\",AN$2,IF(AM644=\"мсмк\",AO$2,IF(AM644=\"змс\",AP$2,AM644))))","v":0}]
[]
[null,null,null,null,null,null,null,null,null,null,null,null,{"$f":"D646","v":0},null,null,null,{"$f":"CONCATENATE(AH644,AI644)","v":{"$error":"#VALUE!"}},{"$f":"CONCATENATE(AJ644,\".\",AK644,\".\",AL644,\",\",\" \",AN644)","v":".., 0"},{"$f":"UPPER(H646)","v":""},{"$f":"CONCATENATE(PROPER(I646),\", \",PROPER(J646),\", \",UPPER(K646))","v":", , "},null,{"$f":"PROPER(L646)","v":""},null,null,null,null,null,null,null,null,null,{"$f":"IFERROR(LEFT(E648,FIND(\" \",E648)-1),E648)","v":0},{"$f":"MID(E648,FIND(\" \",E648)*1,27)","v":{"$error":"#VALUE!"}},{"$f":"UPPER(AF646)","v":"0"},{"$f":"PROPER(AG646)","v":{"$error":"#VALUE!"}},{"$f":"MID($F648,FIND(\"\",$F648)*1,2)","v":""},{"$f":"MID($F648,FIND(\"\",$F648)*3,2)","v":""},{"$f":"MID($F648,FIND(\"\",$F648)*5,2)","v":""},{"$f":"G648","v":0},{"$f":"IF(AM646=\"кмс\",AM$2,IF(AM646=\"мс\",AN$2,IF(AM646=\"мсмк\",AO$2,IF(AM646=\"змс\",AP$2,AM646))))","v":0}]
[]
[null,null,null,null,null,null,null,null,null,null,null,null,{"$f":"D648","v":0},null,null,null,{"$f":"CONCATENATE(AH646,AI646)","v":{"$error":"#VALUE!"}},{"$f":"CONCATENATE(AJ646,\".\",AK646,\".\",AL646,\",\",\" \",AN646)","v":".., 0"},{"$f":"UPPER(H648)","v":""},{"$f":"CONCATENATE(PROPER(I648),\", \",PROPER(J648),\", \",UPPER(K648))","v":", , "},null,{"$f":"PROPER(L648)","v":""},null,null,null,null,null,null,null,null,null,{"$f":"IFERROR(LEFT(E650,FIND(\" \",E650)-1),E650)","v":0},{"$f":"MID(E650,FIND(\" \",E650)*1,27)","v":{"$error":"#VALUE!"}},{"$f":"UPPER(AF648)","v":"0"},{"$f":"PROPER(AG648)","v":{"$error":"#VALUE!"}},{"$f":"MID($F650,FIND(\"\",$F650)*1,2)","v":""},{"$f":"MID($F650,FIND(\"\",$F650)*3,2)","v":""},{"$f":"MID($F650,FIND(\"\",$F650)*5,2)","v":""},{"$f":"G650","v":0},{"$f":"IF(AM648=\"кмс\",AM$2,IF(AM648=\"мс\",AN$2,IF(AM648=\"мсмк\",AO$2,IF(AM648=\"змс\",AP$2,AM648))))","v":0}]
[]
[null,null,null,null,null,null,null,null,null,null,null,null,{"$f":"D650","v":0},null,null,null,{"$f":"CONCATENATE(AH648,AI648)","v":{"$error":"#VALUE!"}},{"$f":"CONCATENATE(AJ648,\".\",AK648,\".\",AL648,\",\",\" \",AN648)","v":".., 0"},{"$f":"UPPER(H650)","v":""},{"$f":"CONCATENATE(PROPER(I650),\", \",PROPER(J650),\", \",UPPER(K650))","v":", , "},null,{"$f":"PROPER(L650)","v":""},null,null,null,null,null,null,null,null,null,{"$f":"IFERROR(LEFT(E652,FIND(\" \",E652)-1),E652)","v":0},{"$f":"MID(E652,FIND(\" \",E652)*1,27)","v":{"$error":"#VALUE!"}},{"$f":"UPPER(AF650)","v":"0"},{"$f":"PROPER(AG650)","v":{"$error":"#VALUE!"}},{"$f":"MID($F652,FIND(\"\",$F652)*1,2)","v":""},{"$f":"MID($F652,FIND(\"\",$F652)*3,2)","v":""},{"$f":"MID($F652,FIND(\"\",$F652)*5,2)","v":""},{"$f":"G652","v":0},{"$f":"IF(AM650=\"кмс\",AM$2,IF(AM650=\"мс\",AN$2,IF(AM650=\"мсмк\",AO$2,IF(AM650=\"змс\",AP$2,AM650))))","v":0}]
[]
[null,null,null,null,null,null,null,null,null,null,null,null,{"$f":"D652","v":0},null,null,null,{"$f":"CONCATENATE(AH650,AI650)","v":{"$error":"#VALUE!"}},{"$f":"CONCATENATE(AJ650,\".\",AK650,\".\",AL650,\",\",\" \",AN650)","v":".., 0"},{"$f":"UPPER(H652)","v":""},{"$f":"CONCATENATE(PROPER(I652),\", \",PROPER(J652),\", \",UPPER(K652))","v":", , "},null,{"$f":"PROPER(L652)","v":""},null,null,null,null,null,null,null,null,null,{"$f":"IFERROR(LEFT(E654,FIND(\" \",E654)-1),E654)","v":0},{"$f":"MID(E654,FIND(\" \",E654)*1,27)","v":{"$error":"#VALUE!"}},{"$f":"UPPER(AF652)","v":"0"},{"$f":"PROPER(AG652)","v":{"$error":"#VALUE!"}},{"$f":"MID($F654,FIND(\"\",$F654)*1,2)","v":""},{"$f":"MID($F654,FIND(\"\",$F654)*3,2)","v":""},{"$f":"MID($F654,FIND(\"\",$F654)*5,2)","v":""},{"$f":"G654","v":0},{"$f":"IF(AM652=\"кмс\",AM$2,IF(AM652=\"мс\",AN$2,IF(AM652=\"мсмк\",AO$2,IF(AM652=\"змс\",AP$2,AM652))))","v":0}]
[]
[null,null,null,null,null,null,null,null,null,null,null,null,{"$f":"D654","v":0},null,null,null,{"$f":"CONCATENATE(AH652,AI652)","v":{"$error":"#VALUE!"}},{"$f":"CONCATENATE(AJ652,\".\",AK652,\".\",AL652,\",\",\" \",AN652)","v":".., 0"},{"$f":"UPPER(H654)","v":""},{"$f":"CONCATENATE(PROPER(I654),\", \",PROPER(J654),\", \",UPPER(K654))","v":", , "},null,{"$f":"PROPER(L654)","v":""},null,null,null,null,null,null,null,null,null,{"$f":"IFERROR(LEFT(E656,FIND(\" \",E656)-1),E656)","v":0},{"$f":"MID(E656,FIND(\" \",E656)*1,27)","v":{"$error":"#VALUE!"}},{"$f":"UPPER(AF654)","v":"0"},{"$f":"PROPER(AG654)","v":{"$error":"#VALUE!"}},{"$f":"MID($F656,FIND(\"\",$F656)*1,2)","v":""},{"$f":"MID($F656,FIND(\"\",$F656)*3,2)","v":""},{"$f":"MID($F656,FIND(\"\",$F656)*5,2)","v":""},{"$f":"G656","v":0},{"$f":"IF(AM654=\"кмс\",AM$2,IF(AM654=\"мс\",AN$2,IF(AM654=\"мсмк\",AO$2,IF(AM654=\"змс\",AP$2,AM654))))","v":0}]
[]
[null,null,null,null,null,null,null,null,null,null,null,null,{"$f":"D656","v":0},null,null,null,{"$f":"CONCATENATE(AH654,AI654)","v":{"$error":"#VALUE!"}},{"$f":"CONCATENATE(AJ654,\".\",AK654,\".\",AL654,\",\",\" \",AN654)","v":".., 0"},{"$f":"UPPER(H656)","v":""},{"$f":"CONCATENATE(PROPER(I656),\", \",PROPER(J656),\", \",UPPER(K656))","v":", , "},null,{"$f":"PROPER(L656)","v":""},null,null,null,null,null,null,null,null,null,{"$f":"IFERROR(LEFT(E658,FIND(\" \",E658)-1),E658)","v":0},{"$f":"MID(E658,FIND(\" \",E658)*1,27)","v":{"$error":"#VALUE!"}},{"$f":"UPPER(AF656)","v":"0"},{"$f":"PROPER(AG656)","v":{"$error":"#VALUE!"}},{"$f":"MID($F658,FIND(\"\",$F658)*1,2)","v":""},{"$f":"MID($F658,FIND(\"\",$F658)*3,2)","v":""},{"$f":"MID($F658,FIND(\"\",$F658)*5,2)","v":""},{"$f":"G658","v":0},{"$f":"IF(AM656=\"кмс\",AM$2,IF(AM656=\"мс\",AN$2,IF(AM656=\"мсмк\",AO$2,IF(AM656=\"змс\",AP$2,AM656))))","v":0}]
[]
[null,null,null,null,null,null,null,null,null,null,null,null,{"$f":"D658","v":0},null,null,null,{"$f":"CONCATENATE(AH656,AI656)","v":{"$error":"#VALUE!"}},{"$f":"CONCATENATE(AJ656,\".\",AK656,\".\",AL656,\",\",\" \",AN656)","v":".., 0"},{"$f":"UPPER(H658)","v":""},{"$f":"CONCATENATE(PROPER(I658),\", \",PROPER(J658),\", \",UPPER(K658))","v":", , "},null,{"$f":"PROPER(L658)","v":""},null,null,null,null,null,null,null,null,null,{"$f":"IFERROR(LEFT(E660,FIND(\" \",E660)-1),E660)","v":0},{"$f":"MID(E660,FIND(\" \",E660)*1,27)","v":{"$error":"#VALUE!"}},{"$f":"UPPER(AF658)","v":"0"},{"$f":"PROPER(AG658)","v":{"$error":"#VALUE!"}},{"$f":"MID($F660,FIND(\"\",$F660)*1,2)","v":""},{"$f":"MID($F660,FIND(\"\",$F660)*3,2)","v":""},{"$f":"MID($F660,FIND(\"\",$F660)*5,2)","v":""},{"$f":"G660","v":0},{"$f":"IF(AM658=\"кмс\",AM$2,IF(AM658=\"мс\",AN$2,IF(AM658=\"мсмк\",AO$2,IF(AM658=\"змс\",AP$2,AM658))))","v":0}]
[]
[null,null,null,null,null,null,null,null,null,null,null,null,{"$f":"D660","v":0},null,null,null,{"$f":"CONCATENATE(AH658,AI658)","v":{"$error":"#VALUE!"}},{"$f":"CONCATENATE(AJ658,\".\",AK658,\".\",AL658,\",\",\" \",AN658)","v":".., 0"},{"$f":"UPPER(H660)","v":""},{"$f":"CONCATENATE(PROPER(I660),\", \",PROPER(J660),\", \",UPPER(K660))","v":", , "},null,{"$f":"PROPER(L660)","v":""},null,null,null,null,null,null,null,null,null,{"$f":"IFERROR(LEFT(E662,FIND(\" \",E662)-1),E662)","v":0},{"$f":"MID(E662,FIND(\" \",E662)*1,27)","v":{"$error":"#VALUE!"}},{"$f":"UPPER(AF660)","v":"0"},{"$f":"PROPER(AG660)","v":{"$error":"#VALUE!"}},{"$f":"MID($F662,FIND(\"\",$F662)*1,2)","v":""},{"$f":"MID($F662,FIND(\"\",$F662)*3,2)","v":""},{"$f":"MID($F662,FIND(\"\",$F662)*5,2)","v":""},{"$f":"G662","v":0},{"$f":"IF(AM660=\"кмс\",AM$2,IF(AM660=\"мс\",AN$2,IF(AM660=\"мсмк\",AO$2,IF(AM660=\"змс\",AP$2,AM660))))","v":0}]
[]
[null,null,null,null,null,null,null,null,null,null,null,null,{"$f":"D662","v":0},null,null,null,{"$f":"CONCATENATE(AH660,AI660)","v":{"$error":"#VALUE!"}},{"$f":"CONCATENATE(AJ660,\".\",AK660,\".\",AL660,\",\",\" \",AN660)","v":".., 0"},{"$f":"UPPER(H662)","v":""},{"$f":"CONCATENATE(PROPER(I662),\", \",PROPER(J662),\", \",UPPER(K662))","v":", , "},null,{"$f":"PROPER(L662)","v":""},null,null,null,null,null,null,null,null,null,{"$f":"IFERROR(LEFT(E664,FIND(\" \",E664)-1),E664)","v":0},{"$f":"MID(E664,FIND(\" \",E664)*1,27)","v":{"$error":"#VALUE!"}},{"$f":"UPPER(AF662)","v":"0"},{"$f":"PROPER(AG662)","v":{"$error":"#VALUE!"}},{"$f":"MID($F664,FIND(\"\",$F664)*1,2)","v":""},{"$f":"MID($F664,FIND(\"\",$F664)*3,2)","v":""},{"$f":"MID($F664,FIND(\"\",$F664)*5,2)","v":""},{"$f":"G664","v":0},{"$f":"IF(AM662=\"кмс\",AM$2,IF(AM662=\"мс\",AN$2,IF(AM662=\"мсмк\",AO$2,IF(AM662=\"змс\",AP$2,AM662))))","v":0}]
[]
[null,null,null,null,null,null,null,null,null,null,null,null,{"$f":"D664","v":0},null,null,null,{"$f":"CONCATENATE(AH662,AI662)","v":{"$error":"#VALUE!"}},{"$f":"CONCATENATE(AJ662,\".\",AK662,\".\",AL662,\",\",\" \",AN662)","v":".., 0"},{"$f":"UPPER(H664)","v":""},{"$f":"CONCATENATE(PROPER(I664),\", \",PROPER(J664),\", \",UPPER(K664))","v":", , "},null,{"$f":"PROPER(L664)","v":""},null,null,null,null,null,null,null,null,null,{"$f":"IFERROR(LEFT(E666,FIND(\" \",E666)-1),E666)","v":0},{"$f":"MID(E666,FIND(\" \",E666)*1,27)","v":{"$error":"#VALUE!"}},{"$f":"UPPER(AF664)","v":"0"},{"$f":"PROPER(AG664)","v":{"$error":"#VALUE!"}},{"$f":"MID($F666,FIND(\"\",$F666)*1,2)","v":""},{"$f":"MID($F666,FIND(\"\",$F666)*3,2)","v":""},{"$f":"MID($F666,FIND(\"\",$F666)*5,2)","v":""},{"$f":"G666","v":0},{"$f":"IF(AM664=\"кмс\",AM$2,IF(AM664=\"мс\",AN$2,IF(AM664=\"мсмк\",AO$2,IF(AM664=\"змс\",AP$2,AM664))))","v":0}]
[]
[null,null,null,null,null,null,null,null,null,null,null,null,{"$f":"D666","v":0},null,null,null,{"$f":"CONCATENATE(AH664,AI664)","v":{"$error":"#VALUE!"}},{"$f":"CONCATENATE(AJ664,\".\",AK664,\".\",AL664,\",\",\" \",AN664)","v":".., 0"},{"$f":"UPPER(H666)","v":""},{"$f":"CONCATENATE(PROPER(I666),\", \",PROPER(J666),\", \",UPPER(K666))","v":", , "},null,{"$f":"PROPER(L666)","v":""},null,null,null,null,null,null,null,null,null,{"$f":"IFERROR(LEFT(E668,FIND(\" \",E668)-1),E668)","v":0},{"$f":"MID(E668,FIND(\" \",E668)*1,27)","v":{"$error":"#VALUE!"}},{"$f":"UPPER(AF666)","v":"0"},{"$f":"PROPER(AG666)","v":{"$error":"#VALUE!"}},{"$f":"MID($F668,FIND(\"\",$F668)*1,2)","v":""},{"$f":"MID($F668,FIND(\"\",$F668)*3,2)","v":""},{"$f":"MID($F668,FIND(\"\",$F668)*5,2)","v":""},{"$f":"G668","v":0},{"$f":"IF(AM666=\"кмс\",AM$2,IF(AM666=\"мс\",AN$2,IF(AM666=\"мсмк\",AO$2,IF(AM666=\"змс\",AP$2,AM666))))","v":0}]
[]
[null,null,null,null,null,null,null,null,null,null,null,null,{"$f":"D668","v":0},null,null,null,{"$f":"CONCATENATE(AH666,AI666)","v":{"$error":"#VALUE!"}},{"$f":"CONCATENATE(AJ666,\".\",AK666,\".\",AL666,\",\",\" \",AN666)","v":".., 0"},{"$f":"UPPER(H668)","v":""},{"$f":"CONCATENATE(PROPER(I668),\", \",PROPER(J668),\", \",UPPER(K668))","v":", , "},null,{"$f":"PROPER(L668)","v":""},null,null,null,null,null,null,null,null,null,{"$f":"IFERROR(LEFT(E670,FIND(\" \",E670)-1),E670)","v":0},{"$f":"MID(E670,FIND(\" \",E670)*1,27)","v":{"$error":"#VALUE!"}},{"$f":"UPPER(AF668)","v":"0"},{"$f":"PROPER(AG668)","v":{"$error":"#VALUE!"}},{"$f":"MID($F670,FIND(\"\",$F670)*1,2)","v":""},{"$f":"MID($F670,FIND(\"\",$F670)*3,2)","v":""},{"$f":"MID($F670,FIND(\"\",$F670)*5,2)","v":""},{"$f":"G670","v":0},{"$f":"IF(AM668=\"кмс\",AM$2,IF(AM668=\"мс\",AN$2,IF(AM668=\"мсмк\",AO$2,IF(AM668=\"змс\",AP$2,AM668))))","v":0}]
[]
[null,null,null,null,null,null,null,null,null,null,null,null,{"$f":"D670","v":0},null,null,null,{"$f":"CONCATENATE(AH668,AI668)","v":{"$error":"#VALUE!"}},{"$f":"CONCATENATE(AJ668,\".\",AK668,\".\",AL668,\",\",\" \",AN668)","v":".., 0"},{"$f":"UPPER(H670)","v":""},{"$f":"CONCATENATE(PROPER(I670),\", \",PROPER(J670),\", \",UPPER(K670))","v":", , "},null,{"$f":"PROPER(L670)","v":""},null,null,null,null,null,null,null,null,null,{"$f":"IFERROR(LEFT(E672,FIND(\" \",E672)-1),E672)","v":0},{"$f":"MID(E672,FIND(\" \",E672)*1,27)","v":{"$error":"#VALUE!"}},{"$f":"UPPER(AF670)","v":"0"},{"$f":"PROPER(AG670)","v":{"$error":"#VALUE!"}},{"$f":"MID($F672,FIND(\"\",$F672)*1,2)","v":""},{"$f":"MID($F672,FIND(\"\",$F672)*3,2)","v":""},{"$f":"MID($F672,FIND(\"\",$F672)*5,2)","v":""},{"$f":"G672","v":0},{"$f":"IF(AM670=\"кмс\",AM$2,IF(AM670=\"мс\",AN$2,IF(AM670=\"мсмк\",AO$2,IF(AM670=\"змс\",AP$2,AM670))))","v":0}]
[]
[null,null,null,null,null,null,null,null,null,null,null,null,{"$f":"D672","v":0},null,null,null,{"$f":"CONCATENATE(AH670,AI670)","v":{"$error":"#VALUE!"}},{"$f":"CONCATENATE(AJ670,\".\",AK670,\".\",AL670,\",\",\" \",AN670)","v":".., 0"},{"$f":"UPPER(H672)","v":""},{"$f":"CONCATENATE(PROPER(I672),\", \",PROPER(J672),\", \",UPPER(K672))","v":", , "},null,{"$f":"PROPER(L672)","v":""},null,null,null,null,null,null,null,null,null,{"$f":"IFERROR(LEFT(E674,FIND(\" \",E674)-1),E674)","v":0},{"$f":"MID(E674,FIND(\" \",E674)*1,27)","v":{"$error":"#VALUE!"}},{"$f":"UPPER(AF672)","v":"0"},{"$f":"PROPER(AG672)","v":{"$error":"#VALUE!"}},{"$f":"MID($F674,FIND(\"\",$F674)*1,2)","v":""},{"$f":"MID($F674,FIND(\"\",$F674)*3,2)","v":""},{"$f":"MID($F674,FIND(\"\",$F674)*5,2)","v":""},{"$f":"G674","v":0},{"$f":"IF(AM672=\"кмс\",AM$2,IF(AM672=\"мс\",AN$2,IF(AM672=\"мсмк\",AO$2,IF(AM672=\"змс\",AP$2,AM672))))","v":0}]
[]
[null,null,null,null,null,null,null,null,null,null,null,null,{"$f":"D674","v":0},null,null,null,{"$f":"CONCATENATE(AH672,AI672)","v":{"$error":"#VALUE!"}},{"$f":"CONCATENATE(AJ672,\".\",AK672,\".\",AL672,\",\",\" \",AN672)","v":".., 0"},{"$f":"UPPER(H674)","v":""},{"$f":"CONCATENATE(PROPER(I674),\", \",PROPER(J674),\", \",UPPER(K674))","v":", , "},null,{"$f":"PROPER(L674)","v":""},null,null,null,null,null,null,null,null,null,{"$f":"IFERROR(LEFT(E676,FIND(\" \",E676)-1),E676)","v":0},{"$f":"MID(E676,FIND(\" \",E676)*1,27)","v":{"$error":"#VALUE!"}},{"$f":"UPPER(AF674)","v":"0"},{"$f":"PROPER(AG674)","v":{"$error":"#VALUE!"}},{"$f":"MID($F676,FIND(\"\",$F676)*1,2)","v":""},{"$f":"MID($F676,FIND(\"\",$F676)*3,2)","v":""},{"$f":"MID($F676,FIND(\"\",$F676)*5,2)","v":""},{"$f":"G676","v":0},{"$f":"IF(AM674=\"кмс\",AM$2,IF(AM674=\"мс\",AN$2,IF(AM674=\"мсмк\",AO$2,IF(AM674=\"змс\",AP$2,AM674))))","v":0}]
[]
[null,null,null,null,null,null,null,null,null,null,null,null,{"$f":"D676","v":0},null,null,null,{"$f":"CONCATENATE(AH674,AI674)","v":{"$error":"#VALUE!"}},{"$f":"CONCATENATE(AJ674,\".\",AK674,\".\",AL674,\",\",\" \",AN674)","v":".., 0"},{"$f":"UPPER(H676)","v":""},{"$f":"CONCATENATE(PROPER(I676),\", \",PROPER(J676),\", \",UPPER(K676))","v":", , "},null,{"$f":"PROPER(L676)","v":""},null,null,null,null,null,null,null,null,null,{"$f":"IFERROR(LEFT(E678,FIND(\" \",E678)-1),E678)","v":0},{"$f":"MID(E678,FIND(\" \",E678)*1,27)","v":{"$error":"#VALUE!"}},{"$f":"UPPER(AF676)","v":"0"},{"$f":"PROPER(AG676)","v":{"$error":"#VALUE!"}},{"$f":"MID($F678,FIND(\"\",$F678)*1,2)","v":""},{"$f":"MID($F678,FIND(\"\",$F678)*3,2)","v":""},{"$f":"MID($F678,FIND(\"\",$F678)*5,2)","v":""},{"$f":"G678","v":0},{"$f":"IF(AM676=\"кмс\",AM$2,IF(AM676=\"мс\",AN$2,IF(AM676=\"мсмк\",AO$2,IF(AM676=\"змс\",AP$2,AM676))))","v":0}]
[]
[null,null,null,null,null,null,null,null,null,null,null,null,{"$f":"D678","v":0},null,null,null,{"$f":"CONCATENATE(AH676,AI676)","v":{"$error":"#VALUE!"}},{"$f":"CONCATENATE(AJ676,\".\",AK676,\".\",AL676,\",\",\" \",AN676)","v":".., 0"},{"$f":"UPPER(H678)","v":""},{"$f":"CONCATENATE(PROPER(I678),\", \",PROPER(J678),\", \",UPPER(K678))","v":", , "},null,{"$f":"PROPER(L678)","v":""},null,null,null,null,null,null,null,null,null,{"$f":"IFERROR(LEFT(E680,FIND(\" \",E680)-1),E680)","v":0},{"$f":"MID(E680,FIND(\" \",E680)*1,27)","v":{"$error":"#VALUE!"}},{"$f":"UPPER(AF678)","v":"0"},{"$f":"PROPER(AG678)","v":{"$error":"#VALUE!"}},{"$f":"MID($F680,FIND(\"\",$F680)*1,2)","v":""},{"$f":"MID($F680,FIND(\"\",$F680)*3,2)","v":""},{"$f":"MID($F680,FIND(\"\",$F680)*5,2)","v":""},{"$f":"G680","v":0},{"$f":"IF(AM678=\"кмс\",AM$2,IF(AM678=\"мс\",AN$2,IF(AM678=\"мсмк\",AO$2,IF(AM678=\"змс\",AP$2,AM678))))","v":0}]
[]
[null,null,null,null,null,null,null,null,null,null,null,null,{"$f":"D680","v":0},null,null,null,{"$f":"CONCATENATE(AH678,AI678)","v":{"$error":"#VALUE!"}},{"$f":"CONCATENATE(AJ678,\".\",AK678,\".\",AL678,\",\",\" \",AN678)","v":".., 0"},{"$f":"UPPER(H680)","v":""},{"$f":"CONCATENATE(PROPER(I680),\", \",PROPER(J680),\", \",UPPER(K680))","v":", , "},null,{"$f":"PROPER(L680)","v":""},null,null,null,null,null,null,null,null,null,{"$f":"IFERROR(LEFT(E682,FIND(\" \",E682)-1),E682)","v":0},{"$f":"MID(E682,FIND(\" \",E682)*1,27)","v":{"$error":"#VALUE!"}},{"$f":"UPPER(AF680)","v":"0"},{"$f":"PROPER(AG680)","v":{"$error":"#VALUE!"}},{"$f":"MID($F682,FIND(\"\",$F682)*1,2)","v":""},{"$f":"MID($F682,FIND(\"\",$F682)*3,2)","v":""},{"$f":"MID($F682,FIND(\"\",$F682)*5,2)","v":""},{"$f":"G682","v":0},{"$f":"IF(AM680=\"кмс\",AM$2,IF(AM680=\"мс\",AN$2,IF(AM680=\"мсмк\",AO$2,IF(AM680=\"змс\",AP$2,AM680))))","v":0}]
[]
[null,null,null,null,null,null,null,null,null,null,null,null,{"$f":"D682","v":0},null,null,null,{"$f":"CONCATENATE(AH680,AI680)","v":{"$error":"#VALUE!"}},{"$f":"CONCATENATE(AJ680,\".\",AK680,\".\",AL680,\",\",\" \",AN680)","v":".., 0"},{"$f":"UPPER(H682)","v":""},{"$f":"CONCATENATE(PROPER(I682),\", \",PROPER(J682),\", \",UPPER(K682))","v":", , "},null,{"$f":"PROPER(L682)","v":""},null,null,null,null,null,null,null,null,null,{"$f":"IFERROR(LEFT(E684,FIND(\" \",E684)-1),E684)","v":0},{"$f":"MID(E684,FIND(\" \",E684)*1,27)","v":{"$error":"#VALUE!"}},{"$f":"UPPER(AF682)","v":"0"},{"$f":"PROPER(AG682)","v":{"$error":"#VALUE!"}},{"$f":"MID($F684,FIND(\"\",$F684)*1,2)","v":""},{"$f":"MID($F684,FIND(\"\",$F684)*3,2)","v":""},{"$f":"MID($F684,FIND(\"\",$F684)*5,2)","v":""},{"$f":"G684","v":0},{"$f":"IF(AM682=\"кмс\",AM$2,IF(AM682=\"мс\",AN$2,IF(AM682=\"мсмк\",AO$2,IF(AM682=\"змс\",AP$2,AM682))))","v":0}]
[]
[null,null,null,null,null,null,null,null,null,null,null,null,{"$f":"D684","v":0},null,null,null,{"$f":"CONCATENATE(AH682,AI682)","v":{"$error":"#VALUE!"}},{"$f":"CONCATENATE(AJ682,\".\",AK682,\".\",AL682,\",\",\" \",AN682)","v":".., 0"},{"$f":"UPPER(H684)","v":""},{"$f":"CONCATENATE(PROPER(I684),\", \",PROPER(J684),\", \",UPPER(K684))","v":", , "},null,{"$f":"PROPER(L684)","v":""},null,null,null,null,null,null,null,null,null,{"$f":"IFERROR(LEFT(E686,FIND(\" \",E686)-1),E686)","v":0},{"$f":"MID(E686,FIND(\" \",E686)*1,27)","v":{"$error":"#VALUE!"}},{"$f":"UPPER(AF684)","v":"0"},{"$f":"PROPER(AG684)","v":{"$error":"#VALUE!"}},{"$f":"MID($F686,FIND(\"\",$F686)*1,2)","v":""},{"$f":"MID($F686,FIND(\"\",$F686)*3,2)","v":""},{"$f":"MID($F686,FIND(\"\",$F686)*5,2)","v":""},{"$f":"G686","v":0},{"$f":"IF(AM684=\"кмс\",AM$2,IF(AM684=\"мс\",AN$2,IF(AM684=\"мсмк\",AO$2,IF(AM684=\"змс\",AP$2,AM684))))","v":0}]
[]
[null,null,null,null,null,null,null,null,null,null,null,null,{"$f":"D686","v":0},null,null,null,{"$f":"CONCATENATE(AH684,AI684)","v":{"$error":"#VALUE!"}},{"$f":"CONCATENATE(AJ684,\".\",AK684,\".\",AL684,\",\",\" \",AN684)","v":".., 0"},{"$f":"UPPER(H686)","v":""},{"$f":"CONCATENATE(PROPER(I686),\", \",PROPER(J686),\", \",UPPER(K686))","v":", , "},null,{"$f":"PROPER(L686)","v":""},null,null,null,null,null,null,null,null,null,{"$f":"IFERROR(LEFT(E688,FIND(\" \",E688)-1),E688)","v":0},{"$f":"MID(E688,FIND(\" \",E688)*1,27)","v":{"$error":"#VALUE!"}},{"$f":"UPPER(AF686)","v":"0"},{"$f":"PROPER(AG686)","v":{"$error":"#VALUE!"}},{"$f":"MID($F688,FIND(\"\",$F688)*1,2)","v":""},{"$f":"MID($F688,FIND(\"\",$F688)*3,2)","v":""},{"$f":"MID($F688,FIND(\"\",$F688)*5,2)","v":""},{"$f":"G688","v":0},{"$f":"IF(AM686=\"кмс\",AM$2,IF(AM686=\"мс\",AN$2,IF(AM686=\"мсмк\",AO$2,IF(AM686=\"змс\",AP$2,AM686))))","v":0}]
[]
[null,null,null,null,null,null,null,null,null,null,null,null,{"$f":"D688","v":0},null,null,null,{"$f":"CONCATENATE(AH686,AI686)","v":{"$error":"#VALUE!"}},{"$f":"CONCATENATE(AJ686,\".\",AK686,\".\",AL686,\",\",\" \",AN686)","v":".., 0"},{"$f":"UPPER(H688)","v":""},{"$f":"CONCATENATE(PROPER(I688),\", \",PROPER(J688),\", \",UPPER(K688))","v":", , "},null,{"$f":"PROPER(L688)","v":""},null,null,null,null,null,null,null,null,null,{"$f":"IFERROR(LEFT(E690,FIND(\" \",E690)-1),E690)","v":0},{"$f":"MID(E690,FIND(\" \",E690)*1,27)","v":{"$error":"#VALUE!"}},{"$f":"UPPER(AF688)","v":"0"},{"$f":"PROPER(AG688)","v":{"$error":"#VALUE!"}},{"$f":"MID($F690,FIND(\"\",$F690)*1,2)","v":""},{"$f":"MID($F690,FIND(\"\",$F690)*3,2)","v":""},{"$f":"MID($F690,FIND(\"\",$F690)*5,2)","v":""},{"$f":"G690","v":0},{"$f":"IF(AM688=\"кмс\",AM$2,IF(AM688=\"мс\",AN$2,IF(AM688=\"мсмк\",AO$2,IF(AM688=\"змс\",AP$2,AM688))))","v":0}]
[]
[null,null,null,null,null,null,null,null,null,null,null,null,{"$f":"D690","v":0},null,null,null,{"$f":"CONCATENATE(AH688,AI688)","v":{"$error":"#VALUE!"}},{"$f":"CONCATENATE(AJ688,\".\",AK688,\".\",AL688,\",\",\" \",AN688)","v":".., 0"},{"$f":"UPPER(H690)","v":""},{"$f":"CONCATENATE(PROPER(I690),\", \",PROPER(J690),\", \",UPPER(K690))","v":", , "},null,{"$f":"PROPER(L690)","v":""},null,null,null,null,null,null,null,null,null,{"$f":"IFERROR(LEFT(E692,FIND(\" \",E692)-1),E692)","v":0},{"$f":"MID(E692,FIND(\" \",E692)*1,27)","v":{"$error":"#VALUE!"}},{"$f":"UPPER(AF690)","v":"0"},{"$f":"PROPER(AG690)","v":{"$error":"#VALUE!"}},{"$f":"MID($F692,FIND(\"\",$F692)*1,2)","v":""},{"$f":"MID($F692,FIND(\"\",$F692)*3,2)","v":""},{"$f":"MID($F692,FIND(\"\",$F692)*5,2)","v":""},{"$f":"G692","v":0},{"$f":"IF(AM690=\"кмс\",AM$2,IF(AM690=\"мс\",AN$2,IF(AM690=\"мсмк\",AO$2,IF(AM690=\"змс\",AP$2,AM690))))","v":0}]
[]
[null,null,null,null,null,null,null,null,null,null,null,null,{"$f":"D692","v":0},null,null,null,{"$f":"CONCATENATE(AH690,AI690)","v":{"$error":"#VALUE!"}},{"$f":"CONCATENATE(AJ690,\".\",AK690,\".\",AL690,\",\",\" \",AN690)","v":".., 0"},{"$f":"UPPER(H692)","v":""},{"$f":"CONCATENATE(PROPER(I692),\", \",PROPER(J692),\", \",UPPER(K692))","v":", , "},null,{"$f":"PROPER(L692)","v":""},null,null,null,null,null,null,null,null,null,{"$f":"IFERROR(LEFT(E694,FIND(\" \",E694)-1),E694)","v":0},{"$f":"MID(E694,FIND(\" \",E694)*1,27)","v":{"$error":"#VALUE!"}},{"$f":"UPPER(AF692)","v":"0"},{"$f":"PROPER(AG692)","v":{"$error":"#VALUE!"}},{"$f":"MID($F694,FIND(\"\",$F694)*1,2)","v":""},{"$f":"MID($F694,FIND(\"\",$F694)*3,2)","v":""},{"$f":"MID($F694,FIND(\"\",$F694)*5,2)","v":""},{"$f":"G694","v":0},{"$f":"IF(AM692=\"кмс\",AM$2,IF(AM692=\"мс\",AN$2,IF(AM692=\"мсмк\",AO$2,IF(AM692=\"змс\",AP$2,AM692))))","v":0}]
[]
[null,null,null,null,null,null,null,null,null,null,null,null,{"$f":"D694","v":0},null,null,null,{"$f":"CONCATENATE(AH692,AI692)","v":{"$error":"#VALUE!"}},{"$f":"CONCATENATE(AJ692,\".\",AK692,\".\",AL692,\",\",\" \",AN692)","v":".., 0"},{"$f":"UPPER(H694)","v":""},{"$f":"CONCATENATE(PROPER(I694),\", \",PROPER(J694),\", \",UPPER(K694))","v":", , "},null,{"$f":"PROPER(L694)","v":""},null,null,null,null,null,null,null,null,null,{"$f":"IFERROR(LEFT(E696,FIND(\" \",E696)-1),E696)","v":0},{"$f":"MID(E696,FIND(\" \",E696)*1,27)","v":{"$error":"#VALUE!"}},{"$f":"UPPER(AF694)","v":"0"},{"$f":"PROPER(AG694)","v":{"$error":"#VALUE!"}},{"$f":"MID($F696,FIND(\"\",$F696)*1,2)","v":""},{"$f":"MID($F696,FIND(\"\",$F696)*3,2)","v":""},{"$f":"MID($F696,FIND(\"\",$F696)*5,2)","v":""},{"$f":"G696","v":0},{"$f":"IF(AM694=\"кмс\",AM$2,IF(AM694=\"мс\",AN$2,IF(AM694=\"мсмк\",AO$2,IF(AM694=\"змс\",AP$2,AM694))))","v":0}]
[]
[null,null,null,null,null,null,null,null,null,null,null,null,{"$f":"D696","v":0},null,null,null,{"$f":"CONCATENATE(AH694,AI694)","v":{"$error":"#VALUE!"}},{"$f":"CONCATENATE(AJ694,\".\",AK694,\".\",AL694,\",\",\" \",AN694)","v":".., 0"},{"$f":"UPPER(H696)","v":""},{"$f":"CONCATENATE(PROPER(I696),\", \",PROPER(J696),\", \",UPPER(K696))","v":", , "},null,{"$f":"PROPER(L696)","v":""},null,null,null,null,null,null,null,null,null,{"$f":"IFERROR(LEFT(E698,FIND(\" \",E698)-1),E698)","v":0},{"$f":"MID(E698,FIND(\" \",E698)*1,27)","v":{"$error":"#VALUE!"}},{"$f":"UPPER(AF696)","v":"0"},{"$f":"PROPER(AG696)","v":{"$error":"#VALUE!"}},{"$f":"MID($F698,FIND(\"\",$F698)*1,2)","v":""},{"$f":"MID($F698,FIND(\"\",$F698)*3,2)","v":""},{"$f":"MID($F698,FIND(\"\",$F698)*5,2)","v":""},{"$f":"G698","v":0},{"$f":"IF(AM696=\"кмс\",AM$2,IF(AM696=\"мс\",AN$2,IF(AM696=\"мсмк\",AO$2,IF(AM696=\"змс\",AP$2,AM696))))","v":0}]
[]
[null,null,null,null,null,null,null,null,null,null,null,null,{"$f":"D698","v":0},null,null,null,{"$f":"CONCATENATE(AH696,AI696)","v":{"$error":"#VALUE!"}},{"$f":"CONCATENATE(AJ696,\".\",AK696,\".\",AL696,\",\",\" \",AN696)","v":".., 0"},{"$f":"UPPER(H698)","v":""},{"$f":"CONCATENATE(PROPER(I698),\", \",PROPER(J698),\", \",UPPER(K698))","v":", , "},null,{"$f":"PROPER(L698)","v":""},null,null,null,null,null,null,null,null,null,{"$f":"IFERROR(LEFT(E700,FIND(\" \",E700)-1),E700)","v":0},{"$f":"MID(E700,FIND(\" \",E700)*1,27)","v":{"$error":"#VALUE!"}},{"$f":"UPPER(AF698)","v":"0"},{"$f":"PROPER(AG698)","v":{"$error":"#VALUE!"}},{"$f":"MID($F700,FIND(\"\",$F700)*1,2)","v":""},{"$f":"MID($F700,FIND(\"\",$F700)*3,2)","v":""},{"$f":"MID($F700,FIND(\"\",$F700)*5,2)","v":""},{"$f":"G700","v":0},{"$f":"IF(AM698=\"кмс\",AM$2,IF(AM698=\"мс\",AN$2,IF(AM698=\"мсмк\",AO$2,IF(AM698=\"змс\",AP$2,AM698))))","v":0}]
[]
[null,null,null,null,null,null,null,null,null,null,null,null,{"$f":"D700","v":0},null,null,null,{"$f":"CONCATENATE(AH698,AI698)","v":{"$error":"#VALUE!"}},{"$f":"CONCATENATE(AJ698,\".\",AK698,\".\",AL698,\",\",\" \",AN698)","v":".., 0"},{"$f":"UPPER(H700)","v":""},{"$f":"CONCATENATE(PROPER(I700),\", \",PROPER(J700),\", \",UPPER(K700))","v":", , "},null,{"$f":"PROPER(L700)","v":""},null,null,null,null,null,null,null,null,null,{"$f":"IFERROR(LEFT(E702,FIND(\" \",E702)-1),E702)","v":0},{"$f":"MID(E702,FIND(\" \",E702)*1,27)","v":{"$error":"#VALUE!"}},{"$f":"UPPER(AF700)","v":"0"},{"$f":"PROPER(AG700)","v":{"$error":"#VALUE!"}},{"$f":"MID($F702,FIND(\"\",$F702)*1,2)","v":""},{"$f":"MID($F702,FIND(\"\",$F702)*3,2)","v":""},{"$f":"MID($F702,FIND(\"\",$F702)*5,2)","v":""},{"$f":"G702","v":0},{"$f":"IF(AM700=\"кмс\",AM$2,IF(AM700=\"мс\",AN$2,IF(AM700=\"мсмк\",AO$2,IF(AM700=\"змс\",AP$2,AM700))))","v":0}]
[]
[null,null,null,null,null,null,null,null,null,null,null,null,{"$f":"D702","v":0},null,null,null,{"$f":"CONCATENATE(AH700,AI700)","v":{"$error":"#VALUE!"}},{"$f":"CONCATENATE(AJ700,\".\",AK700,\".\",AL700,\",\",\" \",AN700)","v":".., 0"},{"$f":"UPPER(H702)","v":""},{"$f":"CONCATENATE(PROPER(I702),\", \",PROPER(J702),\", \",UPPER(K702))","v":", , "},null,{"$f":"PROPER(L702)","v":""},null,null,null,null,null,null,null,null,null,{"$f":"IFERROR(LEFT(E704,FIND(\" \",E704)-1),E704)","v":0},{"$f":"MID(E704,FIND(\" \",E704)*1,27)","v":{"$error":"#VALUE!"}},{"$f":"UPPER(AF702)","v":"0"},{"$f":"PROPER(AG702)","v":{"$error":"#VALUE!"}},{"$f":"MID($F704,FIND(\"\",$F704)*1,2)","v":""},{"$f":"MID($F704,FIND(\"\",$F704)*3,2)","v":""},{"$f":"MID($F704,FIND(\"\",$F704)*5,2)","v":""},{"$f":"G704","v":0},{"$f":"IF(AM702=\"кмс\",AM$2,IF(AM702=\"мс\",AN$2,IF(AM702=\"мсмк\",AO$2,IF(AM702=\"змс\",AP$2,AM702))))","v":0}]
[]
[null,null,null,null,null,null,null,null,null,null,null,null,{"$f":"D704","v":0},null,null,null,{"$f":"CONCATENATE(AH702,AI702)","v":{"$error":"#VALUE!"}},{"$f":"CONCATENATE(AJ702,\".\",AK702,\".\",AL702,\",\",\" \",AN702)","v":".., 0"},{"$f":"UPPER(H704)","v":""},{"$f":"CONCATENATE(PROPER(I704),\", \",PROPER(J704),\", \",UPPER(K704))","v":", , "},null,{"$f":"PROPER(L704)","v":""},null,null,null,null,null,null,null,null,null,{"$f":"IFERROR(LEFT(E706,FIND(\" \",E706)-1),E706)","v":0},{"$f":"MID(E706,FIND(\" \",E706)*1,27)","v":{"$error":"#VALUE!"}},{"$f":"UPPER(AF704)","v":"0"},{"$f":"PROPER(AG704)","v":{"$error":"#VALUE!"}},{"$f":"MID($F706,FIND(\"\",$F706)*1,2)","v":""},{"$f":"MID($F706,FIND(\"\",$F706)*3,2)","v":""},{"$f":"MID($F706,FIND(\"\",$F706)*5,2)","v":""},{"$f":"G706","v":0},{"$f":"IF(AM704=\"кмс\",AM$2,IF(AM704=\"мс\",AN$2,IF(AM704=\"мсмк\",AO$2,IF(AM704=\"змс\",AP$2,AM704))))","v":0}]
[]
[null,null,null,null,null,null,null,null,null,null,null,null,{"$f":"D706","v":0},null,null,null,{"$f":"CONCATENATE(AH704,AI704)","v":{"$error":"#VALUE!"}},{"$f":"CONCATENATE(AJ704,\".\",AK704,\".\",AL704,\",\",\" \",AN704)","v":".., 0"},{"$f":"UPPER(H706)","v":""},{"$f":"CONCATENATE(PROPER(I706),\", \",PROPER(J706),\", \",UPPER(K706))","v":", , "},null,{"$f":"PROPER(L706)","v":""},null,null,null,null,null,null,null,null,null,{"$f":"IFERROR(LEFT(E708,FIND(\" \",E708)-1),E708)","v":0},{"$f":"MID(E708,FIND(\" \",E708)*1,27)","v":{"$error":"#VALUE!"}},{"$f":"UPPER(AF706)","v":"0"},{"$f":"PROPER(AG706)","v":{"$error":"#VALUE!"}},{"$f":"MID($F708,FIND(\"\",$F708)*1,2)","v":""},{"$f":"MID($F708,FIND(\"\",$F708)*3,2)","v":""},{"$f":"MID($F708,FIND(\"\",$F708)*5,2)","v":""},{"$f":"G708","v":0},{"$f":"IF(AM706=\"кмс\",AM$2,IF(AM706=\"мс\",AN$2,IF(AM706=\"мсмк\",AO$2,IF(AM706=\"змс\",AP$2,AM706))))","v":0}]
[]
[null,null,null,null,null,null,null,null,null,null,null,null,{"$f":"D708","v":0},null,null,null,{"$f":"CONCATENATE(AH706,AI706)","v":{"$error":"#VALUE!"}},{"$f":"CONCATENATE(AJ706,\".\",AK706,\".\",AL706,\",\",\" \",AN706)","v":".., 0"},{"$f":"UPPER(H708)","v":""},{"$f":"CONCATENATE(PROPER(I708),\", \",PROPER(J708),\", \",UPPER(K708))","v":", , "},null,{"$f":"PROPER(L708)","v":""},null,null,null,null,null,null,null,null,null,{"$f":"IFERROR(LEFT(E710,FIND(\" \",E710)-1),E710)","v":0},{"$f":"MID(E710,FIND(\" \",E710)*1,27)","v":{"$error":"#VALUE!"}},{"$f":"UPPER(AF708)","v":"0"},{"$f":"PROPER(AG708)","v":{"$error":"#VALUE!"}},{"$f":"MID($F710,FIND(\"\",$F710)*1,2)","v":""},{"$f":"MID($F710,FIND(\"\",$F710)*3,2)","v":""},{"$f":"MID($F710,FIND(\"\",$F710)*5,2)","v":""},{"$f":"G710","v":0},{"$f":"IF(AM708=\"кмс\",AM$2,IF(AM708=\"мс\",AN$2,IF(AM708=\"мсмк\",AO$2,IF(AM708=\"змс\",AP$2,AM708))))","v":0}]
[]
[null,null,null,null,null,null,null,null,null,null,null,null,{"$f":"D710","v":0},null,null,null,{"$f":"CONCATENATE(AH708,AI708)","v":{"$error":"#VALUE!"}},{"$f":"CONCATENATE(AJ708,\".\",AK708,\".\",AL708,\",\",\" \",AN708)","v":".., 0"},{"$f":"UPPER(H710)","v":""},{"$f":"CONCATENATE(PROPER(I710),\", \",PROPER(J710),\", \",UPPER(K710))","v":", , "},null,{"$f":"PROPER(L710)","v":""},null,null,null,null,null,null,null,null,null,{"$f":"IFERROR(LEFT(E712,FIND(\" \",E712)-1),E712)","v":0},{"$f":"MID(E712,FIND(\" \",E712)*1,27)","v":{"$error":"#VALUE!"}},{"$f":"UPPER(AF710)","v":"0"},{"$f":"PROPER(AG710)","v":{"$error":"#VALUE!"}},{"$f":"MID($F712,FIND(\"\",$F712)*1,2)","v":""},{"$f":"MID($F712,FIND(\"\",$F712)*3,2)","v":""},{"$f":"MID($F712,FIND(\"\",$F712)*5,2)","v":""},{"$f":"G712","v":0},{"$f":"IF(AM710=\"кмс\",AM$2,IF(AM710=\"мс\",AN$2,IF(AM710=\"мсмк\",AO$2,IF(AM710=\"змс\",AP$2,AM710))))","v":0}]
[]
[null,null,null,null,null,null,null,null,null,null,null,null,{"$f":"D712","v":0},null,null,null,{"$f":"CONCATENATE(AH710,AI710)","v":{"$error":"#VALUE!"}},{"$f":"CONCATENATE(AJ710,\".\",AK710,\".\",AL710,\",\",\" \",AN710)","v":".., 0"},{"$f":"UPPER(H712)","v":""},{"$f":"CONCATENATE(PROPER(I712),\", \",PROPER(J712),\", \",UPPER(K712))","v":", , "},null,{"$f":"PROPER(L712)","v":""},null,null,null,null,null,null,null,null,null,{"$f":"IFERROR(LEFT(E714,FIND(\" \",E714)-1),E714)","v":0},{"$f":"MID(E714,FIND(\" \",E714)*1,27)","v":{"$error":"#VALUE!"}},{"$f":"UPPER(AF712)","v":"0"},{"$f":"PROPER(AG712)","v":{"$error":"#VALUE!"}},{"$f":"MID($F714,FIND(\"\",$F714)*1,2)","v":""},{"$f":"MID($F714,FIND(\"\",$F714)*3,2)","v":""},{"$f":"MID($F714,FIND(\"\",$F714)*5,2)","v":""},{"$f":"G714","v":0},{"$f":"IF(AM712=\"кмс\",AM$2,IF(AM712=\"мс\",AN$2,IF(AM712=\"мсмк\",AO$2,IF(AM712=\"змс\",AP$2,AM712))))","v":0}]
[]
[null,null,null,null,null,null,null,null,null,null,null,null,{"$f":"D714","v":0},null,null,null,{"$f":"CONCATENATE(AH712,AI712)","v":{"$error":"#VALUE!"}},{"$f":"CONCATENATE(AJ712,\".\",AK712,\".\",AL712,\",\",\" \",AN712)","v":".., 0"},{"$f":"UPPER(H714)","v":""},{"$f":"CONCATENATE(PROPER(I714),\", \",PROPER(J714),\", \",UPPER(K714))","v":", , "},null,{"$f":"PROPER(L714)","v":""},null,null,null,null,null,null,null,null,null,{"$f":"IFERROR(LEFT(E716,FIND(\" \",E716)-1),E716)","v":0},{"$f":"MID(E716,FIND(\" \",E716)*1,27)","v":{"$error":"#VALUE!"}},{"$f":"UPPER(AF714)","v":"0"},{"$f":"PROPER(AG714)","v":{"$error":"#VALUE!"}},{"$f":"MID($F716,FIND(\"\",$F716)*1,2)","v":""},{"$f":"MID($F716,FIND(\"\",$F716)*3,2)","v":""},{"$f":"MID($F716,FIND(\"\",$F716)*5,2)","v":""},{"$f":"G716","v":0},{"$f":"IF(AM714=\"кмс\",AM$2,IF(AM714=\"мс\",AN$2,IF(AM714=\"мсмк\",AO$2,IF(AM714=\"змс\",AP$2,AM714))))","v":0}]
[]
[null,null,null,null,null,null,null,null,null,null,null,null,{"$f":"D716","v":0},null,null,null,{"$f":"CONCATENATE(AH714,AI714)","v":{"$error":"#VALUE!"}},{"$f":"CONCATENATE(AJ714,\".\",AK714,\".\",AL714,\",\",\" \",AN714)","v":".., 0"},{"$f":"UPPER(H716)","v":""},{"$f":"CONCATENATE(PROPER(I716),\", \",PROPER(J716),\", \",UPPER(K716))","v":", , "},null,{"$f":"PROPER(L716)","v":""},null,null,null,null,null,null,null,null,null,{"$f":"IFERROR(LEFT(E718,FIND(\" \",E718)-1),E718)","v":0},{"$f":"MID(E718,FIND(\" \",E718)*1,27)","v":{"$error":"#VALUE!"}},{"$f":"UPPER(AF716)","v":"0"},{"$f":"PROPER(AG716)","v":{"$error":"#VALUE!"}},{"$f":"MID($F718,FIND(\"\",$F718)*1,2)","v":""},{"$f":"MID($F718,FIND(\"\",$F718)*3,2)","v":""},{"$f":"MID($F718,FIND(\"\",$F718)*5,2)","v":""},{"$f":"G718","v":0},{"$f":"IF(AM716=\"кмс\",AM$2,IF(AM716=\"мс\",AN$2,IF(AM716=\"мсмк\",AO$2,IF(AM716=\"змс\",AP$2,AM716))))","v":0}]
[]
[null,null,null,null,null,null,null,null,null,null,null,null,{"$f":"D718","v":0},null,null,null,{"$f":"CONCATENATE(AH716,AI716)","v":{"$error":"#VALUE!"}},{"$f":"CONCATENATE(AJ716,\".\",AK716,\".\",AL716,\",\",\" \",AN716)","v":".., 0"},{"$f":"UPPER(H718)","v":""},{"$f":"CONCATENATE(PROPER(I718),\", \",PROPER(J718),\", \",UPPER(K718))","v":", , "},null,{"$f":"PROPER(L718)","v":""},null,null,null,null,null,null,null,null,null,{"$f":"IFERROR(LEFT(E720,FIND(\" \",E720)-1),E720)","v":0},{"$f":"MID(E720,FIND(\" \",E720)*1,27)","v":{"$error":"#VALUE!"}},{"$f":"UPPER(AF718)","v":"0"},{"$f":"PROPER(AG718)","v":{"$error":"#VALUE!"}},{"$f":"MID($F720,FIND(\"\",$F720)*1,2)","v":""},{"$f":"MID($F720,FIND(\"\",$F720)*3,2)","v":""},{"$f":"MID($F720,FIND(\"\",$F720)*5,2)","v":""},{"$f":"G720","v":0},{"$f":"IF(AM718=\"кмс\",AM$2,IF(AM718=\"мс\",AN$2,IF(AM718=\"мсмк\",AO$2,IF(AM718=\"змс\",AP$2,AM718))))","v":0}]
[]
[null,null,null,null,null,null,null,null,null,null,null,null,{"$f":"D720","v":0},null,null,null,{"$f":"CONCATENATE(AH718,AI718)","v":{"$error":"#VALUE!"}},{"$f":"CONCATENATE(AJ718,\".\",AK718,\".\",AL718,\",\",\" \",AN718)","v":".., 0"},{"$f":"UPPER(H720)","v":""},{"$f":"CONCATENATE(PROPER(I720),\", \",PROPER(J720),\", \",UPPER(K720))","v":", , "},null,{"$f":"PROPER(L720)","v":""},null,null,null,null,null,null,null,null,null,{"$f":"IFERROR(LEFT(E722,FIND(\" \",E722)-1),E722)","v":0},{"$f":"MID(E722,FIND(\" \",E722)*1,27)","v":{"$error":"#VALUE!"}},{"$f":"UPPER(AF720)","v":"0"},{"$f":"PROPER(AG720)","v":{"$error":"#VALUE!"}},{"$f":"MID($F722,FIND(\"\",$F722)*1,2)","v":""},{"$f":"MID($F722,FIND(\"\",$F722)*3,2)","v":""},{"$f":"MID($F722,FIND(\"\",$F722)*5,2)","v":""},{"$f":"G722","v":0},{"$f":"IF(AM720=\"кмс\",AM$2,IF(AM720=\"мс\",AN$2,IF(AM720=\"мсмк\",AO$2,IF(AM720=\"змс\",AP$2,AM720))))","v":0}]
[]
[null,null,null,null,null,null,null,null,null,null,null,null,{"$f":"D722","v":0},null,null,null,{"$f":"CONCATENATE(AH720,AI720)","v":{"$error":"#VALUE!"}},{"$f":"CONCATENATE(AJ720,\".\",AK720,\".\",AL720,\",\",\" \",AN720)","v":".., 0"},{"$f":"UPPER(H722)","v":""},{"$f":"CONCATENATE(PROPER(I722),\", \",PROPER(J722),\", \",UPPER(K722))","v":", , "},null,{"$f":"PROPER(L722)","v":""},null,null,null,null,null,null,null,null,null,{"$f":"IFERROR(LEFT(E724,FIND(\" \",E724)-1),E724)","v":0},{"$f":"MID(E724,FIND(\" \",E724)*1,27)","v":{"$error":"#VALUE!"}},{"$f":"UPPER(AF722)","v":"0"},{"$f":"PROPER(AG722)","v":{"$error":"#VALUE!"}},{"$f":"MID($F724,FIND(\"\",$F724)*1,2)","v":""},{"$f":"MID($F724,FIND(\"\",$F724)*3,2)","v":""},{"$f":"MID($F724,FIND(\"\",$F724)*5,2)","v":""},{"$f":"G724","v":0},{"$f":"IF(AM722=\"кмс\",AM$2,IF(AM722=\"мс\",AN$2,IF(AM722=\"мсмк\",AO$2,IF(AM722=\"змс\",AP$2,AM722))))","v":0}]
[]
[null,null,null,null,null,null,null,null,null,null,null,null,{"$f":"D724","v":0},null,null,null,{"$f":"CONCATENATE(AH722,AI722)","v":{"$error":"#VALUE!"}},{"$f":"CONCATENATE(AJ722,\".\",AK722,\".\",AL722,\",\",\" \",AN722)","v":".., 0"},{"$f":"UPPER(H724)","v":""},{"$f":"CONCATENATE(PROPER(I724),\", \",PROPER(J724),\", \",UPPER(K724))","v":", , "},null,{"$f":"PROPER(L724)","v":""},null,null,null,null,null,null,null,null,null,{"$f":"IFERROR(LEFT(E726,FIND(\" \",E726)-1),E726)","v":0},{"$f":"MID(E726,FIND(\" \",E726)*1,27)","v":{"$error":"#VALUE!"}},{"$f":"UPPER(AF724)","v":"0"},{"$f":"PROPER(AG724)","v":{"$error":"#VALUE!"}},{"$f":"MID($F726,FIND(\"\",$F726)*1,2)","v":""},{"$f":"MID($F726,FIND(\"\",$F726)*3,2)","v":""},{"$f":"MID($F726,FIND(\"\",$F726)*5,2)","v":""},{"$f":"G726","v":0},{"$f":"IF(AM724=\"кмс\",AM$2,IF(AM724=\"мс\",AN$2,IF(AM724=\"мсмк\",AO$2,IF(AM724=\"змс\",AP$2,AM724))))","v":0}]
[]
[null,null,null,null,null,null,null,null,null,null,null,null,{"$f":"D726","v":0},null,null,null,{"$f":"CONCATENATE(AH724,AI724)","v":{"$error":"#VALUE!"}},{"$f":"CONCATENATE(AJ724,\".\",AK724,\".\",AL724,\",\",\" \",AN724)","v":".., 0"},{"$f":"UPPER(H726)","v":""},{"$f":"CONCATENATE(PROPER(I726),\", \",PROPER(J726),\", \",UPPER(K726))","v":", , "},null,{"$f":"PROPER(L726)","v":""},null,null,null,null,null,null,null,null,null,{"$f":"IFERROR(LEFT(E728,FIND(\" \",E728)-1),E728)","v":0},{"$f":"MID(E728,FIND(\" \",E728)*1,27)","v":{"$error":"#VALUE!"}},{"$f":"UPPER(AF726)","v":"0"},{"$f":"PROPER(AG726)","v":{"$error":"#VALUE!"}},{"$f":"MID($F728,FIND(\"\",$F728)*1,2)","v":""},{"$f":"MID($F728,FIND(\"\",$F728)*3,2)","v":""},{"$f":"MID($F728,FIND(\"\",$F728)*5,2)","v":""},{"$f":"G728","v":0},{"$f":"IF(AM726=\"кмс\",AM$2,IF(AM726=\"мс\",AN$2,IF(AM726=\"мсмк\",AO$2,IF(AM726=\"змс\",AP$2,AM726))))","v":0}]
[]
[null,null,null,null,null,null,null,null,null,null,null,null,{"$f":"D728","v":0},null,null,null,{"$f":"CONCATENATE(AH726,AI726)","v":{"$error":"#VALUE!"}},{"$f":"CONCATENATE(AJ726,\".\",AK726,\".\",AL726,\",\",\" \",AN726)","v":".., 0"},{"$f":"UPPER(H728)","v":""},{"$f":"CONCATENATE(PROPER(I728),\", \",PROPER(J728),\", \",UPPER(K728))","v":", , "},null,{"$f":"PROPER(L728)","v":""},null,null,null,null,null,null,null,null,null,{"$f":"IFERROR(LEFT(E730,FIND(\" \",E730)-1),E730)","v":0},{"$f":"MID(E730,FIND(\" \",E730)*1,27)","v":{"$error":"#VALUE!"}},{"$f":"UPPER(AF728)","v":"0"},{"$f":"PROPER(AG728)","v":{"$error":"#VALUE!"}},{"$f":"MID($F730,FIND(\"\",$F730)*1,2)","v":""},{"$f":"MID($F730,FIND(\"\",$F730)*3,2)","v":""},{"$f":"MID($F730,FIND(\"\",$F730)*5,2)","v":""},{"$f":"G730","v":0},{"$f":"IF(AM728=\"кмс\",AM$2,IF(AM728=\"мс\",AN$2,IF(AM728=\"мсмк\",AO$2,IF(AM728=\"змс\",AP$2,AM728))))","v":0}]
[]
[null,null,null,null,null,null,null,null,null,null,null,null,{"$f":"D730","v":0},null,null,null,{"$f":"CONCATENATE(AH728,AI728)","v":{"$error":"#VALUE!"}},{"$f":"CONCATENATE(AJ728,\".\",AK728,\".\",AL728,\",\",\" \",AN728)","v":".., 0"},{"$f":"UPPER(H730)","v":""},{"$f":"CONCATENATE(PROPER(I730),\", \",PROPER(J730),\", \",UPPER(K730))","v":", , "},null,{"$f":"PROPER(L730)","v":""},null,null,null,null,null,null,null,null,null,{"$f":"IFERROR(LEFT(E732,FIND(\" \",E732)-1),E732)","v":0},{"$f":"MID(E732,FIND(\" \",E732)*1,27)","v":{"$error":"#VALUE!"}},{"$f":"UPPER(AF730)","v":"0"},{"$f":"PROPER(AG730)","v":{"$error":"#VALUE!"}},{"$f":"MID($F732,FIND(\"\",$F732)*1,2)","v":""},{"$f":"MID($F732,FIND(\"\",$F732)*3,2)","v":""},{"$f":"MID($F732,FIND(\"\",$F732)*5,2)","v":""},{"$f":"G732","v":0},{"$f":"IF(AM730=\"кмс\",AM$2,IF(AM730=\"мс\",AN$2,IF(AM730=\"мсмк\",AO$2,IF(AM730=\"змс\",AP$2,AM730))))","v":0}]
[]
[null,null,null,null,null,null,null,null,null,null,null,null,{"$f":"D732","v":0},null,null,null,{"$f":"CONCATENATE(AH730,AI730)","v":{"$error":"#VALUE!"}},{"$f":"CONCATENATE(AJ730,\".\",AK730,\".\",AL730,\",\",\" \",AN730)","v":".., 0"},{"$f":"UPPER(H732)","v":""},{"$f":"CONCATENATE(PROPER(I732),\", \",PROPER(J732),\", \",UPPER(K732))","v":", , "},null,{"$f":"PROPER(L732)","v":""},null,null,null,null,null,null,null,null,null,{"$f":"IFERROR(LEFT(E734,FIND(\" \",E734)-1),E734)","v":0},{"$f":"MID(E734,FIND(\" \",E734)*1,27)","v":{"$error":"#VALUE!"}},{"$f":"UPPER(AF732)","v":"0"},{"$f":"PROPER(AG732)","v":{"$error":"#VALUE!"}},{"$f":"MID($F734,FIND(\"\",$F734)*1,2)","v":""},{"$f":"MID($F734,FIND(\"\",$F734)*3,2)","v":""},{"$f":"MID($F734,FIND(\"\",$F734)*5,2)","v":""},{"$f":"G734","v":0},{"$f":"IF(AM732=\"кмс\",AM$2,IF(AM732=\"мс\",AN$2,IF(AM732=\"мсмк\",AO$2,IF(AM732=\"змс\",AP$2,AM732))))","v":0}]
[]
[null,null,null,null,null,null,null,null,null,null,null,null,{"$f":"D734","v":0},null,null,null,{"$f":"CONCATENATE(AH732,AI732)","v":{"$error":"#VALUE!"}},{"$f":"CONCATENATE(AJ732,\".\",AK732,\".\",AL732,\",\",\" \",AN732)","v":".., 0"},{"$f":"UPPER(H734)","v":""},{"$f":"CONCATENATE(PROPER(I734),\", \",PROPER(J734),\", \",UPPER(K734))","v":", , "},null,{"$f":"PROPER(L734)","v":""},null,null,null,null,null,null,null,null,null,{"$f":"IFERROR(LEFT(E736,FIND(\" \",E736)-1),E736)","v":0},{"$f":"MID(E736,FIND(\" \",E736)*1,27)","v":{"$error":"#VALUE!"}},{"$f":"UPPER(AF734)","v":"0"},{"$f":"PROPER(AG734)","v":{"$error":"#VALUE!"}},{"$f":"MID($F736,FIND(\"\",$F736)*1,2)","v":""},{"$f":"MID($F736,FIND(\"\",$F736)*3,2)","v":""},{"$f":"MID($F736,FIND(\"\",$F736)*5,2)","v":""},{"$f":"G736","v":0},{"$f":"IF(AM734=\"кмс\",AM$2,IF(AM734=\"мс\",AN$2,IF(AM734=\"мсмк\",AO$2,IF(AM734=\"змс\",AP$2,AM734))))","v":0}]
[]
[null,null,null,null,null,null,null,null,null,null,null,null,{"$f":"D736","v":0},null,null,null,{"$f":"CONCATENATE(AH734,AI734)","v":{"$error":"#VALUE!"}},{"$f":"CONCATENATE(AJ734,\".\",AK734,\".\",AL734,\",\",\" \",AN734)","v":".., 0"},{"$f":"UPPER(H736)","v":""},{"$f":"CONCATENATE(PROPER(I736),\", \",PROPER(J736),\", \",UPPER(K736))","v":", , "},null,{"$f":"PROPER(L736)","v":""},null,null,null,null,null,null,null,null,null,{"$f":"IFERROR(LEFT(E738,FIND(\" \",E738)-1),E738)","v":0},{"$f":"MID(E738,FIND(\" \",E738)*1,27)","v":{"$error":"#VALUE!"}},{"$f":"UPPER(AF736)","v":"0"},{"$f":"PROPER(AG736)","v":{"$error":"#VALUE!"}},{"$f":"MID($F738,FIND(\"\",$F738)*1,2)","v":""},{"$f":"MID($F738,FIND(\"\",$F738)*3,2)","v":""},{"$f":"MID($F738,FIND(\"\",$F738)*5,2)","v":""},{"$f":"G738","v":0},{"$f":"IF(AM736=\"кмс\",AM$2,IF(AM736=\"мс\",AN$2,IF(AM736=\"мсмк\",AO$2,IF(AM736=\"змс\",AP$2,AM736))))","v":0}]
[]
[null,null,null,null,null,null,null,null,null,null,null,null,{"$f":"D738","v":0},null,null,null,{"$f":"CONCATENATE(AH736,AI736)","v":{"$error":"#VALUE!"}},{"$f":"CONCATENATE(AJ736,\".\",AK736,\".\",AL736,\",\",\" \",AN736)","v":".., 0"},{"$f":"UPPER(H738)","v":""},{"$f":"CONCATENATE(PROPER(I738),\", \",PROPER(J738),\", \",UPPER(K738))","v":", , "},null,{"$f":"PROPER(L738)","v":""},null,null,null,null,null,null,null,null,null,{"$f":"IFERROR(LEFT(E740,FIND(\" \",E740)-1),E740)","v":0},{"$f":"MID(E740,FIND(\" \",E740)*1,27)","v":{"$error":"#VALUE!"}},{"$f":"UPPER(AF738)","v":"0"},{"$f":"PROPER(AG738)","v":{"$error":"#VALUE!"}},{"$f":"MID($F740,FIND(\"\",$F740)*1,2)","v":""},{"$f":"MID($F740,FIND(\"\",$F740)*3,2)","v":""},{"$f":"MID($F740,FIND(\"\",$F740)*5,2)","v":""},{"$f":"G740","v":0},{"$f":"IF(AM738=\"кмс\",AM$2,IF(AM738=\"мс\",AN$2,IF(AM738=\"мсмк\",AO$2,IF(AM738=\"змс\",AP$2,AM738))))","v":0}]
[]
[null,null,null,null,null,null,null,null,null,null,null,null,{"$f":"D740","v":0},null,null,null,{"$f":"CONCATENATE(AH738,AI738)","v":{"$error":"#VALUE!"}},{"$f":"CONCATENATE(AJ738,\".\",AK738,\".\",AL738,\",\",\" \",AN738)","v":".., 0"},{"$f":"UPPER(H740)","v":""},{"$f":"CONCATENATE(PROPER(I740),\", \",PROPER(J740),\", \",UPPER(K740))","v":", , "},null,{"$f":"PROPER(L740)","v":""},null,null,null,null,null,null,null,null,null,{"$f":"IFERROR(LEFT(E742,FIND(\" \",E742)-1),E742)","v":0},{"$f":"MID(E742,FIND(\" \",E742)*1,27)","v":{"$error":"#VALUE!"}},{"$f":"UPPER(AF740)","v":"0"},{"$f":"PROPER(AG740)","v":{"$error":"#VALUE!"}},{"$f":"MID($F742,FIND(\"\",$F742)*1,2)","v":""},{"$f":"MID($F742,FIND(\"\",$F742)*3,2)","v":""},{"$f":"MID($F742,FIND(\"\",$F742)*5,2)","v":""},{"$f":"G742","v":0},{"$f":"IF(AM740=\"кмс\",AM$2,IF(AM740=\"мс\",AN$2,IF(AM740=\"мсмк\",AO$2,IF(AM740=\"змс\",AP$2,AM740))))","v":0}]
[]
[null,null,null,null,null,null,null,null,null,null,null,null,{"$f":"D742","v":0},null,null,null,{"$f":"CONCATENATE(AH740,AI740)","v":{"$error":"#VALUE!"}},{"$f":"CONCATENATE(AJ740,\".\",AK740,\".\",AL740,\",\",\" \",AN740)","v":".., 0"},{"$f":"UPPER(H742)","v":""},{"$f":"CONCATENATE(PROPER(I742),\", \",PROPER(J742),\", \",UPPER(K742))","v":", , "},null,{"$f":"PROPER(L742)","v":""},null,null,null,null,null,null,null,null,null,{"$f":"IFERROR(LEFT(E744,FIND(\" \",E744)-1),E744)","v":0},{"$f":"MID(E744,FIND(\" \",E744)*1,27)","v":{"$error":"#VALUE!"}},{"$f":"UPPER(AF742)","v":"0"},{"$f":"PROPER(AG742)","v":{"$error":"#VALUE!"}},{"$f":"MID($F744,FIND(\"\",$F744)*1,2)","v":""},{"$f":"MID($F744,FIND(\"\",$F744)*3,2)","v":""},{"$f":"MID($F744,FIND(\"\",$F744)*5,2)","v":""},{"$f":"G744","v":0},{"$f":"IF(AM742=\"кмс\",AM$2,IF(AM742=\"мс\",AN$2,IF(AM742=\"мсмк\",AO$2,IF(AM742=\"змс\",AP$2,AM742))))","v":0}]
[]
[null,null,null,null,null,null,null,null,null,null,null,null,{"$f":"D744","v":0},null,null,null,{"$f":"CONCATENATE(AH742,AI742)","v":{"$error":"#VALUE!"}},{"$f":"CONCATENATE(AJ742,\".\",AK742,\".\",AL742,\",\",\" \",AN742)","v":".., 0"},{"$f":"UPPER(H744)","v":""},{"$f":"CONCATENATE(PROPER(I744),\", \",PROPER(J744),\", \",UPPER(K744))","v":", , "},null,{"$f":"PROPER(L744)","v":""},null,null,null,null,null,null,null,null,null,{"$f":"IFERROR(LEFT(E746,FIND(\" \",E746)-1),E746)","v":0},{"$f":"MID(E746,FIND(\" \",E746)*1,27)","v":{"$error":"#VALUE!"}},{"$f":"UPPER(AF744)","v":"0"},{"$f":"PROPER(AG744)","v":{"$error":"#VALUE!"}},{"$f":"MID($F746,FIND(\"\",$F746)*1,2)","v":""},{"$f":"MID($F746,FIND(\"\",$F746)*3,2)","v":""},{"$f":"MID($F746,FIND(\"\",$F746)*5,2)","v":""},{"$f":"G746","v":0},{"$f":"IF(AM744=\"кмс\",AM$2,IF(AM744=\"мс\",AN$2,IF(AM744=\"мсмк\",AO$2,IF(AM744=\"змс\",AP$2,AM744))))","v":0}]
[]
[null,null,null,null,null,null,null,null,null,null,null,null,{"$f":"D746","v":0},null,null,null,{"$f":"CONCATENATE(AH744,AI744)","v":{"$error":"#VALUE!"}},{"$f":"CONCATENATE(AJ744,\".\",AK744,\".\",AL744,\",\",\" \",AN744)","v":".., 0"},{"$f":"UPPER(H746)","v":""},{"$f":"CONCATENATE(PROPER(I746),\", \",PROPER(J746),\", \",UPPER(K746))","v":", , "},null,{"$f":"PROPER(L746)","v":""},null,null,null,null,null,null,null,null,null,{"$f":"IFERROR(LEFT(E748,FIND(\" \",E748)-1),E748)","v":0},{"$f":"MID(E748,FIND(\" \",E748)*1,27)","v":{"$error":"#VALUE!"}},{"$f":"UPPER(AF746)","v":"0"},{"$f":"PROPER(AG746)","v":{"$error":"#VALUE!"}},{"$f":"MID($F748,FIND(\"\",$F748)*1,2)","v":""},{"$f":"MID($F748,FIND(\"\",$F748)*3,2)","v":""},{"$f":"MID($F748,FIND(\"\",$F748)*5,2)","v":""},{"$f":"G748","v":0},{"$f":"IF(AM746=\"кмс\",AM$2,IF(AM746=\"мс\",AN$2,IF(AM746=\"мсмк\",AO$2,IF(AM746=\"змс\",AP$2,AM746))))","v":0}]
[]
[null,null,null,null,null,null,null,null,null,null,null,null,{"$f":"D748","v":0},null,null,null,{"$f":"CONCATENATE(AH746,AI746)","v":{"$error":"#VALUE!"}},{"$f":"CONCATENATE(AJ746,\".\",AK746,\".\",AL746,\",\",\" \",AN746)","v":".., 0"},{"$f":"UPPER(H748)","v":""},{"$f":"CONCATENATE(PROPER(I748),\", \",PROPER(J748),\", \",UPPER(K748))","v":", , "},null,{"$f":"PROPER(L748)","v":""},null,null,null,null,null,null,null,null,null,{"$f":"IFERROR(LEFT(E750,FIND(\" \",E750)-1),E750)","v":0},{"$f":"MID(E750,FIND(\" \",E750)*1,27)","v":{"$error":"#VALUE!"}},{"$f":"UPPER(AF748)","v":"0"},{"$f":"PROPER(AG748)","v":{"$error":"#VALUE!"}},{"$f":"MID($F750,FIND(\"\",$F750)*1,2)","v":""},{"$f":"MID($F750,FIND(\"\",$F750)*3,2)","v":""},{"$f":"MID($F750,FIND(\"\",$F750)*5,2)","v":""},{"$f":"G750","v":0},{"$f":"IF(AM748=\"кмс\",AM$2,IF(AM748=\"мс\",AN$2,IF(AM748=\"мсмк\",AO$2,IF(AM748=\"змс\",AP$2,AM748))))","v":0}]
[]
[null,null,null,null,null,null,null,null,null,null,null,null,{"$f":"D750","v":0},null,null,null,{"$f":"CONCATENATE(AH748,AI748)","v":{"$error":"#VALUE!"}},{"$f":"CONCATENATE(AJ748,\".\",AK748,\".\",AL748,\",\",\" \",AN748)","v":".., 0"},{"$f":"UPPER(H750)","v":""},{"$f":"CONCATENATE(PROPER(I750),\", \",PROPER(J750),\", \",UPPER(K750))","v":", , "},null,{"$f":"PROPER(L750)","v":""},null,null,null,null,null,null,null,null,null,{"$f":"IFERROR(LEFT(E752,FIND(\" \",E752)-1),E752)","v":0},{"$f":"MID(E752,FIND(\" \",E752)*1,27)","v":{"$error":"#VALUE!"}},{"$f":"UPPER(AF750)","v":"0"},{"$f":"PROPER(AG750)","v":{"$error":"#VALUE!"}},{"$f":"MID($F752,FIND(\"\",$F752)*1,2)","v":""},{"$f":"MID($F752,FIND(\"\",$F752)*3,2)","v":""},{"$f":"MID($F752,FIND(\"\",$F752)*5,2)","v":""},{"$f":"G752","v":0},{"$f":"IF(AM750=\"кмс\",AM$2,IF(AM750=\"мс\",AN$2,IF(AM750=\"мсмк\",AO$2,IF(AM750=\"змс\",AP$2,AM750))))","v":0}]
[]
[null,null,null,null,null,null,null,null,null,null,null,null,{"$f":"D752","v":0},null,null,null,{"$f":"CONCATENATE(AH750,AI750)","v":{"$error":"#VALUE!"}},{"$f":"CONCATENATE(AJ750,\".\",AK750,\".\",AL750,\",\",\" \",AN750)","v":".., 0"},{"$f":"UPPER(H752)","v":""},{"$f":"CONCATENATE(PROPER(I752),\", \",PROPER(J752),\", \",UPPER(K752))","v":", , "},null,{"$f":"PROPER(L752)","v":""},null,null,null,null,null,null,null,null,null,{"$f":"IFERROR(LEFT(E754,FIND(\" \",E754)-1),E754)","v":0},{"$f":"MID(E754,FIND(\" \",E754)*1,27)","v":{"$error":"#VALUE!"}},{"$f":"UPPER(AF752)","v":"0"},{"$f":"PROPER(AG752)","v":{"$error":"#VALUE!"}},{"$f":"MID($F754,FIND(\"\",$F754)*1,2)","v":""},{"$f":"MID($F754,FIND(\"\",$F754)*3,2)","v":""},{"$f":"MID($F754,FIND(\"\",$F754)*5,2)","v":""},{"$f":"G754","v":0},{"$f":"IF(AM752=\"кмс\",AM$2,IF(AM752=\"мс\",AN$2,IF(AM752=\"мсмк\",AO$2,IF(AM752=\"змс\",AP$2,AM752))))","v":0}]
[]
[null,null,null,null,null,null,null,null,null,null,null,null,{"$f":"D754","v":0},null,null,null,{"$f":"CONCATENATE(AH752,AI752)","v":{"$error":"#VALUE!"}},{"$f":"CONCATENATE(AJ752,\".\",AK752,\".\",AL752,\",\",\" \",AN752)","v":".., 0"},{"$f":"UPPER(H754)","v":""},{"$f":"CONCATENATE(PROPER(I754),\", \",PROPER(J754),\", \",UPPER(K754))","v":", , "},null,{"$f":"PROPER(L754)","v":""},null,null,null,null,null,null,null,null,null,{"$f":"IFERROR(LEFT(E756,FIND(\" \",E756)-1),E756)","v":0},{"$f":"MID(E756,FIND(\" \",E756)*1,27)","v":{"$error":"#VALUE!"}},{"$f":"UPPER(AF754)","v":"0"},{"$f":"PROPER(AG754)","v":{"$error":"#VALUE!"}},{"$f":"MID($F756,FIND(\"\",$F756)*1,2)","v":""},{"$f":"MID($F756,FIND(\"\",$F756)*3,2)","v":""},{"$f":"MID($F756,FIND(\"\",$F756)*5,2)","v":""},{"$f":"G756","v":0},{"$f":"IF(AM754=\"кмс\",AM$2,IF(AM754=\"мс\",AN$2,IF(AM754=\"мсмк\",AO$2,IF(AM754=\"змс\",AP$2,AM754))))","v":0}]
[]
[null,null,null,null,null,null,null,null,null,null,null,null,{"$f":"D756","v":0},null,null,null,{"$f":"CONCATENATE(AH754,AI754)","v":{"$error":"#VALUE!"}},{"$f":"CONCATENATE(AJ754,\".\",AK754,\".\",AL754,\",\",\" \",AN754)","v":".., 0"},{"$f":"UPPER(H756)","v":""},{"$f":"CONCATENATE(PROPER(I756),\", \",PROPER(J756),\", \",UPPER(K756))","v":", , "},null,{"$f":"PROPER(L756)","v":""},null,null,null,null,null,null,null,null,null,{"$f":"IFERROR(LEFT(E758,FIND(\" \",E758)-1),E758)","v":0},{"$f":"MID(E758,FIND(\" \",E758)*1,27)","v":{"$error":"#VALUE!"}},{"$f":"UPPER(AF756)","v":"0"},{"$f":"PROPER(AG756)","v":{"$error":"#VALUE!"}},{"$f":"MID($F758,FIND(\"\",$F758)*1,2)","v":""},{"$f":"MID($F758,FIND(\"\",$F758)*3,2)","v":""},{"$f":"MID($F758,FIND(\"\",$F758)*5,2)","v":""},{"$f":"G758","v":0},{"$f":"IF(AM756=\"кмс\",AM$2,IF(AM756=\"мс\",AN$2,IF(AM756=\"мсмк\",AO$2,IF(AM756=\"змс\",AP$2,AM756))))","v":0}]
[]
[null,null,null,null,null,null,null,null,null,null,null,null,{"$f":"D758","v":0},null,null,null,{"$f":"CONCATENATE(AH756,AI756)","v":{"$error":"#VALUE!"}},{"$f":"CONCATENATE(AJ756,\".\",AK756,\".\",AL756,\",\",\" \",AN756)","v":".., 0"},{"$f":"UPPER(H758)","v":""},{"$f":"CONCATENATE(PROPER(I758),\", \",PROPER(J758),\", \",UPPER(K758))","v":", , "},null,{"$f":"PROPER(L758)","v":""},null,null,null,null,null,null,null,null,null,{"$f":"IFERROR(LEFT(E760,FIND(\" \",E760)-1),E760)","v":0},{"$f":"MID(E760,FIND(\" \",E760)*1,27)","v":{"$error":"#VALUE!"}},{"$f":"UPPER(AF758)","v":"0"},{"$f":"PROPER(AG758)","v":{"$error":"#VALUE!"}},{"$f":"MID($F760,FIND(\"\",$F760)*1,2)","v":""},{"$f":"MID($F760,FIND(\"\",$F760)*3,2)","v":""},{"$f":"MID($F760,FIND(\"\",$F760)*5,2)","v":""},{"$f":"G760","v":0},{"$f":"IF(AM758=\"кмс\",AM$2,IF(AM758=\"мс\",AN$2,IF(AM758=\"мсмк\",AO$2,IF(AM758=\"змс\",AP$2,AM758))))","v":0}]
[]
[null,null,null,null,null,null,null,null,null,null,null,null,{"$f":"D760","v":0},null,null,null,{"$f":"CONCATENATE(AH758,AI758)","v":{"$error":"#VALUE!"}},{"$f":"CONCATENATE(AJ758,\".\",AK758,\".\",AL758,\",\",\" \",AN758)","v":".., 0"},{"$f":"UPPER(H760)","v":""},{"$f":"CONCATENATE(PROPER(I760),\", \",PROPER(J760),\", \",UPPER(K760))","v":", , "},null,{"$f":"PROPER(L760)","v":""},null,null,null,null,null,null,null,null,null,{"$f":"IFERROR(LEFT(E762,FIND(\" \",E762)-1),E762)","v":0},{"$f":"MID(E762,FIND(\" \",E762)*1,27)","v":{"$error":"#VALUE!"}},{"$f":"UPPER(AF760)","v":"0"},{"$f":"PROPER(AG760)","v":{"$error":"#VALUE!"}},{"$f":"MID($F762,FIND(\"\",$F762)*1,2)","v":""},{"$f":"MID($F762,FIND(\"\",$F762)*3,2)","v":""},{"$f":"MID($F762,FIND(\"\",$F762)*5,2)","v":""},{"$f":"G762","v":0},{"$f":"IF(AM760=\"кмс\",AM$2,IF(AM760=\"мс\",AN$2,IF(AM760=\"мсмк\",AO$2,IF(AM760=\"змс\",AP$2,AM760))))","v":0}]
[]
[null,null,null,null,null,null,null,null,null,null,null,null,{"$f":"D762","v":0},null,null,null,{"$f":"CONCATENATE(AH760,AI760)","v":{"$error":"#VALUE!"}},{"$f":"CONCATENATE(AJ760,\".\",AK760,\".\",AL760,\",\",\" \",AN760)","v":".., 0"},{"$f":"UPPER(H762)","v":""},{"$f":"CONCATENATE(PROPER(I762),\", \",PROPER(J762),\", \",UPPER(K762))","v":", , "},null,{"$f":"PROPER(L762)","v":""},null,null,null,null,null,null,null,null,null,{"$f":"IFERROR(LEFT(E764,FIND(\" \",E764)-1),E764)","v":0},{"$f":"MID(E764,FIND(\" \",E764)*1,27)","v":{"$error":"#VALUE!"}},{"$f":"UPPER(AF762)","v":"0"},{"$f":"PROPER(AG762)","v":{"$error":"#VALUE!"}},{"$f":"MID($F764,FIND(\"\",$F764)*1,2)","v":""},{"$f":"MID($F764,FIND(\"\",$F764)*3,2)","v":""},{"$f":"MID($F764,FIND(\"\",$F764)*5,2)","v":""},{"$f":"G764","v":0},{"$f":"IF(AM762=\"кмс\",AM$2,IF(AM762=\"мс\",AN$2,IF(AM762=\"мсмк\",AO$2,IF(AM762=\"змс\",AP$2,AM762))))","v":0}]
[]
[null,null,null,null,null,null,null,null,null,null,null,null,{"$f":"D764","v":0},null,null,null,{"$f":"CONCATENATE(AH762,AI762)","v":{"$error":"#VALUE!"}},{"$f":"CONCATENATE(AJ762,\".\",AK762,\".\",AL762,\",\",\" \",AN762)","v":".., 0"},{"$f":"UPPER(H764)","v":""},{"$f":"CONCATENATE(PROPER(I764),\", \",PROPER(J764),\", \",UPPER(K764))","v":", , "},null,{"$f":"PROPER(L764)","v":""},null,null,null,null,null,null,null,null,null,{"$f":"IFERROR(LEFT(E766,FIND(\" \",E766)-1),E766)","v":0},{"$f":"MID(E766,FIND(\" \",E766)*1,27)","v":{"$error":"#VALUE!"}},{"$f":"UPPER(AF764)","v":"0"},{"$f":"PROPER(AG764)","v":{"$error":"#VALUE!"}},{"$f":"MID($F766,FIND(\"\",$F766)*1,2)","v":""},{"$f":"MID($F766,FIND(\"\",$F766)*3,2)","v":""},{"$f":"MID($F766,FIND(\"\",$F766)*5,2)","v":""},{"$f":"G766","v":0},{"$f":"IF(AM764=\"кмс\",AM$2,IF(AM764=\"мс\",AN$2,IF(AM764=\"мсмк\",AO$2,IF(AM764=\"змс\",AP$2,AM764))))","v":0}]
[]
[null,null,null,null,null,null,null,null,null,null,null,null,{"$f":"D766","v":0},null,null,null,{"$f":"CONCATENATE(AH764,AI764)","v":{"$error":"#VALUE!"}},{"$f":"CONCATENATE(AJ764,\".\",AK764,\".\",AL764,\",\",\" \",AN764)","v":".., 0"},{"$f":"UPPER(H766)","v":""},{"$f":"CONCATENATE(PROPER(I766),\", \",PROPER(J766),\", \",UPPER(K766))","v":", , "},null,{"$f":"PROPER(L766)","v":""},null,null,null,null,null,null,null,null,null,{"$f":"IFERROR(LEFT(E768,FIND(\" \",E768)-1),E768)","v":0},{"$f":"MID(E768,FIND(\" \",E768)*1,27)","v":{"$error":"#VALUE!"}},{"$f":"UPPER(AF766)","v":"0"},{"$f":"PROPER(AG766)","v":{"$error":"#VALUE!"}},{"$f":"MID($F768,FIND(\"\",$F768)*1,2)","v":""},{"$f":"MID($F768,FIND(\"\",$F768)*3,2)","v":""},{"$f":"MID($F768,FIND(\"\",$F768)*5,2)","v":""},{"$f":"G768","v":0},{"$f":"IF(AM766=\"кмс\",AM$2,IF(AM766=\"мс\",AN$2,IF(AM766=\"мсмк\",AO$2,IF(AM766=\"змс\",AP$2,AM766))))","v":0}]
[]
[null,null,null,null,null,null,null,null,null,null,null,null,{"$f":"D768","v":0},null,null,null,{"$f":"CONCATENATE(AH766,AI766)","v":{"$error":"#VALUE!"}},{"$f":"CONCATENATE(AJ766,\".\",AK766,\".\",AL766,\",\",\" \",AN766)","v":".., 0"},{"$f":"UPPER(H768)","v":""},{"$f":"CONCATENATE(PROPER(I768),\", \",PROPER(J768),\", \",UPPER(K768))","v":", , "},null,{"$f":"PROPER(L768)","v":""},null,null,null,null,null,null,null,null,null,{"$f":"IFERROR(LEFT(E770,FIND(\" \",E770)-1),E770)","v":0},{"$f":"MID(E770,FIND(\" \",E770)*1,27)","v":{"$error":"#VALUE!"}},{"$f":"UPPER(AF768)","v":"0"},{"$f":"PROPER(AG768)","v":{"$error":"#VALUE!"}},{"$f":"MID($F770,FIND(\"\",$F770)*1,2)","v":""},{"$f":"MID($F770,FIND(\"\",$F770)*3,2)","v":""},{"$f":"MID($F770,FIND(\"\",$F770)*5,2)","v":""},{"$f":"G770","v":0},{"$f":"IF(AM768=\"кмс\",AM$2,IF(AM768=\"мс\",AN$2,IF(AM768=\"мсмк\",AO$2,IF(AM768=\"змс\",AP$2,AM768))))","v":0}]
[]
[null,null,null,null,null,null,null,null,null,null,null,null,{"$f":"D770","v":0},null,null,null,{"$f":"CONCATENATE(AH768,AI768)","v":{"$error":"#VALUE!"}},{"$f":"CONCATENATE(AJ768,\".\",AK768,\".\",AL768,\",\",\" \",AN768)","v":".., 0"},{"$f":"UPPER(H770)","v":""},{"$f":"CONCATENATE(PROPER(I770),\", \",PROPER(J770),\", \",UPPER(K770))","v":", , "},null,{"$f":"PROPER(L770)","v":""},null,null,null,null,null,null,null,null,null,{"$f":"IFERROR(LEFT(E772,FIND(\" \",E772)-1),E772)","v":0},{"$f":"MID(E772,FIND(\" \",E772)*1,27)","v":{"$error":"#VALUE!"}},{"$f":"UPPER(AF770)","v":"0"},{"$f":"PROPER(AG770)","v":{"$error":"#VALUE!"}},{"$f":"MID($F772,FIND(\"\",$F772)*1,2)","v":""},{"$f":"MID($F772,FIND(\"\",$F772)*3,2)","v":""},{"$f":"MID($F772,FIND(\"\",$F772)*5,2)","v":""},{"$f":"G772","v":0},{"$f":"IF(AM770=\"кмс\",AM$2,IF(AM770=\"мс\",AN$2,IF(AM770=\"мсмк\",AO$2,IF(AM770=\"змс\",AP$2,AM770))))","v":0}]
[]
[null,null,null,null,null,null,null,null,null,null,null,null,{"$f":"D772","v":0},null,null,null,{"$f":"CONCATENATE(AH770,AI770)","v":{"$error":"#VALUE!"}},{"$f":"CONCATENATE(AJ770,\".\",AK770,\".\",AL770,\",\",\" \",AN770)","v":".., 0"},{"$f":"UPPER(H772)","v":""},{"$f":"CONCATENATE(PROPER(I772),\", \",PROPER(J772),\", \",UPPER(K772))","v":", , "},null,{"$f":"PROPER(L772)","v":""},null,null,null,null,null,null,null,null,null,{"$f":"IFERROR(LEFT(E774,FIND(\" \",E774)-1),E774)","v":0},{"$f":"MID(E774,FIND(\" \",E774)*1,27)","v":{"$error":"#VALUE!"}},{"$f":"UPPER(AF772)","v":"0"},{"$f":"PROPER(AG772)","v":{"$error":"#VALUE!"}},{"$f":"MID($F774,FIND(\"\",$F774)*1,2)","v":""},{"$f":"MID($F774,FIND(\"\",$F774)*3,2)","v":""},{"$f":"MID($F774,FIND(\"\",$F774)*5,2)","v":""},{"$f":"G774","v":0},{"$f":"IF(AM772=\"кмс\",AM$2,IF(AM772=\"мс\",AN$2,IF(AM772=\"мсмк\",AO$2,IF(AM772=\"змс\",AP$2,AM772))))","v":0}]
[]
[null,null,null,null,null,null,null,null,null,null,null,null,{"$f":"D774","v":0},null,null,null,{"$f":"CONCATENATE(AH772,AI772)","v":{"$error":"#VALUE!"}},{"$f":"CONCATENATE(AJ772,\".\",AK772,\".\",AL772,\",\",\" \",AN772)","v":".., 0"},{"$f":"UPPER(H774)","v":""},{"$f":"CONCATENATE(PROPER(I774),\", \",PROPER(J774),\", \",UPPER(K774))","v":", , "},null,{"$f":"PROPER(L774)","v":""},null,null,null,null,null,null,null,null,null,{"$f":"IFERROR(LEFT(E776,FIND(\" \",E776)-1),E776)","v":0},{"$f":"MID(E776,FIND(\" \",E776)*1,27)","v":{"$error":"#VALUE!"}},{"$f":"UPPER(AF774)","v":"0"},{"$f":"PROPER(AG774)","v":{"$error":"#VALUE!"}},{"$f":"MID($F776,FIND(\"\",$F776)*1,2)","v":""},{"$f":"MID($F776,FIND(\"\",$F776)*3,2)","v":""},{"$f":"MID($F776,FIND(\"\",$F776)*5,2)","v":""},{"$f":"G776","v":0},{"$f":"IF(AM774=\"кмс\",AM$2,IF(AM774=\"мс\",AN$2,IF(AM774=\"мсмк\",AO$2,IF(AM774=\"змс\",AP$2,AM774))))","v":0}]
[]
[null,null,null,null,null,null,null,null,null,null,null,null,{"$f":"D776","v":0},null,null,null,{"$f":"CONCATENATE(AH774,AI774)","v":{"$error":"#VALUE!"}},{"$f":"CONCATENATE(AJ774,\".\",AK774,\".\",AL774,\",\",\" \",AN774)","v":".., 0"},{"$f":"UPPER(H776)","v":""},{"$f":"CONCATENATE(PROPER(I776),\", \",PROPER(J776),\", \",UPPER(K776))","v":", , "},null,{"$f":"PROPER(L776)","v":""},null,null,null,null,null,null,null,null,null,{"$f":"IFERROR(LEFT(E778,FIND(\" \",E778)-1),E778)","v":0},{"$f":"MID(E778,FIND(\" \",E778)*1,27)","v":{"$error":"#VALUE!"}},{"$f":"UPPER(AF776)","v":"0"},{"$f":"PROPER(AG776)","v":{"$error":"#VALUE!"}},{"$f":"MID($F778,FIND(\"\",$F778)*1,2)","v":""},{"$f":"MID($F778,FIND(\"\",$F778)*3,2)","v":""},{"$f":"MID($F778,FIND(\"\",$F778)*5,2)","v":""},{"$f":"G778","v":0},{"$f":"IF(AM776=\"кмс\",AM$2,IF(AM776=\"мс\",AN$2,IF(AM776=\"мсмк\",AO$2,IF(AM776=\"змс\",AP$2,AM776))))","v":0}]
[]
[null,null,null,null,null,null,null,null,null,null,null,null,{"$f":"D778","v":0},null,null,null,{"$f":"CONCATENATE(AH776,AI776)","v":{"$error":"#VALUE!"}},{"$f":"CONCATENATE(AJ776,\".\",AK776,\".\",AL776,\",\",\" \",AN776)","v":".., 0"},{"$f":"UPPER(H778)","v":""},{"$f":"CONCATENATE(PROPER(I778),\", \",PROPER(J778),\", \",UPPER(K778))","v":", , "},null,{"$f":"PROPER(L778)","v":""},null,null,null,null,null,null,null,null,null,{"$f":"IFERROR(LEFT(E780,FIND(\" \",E780)-1),E780)","v":0},{"$f":"MID(E780,FIND(\" \",E780)*1,27)","v":{"$error":"#VALUE!"}},{"$f":"UPPER(AF778)","v":"0"},{"$f":"PROPER(AG778)","v":{"$error":"#VALUE!"}},{"$f":"MID($F780,FIND(\"\",$F780)*1,2)","v":""},{"$f":"MID($F780,FIND(\"\",$F780)*3,2)","v":""},{"$f":"MID($F780,FIND(\"\",$F780)*5,2)","v":""},{"$f":"G780","v":0},{"$f":"IF(AM778=\"кмс\",AM$2,IF(AM778=\"мс\",AN$2,IF(AM778=\"мсмк\",AO$2,IF(AM778=\"змс\",AP$2,AM778))))","v":0}]
[]
[null,null,null,null,null,null,null,null,null,null,null,null,{"$f":"D780","v":0},null,null,null,{"$f":"CONCATENATE(AH778,AI778)","v":{"$error":"#VALUE!"}},{"$f":"CONCATENATE(AJ778,\".\",AK778,\".\",AL778,\",\",\" \",AN778)","v":".., 0"},{"$f":"UPPER(H780)","v":""},{"$f":"CONCATENATE(PROPER(I780),\", \",PROPER(J780),\", \",UPPER(K780))","v":", , "},null,{"$f":"PROPER(L780)","v":""},null,null,null,null,null,null,null,null,null,{"$f":"IFERROR(LEFT(E782,FIND(\" \",E782)-1),E782)","v":0},{"$f":"MID(E782,FIND(\" \",E782)*1,27)","v":{"$error":"#VALUE!"}},{"$f":"UPPER(AF780)","v":"0"},{"$f":"PROPER(AG780)","v":{"$error":"#VALUE!"}},{"$f":"MID($F782,FIND(\"\",$F782)*1,2)","v":""},{"$f":"MID($F782,FIND(\"\",$F782)*3,2)","v":""},{"$f":"MID($F782,FIND(\"\",$F782)*5,2)","v":""},{"$f":"G782","v":0},{"$f":"IF(AM780=\"кмс\",AM$2,IF(AM780=\"мс\",AN$2,IF(AM780=\"мсмк\",AO$2,IF(AM780=\"змс\",AP$2,AM780))))","v":0}]
[]
[null,null,null,null,null,null,null,null,null,null,null,null,{"$f":"D782","v":0},null,null,null,{"$f":"CONCATENATE(AH780,AI780)","v":{"$error":"#VALUE!"}},{"$f":"CONCATENATE(AJ780,\".\",AK780,\".\",AL780,\",\",\" \",AN780)","v":".., 0"},{"$f":"UPPER(H782)","v":""},{"$f":"CONCATENATE(PROPER(I782),\", \",PROPER(J782),\", \",UPPER(K782))","v":", , "},null,{"$f":"PROPER(L782)","v":""},null,null,null,null,null,null,null,null,null,{"$f":"IFERROR(LEFT(E784,FIND(\" \",E784)-1),E784)","v":0},{"$f":"MID(E784,FIND(\" \",E784)*1,27)","v":{"$error":"#VALUE!"}},{"$f":"UPPER(AF782)","v":"0"},{"$f":"PROPER(AG782)","v":{"$error":"#VALUE!"}},{"$f":"MID($F784,FIND(\"\",$F784)*1,2)","v":""},{"$f":"MID($F784,FIND(\"\",$F784)*3,2)","v":""},{"$f":"MID($F784,FIND(\"\",$F784)*5,2)","v":""},{"$f":"G784","v":0},{"$f":"IF(AM782=\"кмс\",AM$2,IF(AM782=\"мс\",AN$2,IF(AM782=\"мсмк\",AO$2,IF(AM782=\"змс\",AP$2,AM782))))","v":0}]
[]
[null,null,null,null,null,null,null,null,null,null,null,null,{"$f":"D784","v":0},null,null,null,{"$f":"CONCATENATE(AH782,AI782)","v":{"$error":"#VALUE!"}},{"$f":"CONCATENATE(AJ782,\".\",AK782,\".\",AL782,\",\",\" \",AN782)","v":".., 0"},{"$f":"UPPER(H784)","v":""},{"$f":"CONCATENATE(PROPER(I784),\", \",PROPER(J784),\", \",UPPER(K784))","v":", , "},null,{"$f":"PROPER(L784)","v":""},null,null,null,null,null,null,null,null,null,{"$f":"IFERROR(LEFT(E786,FIND(\" \",E786)-1),E786)","v":0},{"$f":"MID(E786,FIND(\" \",E786)*1,27)","v":{"$error":"#VALUE!"}},{"$f":"UPPER(AF784)","v":"0"},{"$f":"PROPER(AG784)","v":{"$error":"#VALUE!"}},{"$f":"MID($F786,FIND(\"\",$F786)*1,2)","v":""},{"$f":"MID($F786,FIND(\"\",$F786)*3,2)","v":""},{"$f":"MID($F786,FIND(\"\",$F786)*5,2)","v":""},{"$f":"G786","v":0},{"$f":"IF(AM784=\"кмс\",AM$2,IF(AM784=\"мс\",AN$2,IF(AM784=\"мсмк\",AO$2,IF(AM784=\"змс\",AP$2,AM784))))","v":0}]
[]
[null,null,null,null,null,null,null,null,null,null,null,null,{"$f":"D786","v":0},null,null,null,{"$f":"CONCATENATE(AH784,AI784)","v":{"$error":"#VALUE!"}},{"$f":"CONCATENATE(AJ784,\".\",AK784,\".\",AL784,\",\",\" \",AN784)","v":".., 0"},{"$f":"UPPER(H786)","v":""},{"$f":"CONCATENATE(PROPER(I786),\", \",PROPER(J786),\", \",UPPER(K786))","v":", , "},null,{"$f":"PROPER(L786)","v":""},null,null,null,null,null,null,null,null,null,{"$f":"IFERROR(LEFT(E788,FIND(\" \",E788)-1),E788)","v":0},{"$f":"MID(E788,FIND(\" \",E788)*1,27)","v":{"$error":"#VALUE!"}},{"$f":"UPPER(AF786)","v":"0"},{"$f":"PROPER(AG786)","v":{"$error":"#VALUE!"}},{"$f":"MID($F788,FIND(\"\",$F788)*1,2)","v":""},{"$f":"MID($F788,FIND(\"\",$F788)*3,2)","v":""},{"$f":"MID($F788,FIND(\"\",$F788)*5,2)","v":""},{"$f":"G788","v":0},{"$f":"IF(AM786=\"кмс\",AM$2,IF(AM786=\"мс\",AN$2,IF(AM786=\"мсмк\",AO$2,IF(AM786=\"змс\",AP$2,AM786))))","v":0}]
[]
[null,null,null,null,null,null,null,null,null,null,null,null,{"$f":"D788","v":0},null,null,null,{"$f":"CONCATENATE(AH786,AI786)","v":{"$error":"#VALUE!"}},{"$f":"CONCATENATE(AJ786,\".\",AK786,\".\",AL786,\",\",\" \",AN786)","v":".., 0"},{"$f":"UPPER(H788)","v":""},{"$f":"CONCATENATE(PROPER(I788),\", \",PROPER(J788),\", \",UPPER(K788))","v":", , "},null,{"$f":"PROPER(L788)","v":""},null,null,null,null,null,null,null,null,null,{"$f":"IFERROR(LEFT(E790,FIND(\" \",E790)-1),E790)","v":0},{"$f":"MID(E790,FIND(\" \",E790)*1,27)","v":{"$error":"#VALUE!"}},{"$f":"UPPER(AF788)","v":"0"},{"$f":"PROPER(AG788)","v":{"$error":"#VALUE!"}},{"$f":"MID($F790,FIND(\"\",$F790)*1,2)","v":""},{"$f":"MID($F790,FIND(\"\",$F790)*3,2)","v":""},{"$f":"MID($F790,FIND(\"\",$F790)*5,2)","v":""},{"$f":"G790","v":0},{"$f":"IF(AM788=\"кмс\",AM$2,IF(AM788=\"мс\",AN$2,IF(AM788=\"мсмк\",AO$2,IF(AM788=\"змс\",AP$2,AM788))))","v":0}]
[]
[null,null,null,null,null,null,null,null,null,null,null,null,{"$f":"D790","v":0},null,null,null,{"$f":"CONCATENATE(AH788,AI788)","v":{"$error":"#VALUE!"}},{"$f":"CONCATENATE(AJ788,\".\",AK788,\".\",AL788,\",\",\" \",AN788)","v":".., 0"},{"$f":"UPPER(H790)","v":""},{"$f":"CONCATENATE(PROPER(I790),\", \",PROPER(J790),\", \",UPPER(K790))","v":", , "},null,{"$f":"PROPER(L790)","v":""},null,null,null,null,null,null,null,null,null,{"$f":"IFERROR(LEFT(E792,FIND(\" \",E792)-1),E792)","v":0},{"$f":"MID(E792,FIND(\" \",E792)*1,27)","v":{"$error":"#VALUE!"}},{"$f":"UPPER(AF790)","v":"0"},{"$f":"PROPER(AG790)","v":{"$error":"#VALUE!"}},{"$f":"MID($F792,FIND(\"\",$F792)*1,2)","v":""},{"$f":"MID($F792,FIND(\"\",$F792)*3,2)","v":""},{"$f":"MID($F792,FIND(\"\",$F792)*5,2)","v":""},{"$f":"G792","v":0},{"$f":"IF(AM790=\"кмс\",AM$2,IF(AM790=\"мс\",AN$2,IF(AM790=\"мсмк\",AO$2,IF(AM790=\"змс\",AP$2,AM790))))","v":0}]
[]
[null,null,null,null,null,null,null,null,null,null,null,null,{"$f":"D792","v":0},null,null,null,{"$f":"CONCATENATE(AH790,AI790)","v":{"$error":"#VALUE!"}},{"$f":"CONCATENATE(AJ790,\".\",AK790,\".\",AL790,\",\",\" \",AN790)","v":".., 0"},{"$f":"UPPER(H792)","v":""},{"$f":"CONCATENATE(PROPER(I792),\", \",PROPER(J792),\", \",UPPER(K792))","v":", , "},null,{"$f":"PROPER(L792)","v":""},null,null,null,null,null,null,null,null,null,{"$f":"IFERROR(LEFT(E794,FIND(\" \",E794)-1),E794)","v":0},{"$f":"MID(E794,FIND(\" \",E794)*1,27)","v":{"$error":"#VALUE!"}},{"$f":"UPPER(AF792)","v":"0"},{"$f":"PROPER(AG792)","v":{"$error":"#VALUE!"}},{"$f":"MID($F794,FIND(\"\",$F794)*1,2)","v":""},{"$f":"MID($F794,FIND(\"\",$F794)*3,2)","v":""},{"$f":"MID($F794,FIND(\"\",$F794)*5,2)","v":""},{"$f":"G794","v":0},{"$f":"IF(AM792=\"кмс\",AM$2,IF(AM792=\"мс\",AN$2,IF(AM792=\"мсмк\",AO$2,IF(AM792=\"змс\",AP$2,AM792))))","v":0}]
[]
[null,null,null,null,null,null,null,null,null,null,null,null,{"$f":"D794","v":0},null,null,null,{"$f":"CONCATENATE(AH792,AI792)","v":{"$error":"#VALUE!"}},{"$f":"CONCATENATE(AJ792,\".\",AK792,\".\",AL792,\",\",\" \",AN792)","v":".., 0"},{"$f":"UPPER(H794)","v":""},{"$f":"CONCATENATE(PROPER(I794),\", \",PROPER(J794),\", \",UPPER(K794))","v":", , "},null,{"$f":"PROPER(L794)","v":""},null,null,null,null,null,null,null,null,null,{"$f":"IFERROR(LEFT(E796,FIND(\" \",E796)-1),E796)","v":0},{"$f":"MID(E796,FIND(\" \",E796)*1,27)","v":{"$error":"#VALUE!"}},{"$f":"UPPER(AF794)","v":"0"},{"$f":"PROPER(AG794)","v":{"$error":"#VALUE!"}},{"$f":"MID($F796,FIND(\"\",$F796)*1,2)","v":""},{"$f":"MID($F796,FIND(\"\",$F796)*3,2)","v":""},{"$f":"MID($F796,FIND(\"\",$F796)*5,2)","v":""},{"$f":"G796","v":0},{"$f":"IF(AM794=\"кмс\",AM$2,IF(AM794=\"мс\",AN$2,IF(AM794=\"мсмк\",AO$2,IF(AM794=\"змс\",AP$2,AM794))))","v":0}]
[]
[null,null,null,null,null,null,null,null,null,null,null,null,{"$f":"D796","v":0},null,null,null,{"$f":"CONCATENATE(AH794,AI794)","v":{"$error":"#VALUE!"}},{"$f":"CONCATENATE(AJ794,\".\",AK794,\".\",AL794,\",\",\" \",AN794)","v":".., 0"},{"$f":"UPPER(H796)","v":""},{"$f":"CONCATENATE(PROPER(I796),\", \",PROPER(J796),\", \",UPPER(K796))","v":", , "},null,{"$f":"PROPER(L796)","v":""},null,null,null,null,null,null,null,null,null,{"$f":"IFERROR(LEFT(E798,FIND(\" \",E798)-1),E798)","v":0},{"$f":"MID(E798,FIND(\" \",E798)*1,27)","v":{"$error":"#VALUE!"}},{"$f":"UPPER(AF796)","v":"0"},{"$f":"PROPER(AG796)","v":{"$error":"#VALUE!"}},{"$f":"MID($F798,FIND(\"\",$F798)*1,2)","v":""},{"$f":"MID($F798,FIND(\"\",$F798)*3,2)","v":""},{"$f":"MID($F798,FIND(\"\",$F798)*5,2)","v":""},{"$f":"G798","v":0},{"$f":"IF(AM796=\"кмс\",AM$2,IF(AM796=\"мс\",AN$2,IF(AM796=\"мсмк\",AO$2,IF(AM796=\"змс\",AP$2,AM796))))","v":0}]
[]
[null,null,null,null,null,null,null,null,null,null,null,null,{"$f":"D798","v":0},null,null,null,{"$f":"CONCATENATE(AH796,AI796)","v":{"$error":"#VALUE!"}},{"$f":"CONCATENATE(AJ796,\".\",AK796,\".\",AL796,\",\",\" \",AN796)","v":".., 0"},{"$f":"UPPER(H798)","v":""},{"$f":"CONCATENATE(PROPER(I798),\", \",PROPER(J798),\", \",UPPER(K798))","v":", , "},null,{"$f":"PROPER(L798)","v":""},null,null,null,null,null,null,null,null,null,{"$f":"IFERROR(LEFT(E800,FIND(\" \",E800)-1),E800)","v":0},{"$f":"MID(E800,FIND(\" \",E800)*1,27)","v":{"$error":"#VALUE!"}},{"$f":"UPPER(AF798)","v":"0"},{"$f":"PROPER(AG798)","v":{"$error":"#VALUE!"}},{"$f":"MID($F800,FIND(\"\",$F800)*1,2)","v":""},{"$f":"MID($F800,FIND(\"\",$F800)*3,2)","v":""},{"$f":"MID($F800,FIND(\"\",$F800)*5,2)","v":""},{"$f":"G800","v":0},{"$f":"IF(AM798=\"кмс\",AM$2,IF(AM798=\"мс\",AN$2,IF(AM798=\"мсмк\",AO$2,IF(AM798=\"змс\",AP$2,AM798))))","v":0}]
[]
[null,null,null,null,null,null,null,null,null,null,null,null,{"$f":"D800","v":0},null,null,null,{"$f":"CONCATENATE(AH798,AI798)","v":{"$error":"#VALUE!"}},{"$f":"CONCATENATE(AJ798,\".\",AK798,\".\",AL798,\",\",\" \",AN798)","v":".., 0"},{"$f":"UPPER(H800)","v":""},{"$f":"CONCATENATE(PROPER(I800),\", \",PROPER(J800),\", \",UPPER(K800))","v":", , "},null,{"$f":"PROPER(L800)","v":""},null,null,null,null,null,null,null,null,null,{"$f":"IFERROR(LEFT(E802,FIND(\" \",E802)-1),E802)","v":0},{"$f":"MID(E802,FIND(\" \",E802)*1,27)","v":{"$error":"#VALUE!"}},{"$f":"UPPER(AF800)","v":"0"},{"$f":"PROPER(AG800)","v":{"$error":"#VALUE!"}},{"$f":"MID($F802,FIND(\"\",$F802)*1,2)","v":""},{"$f":"MID($F802,FIND(\"\",$F802)*3,2)","v":""},{"$f":"MID($F802,FIND(\"\",$F802)*5,2)","v":""},{"$f":"G802","v":0},{"$f":"IF(AM800=\"кмс\",AM$2,IF(AM800=\"мс\",AN$2,IF(AM800=\"мсмк\",AO$2,IF(AM800=\"змс\",AP$2,AM800))))","v":0}]
[]
[null,null,null,null,null,null,null,null,null,null,null,null,{"$f":"D802","v":0},null,null,null,{"$f":"CONCATENATE(AH800,AI800)","v":{"$error":"#VALUE!"}},{"$f":"CONCATENATE(AJ800,\".\",AK800,\".\",AL800,\",\",\" \",AN800)","v":".., 0"},{"$f":"UPPER(H802)","v":""},{"$f":"CONCATENATE(PROPER(I802),\", \",PROPER(J802),\", \",UPPER(K802))","v":", , "},null,{"$f":"PROPER(L802)","v":""},null,null,null,null,null,null,null,null,null,{"$f":"IFERROR(LEFT(E804,FIND(\" \",E804)-1),E804)","v":0},{"$f":"MID(E804,FIND(\" \",E804)*1,27)","v":{"$error":"#VALUE!"}},{"$f":"UPPER(AF802)","v":"0"},{"$f":"PROPER(AG802)","v":{"$error":"#VALUE!"}},{"$f":"MID($F804,FIND(\"\",$F804)*1,2)","v":""},{"$f":"MID($F804,FIND(\"\",$F804)*3,2)","v":""},{"$f":"MID($F804,FIND(\"\",$F804)*5,2)","v":""},{"$f":"G804","v":0},{"$f":"IF(AM802=\"кмс\",AM$2,IF(AM802=\"мс\",AN$2,IF(AM802=\"мсмк\",AO$2,IF(AM802=\"змс\",AP$2,AM802))))","v":0}]
[]
[null,null,null,null,null,null,null,null,null,null,null,null,{"$f":"D804","v":0},null,null,null,{"$f":"CONCATENATE(AH802,AI802)","v":{"$error":"#VALUE!"}},{"$f":"CONCATENATE(AJ802,\".\",AK802,\".\",AL802,\",\",\" \",AN802)","v":".., 0"},{"$f":"UPPER(H804)","v":""},{"$f":"CONCATENATE(PROPER(I804),\", \",PROPER(J804),\", \",UPPER(K804))","v":", , "},null,{"$f":"PROPER(L804)","v":""},null,null,null,null,null,null,null,null,null,{"$f":"IFERROR(LEFT(E806,FIND(\" \",E806)-1),E806)","v":0},{"$f":"MID(E806,FIND(\" \",E806)*1,27)","v":{"$error":"#VALUE!"}},{"$f":"UPPER(AF804)","v":"0"},{"$f":"PROPER(AG804)","v":{"$error":"#VALUE!"}},{"$f":"MID($F806,FIND(\"\",$F806)*1,2)","v":""},{"$f":"MID($F806,FIND(\"\",$F806)*3,2)","v":""},{"$f":"MID($F806,FIND(\"\",$F806)*5,2)","v":""},{"$f":"G806","v":0},{"$f":"IF(AM804=\"кмс\",AM$2,IF(AM804=\"мс\",AN$2,IF(AM804=\"мсмк\",AO$2,IF(AM804=\"змс\",AP$2,AM804))))","v":0}]
[]
[null,null,null,null,null,null,null,null,null,null,null,null,{"$f":"D806","v":0},null,null,null,{"$f":"CONCATENATE(AH804,AI804)","v":{"$error":"#VALUE!"}},{"$f":"CONCATENATE(AJ804,\".\",AK804,\".\",AL804,\",\",\" \",AN804)","v":".., 0"},{"$f":"UPPER(H806)","v":""},{"$f":"CONCATENATE(PROPER(I806),\", \",PROPER(J806),\", \",UPPER(K806))","v":", , "},null,{"$f":"PROPER(L806)","v":""},null,null,null,null,null,null,null,null,null,{"$f":"IFERROR(LEFT(E808,FIND(\" \",E808)-1),E808)","v":0},{"$f":"MID(E808,FIND(\" \",E808)*1,27)","v":{"$error":"#VALUE!"}},{"$f":"UPPER(AF806)","v":"0"},{"$f":"PROPER(AG806)","v":{"$error":"#VALUE!"}},{"$f":"MID($F808,FIND(\"\",$F808)*1,2)","v":""},{"$f":"MID($F808,FIND(\"\",$F808)*3,2)","v":""},{"$f":"MID($F808,FIND(\"\",$F808)*5,2)","v":""},{"$f":"G808","v":0},{"$f":"IF(AM806=\"кмс\",AM$2,IF(AM806=\"мс\",AN$2,IF(AM806=\"мсмк\",AO$2,IF(AM806=\"змс\",AP$2,AM806))))","v":0}]
[]
[null,null,null,null,null,null,null,null,null,null,null,null,{"$f":"D808","v":0},null,null,null,{"$f":"CONCATENATE(AH806,AI806)","v":{"$error":"#VALUE!"}},{"$f":"CONCATENATE(AJ806,\".\",AK806,\".\",AL806,\",\",\" \",AN806)","v":".., 0"},{"$f":"UPPER(H808)","v":""},{"$f":"CONCATENATE(PROPER(I808),\", \",PROPER(J808),\", \",UPPER(K808))","v":", , "},null,{"$f":"PROPER(L808)","v":""},null,null,null,null,null,null,null,null,null,{"$f":"IFERROR(LEFT(E810,FIND(\" \",E810)-1),E810)","v":0},{"$f":"MID(E810,FIND(\" \",E810)*1,27)","v":{"$error":"#VALUE!"}},{"$f":"UPPER(AF808)","v":"0"},{"$f":"PROPER(AG808)","v":{"$error":"#VALUE!"}},{"$f":"MID($F810,FIND(\"\",$F810)*1,2)","v":""},{"$f":"MID($F810,FIND(\"\",$F810)*3,2)","v":""},{"$f":"MID($F810,FIND(\"\",$F810)*5,2)","v":""},{"$f":"G810","v":0},{"$f":"IF(AM808=\"кмс\",AM$2,IF(AM808=\"мс\",AN$2,IF(AM808=\"мсмк\",AO$2,IF(AM808=\"змс\",AP$2,AM808))))","v":0}]
[]
[null,null,null,null,null,null,null,null,null,null,null,null,{"$f":"D810","v":0},null,null,null,{"$f":"CONCATENATE(AH808,AI808)","v":{"$error":"#VALUE!"}},{"$f":"CONCATENATE(AJ808,\".\",AK808,\".\",AL808,\",\",\" \",AN808)","v":".., 0"},{"$f":"UPPER(H810)","v":""},{"$f":"CONCATENATE(PROPER(I810),\", \",PROPER(J810),\", \",UPPER(K810))","v":", , "},null,{"$f":"PROPER(L810)","v":""},null,null,null,null,null,null,null,null,null,{"$f":"IFERROR(LEFT(E812,FIND(\" \",E812)-1),E812)","v":0},{"$f":"MID(E812,FIND(\" \",E812)*1,27)","v":{"$error":"#VALUE!"}},{"$f":"UPPER(AF810)","v":"0"},{"$f":"PROPER(AG810)","v":{"$error":"#VALUE!"}},{"$f":"MID($F812,FIND(\"\",$F812)*1,2)","v":""},{"$f":"MID($F812,FIND(\"\",$F812)*3,2)","v":""},{"$f":"MID($F812,FIND(\"\",$F812)*5,2)","v":""},{"$f":"G812","v":0},{"$f":"IF(AM810=\"кмс\",AM$2,IF(AM810=\"мс\",AN$2,IF(AM810=\"мсмк\",AO$2,IF(AM810=\"змс\",AP$2,AM810))))","v":0}]
[]
[null,null,null,null,null,null,null,null,null,null,null,null,{"$f":"D812","v":0},null,null,null,{"$f":"CONCATENATE(AH810,AI810)","v":{"$error":"#VALUE!"}},{"$f":"CONCATENATE(AJ810,\".\",AK810,\".\",AL810,\",\",\" \",AN810)","v":".., 0"},{"$f":"UPPER(H812)","v":""},{"$f":"CONCATENATE(PROPER(I812),\", \",PROPER(J812),\", \",UPPER(K812))","v":", , "},null,{"$f":"PROPER(L812)","v":""},null,null,null,null,null,null,null,null,null,{"$f":"IFERROR(LEFT(E814,FIND(\" \",E814)-1),E814)","v":0},{"$f":"MID(E814,FIND(\" \",E814)*1,27)","v":{"$error":"#VALUE!"}},{"$f":"UPPER(AF812)","v":"0"},{"$f":"PROPER(AG812)","v":{"$error":"#VALUE!"}},{"$f":"MID($F814,FIND(\"\",$F814)*1,2)","v":""},{"$f":"MID($F814,FIND(\"\",$F814)*3,2)","v":""},{"$f":"MID($F814,FIND(\"\",$F814)*5,2)","v":""},{"$f":"G814","v":0},{"$f":"IF(AM812=\"кмс\",AM$2,IF(AM812=\"мс\",AN$2,IF(AM812=\"мсмк\",AO$2,IF(AM812=\"змс\",AP$2,AM812))))","v":0}]
[]
[null,null,null,null,null,null,null,null,null,null,null,null,{"$f":"D814","v":0},null,null,null,{"$f":"CONCATENATE(AH812,AI812)","v":{"$error":"#VALUE!"}},{"$f":"CONCATENATE(AJ812,\".\",AK812,\".\",AL812,\",\",\" \",AN812)","v":".., 0"},{"$f":"UPPER(H814)","v":""},{"$f":"CONCATENATE(PROPER(I814),\", \",PROPER(J814),\", \",UPPER(K814))","v":", , "},null,{"$f":"PROPER(L814)","v":""},null,null,null,null,null,null,null,null,null,{"$f":"IFERROR(LEFT(E816,FIND(\" \",E816)-1),E816)","v":0},{"$f":"MID(E816,FIND(\" \",E816)*1,27)","v":{"$error":"#VALUE!"}},{"$f":"UPPER(AF814)","v":"0"},{"$f":"PROPER(AG814)","v":{"$error":"#VALUE!"}},{"$f":"MID($F816,FIND(\"\",$F816)*1,2)","v":""},{"$f":"MID($F816,FIND(\"\",$F816)*3,2)","v":""},{"$f":"MID($F816,FIND(\"\",$F816)*5,2)","v":""},{"$f":"G816","v":0},{"$f":"IF(AM814=\"кмс\",AM$2,IF(AM814=\"мс\",AN$2,IF(AM814=\"мсмк\",AO$2,IF(AM814=\"змс\",AP$2,AM814))))","v":0}]
[]
[null,null,null,null,null,null,null,null,null,null,null,null,{"$f":"D816","v":0},null,null,null,{"$f":"CONCATENATE(AH814,AI814)","v":{"$error":"#VALUE!"}},{"$f":"CONCATENATE(AJ814,\".\",AK814,\".\",AL814,\",\",\" \",AN814)","v":".., 0"},{"$f":"UPPER(H816)","v":""},{"$f":"CONCATENATE(PROPER(I816),\", \",PROPER(J816),\", \",UPPER(K816))","v":", , "},null,{"$f":"PROPER(L816)","v":""},null,null,null,null,null,null,null,null,null,{"$f":"IFERROR(LEFT(E818,FIND(\" \",E818)-1),E818)","v":0},{"$f":"MID(E818,FIND(\" \",E818)*1,27)","v":{"$error":"#VALUE!"}},{"$f":"UPPER(AF816)","v":"0"},{"$f":"PROPER(AG816)","v":{"$error":"#VALUE!"}},{"$f":"MID($F818,FIND(\"\",$F818)*1,2)","v":""},{"$f":"MID($F818,FIND(\"\",$F818)*3,2)","v":""},{"$f":"MID($F818,FIND(\"\",$F818)*5,2)","v":""},{"$f":"G818","v":0},{"$f":"IF(AM816=\"кмс\",AM$2,IF(AM816=\"мс\",AN$2,IF(AM816=\"мсмк\",AO$2,IF(AM816=\"змс\",AP$2,AM816))))","v":0}]
[]
[null,null,null,null,null,null,null,null,null,null,null,null,{"$f":"D818","v":0},null,null,null,null,null,null,null,null,null,null,null,null,null,null,null,null,null,null,{"$f":"IFERROR(LEFT(E820,FIND(\" \",E820)-1),E820)","v":0},{"$f":"MID(E820,FIND(\" \",E820)*1,27)","v":{"$error":"#VALUE!"}},{"$f":"UPPER(AF818)","v":"0"},{"$f":"PROPER(AG818)","v":{"$error":"#VALUE!"}},{"$f":"MID($F820,FIND(\"\",$F820)*1,2)","v":""},{"$f":"MID($F820,FIND(\"\",$F820)*3,2)","v":""},{"$f":"MID($F820,FIND(\"\",$F820)*5,2)","v":""},{"$f":"G820","v":0},{"$f":"IF(AM818=\"кмс\",AM$2,IF(AM818=\"мс\",AN$2,IF(AM818=\"мсмк\",AO$2,IF(AM818=\"змс\",AP$2,AM818))))","v":0}]
[]
[null,null,null,null,null,null,null,null,null,null,null,null,null,null,null,null,null,null,null,null,null,null,null,null,null,null,null,null,null,null,null,{"$f":"IFERROR(LEFT(E822,FIND(\" \",E822)-1),E822)","v":0},{"$f":"MID(E822,FIND(\" \",E822)*1,27)","v":{"$error":"#VALUE!"}},{"$f":"UPPER(AF820)","v":"0"},{"$f":"PROPER(AG820)","v":{"$error":"#VALUE!"}},{"$f":"MID($F822,FIND(\"\",$F822)*1,2)","v":""},{"$f":"MID($F822,FIND(\"\",$F822)*3,2)","v":""},{"$f":"MID($F822,FIND(\"\",$F822)*5,2)","v":""},{"$f":"G822","v":0},{"$f":"IF(AM820=\"кмс\",AM$2,IF(AM820=\"мс\",AN$2,IF(AM820=\"мсмк\",AO$2,IF(AM820=\"змс\",AP$2,AM820))))","v":0}]
[]
[null,null,null,null,null,null,null,null,null,null,null,null,null,null,null,null,null,null,null,null,null,null,null,null,null,null,null,null,null,null,null,{"$f":"IFERROR(LEFT(E824,FIND(\" \",E824)-1),E824)","v":0},{"$f":"MID(E824,FIND(\" \",E824)*1,27)","v":{"$error":"#VALUE!"}},{"$f":"UPPER(AF822)","v":"0"},{"$f":"PROPER(AG822)","v":{"$error":"#VALUE!"}},{"$f":"MID($F824,FIND(\"\",$F824)*1,2)","v":""},{"$f":"MID($F824,FIND(\"\",$F824)*3,2)","v":""},{"$f":"MID($F824,FIND(\"\",$F824)*5,2)","v":""},{"$f":"G824","v":0},{"$f":"IF(AM822=\"кмс\",AM$2,IF(AM822=\"мс\",AN$2,IF(AM822=\"мсмк\",AO$2,IF(AM822=\"змс\",AP$2,AM822))))","v":0}]
[]
[null,null,null,null,null,null,null,null,null,null,null,null,null,null,null,null,null,null,null,null,null,null,null,null,null,null,null,null,null,null,null,{"$f":"IFERROR(LEFT(E826,FIND(\" \",E826)-1),E826)","v":0},{"$f":"MID(E826,FIND(\" \",E826)*1,27)","v":{"$error":"#VALUE!"}},{"$f":"UPPER(AF824)","v":"0"},{"$f":"PROPER(AG824)","v":{"$error":"#VALUE!"}},{"$f":"MID($F826,FIND(\"\",$F826)*1,2)","v":""},{"$f":"MID($F826,FIND(\"\",$F826)*3,2)","v":""},{"$f":"MID($F826,FIND(\"\",$F826)*5,2)","v":""},{"$f":"G826","v":0},{"$f":"IF(AM824=\"кмс\",AM$2,IF(AM824=\"мс\",AN$2,IF(AM824=\"мсмк\",AO$2,IF(AM824=\"змс\",AP$2,AM824))))","v":0}]
[]
[null,null,null,null,null,null,null,null,null,null,null,null,null,null,null,null,null,null,null,null,null,null,null,null,null,null,null,null,null,null,null,{"$f":"IFERROR(LEFT(E828,FIND(\" \",E828)-1),E828)","v":0},{"$f":"MID(E828,FIND(\" \",E828)*1,27)","v":{"$error":"#VALUE!"}},{"$f":"UPPER(AF826)","v":"0"},{"$f":"PROPER(AG826)","v":{"$error":"#VALUE!"}},{"$f":"MID($F828,FIND(\"\",$F828)*1,2)","v":""},{"$f":"MID($F828,FIND(\"\",$F828)*3,2)","v":""},{"$f":"MID($F828,FIND(\"\",$F828)*5,2)","v":""},{"$f":"G828","v":0},{"$f":"IF(AM826=\"кмс\",AM$2,IF(AM826=\"мс\",AN$2,IF(AM826=\"мсмк\",AO$2,IF(AM826=\"змс\",AP$2,AM826))))","v":0}]
[]
[null,null,null,null,null,null,null,null,null,null,null,null,null,null,null,null,null,null,null,null,null,null,null,null,null,null,null,null,null,null,null,{"$f":"IFERROR(LEFT(E830,FIND(\" \",E830)-1),E830)","v":0},{"$f":"MID(E830,FIND(\" \",E830)*1,27)","v":{"$error":"#VALUE!"}},{"$f":"UPPER(AF828)","v":"0"},{"$f":"PROPER(AG828)","v":{"$error":"#VALUE!"}},{"$f":"MID($F830,FIND(\"\",$F830)*1,2)","v":""},{"$f":"MID($F830,FIND(\"\",$F830)*3,2)","v":""},{"$f":"MID($F830,FIND(\"\",$F830)*5,2)","v":""},{"$f":"G830","v":0},{"$f":"IF(AM828=\"кмс\",AM$2,IF(AM828=\"мс\",AN$2,IF(AM828=\"мсмк\",AO$2,IF(AM828=\"змс\",AP$2,AM828))))","v":0}]
[]
[null,null,null,null,null,null,null,null,null,null,null,null,null,null,null,null,null,null,null,null,null,null,null,null,null,null,null,null,null,null,null,{"$f":"IFERROR(LEFT(E832,FIND(\" \",E832)-1),E832)","v":0},{"$f":"MID(E832,FIND(\" \",E832)*1,27)","v":{"$error":"#VALUE!"}},{"$f":"UPPER(AF830)","v":"0"},{"$f":"PROPER(AG830)","v":{"$error":"#VALUE!"}},{"$f":"MID($F832,FIND(\"\",$F832)*1,2)","v":""},{"$f":"MID($F832,FIND(\"\",$F832)*3,2)","v":""},{"$f":"MID($F832,FIND(\"\",$F832)*5,2)","v":""},{"$f":"G832","v":0},{"$f":"IF(AM830=\"кмс\",AM$2,IF(AM830=\"мс\",AN$2,IF(AM830=\"мсмк\",AO$2,IF(AM830=\"змс\",AP$2,AM830))))","v":0}]
[]
[null,null,null,null,null,null,null,null,null,null,null,null,null,null,null,null,null,null,null,null,null,null,null,null,null,null,null,null,null,null,null,{"$f":"IFERROR(LEFT(E834,FIND(\" \",E834)-1),E834)","v":0},{"$f":"MID(E834,FIND(\" \",E834)*1,27)","v":{"$error":"#VALUE!"}},{"$f":"UPPER(AF832)","v":"0"},{"$f":"PROPER(AG832)","v":{"$error":"#VALUE!"}},{"$f":"MID($F834,FIND(\"\",$F834)*1,2)","v":""},{"$f":"MID($F834,FIND(\"\",$F834)*3,2)","v":""},{"$f":"MID($F834,FIND(\"\",$F834)*5,2)","v":""},{"$f":"G834","v":0},{"$f":"IF(AM832=\"кмс\",AM$2,IF(AM832=\"мс\",AN$2,IF(AM832=\"мсмк\",AO$2,IF(AM832=\"змс\",AP$2,AM832))))","v":0}]
[]
[null,null,null,null,null,null,null,null,null,null,null,null,null,null,null,null,null,null,null,null,null,null,null,null,null,null,null,null,null,null,null,{"$f":"IFERROR(LEFT(E836,FIND(\" \",E836)-1),E836)","v":0},{"$f":"MID(E836,FIND(\" \",E836)*1,27)","v":{"$error":"#VALUE!"}},{"$f":"UPPER(AF834)","v":"0"},{"$f":"PROPER(AG834)","v":{"$error":"#VALUE!"}},{"$f":"MID($F836,FIND(\"\",$F836)*1,2)","v":""},{"$f":"MID($F836,FIND(\"\",$F836)*3,2)","v":""},{"$f":"MID($F836,FIND(\"\",$F836)*5,2)","v":""},{"$f":"G836","v":0},{"$f":"IF(AM834=\"кмс\",AM$2,IF(AM834=\"мс\",AN$2,IF(AM834=\"мсмк\",AO$2,IF(AM834=\"змс\",AP$2,AM834))))","v":0}]
[]
[null,null,null,null,null,null,null,null,null,null,null,null,null,null,null,null,null,null,null,null,null,null,null,null,null,null,null,null,null,null,null,{"$f":"IFERROR(LEFT(E838,FIND(\" \",E838)-1),E838)","v":0},{"$f":"MID(E838,FIND(\" \",E838)*1,27)","v":{"$error":"#VALUE!"}},{"$f":"UPPER(AF836)","v":"0"},{"$f":"PROPER(AG836)","v":{"$error":"#VALUE!"}},{"$f":"MID($F838,FIND(\"\",$F838)*1,2)","v":""},{"$f":"MID($F838,FIND(\"\",$F838)*3,2)","v":""},{"$f":"MID($F838,FIND(\"\",$F838)*5,2)","v":""},{"$f":"G838","v":0},{"$f":"IF(AM836=\"кмс\",AM$2,IF(AM836=\"мс\",AN$2,IF(AM836=\"мсмк\",AO$2,IF(AM836=\"змс\",AP$2,AM836))))","v":0}]
[]
[null,null,null,null,null,null,null,null,null,null,null,null,null,null,null,null,null,null,null,null,null,null,null,null,null,null,null,null,null,null,null,{"$f":"IFERROR(LEFT(E840,FIND(\" \",E840)-1),E840)","v":0},{"$f":"MID(E840,FIND(\" \",E840)*1,27)","v":{"$error":"#VALUE!"}},{"$f":"UPPER(AF838)","v":"0"},{"$f":"PROPER(AG838)","v":{"$error":"#VALUE!"}},{"$f":"MID($F840,FIND(\"\",$F840)*1,2)","v":""},{"$f":"MID($F840,FIND(\"\",$F840)*3,2)","v":""},{"$f":"MID($F840,FIND(\"\",$F840)*5,2)","v":""},{"$f":"G840","v":0},{"$f":"IF(AM838=\"кмс\",AM$2,IF(AM838=\"мс\",AN$2,IF(AM838=\"мсмк\",AO$2,IF(AM838=\"змс\",AP$2,AM838))))","v":0}]
[]
[null,null,null,null,null,null,null,null,null,null,null,null,null,null,null,null,null,null,null,null,null,null,null,null,null,null,null,null,null,null,null,{"$f":"IFERROR(LEFT(E842,FIND(\" \",E842)-1),E842)","v":0},{"$f":"MID(E842,FIND(\" \",E842)*1,27)","v":{"$error":"#VALUE!"}},{"$f":"UPPER(AF840)","v":"0"},{"$f":"PROPER(AG840)","v":{"$error":"#VALUE!"}},{"$f":"MID($F842,FIND(\"\",$F842)*1,2)","v":""},{"$f":"MID($F842,FIND(\"\",$F842)*3,2)","v":""},{"$f":"MID($F842,FIND(\"\",$F842)*5,2)","v":""},{"$f":"G842","v":0},{"$f":"IF(AM840=\"кмс\",AM$2,IF(AM840=\"мс\",AN$2,IF(AM840=\"мсмк\",AO$2,IF(AM840=\"змс\",AP$2,AM840))))","v":0}]
[]
[null,null,null,null,null,null,null,null,null,null,null,null,null,null,null,null,null,null,null,null,null,null,null,null,null,null,null,null,null,null,null,{"$f":"IFERROR(LEFT(E844,FIND(\" \",E844)-1),E844)","v":0},{"$f":"MID(E844,FIND(\" \",E844)*1,27)","v":{"$error":"#VALUE!"}},{"$f":"UPPER(AF842)","v":"0"},{"$f":"PROPER(AG842)","v":{"$error":"#VALUE!"}},{"$f":"MID($F844,FIND(\"\",$F844)*1,2)","v":""},{"$f":"MID($F844,FIND(\"\",$F844)*3,2)","v":""},{"$f":"MID($F844,FIND(\"\",$F844)*5,2)","v":""},{"$f":"G844","v":0},{"$f":"IF(AM842=\"кмс\",AM$2,IF(AM842=\"мс\",AN$2,IF(AM842=\"мсмк\",AO$2,IF(AM842=\"змс\",AP$2,AM842))))","v":0}]
[]
[null,null,null,null,null,null,null,null,null,null,null,null,null,null,null,null,null,null,null,null,null,null,null,null,null,null,null,null,null,null,null,{"$f":"IFERROR(LEFT(E846,FIND(\" \",E846)-1),E846)","v":0},{"$f":"MID(E846,FIND(\" \",E846)*1,27)","v":{"$error":"#VALUE!"}},{"$f":"UPPER(AF844)","v":"0"},{"$f":"PROPER(AG844)","v":{"$error":"#VALUE!"}},{"$f":"MID($F846,FIND(\"\",$F846)*1,2)","v":""},{"$f":"MID($F846,FIND(\"\",$F846)*3,2)","v":""},{"$f":"MID($F846,FIND(\"\",$F846)*5,2)","v":""},{"$f":"G846","v":0},{"$f":"IF(AM844=\"кмс\",AM$2,IF(AM844=\"мс\",AN$2,IF(AM844=\"мсмк\",AO$2,IF(AM844=\"змс\",AP$2,AM844))))","v":0}]
[]
[null,null,null,null,null,null,null,null,null,null,null,null,null,null,null,null,null,null,null,null,null,null,null,null,null,null,null,null,null,null,null,{"$f":"IFERROR(LEFT(E848,FIND(\" \",E848)-1),E848)","v":0},{"$f":"MID(E848,FIND(\" \",E848)*1,27)","v":{"$error":"#VALUE!"}},{"$f":"UPPER(AF846)","v":"0"},{"$f":"PROPER(AG846)","v":{"$error":"#VALUE!"}},{"$f":"MID($F848,FIND(\"\",$F848)*1,2)","v":""},{"$f":"MID($F848,FIND(\"\",$F848)*3,2)","v":""},{"$f":"MID($F848,FIND(\"\",$F848)*5,2)","v":""},{"$f":"G848","v":0},{"$f":"IF(AM846=\"кмс\",AM$2,IF(AM846=\"мс\",AN$2,IF(AM846=\"мсмк\",AO$2,IF(AM846=\"змс\",AP$2,AM846))))","v":0}]
[]
[null,null,null,null,null,null,null,null,null,null,null,null,null,null,null,null,null,null,null,null,null,null,null,null,null,null,null,null,null,null,null,{"$f":"IFERROR(LEFT(E850,FIND(\" \",E850)-1),E850)","v":0},{"$f":"MID(E850,FIND(\" \",E850)*1,27)","v":{"$error":"#VALUE!"}},{"$f":"UPPER(AF848)","v":"0"},{"$f":"PROPER(AG848)","v":{"$error":"#VALUE!"}},{"$f":"MID($F850,FIND(\"\",$F850)*1,2)","v":""},{"$f":"MID($F850,FIND(\"\",$F850)*3,2)","v":""},{"$f":"MID($F850,FIND(\"\",$F850)*5,2)","v":""},{"$f":"G850","v":0},{"$f":"IF(AM848=\"кмс\",AM$2,IF(AM848=\"мс\",AN$2,IF(AM848=\"мсмк\",AO$2,IF(AM848=\"змс\",AP$2,AM848))))","v":0}]
[]
[null,null,null,null,null,null,null,null,null,null,null,null,null,null,null,null,null,null,null,null,null,null,null,null,null,null,null,null,null,null,null,{"$f":"IFERROR(LEFT(E852,FIND(\" \",E852)-1),E852)","v":0},{"$f":"MID(E852,FIND(\" \",E852)*1,27)","v":{"$error":"#VALUE!"}},{"$f":"UPPER(AF850)","v":"0"},{"$f":"PROPER(AG850)","v":{"$error":"#VALUE!"}},{"$f":"MID($F852,FIND(\"\",$F852)*1,2)","v":""},{"$f":"MID($F852,FIND(\"\",$F852)*3,2)","v":""},{"$f":"MID($F852,FIND(\"\",$F852)*5,2)","v":""},{"$f":"G852","v":0},{"$f":"IF(AM850=\"кмс\",AM$2,IF(AM850=\"мс\",AN$2,IF(AM850=\"мсмк\",AO$2,IF(AM850=\"змс\",AP$2,AM850))))","v":0}]
[]
[null,null,null,null,null,null,null,null,null,null,null,null,null,null,null,null,null,null,null,null,null,null,null,null,null,null,null,null,null,null,null,{"$f":"IFERROR(LEFT(E854,FIND(\" \",E854)-1),E854)","v":0},{"$f":"MID(E854,FIND(\" \",E854)*1,27)","v":{"$error":"#VALUE!"}},{"$f":"UPPER(AF852)","v":"0"},{"$f":"PROPER(AG852)","v":{"$error":"#VALUE!"}},{"$f":"MID($F854,FIND(\"\",$F854)*1,2)","v":""},{"$f":"MID($F854,FIND(\"\",$F854)*3,2)","v":""},{"$f":"MID($F854,FIND(\"\",$F854)*5,2)","v":""},{"$f":"G854","v":0},{"$f":"IF(AM852=\"кмс\",AM$2,IF(AM852=\"мс\",AN$2,IF(AM852=\"мсмк\",AO$2,IF(AM852=\"змс\",AP$2,AM852))))","v":0}]
[]
[null,null,null,null,null,null,null,null,null,null,null,null,null,null,null,null,null,null,null,null,null,null,null,null,null,null,null,null,null,null,null,{"$f":"IFERROR(LEFT(E856,FIND(\" \",E856)-1),E856)","v":0},{"$f":"MID(E856,FIND(\" \",E856)*1,27)","v":{"$error":"#VALUE!"}},{"$f":"UPPER(AF854)","v":"0"},{"$f":"PROPER(AG854)","v":{"$error":"#VALUE!"}},{"$f":"MID($F856,FIND(\"\",$F856)*1,2)","v":""},{"$f":"MID($F856,FIND(\"\",$F856)*3,2)","v":""},{"$f":"MID($F856,FIND(\"\",$F856)*5,2)","v":""},{"$f":"G856","v":0},{"$f":"IF(AM854=\"кмс\",AM$2,IF(AM854=\"мс\",AN$2,IF(AM854=\"мсмк\",AO$2,IF(AM854=\"змс\",AP$2,AM854))))","v":0}]
[]
[null,null,null,null,null,null,null,null,null,null,null,null,null,null,null,null,null,null,null,null,null,null,null,null,null,null,null,null,null,null,null,{"$f":"IFERROR(LEFT(E858,FIND(\" \",E858)-1),E858)","v":0},{"$f":"MID(E858,FIND(\" \",E858)*1,27)","v":{"$error":"#VALUE!"}},{"$f":"UPPER(AF856)","v":"0"},{"$f":"PROPER(AG856)","v":{"$error":"#VALUE!"}},{"$f":"MID($F858,FIND(\"\",$F858)*1,2)","v":""},{"$f":"MID($F858,FIND(\"\",$F858)*3,2)","v":""},{"$f":"MID($F858,FIND(\"\",$F858)*5,2)","v":""},{"$f":"G858","v":0},{"$f":"IF(AM856=\"кмс\",AM$2,IF(AM856=\"мс\",AN$2,IF(AM856=\"мсмк\",AO$2,IF(AM856=\"змс\",AP$2,AM856))))","v":0}]
[]
[null,null,null,null,null,null,null,null,null,null,null,null,null,null,null,null,null,null,null,null,null,null,null,null,null,null,null,null,null,null,null,{"$f":"IFERROR(LEFT(E860,FIND(\" \",E860)-1),E860)","v":0},{"$f":"MID(E860,FIND(\" \",E860)*1,27)","v":{"$error":"#VALUE!"}},{"$f":"UPPER(AF858)","v":"0"},{"$f":"PROPER(AG858)","v":{"$error":"#VALUE!"}},{"$f":"MID($F860,FIND(\"\",$F860)*1,2)","v":""},{"$f":"MID($F860,FIND(\"\",$F860)*3,2)","v":""},{"$f":"MID($F860,FIND(\"\",$F860)*5,2)","v":""},{"$f":"G860","v":0},{"$f":"IF(AM858=\"кмс\",AM$2,IF(AM858=\"мс\",AN$2,IF(AM858=\"мсмк\",AO$2,IF(AM858=\"змс\",AP$2,AM858))))","v":0}]
[]
[null,null,null,null,null,null,null,null,null,null,null,null,null,null,null,null,null,null,null,null,null,null,null,null,null,null,null,null,null,null,null,{"$f":"IFERROR(LEFT(E862,FIND(\" \",E862)-1),E862)","v":0},{"$f":"MID(E862,FIND(\" \",E862)*1,27)","v":{"$error":"#VALUE!"}},{"$f":"UPPER(AF860)","v":"0"},{"$f":"PROPER(AG860)","v":{"$error":"#VALUE!"}},{"$f":"MID($F862,FIND(\"\",$F862)*1,2)","v":""},{"$f":"MID($F862,FIND(\"\",$F862)*3,2)","v":""},{"$f":"MID($F862,FIND(\"\",$F862)*5,2)","v":""},{"$f":"G862","v":0},{"$f":"IF(AM860=\"кмс\",AM$2,IF(AM860=\"мс\",AN$2,IF(AM860=\"мсмк\",AO$2,IF(AM860=\"змс\",AP$2,AM860))))","v":0}]
[]
[null,null,null,null,null,null,null,null,null,null,null,null,null,null,null,null,null,null,null,null,null,null,null,null,null,null,null,null,null,null,null,{"$f":"IFERROR(LEFT(E864,FIND(\" \",E864)-1),E864)","v":0},{"$f":"MID(E864,FIND(\" \",E864)*1,27)","v":{"$error":"#VALUE!"}},{"$f":"UPPER(AF862)","v":"0"},{"$f":"PROPER(AG862)","v":{"$error":"#VALUE!"}},{"$f":"MID($F864,FIND(\"\",$F864)*1,2)","v":""},{"$f":"MID($F864,FIND(\"\",$F864)*3,2)","v":""},{"$f":"MID($F864,FIND(\"\",$F864)*5,2)","v":""},{"$f":"G864","v":0},{"$f":"IF(AM862=\"кмс\",AM$2,IF(AM862=\"мс\",AN$2,IF(AM862=\"мсмк\",AO$2,IF(AM862=\"змс\",AP$2,AM862))))","v":0}]
[]
[null,null,null,null,null,null,null,null,null,null,null,null,null,null,null,null,null,null,null,null,null,null,null,null,null,null,null,null,null,null,null,{"$f":"IFERROR(LEFT(E866,FIND(\" \",E866)-1),E866)","v":0},{"$f":"MID(E866,FIND(\" \",E866)*1,27)","v":{"$error":"#VALUE!"}},{"$f":"UPPER(AF864)","v":"0"},{"$f":"PROPER(AG864)","v":{"$error":"#VALUE!"}},{"$f":"MID($F866,FIND(\"\",$F866)*1,2)","v":""},{"$f":"MID($F866,FIND(\"\",$F866)*3,2)","v":""},{"$f":"MID($F866,FIND(\"\",$F866)*5,2)","v":""},{"$f":"G866","v":0},{"$f":"IF(AM864=\"кмс\",AM$2,IF(AM864=\"мс\",AN$2,IF(AM864=\"мсмк\",AO$2,IF(AM864=\"змс\",AP$2,AM864))))","v":0}]
[]
[null,null,null,null,null,null,null,null,null,null,null,null,null,null,null,null,null,null,null,null,null,null,null,null,null,null,null,null,null,null,null,{"$f":"IFERROR(LEFT(E868,FIND(\" \",E868)-1),E868)","v":0},{"$f":"MID(E868,FIND(\" \",E868)*1,27)","v":{"$error":"#VALUE!"}},{"$f":"UPPER(AF866)","v":"0"},{"$f":"PROPER(AG866)","v":{"$error":"#VALUE!"}},{"$f":"MID($F868,FIND(\"\",$F868)*1,2)","v":""},{"$f":"MID($F868,FIND(\"\",$F868)*3,2)","v":""},{"$f":"MID($F868,FIND(\"\",$F868)*5,2)","v":""},{"$f":"G868","v":0},{"$f":"IF(AM866=\"кмс\",AM$2,IF(AM866=\"мс\",AN$2,IF(AM866=\"мсмк\",AO$2,IF(AM866=\"змс\",AP$2,AM866))))","v":0}]
[]
[null,null,null,null,null,null,null,null,null,null,null,null,null,null,null,null,null,null,null,null,null,null,null,null,null,null,null,null,null,null,null,{"$f":"IFERROR(LEFT(E870,FIND(\" \",E870)-1),E870)","v":0},{"$f":"MID(E870,FIND(\" \",E870)*1,27)","v":{"$error":"#VALUE!"}},{"$f":"UPPER(AF868)","v":"0"},{"$f":"PROPER(AG868)","v":{"$error":"#VALUE!"}},{"$f":"MID($F870,FIND(\"\",$F870)*1,2)","v":""},{"$f":"MID($F870,FIND(\"\",$F870)*3,2)","v":""},{"$f":"MID($F870,FIND(\"\",$F870)*5,2)","v":""},{"$f":"G870","v":0},{"$f":"IF(AM868=\"кмс\",AM$2,IF(AM868=\"мс\",AN$2,IF(AM868=\"мсмк\",AO$2,IF(AM868=\"змс\",AP$2,AM868))))","v":0}]
[]
[null,null,null,null,null,null,null,null,null,null,null,null,null,null,null,null,null,null,null,null,null,null,null,null,null,null,null,null,null,null,null,{"$f":"IFERROR(LEFT(E872,FIND(\" \",E872)-1),E872)","v":0},{"$f":"MID(E872,FIND(\" \",E872)*1,27)","v":{"$error":"#VALUE!"}},{"$f":"UPPER(AF870)","v":"0"},{"$f":"PROPER(AG870)","v":{"$error":"#VALUE!"}},{"$f":"MID($F872,FIND(\"\",$F872)*1,2)","v":""},{"$f":"MID($F872,FIND(\"\",$F872)*3,2)","v":""},{"$f":"MID($F872,FIND(\"\",$F872)*5,2)","v":""},{"$f":"G872","v":0},{"$f":"IF(AM870=\"кмс\",AM$2,IF(AM870=\"мс\",AN$2,IF(AM870=\"мсмк\",AO$2,IF(AM870=\"змс\",AP$2,AM870))))","v":0}]
[]
[null,null,null,null,null,null,null,null,null,null,null,null,null,null,null,null,null,null,null,null,null,null,null,null,null,null,null,null,null,null,null,{"$f":"IFERROR(LEFT(E874,FIND(\" \",E874)-1),E874)","v":0},{"$f":"MID(E874,FIND(\" \",E874)*1,27)","v":{"$error":"#VALUE!"}},{"$f":"UPPER(AF872)","v":"0"},{"$f":"PROPER(AG872)","v":{"$error":"#VALUE!"}},{"$f":"MID($F874,FIND(\"\",$F874)*1,2)","v":""},{"$f":"MID($F874,FIND(\"\",$F874)*3,2)","v":""},{"$f":"MID($F874,FIND(\"\",$F874)*5,2)","v":""},{"$f":"G874","v":0},{"$f":"IF(AM872=\"кмс\",AM$2,IF(AM872=\"мс\",AN$2,IF(AM872=\"мсмк\",AO$2,IF(AM872=\"змс\",AP$2,AM872))))","v":0}]
[]
[null,null,null,null,null,null,null,null,null,null,null,null,null,null,null,null,null,null,null,null,null,null,null,null,null,null,null,null,null,null,null,{"$f":"IFERROR(LEFT(E876,FIND(\" \",E876)-1),E876)","v":0},{"$f":"MID(E876,FIND(\" \",E876)*1,27)","v":{"$error":"#VALUE!"}},{"$f":"UPPER(AF874)","v":"0"},{"$f":"PROPER(AG874)","v":{"$error":"#VALUE!"}},{"$f":"MID($F876,FIND(\"\",$F876)*1,2)","v":""},{"$f":"MID($F876,FIND(\"\",$F876)*3,2)","v":""},{"$f":"MID($F876,FIND(\"\",$F876)*5,2)","v":""},{"$f":"G876","v":0},{"$f":"IF(AM874=\"кмс\",AM$2,IF(AM874=\"мс\",AN$2,IF(AM874=\"мсмк\",AO$2,IF(AM874=\"змс\",AP$2,AM874))))","v":0}]
[]
[null,null,null,null,null,null,null,null,null,null,null,null,null,null,null,null,null,null,null,null,null,null,null,null,null,null,null,null,null,null,null,{"$f":"IFERROR(LEFT(E878,FIND(\" \",E878)-1),E878)","v":0},{"$f":"MID(E878,FIND(\" \",E878)*1,27)","v":{"$error":"#VALUE!"}},{"$f":"UPPER(AF876)","v":"0"},{"$f":"PROPER(AG876)","v":{"$error":"#VALUE!"}},{"$f":"MID($F878,FIND(\"\",$F878)*1,2)","v":""},{"$f":"MID($F878,FIND(\"\",$F878)*3,2)","v":""},{"$f":"MID($F878,FIND(\"\",$F878)*5,2)","v":""},{"$f":"G878","v":0},{"$f":"IF(AM876=\"кмс\",AM$2,IF(AM876=\"мс\",AN$2,IF(AM876=\"мсмк\",AO$2,IF(AM876=\"змс\",AP$2,AM876))))","v":0}]
[]
[null,null,null,null,null,null,null,null,null,null,null,null,null,null,null,null,null,null,null,null,null,null,null,null,null,null,null,null,null,null,null,{"$f":"IFERROR(LEFT(E880,FIND(\" \",E880)-1),E880)","v":0},{"$f":"MID(E880,FIND(\" \",E880)*1,27)","v":{"$error":"#VALUE!"}},{"$f":"UPPER(AF878)","v":"0"},{"$f":"PROPER(AG878)","v":{"$error":"#VALUE!"}},{"$f":"MID($F880,FIND(\"\",$F880)*1,2)","v":""},{"$f":"MID($F880,FIND(\"\",$F880)*3,2)","v":""},{"$f":"MID($F880,FIND(\"\",$F880)*5,2)","v":""},{"$f":"G880","v":0},{"$f":"IF(AM878=\"кмс\",AM$2,IF(AM878=\"мс\",AN$2,IF(AM878=\"мсмк\",AO$2,IF(AM878=\"змс\",AP$2,AM878))))","v":0}]
[]
[null,null,null,null,null,null,null,null,null,null,null,null,null,null,null,null,null,null,null,null,null,null,null,null,null,null,null,null,null,null,null,{"$f":"IFERROR(LEFT(E882,FIND(\" \",E882)-1),E882)","v":0},{"$f":"MID(E882,FIND(\" \",E882)*1,27)","v":{"$error":"#VALUE!"}},{"$f":"UPPER(AF880)","v":"0"},{"$f":"PROPER(AG880)","v":{"$error":"#VALUE!"}},{"$f":"MID($F882,FIND(\"\",$F882)*1,2)","v":""},{"$f":"MID($F882,FIND(\"\",$F882)*3,2)","v":""},{"$f":"MID($F882,FIND(\"\",$F882)*5,2)","v":""},{"$f":"G882","v":0},{"$f":"IF(AM880=\"кмс\",AM$2,IF(AM880=\"мс\",AN$2,IF(AM880=\"мсмк\",AO$2,IF(AM880=\"змс\",AP$2,AM880))))","v":0}]
[]
[null,null,null,null,null,null,null,null,null,null,null,null,null,null,null,null,null,null,null,null,null,null,null,null,null,null,null,null,null,null,null,{"$f":"IFERROR(LEFT(E884,FIND(\" \",E884)-1),E884)","v":0},{"$f":"MID(E884,FIND(\" \",E884)*1,27)","v":{"$error":"#VALUE!"}},{"$f":"UPPER(AF882)","v":"0"},{"$f":"PROPER(AG882)","v":{"$error":"#VALUE!"}},{"$f":"MID($F884,FIND(\"\",$F884)*1,2)","v":""},{"$f":"MID($F884,FIND(\"\",$F884)*3,2)","v":""},{"$f":"MID($F884,FIND(\"\",$F884)*5,2)","v":""},{"$f":"G884","v":0},{"$f":"IF(AM882=\"кмс\",AM$2,IF(AM882=\"мс\",AN$2,IF(AM882=\"мсмк\",AO$2,IF(AM882=\"змс\",AP$2,AM882))))","v":0}]
[]
[null,null,null,null,null,null,null,null,null,null,null,null,null,null,null,null,null,null,null,null,null,null,null,null,null,null,null,null,null,null,null,{"$f":"IFERROR(LEFT(E886,FIND(\" \",E886)-1),E886)","v":0},{"$f":"MID(E886,FIND(\" \",E886)*1,27)","v":{"$error":"#VALUE!"}},{"$f":"UPPER(AF884)","v":"0"},{"$f":"PROPER(AG884)","v":{"$error":"#VALUE!"}},{"$f":"MID($F886,FIND(\"\",$F886)*1,2)","v":""},{"$f":"MID($F886,FIND(\"\",$F886)*3,2)","v":""},{"$f":"MID($F886,FIND(\"\",$F886)*5,2)","v":""},{"$f":"G886","v":0},{"$f":"IF(AM884=\"кмс\",AM$2,IF(AM884=\"мс\",AN$2,IF(AM884=\"мсмк\",AO$2,IF(AM884=\"змс\",AP$2,AM884))))","v":0}]
[]
[null,null,null,null,null,null,null,null,null,null,null,null,null,null,null,null,null,null,null,null,null,null,null,null,null,null,null,null,null,null,null,{"$f":"IFERROR(LEFT(E888,FIND(\" \",E888)-1),E888)","v":0},{"$f":"MID(E888,FIND(\" \",E888)*1,27)","v":{"$error":"#VALUE!"}},{"$f":"UPPER(AF886)","v":"0"},{"$f":"PROPER(AG886)","v":{"$error":"#VALUE!"}},{"$f":"MID($F888,FIND(\"\",$F888)*1,2)","v":""},{"$f":"MID($F888,FIND(\"\",$F888)*3,2)","v":""},{"$f":"MID($F888,FIND(\"\",$F888)*5,2)","v":""},{"$f":"G888","v":0},{"$f":"IF(AM886=\"кмс\",AM$2,IF(AM886=\"мс\",AN$2,IF(AM886=\"мсмк\",AO$2,IF(AM886=\"змс\",AP$2,AM886))))","v":0}]
[]
[null,null,null,null,null,null,null,null,null,null,null,null,null,null,null,null,null,null,null,null,null,null,null,null,null,null,null,null,null,null,null,{"$f":"IFERROR(LEFT(E890,FIND(\" \",E890)-1),E890)","v":0},{"$f":"MID(E890,FIND(\" \",E890)*1,27)","v":{"$error":"#VALUE!"}},{"$f":"UPPER(AF888)","v":"0"},{"$f":"PROPER(AG888)","v":{"$error":"#VALUE!"}},{"$f":"MID($F890,FIND(\"\",$F890)*1,2)","v":""},{"$f":"MID($F890,FIND(\"\",$F890)*3,2)","v":""},{"$f":"MID($F890,FIND(\"\",$F890)*5,2)","v":""},{"$f":"G890","v":0},{"$f":"IF(AM888=\"кмс\",AM$2,IF(AM888=\"мс\",AN$2,IF(AM888=\"мсмк\",AO$2,IF(AM888=\"змс\",AP$2,AM888))))","v":0}]
[]
[null,null,null,null,null,null,null,null,null,null,null,null,null,null,null,null,null,null,null,null,null,null,null,null,null,null,null,null,null,null,null,{"$f":"IFERROR(LEFT(E892,FIND(\" \",E892)-1),E892)","v":0},{"$f":"MID(E892,FIND(\" \",E892)*1,27)","v":{"$error":"#VALUE!"}},{"$f":"UPPER(AF890)","v":"0"},{"$f":"PROPER(AG890)","v":{"$error":"#VALUE!"}},{"$f":"MID($F892,FIND(\"\",$F892)*1,2)","v":""},{"$f":"MID($F892,FIND(\"\",$F892)*3,2)","v":""},{"$f":"MID($F892,FIND(\"\",$F892)*5,2)","v":""},{"$f":"G892","v":0},{"$f":"IF(AM890=\"кмс\",AM$2,IF(AM890=\"мс\",AN$2,IF(AM890=\"мсмк\",AO$2,IF(AM890=\"змс\",AP$2,AM890))))","v":0}]
[]
[null,null,null,null,null,null,null,null,null,null,null,null,null,null,null,null,null,null,null,null,null,null,null,null,null,null,null,null,null,null,null,{"$f":"IFERROR(LEFT(E894,FIND(\" \",E894)-1),E894)","v":0},{"$f":"MID(E894,FIND(\" \",E894)*1,27)","v":{"$error":"#VALUE!"}},{"$f":"UPPER(AF892)","v":"0"},{"$f":"PROPER(AG892)","v":{"$error":"#VALUE!"}},{"$f":"MID($F894,FIND(\"\",$F894)*1,2)","v":""},{"$f":"MID($F894,FIND(\"\",$F894)*3,2)","v":""},{"$f":"MID($F894,FIND(\"\",$F894)*5,2)","v":""},{"$f":"G894","v":0},{"$f":"IF(AM892=\"кмс\",AM$2,IF(AM892=\"мс\",AN$2,IF(AM892=\"мсмк\",AO$2,IF(AM892=\"змс\",AP$2,AM892))))","v":0}]
[]
[null,null,null,null,null,null,null,null,null,null,null,null,null,null,null,null,null,null,null,null,null,null,null,null,null,null,null,null,null,null,null,{"$f":"IFERROR(LEFT(E896,FIND(\" \",E896)-1),E896)","v":0},{"$f":"MID(E896,FIND(\" \",E896)*1,27)","v":{"$error":"#VALUE!"}},{"$f":"UPPER(AF894)","v":"0"},{"$f":"PROPER(AG894)","v":{"$error":"#VALUE!"}},{"$f":"MID($F896,FIND(\"\",$F896)*1,2)","v":""},{"$f":"MID($F896,FIND(\"\",$F896)*3,2)","v":""},{"$f":"MID($F896,FIND(\"\",$F896)*5,2)","v":""},{"$f":"G896","v":0},{"$f":"IF(AM894=\"кмс\",AM$2,IF(AM894=\"мс\",AN$2,IF(AM894=\"мсмк\",AO$2,IF(AM894=\"змс\",AP$2,AM894))))","v":0}]
[]
[null,null,null,null,null,null,null,null,null,null,null,null,null,null,null,null,null,null,null,null,null,null,null,null,null,null,null,null,null,null,null,{"$f":"IFERROR(LEFT(E898,FIND(\" \",E898)-1),E898)","v":0},{"$f":"MID(E898,FIND(\" \",E898)*1,27)","v":{"$error":"#VALUE!"}},{"$f":"UPPER(AF896)","v":"0"},{"$f":"PROPER(AG896)","v":{"$error":"#VALUE!"}},{"$f":"MID($F898,FIND(\"\",$F898)*1,2)","v":""},{"$f":"MID($F898,FIND(\"\",$F898)*3,2)","v":""},{"$f":"MID($F898,FIND(\"\",$F898)*5,2)","v":""},{"$f":"G898","v":0},{"$f":"IF(AM896=\"кмс\",AM$2,IF(AM896=\"мс\",AN$2,IF(AM896=\"мсмк\",AO$2,IF(AM896=\"змс\",AP$2,AM896))))","v":0}]
[]
[null,null,null,null,null,null,null,null,null,null,null,null,null,null,null,null,null,null,null,null,null,null,null,null,null,null,null,null,null,null,null,{"$f":"IFERROR(LEFT(E900,FIND(\" \",E900)-1),E900)","v":0},{"$f":"MID(E900,FIND(\" \",E900)*1,27)","v":{"$error":"#VALUE!"}},{"$f":"UPPER(AF898)","v":"0"},{"$f":"PROPER(AG898)","v":{"$error":"#VALUE!"}},{"$f":"MID($F900,FIND(\"\",$F900)*1,2)","v":""},{"$f":"MID($F900,FIND(\"\",$F900)*3,2)","v":""},{"$f":"MID($F900,FIND(\"\",$F900)*5,2)","v":""},{"$f":"G900","v":0},{"$f":"IF(AM898=\"кмс\",AM$2,IF(AM898=\"мс\",AN$2,IF(AM898=\"мсмк\",AO$2,IF(AM898=\"змс\",AP$2,AM898))))","v":0}]
[]
[null,null,null,null,null,null,null,null,null,null,null,null,null,null,null,null,null,null,null,null,null,null,null,null,null,null,null,null,null,null,null,{"$f":"IFERROR(LEFT(E902,FIND(\" \",E902)-1),E902)","v":0},{"$f":"MID(E902,FIND(\" \",E902)*1,27)","v":{"$error":"#VALUE!"}},{"$f":"UPPER(AF900)","v":"0"},{"$f":"PROPER(AG900)","v":{"$error":"#VALUE!"}},{"$f":"MID($F902,FIND(\"\",$F902)*1,2)","v":""},{"$f":"MID($F902,FIND(\"\",$F902)*3,2)","v":""},{"$f":"MID($F902,FIND(\"\",$F902)*5,2)","v":""},{"$f":"G902","v":0},{"$f":"IF(AM900=\"кмс\",AM$2,IF(AM900=\"мс\",AN$2,IF(AM900=\"мсмк\",AO$2,IF(AM900=\"змс\",AP$2,AM900))))","v":0}]
[]
[null,null,null,null,null,null,null,null,null,null,null,null,null,null,null,null,null,null,null,null,null,null,null,null,null,null,null,null,null,null,null,{"$f":"IFERROR(LEFT(E904,FIND(\" \",E904)-1),E904)","v":0},{"$f":"MID(E904,FIND(\" \",E904)*1,27)","v":{"$error":"#VALUE!"}},{"$f":"UPPER(AF902)","v":"0"},{"$f":"PROPER(AG902)","v":{"$error":"#VALUE!"}},{"$f":"MID($F904,FIND(\"\",$F904)*1,2)","v":""},{"$f":"MID($F904,FIND(\"\",$F904)*3,2)","v":""},{"$f":"MID($F904,FIND(\"\",$F904)*5,2)","v":""},{"$f":"G904","v":0},{"$f":"IF(AM902=\"кмс\",AM$2,IF(AM902=\"мс\",AN$2,IF(AM902=\"мсмк\",AO$2,IF(AM902=\"змс\",AP$2,AM902))))","v":0}]
[]
[null,null,null,null,null,null,null,null,null,null,null,null,null,null,null,null,null,null,null,null,null,null,null,null,null,null,null,null,null,null,null,{"$f":"IFERROR(LEFT(E906,FIND(\" \",E906)-1),E906)","v":0},{"$f":"MID(E906,FIND(\" \",E906)*1,27)","v":{"$error":"#VALUE!"}},{"$f":"UPPER(AF904)","v":"0"},{"$f":"PROPER(AG904)","v":{"$error":"#VALUE!"}},{"$f":"MID($F906,FIND(\"\",$F906)*1,2)","v":""},{"$f":"MID($F906,FIND(\"\",$F906)*3,2)","v":""},{"$f":"MID($F906,FIND(\"\",$F906)*5,2)","v":""},{"$f":"G906","v":0},{"$f":"IF(AM904=\"кмс\",AM$2,IF(AM904=\"мс\",AN$2,IF(AM904=\"мсмк\",AO$2,IF(AM904=\"змс\",AP$2,AM904))))","v":0}]
[]
[null,null,null,null,null,null,null,null,null,null,null,null,null,null,null,null,null,null,null,null,null,null,null,null,null,null,null,null,null,null,null,{"$f":"IFERROR(LEFT(E908,FIND(\" \",E908)-1),E908)","v":0},{"$f":"MID(E908,FIND(\" \",E908)*1,27)","v":{"$error":"#VALUE!"}},{"$f":"UPPER(AF906)","v":"0"},{"$f":"PROPER(AG906)","v":{"$error":"#VALUE!"}},{"$f":"MID($F908,FIND(\"\",$F908)*1,2)","v":""},{"$f":"MID($F908,FIND(\"\",$F908)*3,2)","v":""},{"$f":"MID($F908,FIND(\"\",$F908)*5,2)","v":""},{"$f":"G908","v":0},{"$f":"IF(AM906=\"кмс\",AM$2,IF(AM906=\"мс\",AN$2,IF(AM906=\"мсмк\",AO$2,IF(AM906=\"змс\",AP$2,AM906))))","v":0}]
[]
[null,null,null,null,null,null,null,null,null,null,null,null,null,null,null,null,null,null,null,null,null,null,null,null,null,null,null,null,null,null,null,{"$f":"IFERROR(LEFT(E910,FIND(\" \",E910)-1),E910)","v":0},{"$f":"MID(E910,FIND(\" \",E910)*1,27)","v":{"$error":"#VALUE!"}},{"$f":"UPPER(AF908)","v":"0"},{"$f":"PROPER(AG908)","v":{"$error":"#VALUE!"}},{"$f":"MID($F910,FIND(\"\",$F910)*1,2)","v":""},{"$f":"MID($F910,FIND(\"\",$F910)*3,2)","v":""},{"$f":"MID($F910,FIND(\"\",$F910)*5,2)","v":""},{"$f":"G910","v":0},{"$f":"IF(AM908=\"кмс\",AM$2,IF(AM908=\"мс\",AN$2,IF(AM908=\"мсмк\",AO$2,IF(AM908=\"змс\",AP$2,AM908))))","v":0}]
[]
[null,null,null,null,null,null,null,null,null,null,null,null,null,null,null,null,null,null,null,null,null,null,null,null,null,null,null,null,null,null,null,{"$f":"IFERROR(LEFT(E912,FIND(\" \",E912)-1),E912)","v":0},{"$f":"MID(E912,FIND(\" \",E912)*1,27)","v":{"$error":"#VALUE!"}},{"$f":"UPPER(AF910)","v":"0"},{"$f":"PROPER(AG910)","v":{"$error":"#VALUE!"}},{"$f":"MID($F912,FIND(\"\",$F912)*1,2)","v":""},{"$f":"MID($F912,FIND(\"\",$F912)*3,2)","v":""},{"$f":"MID($F912,FIND(\"\",$F912)*5,2)","v":""},{"$f":"G912","v":0},{"$f":"IF(AM910=\"кмс\",AM$2,IF(AM910=\"мс\",AN$2,IF(AM910=\"мсмк\",AO$2,IF(AM910=\"змс\",AP$2,AM910))))","v":0}]
[]
[null,null,null,null,null,null,null,null,null,null,null,null,null,null,null,null,null,null,null,null,null,null,null,null,null,null,null,null,null,null,null,{"$f":"IFERROR(LEFT(E914,FIND(\" \",E914)-1),E914)","v":0},{"$f":"MID(E914,FIND(\" \",E914)*1,27)","v":{"$error":"#VALUE!"}},{"$f":"UPPER(AF912)","v":"0"},{"$f":"PROPER(AG912)","v":{"$error":"#VALUE!"}},{"$f":"MID($F914,FIND(\"\",$F914)*1,2)","v":""},{"$f":"MID($F914,FIND(\"\",$F914)*3,2)","v":""},{"$f":"MID($F914,FIND(\"\",$F914)*5,2)","v":""},{"$f":"G914","v":0},{"$f":"IF(AM912=\"кмс\",AM$2,IF(AM912=\"мс\",AN$2,IF(AM912=\"мсмк\",AO$2,IF(AM912=\"змс\",AP$2,AM912))))","v":0}]
[]
[null,null,null,null,null,null,null,null,null,null,null,null,null,null,null,null,null,null,null,null,null,null,null,null,null,null,null,null,null,null,null,{"$f":"IFERROR(LEFT(E916,FIND(\" \",E916)-1),E916)","v":0},{"$f":"MID(E916,FIND(\" \",E916)*1,27)","v":{"$error":"#VALUE!"}},{"$f":"UPPER(AF914)","v":"0"},{"$f":"PROPER(AG914)","v":{"$error":"#VALUE!"}},{"$f":"MID($F916,FIND(\"\",$F916)*1,2)","v":""},{"$f":"MID($F916,FIND(\"\",$F916)*3,2)","v":""},{"$f":"MID($F916,FIND(\"\",$F916)*5,2)","v":""},{"$f":"G916","v":0},{"$f":"IF(AM914=\"кмс\",AM$2,IF(AM914=\"мс\",AN$2,IF(AM914=\"мсмк\",AO$2,IF(AM914=\"змс\",AP$2,AM914))))","v":0}]
[]
[null,null,null,null,null,null,null,null,null,null,null,null,null,null,null,null,null,null,null,null,null,null,null,null,null,null,null,null,null,null,null,{"$f":"IFERROR(LEFT(E918,FIND(\" \",E918)-1),E918)","v":0},{"$f":"MID(E918,FIND(\" \",E918)*1,27)","v":{"$error":"#VALUE!"}},{"$f":"UPPER(AF916)","v":"0"},{"$f":"PROPER(AG916)","v":{"$error":"#VALUE!"}},{"$f":"MID($F918,FIND(\"\",$F918)*1,2)","v":""},{"$f":"MID($F918,FIND(\"\",$F918)*3,2)","v":""},{"$f":"MID($F918,FIND(\"\",$F918)*5,2)","v":""},{"$f":"G918","v":0},{"$f":"IF(AM916=\"кмс\",AM$2,IF(AM916=\"мс\",AN$2,IF(AM916=\"мсмк\",AO$2,IF(AM916=\"змс\",AP$2,AM916))))","v":0}]
[]
[null,null,null,null,null,null,null,null,null,null,null,null,null,null,null,null,null,null,null,null,null,null,null,null,null,null,null,null,null,null,null,{"$f":"IFERROR(LEFT(E920,FIND(\" \",E920)-1),E920)","v":0},{"$f":"MID(E920,FIND(\" \",E920)*1,27)","v":{"$error":"#VALUE!"}},{"$f":"UPPER(AF918)","v":"0"},{"$f":"PROPER(AG918)","v":{"$error":"#VALUE!"}},{"$f":"MID($F920,FIND(\"\",$F920)*1,2)","v":""},{"$f":"MID($F920,FIND(\"\",$F920)*3,2)","v":""},{"$f":"MID($F920,FIND(\"\",$F920)*5,2)","v":""},{"$f":"G920","v":0},{"$f":"IF(AM918=\"кмс\",AM$2,IF(AM918=\"мс\",AN$2,IF(AM918=\"мсмк\",AO$2,IF(AM918=\"змс\",AP$2,AM918))))","v":0}]
[]
[null,null,null,null,null,null,null,null,null,null,null,null,null,null,null,null,null,null,null,null,null,null,null,null,null,null,null,null,null,null,null,{"$f":"IFERROR(LEFT(E922,FIND(\" \",E922)-1),E922)","v":0},{"$f":"MID(E922,FIND(\" \",E922)*1,27)","v":{"$error":"#VALUE!"}},{"$f":"UPPER(AF920)","v":"0"},{"$f":"PROPER(AG920)","v":{"$error":"#VALUE!"}},{"$f":"MID($F922,FIND(\"\",$F922)*1,2)","v":""},{"$f":"MID($F922,FIND(\"\",$F922)*3,2)","v":""},{"$f":"MID($F922,FIND(\"\",$F922)*5,2)","v":""},{"$f":"G922","v":0},{"$f":"IF(AM920=\"кмс\",AM$2,IF(AM920=\"мс\",AN$2,IF(AM920=\"мсмк\",AO$2,IF(AM920=\"змс\",AP$2,AM920))))","v":0}]
[]
[null,null,null,null,null,null,null,null,null,null,null,null,null,null,null,null,null,null,null,null,null,null,null,null,null,null,null,null,null,null,null,{"$f":"IFERROR(LEFT(E924,FIND(\" \",E924)-1),E924)","v":0},{"$f":"MID(E924,FIND(\" \",E924)*1,27)","v":{"$error":"#VALUE!"}},{"$f":"UPPER(AF922)","v":"0"},{"$f":"PROPER(AG922)","v":{"$error":"#VALUE!"}},{"$f":"MID($F924,FIND(\"\",$F924)*1,2)","v":""},{"$f":"MID($F924,FIND(\"\",$F924)*3,2)","v":""},{"$f":"MID($F924,FIND(\"\",$F924)*5,2)","v":""},{"$f":"G924","v":0},{"$f":"IF(AM922=\"кмс\",AM$2,IF(AM922=\"мс\",AN$2,IF(AM922=\"мсмк\",AO$2,IF(AM922=\"змс\",AP$2,AM922))))","v":0}]
[]
[null,null,null,null,null,null,null,null,null,null,null,null,null,null,null,null,null,null,null,null,null,null,null,null,null,null,null,null,null,null,null,{"$f":"IFERROR(LEFT(E926,FIND(\" \",E926)-1),E926)","v":0},{"$f":"MID(E926,FIND(\" \",E926)*1,27)","v":{"$error":"#VALUE!"}},{"$f":"UPPER(AF924)","v":"0"},{"$f":"PROPER(AG924)","v":{"$error":"#VALUE!"}},{"$f":"MID($F926,FIND(\"\",$F926)*1,2)","v":""},{"$f":"MID($F926,FIND(\"\",$F926)*3,2)","v":""},{"$f":"MID($F926,FIND(\"\",$F926)*5,2)","v":""},{"$f":"G926","v":0},{"$f":"IF(AM924=\"кмс\",AM$2,IF(AM924=\"мс\",AN$2,IF(AM924=\"мсмк\",AO$2,IF(AM924=\"змс\",AP$2,AM924))))","v":0}]
[]
[null,null,null,null,null,null,null,null,null,null,null,null,null,null,null,null,null,null,null,null,null,null,null,null,null,null,null,null,null,null,null,{"$f":"IFERROR(LEFT(E928,FIND(\" \",E928)-1),E928)","v":0},{"$f":"MID(E928,FIND(\" \",E928)*1,27)","v":{"$error":"#VALUE!"}},{"$f":"UPPER(AF926)","v":"0"},{"$f":"PROPER(AG926)","v":{"$error":"#VALUE!"}},{"$f":"MID($F928,FIND(\"\",$F928)*1,2)","v":""},{"$f":"MID($F928,FIND(\"\",$F928)*3,2)","v":""},{"$f":"MID($F928,FIND(\"\",$F928)*5,2)","v":""},{"$f":"G928","v":0},{"$f":"IF(AM926=\"кмс\",AM$2,IF(AM926=\"мс\",AN$2,IF(AM926=\"мсмк\",AO$2,IF(AM926=\"змс\",AP$2,AM926))))","v":0}]
[]
[null,null,null,null,null,null,null,null,null,null,null,null,null,null,null,null,null,null,null,null,null,null,null,null,null,null,null,null,null,null,null,{"$f":"IFERROR(LEFT(E930,FIND(\" \",E930)-1),E930)","v":0},{"$f":"MID(E930,FIND(\" \",E930)*1,27)","v":{"$error":"#VALUE!"}},{"$f":"UPPER(AF928)","v":"0"},{"$f":"PROPER(AG928)","v":{"$error":"#VALUE!"}},{"$f":"MID($F930,FIND(\"\",$F930)*1,2)","v":""},{"$f":"MID($F930,FIND(\"\",$F930)*3,2)","v":""},{"$f":"MID($F930,FIND(\"\",$F930)*5,2)","v":""},{"$f":"G930","v":0},{"$f":"IF(AM928=\"кмс\",AM$2,IF(AM928=\"мс\",AN$2,IF(AM928=\"мсмк\",AO$2,IF(AM928=\"змс\",AP$2,AM928))))","v":0}]
[]
[null,null,null,null,null,null,null,null,null,null,null,null,null,null,null,null,null,null,null,null,null,null,null,null,null,null,null,null,null,null,null,{"$f":"IFERROR(LEFT(E932,FIND(\" \",E932)-1),E932)","v":0},{"$f":"MID(E932,FIND(\" \",E932)*1,27)","v":{"$error":"#VALUE!"}},{"$f":"UPPER(AF930)","v":"0"},{"$f":"PROPER(AG930)","v":{"$error":"#VALUE!"}},{"$f":"MID($F932,FIND(\"\",$F932)*1,2)","v":""},{"$f":"MID($F932,FIND(\"\",$F932)*3,2)","v":""},{"$f":"MID($F932,FIND(\"\",$F932)*5,2)","v":""},{"$f":"G932","v":0},{"$f":"IF(AM930=\"кмс\",AM$2,IF(AM930=\"мс\",AN$2,IF(AM930=\"мсмк\",AO$2,IF(AM930=\"змс\",AP$2,AM930))))","v":0}]
[]
[null,null,null,null,null,null,null,null,null,null,null,null,null,null,null,null,null,null,null,null,null,null,null,null,null,null,null,null,null,null,null,{"$f":"IFERROR(LEFT(E934,FIND(\" \",E934)-1),E934)","v":0},{"$f":"MID(E934,FIND(\" \",E934)*1,27)","v":{"$error":"#VALUE!"}},{"$f":"UPPER(AF932)","v":"0"},{"$f":"PROPER(AG932)","v":{"$error":"#VALUE!"}},{"$f":"MID($F934,FIND(\"\",$F934)*1,2)","v":""},{"$f":"MID($F934,FIND(\"\",$F934)*3,2)","v":""},{"$f":"MID($F934,FIND(\"\",$F934)*5,2)","v":""},{"$f":"G934","v":0},{"$f":"IF(AM932=\"кмс\",AM$2,IF(AM932=\"мс\",AN$2,IF(AM932=\"мсмк\",AO$2,IF(AM932=\"змс\",AP$2,AM932))))","v":0}]
[]
[null,null,null,null,null,null,null,null,null,null,null,null,null,null,null,null,null,null,null,null,null,null,null,null,null,null,null,null,null,null,null,{"$f":"IFERROR(LEFT(E936,FIND(\" \",E936)-1),E936)","v":0},{"$f":"MID(E936,FIND(\" \",E936)*1,27)","v":{"$error":"#VALUE!"}},{"$f":"UPPER(AF934)","v":"0"},{"$f":"PROPER(AG934)","v":{"$error":"#VALUE!"}},{"$f":"MID($F936,FIND(\"\",$F936)*1,2)","v":""},{"$f":"MID($F936,FIND(\"\",$F936)*3,2)","v":""},{"$f":"MID($F936,FIND(\"\",$F936)*5,2)","v":""},{"$f":"G936","v":0},{"$f":"IF(AM934=\"кмс\",AM$2,IF(AM934=\"мс\",AN$2,IF(AM934=\"мсмк\",AO$2,IF(AM934=\"змс\",AP$2,AM934))))","v":0}]
[]
[null,null,null,null,null,null,null,null,null,null,null,null,null,null,null,null,null,null,null,null,null,null,null,null,null,null,null,null,null,null,null,{"$f":"IFERROR(LEFT(E938,FIND(\" \",E938)-1),E938)","v":0},{"$f":"MID(E938,FIND(\" \",E938)*1,27)","v":{"$error":"#VALUE!"}},{"$f":"UPPER(AF936)","v":"0"},{"$f":"PROPER(AG936)","v":{"$error":"#VALUE!"}},{"$f":"MID($F938,FIND(\"\",$F938)*1,2)","v":""},{"$f":"MID($F938,FIND(\"\",$F938)*3,2)","v":""},{"$f":"MID($F938,FIND(\"\",$F938)*5,2)","v":""},{"$f":"G938","v":0},{"$f":"IF(AM936=\"кмс\",AM$2,IF(AM936=\"мс\",AN$2,IF(AM936=\"мсмк\",AO$2,IF(AM936=\"змс\",AP$2,AM936))))","v":0}]
[]
[null,null,null,null,null,null,null,null,null,null,null,null,null,null,null,null,null,null,null,null,null,null,null,null,null,null,null,null,null,null,null,{"$f":"IFERROR(LEFT(E940,FIND(\" \",E940)-1),E940)","v":0},{"$f":"MID(E940,FIND(\" \",E940)*1,27)","v":{"$error":"#VALUE!"}},{"$f":"UPPER(AF938)","v":"0"},{"$f":"PROPER(AG938)","v":{"$error":"#VALUE!"}},{"$f":"MID($F940,FIND(\"\",$F940)*1,2)","v":""},{"$f":"MID($F940,FIND(\"\",$F940)*3,2)","v":""},{"$f":"MID($F940,FIND(\"\",$F940)*5,2)","v":""},{"$f":"G940","v":0},{"$f":"IF(AM938=\"кмс\",AM$2,IF(AM938=\"мс\",AN$2,IF(AM938=\"мсмк\",AO$2,IF(AM938=\"змс\",AP$2,AM938))))","v":0}]
[]
[null,null,null,null,null,null,null,null,null,null,null,null,null,null,null,null,null,null,null,null,null,null,null,null,null,null,null,null,null,null,null,{"$f":"IFERROR(LEFT(E942,FIND(\" \",E942)-1),E942)","v":0},{"$f":"MID(E942,FIND(\" \",E942)*1,27)","v":{"$error":"#VALUE!"}},{"$f":"UPPER(AF940)","v":"0"},{"$f":"PROPER(AG940)","v":{"$error":"#VALUE!"}},{"$f":"MID($F942,FIND(\"\",$F942)*1,2)","v":""},{"$f":"MID($F942,FIND(\"\",$F942)*3,2)","v":""},{"$f":"MID($F942,FIND(\"\",$F942)*5,2)","v":""},{"$f":"G942","v":0},{"$f":"IF(AM940=\"кмс\",AM$2,IF(AM940=\"мс\",AN$2,IF(AM940=\"мсмк\",AO$2,IF(AM940=\"змс\",AP$2,AM940))))","v":0}]
[]
[null,null,null,null,null,null,null,null,null,null,null,null,null,null,null,null,null,null,null,null,null,null,null,null,null,null,null,null,null,null,null,{"$f":"IFERROR(LEFT(E944,FIND(\" \",E944)-1),E944)","v":0},{"$f":"MID(E944,FIND(\" \",E944)*1,27)","v":{"$error":"#VALUE!"}},{"$f":"UPPER(AF942)","v":"0"},{"$f":"PROPER(AG942)","v":{"$error":"#VALUE!"}},{"$f":"MID($F944,FIND(\"\",$F944)*1,2)","v":""},{"$f":"MID($F944,FIND(\"\",$F944)*3,2)","v":""},{"$f":"MID($F944,FIND(\"\",$F944)*5,2)","v":""},{"$f":"G944","v":0},{"$f":"IF(AM942=\"кмс\",AM$2,IF(AM942=\"мс\",AN$2,IF(AM942=\"мсмк\",AO$2,IF(AM942=\"змс\",AP$2,AM942))))","v":0}]
[]
[null,null,null,null,null,null,null,null,null,null,null,null,null,null,null,null,null,null,null,null,null,null,null,null,null,null,null,null,null,null,null,{"$f":"IFERROR(LEFT(E946,FIND(\" \",E946)-1),E946)","v":0},{"$f":"MID(E946,FIND(\" \",E946)*1,27)","v":{"$error":"#VALUE!"}},{"$f":"UPPER(AF944)","v":"0"},{"$f":"PROPER(AG944)","v":{"$error":"#VALUE!"}},{"$f":"MID($F946,FIND(\"\",$F946)*1,2)","v":""},{"$f":"MID($F946,FIND(\"\",$F946)*3,2)","v":""},{"$f":"MID($F946,FIND(\"\",$F946)*5,2)","v":""},{"$f":"G946","v":0},{"$f":"IF(AM944=\"кмс\",AM$2,IF(AM944=\"мс\",AN$2,IF(AM944=\"мсмк\",AO$2,IF(AM944=\"змс\",AP$2,AM944))))","v":0}]
[]
[null,null,null,null,null,null,null,null,null,null,null,null,null,null,null,null,null,null,null,null,null,null,null,null,null,null,null,null,null,null,null,{"$f":"IFERROR(LEFT(E948,FIND(\" \",E948)-1),E948)","v":0},{"$f":"MID(E948,FIND(\" \",E948)*1,27)","v":{"$error":"#VALUE!"}},{"$f":"UPPER(AF946)","v":"0"},{"$f":"PROPER(AG946)","v":{"$error":"#VALUE!"}},{"$f":"MID($F948,FIND(\"\",$F948)*1,2)","v":""},{"$f":"MID($F948,FIND(\"\",$F948)*3,2)","v":""},{"$f":"MID($F948,FIND(\"\",$F948)*5,2)","v":""},{"$f":"G948","v":0},{"$f":"IF(AM946=\"кмс\",AM$2,IF(AM946=\"мс\",AN$2,IF(AM946=\"мсмк\",AO$2,IF(AM946=\"змс\",AP$2,AM946))))","v":0}]
[]
[null,null,null,null,null,null,null,null,null,null,null,null,null,null,null,null,null,null,null,null,null,null,null,null,null,null,null,null,null,null,null,{"$f":"IFERROR(LEFT(E950,FIND(\" \",E950)-1),E950)","v":0},{"$f":"MID(E950,FIND(\" \",E950)*1,27)","v":{"$error":"#VALUE!"}},{"$f":"UPPER(AF948)","v":"0"},{"$f":"PROPER(AG948)","v":{"$error":"#VALUE!"}},{"$f":"MID($F950,FIND(\"\",$F950)*1,2)","v":""},{"$f":"MID($F950,FIND(\"\",$F950)*3,2)","v":""},{"$f":"MID($F950,FIND(\"\",$F950)*5,2)","v":""},{"$f":"G950","v":0},{"$f":"IF(AM948=\"кмс\",AM$2,IF(AM948=\"мс\",AN$2,IF(AM948=\"мсмк\",AO$2,IF(AM948=\"змс\",AP$2,AM948))))","v":0}]
[]
[null,null,null,null,null,null,null,null,null,null,null,null,null,null,null,null,null,null,null,null,null,null,null,null,null,null,null,null,null,null,null,{"$f":"IFERROR(LEFT(E952,FIND(\" \",E952)-1),E952)","v":0},{"$f":"MID(E952,FIND(\" \",E952)*1,27)","v":{"$error":"#VALUE!"}},{"$f":"UPPER(AF950)","v":"0"},{"$f":"PROPER(AG950)","v":{"$error":"#VALUE!"}},{"$f":"MID($F952,FIND(\"\",$F952)*1,2)","v":""},{"$f":"MID($F952,FIND(\"\",$F952)*3,2)","v":""},{"$f":"MID($F952,FIND(\"\",$F952)*5,2)","v":""},{"$f":"G952","v":0},{"$f":"IF(AM950=\"кмс\",AM$2,IF(AM950=\"мс\",AN$2,IF(AM950=\"мсмк\",AO$2,IF(AM950=\"змс\",AP$2,AM950))))","v":0}]
[]
[null,null,null,null,null,null,null,null,null,null,null,null,null,null,null,null,null,null,null,null,null,null,null,null,null,null,null,null,null,null,null,{"$f":"IFERROR(LEFT(E954,FIND(\" \",E954)-1),E954)","v":0},{"$f":"MID(E954,FIND(\" \",E954)*1,27)","v":{"$error":"#VALUE!"}},{"$f":"UPPER(AF952)","v":"0"},{"$f":"PROPER(AG952)","v":{"$error":"#VALUE!"}},{"$f":"MID($F954,FIND(\"\",$F954)*1,2)","v":""},{"$f":"MID($F954,FIND(\"\",$F954)*3,2)","v":""},{"$f":"MID($F954,FIND(\"\",$F954)*5,2)","v":""},{"$f":"G954","v":0},{"$f":"IF(AM952=\"кмс\",AM$2,IF(AM952=\"мс\",AN$2,IF(AM952=\"мсмк\",AO$2,IF(AM952=\"змс\",AP$2,AM952))))","v":0}]
[]
[null,null,null,null,null,null,null,null,null,null,null,null,null,null,null,null,null,null,null,null,null,null,null,null,null,null,null,null,null,null,null,{"$f":"IFERROR(LEFT(E956,FIND(\" \",E956)-1),E956)","v":0},{"$f":"MID(E956,FIND(\" \",E956)*1,27)","v":{"$error":"#VALUE!"}},{"$f":"UPPER(AF954)","v":"0"},{"$f":"PROPER(AG954)","v":{"$error":"#VALUE!"}},{"$f":"MID($F956,FIND(\"\",$F956)*1,2)","v":""},{"$f":"MID($F956,FIND(\"\",$F956)*3,2)","v":""},{"$f":"MID($F956,FIND(\"\",$F956)*5,2)","v":""},{"$f":"G956","v":0},{"$f":"IF(AM954=\"кмс\",AM$2,IF(AM954=\"мс\",AN$2,IF(AM954=\"мсмк\",AO$2,IF(AM954=\"змс\",AP$2,AM954))))","v":0}]
[]
[null,null,null,null,null,null,null,null,null,null,null,null,null,null,null,null,null,null,null,null,null,null,null,null,null,null,null,null,null,null,null,{"$f":"IFERROR(LEFT(E958,FIND(\" \",E958)-1),E958)","v":0},{"$f":"MID(E958,FIND(\" \",E958)*1,27)","v":{"$error":"#VALUE!"}},{"$f":"UPPER(AF956)","v":"0"},{"$f":"PROPER(AG956)","v":{"$error":"#VALUE!"}},{"$f":"MID($F958,FIND(\"\",$F958)*1,2)","v":""},{"$f":"MID($F958,FIND(\"\",$F958)*3,2)","v":""},{"$f":"MID($F958,FIND(\"\",$F958)*5,2)","v":""},{"$f":"G958","v":0},{"$f":"IF(AM956=\"кмс\",AM$2,IF(AM956=\"мс\",AN$2,IF(AM956=\"мсмк\",AO$2,IF(AM956=\"змс\",AP$2,AM956))))","v":0}]
[]
[null,null,null,null,null,null,null,null,null,null,null,null,null,null,null,null,null,null,null,null,null,null,null,null,null,null,null,null,null,null,null,{"$f":"IFERROR(LEFT(E960,FIND(\" \",E960)-1),E960)","v":0},{"$f":"MID(E960,FIND(\" \",E960)*1,27)","v":{"$error":"#VALUE!"}},{"$f":"UPPER(AF958)","v":"0"},{"$f":"PROPER(AG958)","v":{"$error":"#VALUE!"}},{"$f":"MID($F960,FIND(\"\",$F960)*1,2)","v":""},{"$f":"MID($F960,FIND(\"\",$F960)*3,2)","v":""},{"$f":"MID($F960,FIND(\"\",$F960)*5,2)","v":""},{"$f":"G960","v":0},{"$f":"IF(AM958=\"кмс\",AM$2,IF(AM958=\"мс\",AN$2,IF(AM958=\"мсмк\",AO$2,IF(AM958=\"змс\",AP$2,AM958))))","v":0}]
[]
[null,null,null,null,null,null,null,null,null,null,null,null,null,null,null,null,null,null,null,null,null,null,null,null,null,null,null,null,null,null,null,{"$f":"IFERROR(LEFT(E962,FIND(\" \",E962)-1),E962)","v":0},{"$f":"MID(E962,FIND(\" \",E962)*1,27)","v":{"$error":"#VALUE!"}},{"$f":"UPPER(AF960)","v":"0"},{"$f":"PROPER(AG960)","v":{"$error":"#VALUE!"}},{"$f":"MID($F962,FIND(\"\",$F962)*1,2)","v":""},{"$f":"MID($F962,FIND(\"\",$F962)*3,2)","v":""},{"$f":"MID($F962,FIND(\"\",$F962)*5,2)","v":""},{"$f":"G962","v":0},{"$f":"IF(AM960=\"кмс\",AM$2,IF(AM960=\"мс\",AN$2,IF(AM960=\"мсмк\",AO$2,IF(AM960=\"змс\",AP$2,AM960))))","v":0}]
[]
[null,null,null,null,null,null,null,null,null,null,null,null,null,null,null,null,null,null,null,null,null,null,null,null,null,null,null,null,null,null,null,{"$f":"IFERROR(LEFT(E964,FIND(\" \",E964)-1),E964)","v":0},{"$f":"MID(E964,FIND(\" \",E964)*1,27)","v":{"$error":"#VALUE!"}},{"$f":"UPPER(AF962)","v":"0"},{"$f":"PROPER(AG962)","v":{"$error":"#VALUE!"}},{"$f":"MID($F964,FIND(\"\",$F964)*1,2)","v":""},{"$f":"MID($F964,FIND(\"\",$F964)*3,2)","v":""},{"$f":"MID($F964,FIND(\"\",$F964)*5,2)","v":""},{"$f":"G964","v":0},{"$f":"IF(AM962=\"кмс\",AM$2,IF(AM962=\"мс\",AN$2,IF(AM962=\"мсмк\",AO$2,IF(AM962=\"змс\",AP$2,AM962))))","v":0}]
[]
[null,null,null,null,null,null,null,null,null,null,null,null,null,null,null,null,null,null,null,null,null,null,null,null,null,null,null,null,null,null,null,{"$f":"IFERROR(LEFT(E966,FIND(\" \",E966)-1),E966)","v":0},{"$f":"MID(E966,FIND(\" \",E966)*1,27)","v":{"$error":"#VALUE!"}},{"$f":"UPPER(AF964)","v":"0"},{"$f":"PROPER(AG964)","v":{"$error":"#VALUE!"}},{"$f":"MID($F966,FIND(\"\",$F966)*1,2)","v":""},{"$f":"MID($F966,FIND(\"\",$F966)*3,2)","v":""},{"$f":"MID($F966,FIND(\"\",$F966)*5,2)","v":""},{"$f":"G966","v":0},{"$f":"IF(AM964=\"кмс\",AM$2,IF(AM964=\"мс\",AN$2,IF(AM964=\"мсмк\",AO$2,IF(AM964=\"змс\",AP$2,AM964))))","v":0}]
[]
[null,null,null,null,null,null,null,null,null,null,null,null,null,null,null,null,null,null,null,null,null,null,null,null,null,null,null,null,null,null,null,{"$f":"IFERROR(LEFT(E968,FIND(\" \",E968)-1),E968)","v":0},{"$f":"MID(E968,FIND(\" \",E968)*1,27)","v":{"$error":"#VALUE!"}},{"$f":"UPPER(AF966)","v":"0"},{"$f":"PROPER(AG966)","v":{"$error":"#VALUE!"}},{"$f":"MID($F968,FIND(\"\",$F968)*1,2)","v":""},{"$f":"MID($F968,FIND(\"\",$F968)*3,2)","v":""},{"$f":"MID($F968,FIND(\"\",$F968)*5,2)","v":""},{"$f":"G968","v":0},{"$f":"IF(AM966=\"кмс\",AM$2,IF(AM966=\"мс\",AN$2,IF(AM966=\"мсмк\",AO$2,IF(AM966=\"змс\",AP$2,AM966))))","v":0}]

{"sheet":"Инструкция","index":1,"n_rows":780,"n_cols":11,"rows_kept":780,"cut":false,"hidden":true,"merged":[[3,4,4,4],[805,1,806,1],[773,1,774,1],[775,1,776,1],[777,1,778,1],[779,1,780,1],[797,1,798,1],[799,1,800,1],[761,1,762,1],[763,1,764,1],[807,1,808,1],[793,1,794,1],[795,1,796,1],[801,1,802,1],[803,1,804,1],[771,1,772,1],[785,1,786,1],[787,1,788,1],[789,1,790,1],[791,1,792,1],[783,1,784,1],[501,0,502,0],[501,3,502,3],[503,1,504,1],[505,1,506,1],[507,0,508,0],[507,3,508,3],[781,1,782,1],[503,0,504,0],[503,3,504,3],[503,7,504,7],[505,0,506,0],[505,3,506,3],[505,7,506,7],[765,1,766,1],[767,1,768,1],[769,1,770,1],[509,0,510,0],[509,3,510,3],[509,7,510,7],[507,1,508,1],[509,1,510,1],[501,7,502,7],[501,2,502,2],[501,1,502,1],[511,0,512,0],[511,3,512,3],[511,7,512,7],[513,0,514,0],[513,3,514,3],[513,7,514,7],[511,1,512,1],[513,1,514,1],[515,0,516,0],[515,3,516,3],[515,7,516,7],[517,0,518,0],[517,3,518,3],[517,7,518,7],[515,1,516,1],[517,1,518,1],[515,2,516,2],[517,2,518,2],[519,0,520,0],[519,3,520,3],[519,7,520,7],[521,0,522,0],[521,3,522,3],[521,7,522,7],[519,1,520,1],[521,1,522,1],[519,2,520,2],[521,2,522,2],[523,0,524,0],[523,3,524,3],[523,7,524,7],[525,0,526,0],[525,3,526,3],[525,7,526,7],[523,1,524,1],[525,1,526,1],[523,2,524,2],[525,2,526,2],[527,0,528,0],[527,3,528,3],[527,7,528,7],[529,0,530,0],[529,3,530,3],[529,7,530,7],[527,1,528,1],[529,1,530,1],[527,2,528,2],[529,2,530,2],[531,0,532,0],[531,3,532,3],[531,7,532,7],[533,0,534,0],[533,3,534,3],[533,7,534,7],[531,1,532,1],[533,1,534,1],[531,2,532,2],[533,2,534,2],[535,0,536,0],[535,3,536,3],[535,7,536,7],[537,0,538,0],[537,3,538,3],[537,7,538,7],[535,1,536,1],[537,1,538,1],[535,2,536,2],[537,2,538,2],[539,0,540,0],[539,3,540,3],[539,7,540,7],[541,0,542,0],[541,3,542,3],[541,7,542,7],[539,1,540,1],[541,1,542,1],[539,2,540,2],[541,2,542,2],[543,0,544,0],[543,3,544,3],[543,7,544,7],[545,0,546,0],[545,3,546,3],[545,7,546,7],[543,1,544,1],[545,1,546,1],[543,2,544,2],[545,2,546,2],[547,0,548,0],[547,3,548,3],[547,7,548,7],[549,0,550,0],[549,3,550,3],[549,7,550,7],[547,1,548,1],[549,1,550,1],[547,2,548,2],[549,2,550,2],[551,0,552,0],[551,3,552,3],[551,7,552,7],[553,0,554,0],[553,3,554,3],[553,7,554,7],[551,1,552,1],[553,1,554,1],[551,2,552,2],[553,2,554,2],[555,0,556,0],[555,3,556,3],[555,7,556,7],[557,0,558,0],[557,3,558,3],[557,7,558,7],[555,1,556,1],[557,1,558,1],[555,2,556,2],[557,2,558,2],[559,0,560,0],[559,3,560,3],[559,7,560,7],[561,0,562,0],[561,3,562,3],[561,7,562,7],[559,1,560,1],[561,1,562,1],[559,2,560,2],[561,2,562,2],[563,0,564,0],[563,3,564,3],[563,7,564,7],[565,0,566,0],[565,3,566,3],[565,7,566,7],[563,1,564,1],[565,1,566,1],[563,2,564,2],[565,2,566,2],[567,0,568,0],[567,3,568,3],[567,7,568,7],[569,0,570,0],[569,3,570,3],[569,7,570,7],[567,1,568,1],[569,1,570,1],[567,2,568,2],[569,2,570,2],[571,0,572,0],[571,3,572,3],[571,7,572,7],[573,0,574,0],[573,3,574,3],[573,7,574,7],[571,1,572,1],[573,1,574,1],[571,2,572,2],[573,2,574,2],[575,0,576,0],[575,3,576,3],[575,7,576,7],[577,0,578,0],[577,3,578,3],[577,7,578,7],[575,1,576,1],[577,1,578,1],[575,2,576,2],[577,2,578,2],[579,0,580,0],[579,3,580,3],[579,7,580,7],[581,0,582,0],[581,3,582,3],[581,7,582,7],[579,1,580,1],[581,1,582,1],[579,2,580,2],[581,2,582,2],[583,0,584,0],[583,3,584,3],[583,7,584,7],[585,0,586,0],[585,3,586,3],[585,7,586,7],[583,1,584,1],[585,1,586,1],[583,2,584,2],[585,2,586,2],[581,6,582,6],[583,6,584,6],[585,6,586,6],[587,0,588,0],[587,3,588,3],[587,7,588,7],[589,0,590,0],[589,3,590,3],[589,7,590,7],[587,1,588,1],[589,1,590,1],[587,2,588,2],[589,2,590,2],[591,0,592,0],[591,3,592,3],[591,7,592,7],[593,0,594,0],[593,3,594,3],[593,7,594,7],[591,1,592,1],[593,1,594,1],[591,2,592,2],[593,2,594,2],[589,6,590,6],[591,6,592,6],[593,6,594,6],[595,0,596,0],[595,3,596,3],[595,7,596,7],[597,0,598,0],[597,3,598,3],[597,7,598,7],[595,1,596,1],[597,1,598,1],[595,2,596,2],[597,2,598,2],[599,0,600,0],[599,3,600,3],[599,7,600,7],[601,0,602,0],[601,3,602,3],[601,7,602,7],[599,1,600,1],[601,1,602,1],[599,2,600,2],[601,2,602,2],[599,6,600,6],[601,6,602,6],[595,6,596,6],[597,6,598,6],[603,0,604,0],[603,3,604,3],[603,7,604,7],[605,0,606,0],[605,3,606,3],[605,7,606,7],[603,1,604,1],[605,1,606,1],[603,2,604,2],[605,2,606,2],[607,0,608,0],[607,3,608,3],[607,7,608,7],[609,0,610,0],[609,3,610,3],[609,7,610,7],[607,1,608,1],[609,1,610,1],[607,2,608,2],[609,2,610,2],[603,6,604,6],[605,6,606,6],[607,6,608,6],[609,6,610,6],[611,0,612,0],[611,3,612,3],[611,7,612,7],[613,0,614,0],[613,3,614,3],[613,7,614,7],[611,1,612,1],[613,1,614,1],[611,2,612,2],[613,2,614,2],[615,0,616,0],[615,3,616,3],[615,7,616,7],[617,0,618,0],[617,3,618,3],[617,7,618,7],[615,1,616,1],[617,1,618,1],[615,2,616,2],[617,2,618,2],[611,6,612,6],[613,6,614,6],[615,6,616,6],[617,6,618,6],[619,0,620,0],[619,3,620,3],[619,7,620,7],[621,0,622,0],[621,3,622,3],[621,7,622,7],[619,1,620,1],[621,1,622,1],[619,2,620,2],[621,2,622,2],[623,0,624,0],[623,3,624,3],[623,7,624,7],[625,0,626,0],[625,3,626,3],[625,7,626,7],[623,1,624,1],[625,1,626,1],[623,2,624,2],[625,2,626,2],[623,6,624,6],[625,6,626,6],[619,6,620,6],[621,6,622,6],[627,0,628,0],[627,3,628,3],[627,7,628,7],[629,0,630,0],[629,3,630,3],[629,7,630,7],[627,1,628,1],[629,1,630,1],[627,2,628,2],[629,2,630,2],[631,0,632,0],[631,3,632,3],[631,7,632,7],[633,0,634,0],[633,3,634,3],[633,7,634,7],[631,1,632,1],[633,1,634,1],[631,2,632,2],[633,2,634,2],[627,6,628,6],[629,6,630,6],[631,6,632,6],[633,6,634,6],[635,0,636,0],[635,3,636,3],[635,7,636,7],[637,0,638,0],[637,3,638,3],[637,7,638,7],[635,1,636,1],[637,1,638,1],[635,2,636,2],[637,2,638,2],[639,0,640,0],[639,3,640,3],[639,7,640,7],[641,0,642,0],[641,3,642,3],[641,7,642,7],[639,1,640,1],[641,1,642,1],[639,2,640,2],[641,2,642,2],[635,6,636,6],[637,6,638,6],[639,6,640,6],[641,6,642,6],[643,0,644,0],[643,3,644,3],[643,7,644,7],[645,0,646,0],[645,3,646,3],[645,7,646,7],[643,1,644,1],[645,1,646,1],[643,2,644,2],[645,2,646,2],[647,0,648,0],[647,3,648,3],[647,7,648,7],[649,0,650,0],[649,3,650,3],[649,7,650,7],[647,1,648,1],[649,1,650,1],[647,2,648,2],[649,2,650,2],[647,6,648,6],[649,6,650,6],[643,6,644,6],[645,6,646,6],[651,0,652,0],[651,3,652,3],[651,7,652,7],[653,0,654,0],[653,3,654,3],[653,7,654,7],[651,1,652,1],[653,1,654,1],[651,2,652,2],[653,2,654,2],[655,0,656,0],[655,3,656,3],[655,7,656,7],[657,0,658,0],[657,3,658,3],[657,7,658,7],[655,1,656,1],[657,1,658,1],[655,2,656,2],[657,2,658,2],[651,6,652,6],[653,6,654,6],[655,6,656,6],[657,6,658,6],[659,0,660,0],[659,3,660,3],[659,7,660,7],[661,0,662,0],[661,3,662,3],[661,7,662,7],[659,1,660,1],[661,1,662,1],[659,2,660,2],[661,2,662,2],[663,0,664,0],[663,3,664,3],[663,7,664,7],[665,0,666,0],[665,3,666,3],[665,7,666,7],[663,1,664,1],[665,1,666,1],[663,2,664,2],[665,2,666,2],[659,6,660,6],[661,6,662,6],[663,6,664,6],[665,6,666,6],[667,0,668,0],[667,3,668,3],[667,7,668,7],[669,0,670,0],[669,3,670,3],[669,7,670,7],[667,1,668,1],[669,1,670,1],[667,2,668,2],[669,2,670,2],[671,0,672,0],[671,3,672,3],[671,7,672,7],[673,0,674,0],[673,3,674,3],[673,7,674,7],[671,1,672,1],[673,1,674,1],[671,2,672,2],[673,2,674,2],[671,6,672,6],[673,6,674,6],[667,6,668,6],[669,6,670,6],[675,0,676,0],[675,3,676,3],[675,7,676,7],[677,0,678,0],[677,3,678,3],[677,7,678,7],[675,1,676,1],[677,1,678,1],[675,2,676,2],[677,2,678,2],[679,0,680,0],[679,3,680,3],[679,7,680,7],[681,0,682,0],[681,3,682,3],[681,7,682,7],[679,1,680,1],[681,1,682,1],[679,2,680,2],[681,2,682,2],[675,6,676,6],[677,6,678,6],[679,6,680,6],[681,6,682,6],[683,0,684,0],[683,3,684,3],[683,7,684,7],[685,0,686,0],[685,3,686,3],[685,7,686,7],[683,1,684,1],[685,1,686,1],[683,2,684,2],[685,2,686,2],[687,0,688,0],[687,3,688,3],[687,7,688,7],[689,0,690,0],[689,3,690,3],[689,7,690,7],[687,1,688,1],[689,1,690,1],[687,2,688,2],[689,2,690,2],[683,6,684,6],[685,6,686,6],[687,6,688,6],[689,6,690,6],[691,0,692,0],[691,3,692,3],[691,7,692,7],[693,0,694,0],[693,3,694,3],[693,7,694,7],[691,1,692,1],[693,1,694,1],[691,2,692,2],[693,2,694,2],[695,0,696,0],[695,3,696,3],[695,7,696,7],[697,0,698,0],[697,3,698,3],[697,7,698,7],[695,1,696,1],[697,1,698,1],[695,2,696,2],[697,2,698,2],[695,6,696,6],[697,6,698,6],[691,6,692,6],[693,6,694,6],[699,0,700,0],[699,3,700,3],[699,7,700,7],[701,0,702,0],[701,3,702,3],[701,7,702,7],[699,1,700,1],[701,1,702,1],[699,2,700,2],[701,2,702,2],[703,0,704,0],[703,3,704,3],[703,7,704,7],[705,0,706,0],[705,3,706,3],[705,7,706,7],[703,1,704,1],[705,1,706,1],[703,2,704,2],[705,2,706,2],[699,6,700,6],[701,6,702,6],[703,6,704,6],[705,6,706,6],[707,0,708,0],[707,3,708,3],[707,7,708,7],[709,0,710,0],[709,3,710,3],[709,7,710,7],[707,1,708,1],[709,1,710,1],[707,2,708,2],[709,2,710,2],[711,0,712,0],[711,3,712,3],[711,7,712,7],[713,0,714,0],[713,3,714,3],[713,7,714,7],[711,1,712,1],[713,1,714,1],[711,2,712,2],[713,2,714,2],[707,6,708,6],[709,6,710,6],[711,6,712,6],[713,6,714,6],[715,0,716,0],[715,3,716,3],[715,7,716,7],[717,0,718,0],[717,3,718,3],[717,7,718,7],[715,1,716,1],[717,1,718,1],[715,2,716,2],[717,2,718,2],[719,0,720,0],[719,3,720,3],[719,7,720,7],[721,0,722,0],[721,3,722,3],[721,7,722,7],[719,1,720,1],[721,1,722,1],[719,2,720,2],[721,2,722,2],[719,6,720,6],[721,6,722,6],[715,6,716,6],[717,6,718,6],[723,0,724,0],[723,3,724,3],[723,7,724,7],[725,0,726,0],[725,3,726,3],[725,7,726,7],[723,1,724,1],[725,1,726,1],[723,2,724,2],[725,2,726,2],[727,0,728,0],[727,3,728,3],[727,7,728,7],[729,0,730,0],[729,3,730,3],[729,7,730,7],[727,1,728,1],[729,1,730,1],[727,2,728,2],[729,2,730,2],[723,6,724,6],[725,6,726,6],[727,6,728,6],[729,6,730,6],[731,0,732,0],[731,3,732,3],[731,7,732,7],[733,0,734,0],[733,3,734,3],[733,7,734,7],[731,1,732,1],[733,1,734,1],[731,2,732,2],[733,2,734,2],[735,0,736,0],[735,3,736,3],[735,7,736,7],[737,0,738,0],[737,3,738,3],[737,7,738,7],[735,1,736,1],[737,1,738,1],[735,2,736,2],[737,2,738,2],[731,6,732,6],[733,6,734,6],[735,6,736,6],[737,6,738,6],[739,0,740,0],[739,3,740,3],[739,7,740,7],[741,0,742,0],[741,3,742,3],[741,7,742,7],[739,1,740,1],[741,1,742,1],[739,2,740,2],[741,2,742,2],[743,0,744,0],[743,3,744,3],[743,7,744,7],[745,0,746,0],[745,3,746,3],[745,7,746,7],[743,1,744,1],[745,1,746,1],[743,2,744,2],[745,2,746,2],[743,6,744,6],[745,6,746,6],[739,6,740,6],[741,6,742,6],[747,0,748,0],[747,3,748,3],[747,7,748,7],[749,0,750,0],[749,3,750,3],[749,7,750,7],[747,1,748,1],[749,1,750,1],[751,3,752,3],[751,7,752,7],[753,0,754,0],[753,3,754,3],[753,7,754,7],[751,1,752,1],[753,1,754,1],[757,0,758,0],[757,3,758,3],[757,7,758,7],[755,1,756,1],[757,1,758,1],[757,2,758,2],[755,3,756,3],[755,7,756,7],[747,6,748,6],[763,0,764,0],[763,3,764,3],[763,7,764,7],[755,6,756,6],[751,0,752,0],[765,0,766,0],[759,0,760,0],[759,3,760,3],[759,7,760,7],[761,0,762,0],[3,0,4,0],[3,3,4,3],[3,7,4,7],[3,5,4,5],[761,3,762,3],[761,7,762,7],[509,2,510,2],[511,2,512,2],[513,2,514,2],[759,1,760,1],[565,6,566,6],[567,6,568,6],[557,6,558,6],[559,6,560,6],[561,6,562,6],[575,6,576,6],[577,6,578,6],[579,6,580,6],[569,6,570,6],[571,6,572,6],[573,6,574,6],[587,6,588,6],[501,10,502,10],[501,11,502,11],[501,12,502,12],[501,13,502,13],[767,0,768,0],[767,3,768,3],[767,7,768,7],[765,3,766,3],[765,7,766,7],[755,0,756,0],[501,14,502,14],[501,15,502,15],[501,16,502,16],[501,17,502,17],[503,8,504,8],[503,9,504,9],[503,10,504,10],[503,11,504,11],[503,12,504,12],[503,13,504,13],[503,14,504,14],[503,15,504,15],[503,16,504,16],[503,17,504,17],[505,8,506,8],[505,9,506,9],[505,10,506,10],[505,11,506,11],[505,12,506,12],[505,13,506,13],[505,14,506,14],[505,15,506,15],[505,16,506,16],[505,17,506,17],[507,8,508,8],[507,9,508,9],[507,10,508,10],[507,11,508,11],[507,12,508,12],[507,13,508,13],[507,14,508,14],[507,15,508,15],[507,16,508,16],[507,17,508,17],[509,8,510,8],[509,9,510,9],[509,10,510,10],[509,11,510,11],[509,12,510,12],[509,13,510,13],[509,14,510,14],[509,15,510,15],[509,16,510,16],[509,17,510,17],[511,10,512,10],[511,11,512,11],[511,12,512,12],[511,13,512,13],[511,14,512,14],[511,15,512,15],[511,16,512,16],[511,17,512,17],[513,8,514,8],[513,9,514,9],[513,10,514,10],[513,11,514,11],[513,12,514,12],[513,13,514,13],[513,14,514,14],[513,15,514,15],[513,16,514,16],[513,17,514,17],[515,10,516,10],[515,11,516,11],[515,12,516,12],[515,13,516,13],[515,14,516,14],[515,15,516,15],[515,16,516,16],[515,17,516,17],[517,8,518,8],[517,9,518,9],[517,10,518,10],[517,11,518,11],[517,12,518,12],[517,13,518,13],[517,14,518,14],[517,15,518,15],[517,16,518,16],[517,17,518,17],[519,10,520,10],[519,11,520,11],[519,12,520,12],[519,13,520,13],[519,14,520,14],[519,15,520,15],[519,16,520,16],[519,17,520,17],[521,8,522,8],[521,9,522,9],[521,10,522,10],[521,11,522,11],[521,12,522,12],[521,13,522,13],[521,14,522,14],[521,15,522,15],[521,16,522,16],[521,17,522,17],[523,10,524,10],[523,11,524,11],[523,12,524,12],[523,13,524,13],[523,14,524,14],[523,15,524,15],[523,16,524,16],[523,17,524,17],[525,8,526,8],[525,9,526,9],[525,10,526,10],[525,11,526,11],[525,12,526,12],[525,13,526,13],[525,14,526,14],[525,15,526,15],[525,16,526,16],[525,17,526,17],[527,10,528,10],[527,11,528,11],[527,12,528,12],[527,13,528,13],[527,14,528,14],[527,15,528,15],[527,16,528,16],[527,17,528,17],[529,8,530,8],[529,9,530,9],[529,10,530,10],[529,11,530,11],[529,12,530,12],[529,13,530,13],[529,14,530,14],[529,15,530,15],[529,16,530,16],[529,17,530,17],[531,10,532,10],[531,11,532,11],[531,12,532,12],[531,13,532,13],[531,14,532,14],[531,15,532,15],[531,16,532,16],[531,17,532,17],[533,8,534,8],[533,9,534,9],[533,10,534,10],[533,11,534,11],[533,12,534,12],[533,13,534,13],[533,14,534,14],[533,15,534,15],[533,16,534,16],[533,17,534,17],[535,8,536,8],[535,9,536,9],[535,10,536,10],[535,11,536,11],[535,12,536,12],[535,13,536,13],[535,14,536,14],[535,15,536,15],[535,16,536,16],[535,17,536,17],[537,8,538,8],[537,9,538,9],[537,10,538,10],[537,11,538,11],[537,12,538,12],[537,13,538,13],[537,14,538,14],[537,15,538,15],[537,16,538,16],[537,17,538,17],[539,8,540,8],[539,9,540,9],[539,10,540,10],[539,11,540,11],[539,12,540,12],[539,13,540,13],[539,14,540,14],[539,15,540,15],[539,16,540,16],[539,17,540,17],[541,8,542,8],[541,9,542,9],[541,10,542,10],[541,11,542,11],[541,12,542,12],[541,13,542,13],[541,14,542,14],[541,15,542,15],[541,16,542,16],[541,17,542,17],[543,8,544,8],[543,9,544,9],[543,10,544,10],[543,11,544,11],[543,12,544,12],[543,13,544,13],[543,14,544,14],[543,15,544,15],[543,16,544,16],[543,17,544,17],[545,8,546,8],[545,9,546,9],[545,10,546,10],[545,11,546,11],[545,12,546,12],[545,13,546,13],[545,14,546,14],[545,15,546,15],[545,16,546,16],[545,17,546,17],[547,8,548,8],[547,9,548,9],[547,10,548,10],[547,11,548,11],[547,12,548,12],[547,13,548,13],[547,14,548,14]],"merged_total":4219,"flags":["merged_cut"]}
[null,null,null,null,null,null,null,"Выдели тбл. АD или AE; Выбери ВСТАВКА затем Сводная таблица; ОК. "]
[]
[null,null,null,null,null,null,null,"Перетащи Вес.кат. в ФИЛЬТРЫ; Субъект в СТРОКИ; Разряд в ФИЛЬТРЫ; Разряд в ЗНАЧЕНИЯ. "]
["Вес.кат.","Округ","Разряд","Субъект","Город, команда","Город, команда","субъекты","город","Разряд"]
[null,null,null,null,null,null,null,null,null,null,"субъекты + города"]
[{"$f":"регистрация!A6","v":"74"},{"$f":"регистрация!G6","v":"ЦФО"},{"$f":"IFERROR(RIGHT(регистрация!F6,LEN(регистрация!F6)-FIND(\"*\",SUBSTITUTE(регистрация!F6,\" \",\"*\",LEN(регистрация!F6)-LEN(SUBSTITUTE(регистрация!F6,\" \",\"\"))))),регистрация!F6)","v":"3р"},{"$f":"IFERROR(LEFT(K6,FIND(\",\",K6)-1),K6)","v":"Ярославская"},{"$f":"IFERROR(LEFT(F6,FIND(\",\",F6)-1),F6)","v":" Рыбинск"},{"$f":"MID(K6,FIND(\" \",K6)*1,27)","v":" Рыбинск, МУ СШОР \"Металлис"},{"$f":"IFERROR(INDEX(субъект,MATCH(SUM(COUNTIF(G4:G$5,субъект)),COUNTIF(субъект,\"<\"&субъект),0)),\"\")","v":"Ярославская"},{"$f":"IFERROR(INDEX(город,MATCH(SUM(COUNTIF(H$4:H5,город)),COUNTIF(город,\"<\"&город),0)),\"\")","v":" Рыбинск"},{"$f":"IFERROR(INDEX(разряд,MATCH(SUM(COUNTIF(I$4:I5,разряд)),COUNTIF(разряд,\"<\"&разряд),0)),\"\")","v":"3р"},1,{"$f":"TRIM(регистрация!H6)","v":"Ярославская, Рыбинск, МУ СШОР \"Металлист\""}]
[{"$f":"регистрация!A7","v":0},{"$f":"регистрация!G7","v":"00:00:00"},{"$f":"IFERROR(RIGHT(регистрация!F7,LEN(регистрация!F7)-FIND(\"*\",SUBSTITUTE(регистрация!F7,\" \",\"*\",LEN(регистрация!F7)-LEN(SUBSTITUTE(регистрация!F7,\" \",\"\"))))),регистрация!F7)","v":0},{"$f":"IFERROR(LEFT(K7,FIND(\",\",K7)-1),K7)","v":""},{"$error":"#VALUE!"},{"$f":"MID(K7,FIND(\" \",K7)*1,27)","v":{"$error":"#VALUE!"}},{"$f":"IFERROR(INDEX(субъект,MATCH(SUM(COUNTIF(G$5:G6,субъект)),COUNTIF(субъект,\"<\"&субъект),0)),\"\")","v":""},{"$f":"IFERROR(INDEX(город,MATCH(SUM(COUNTIF(H$4:H6,город)),COUNTIF(город,\"<\"&город),0)),\"\")","v":""},{"$f":"IFERROR(INDEX(разряд,MATCH(SUM(COUNTIF(I$4:I6,разряд)),COUNTIF(разряд,\"<\"&разряд),0)),\"\")","v":""},2,{"$f":"TRIM(регистрация!H7)","v":""}]
[{"$f":"регистрация!A8","v":0},{"$f":"регистрация!G8","v":"00:00:00"},{"$f":"IFERROR(RIGHT(регистрация!F8,LEN(регистрация!F8)-FIND(\"*\",SUBSTITUTE(регистрация!F8,\" \",\"*\",LEN(регистрация!F8)-LEN(SUBSTITUTE(регистрация!F8,\" \",\"\"))))),регистрация!F8)","v":0},"",{"$error":"#VALUE!"},{"$error":"#VALUE!"},{"$f":"IFERROR(INDEX(субъект,MATCH(SUM(COUNTIF(G$5:G7,субъект)),COUNTIF(субъект,\"<\"&субъект),0)),\"\")","v":""},{"$f":"IFERROR(INDEX(город,MATCH(SUM(COUNTIF(H$4:H7,город)),COUNTIF(город,\"<\"&город),0)),\"\")","v":""},{"$f":"IFERROR(INDEX(разряд,MATCH(SUM(COUNTIF(I$4:I7,разряд)),COUNTIF(разряд,\"<\"&разряд),0)),\"\")","v":""},3,{"$f":"TRIM(регистрация!H8)","v":""}]
[{"$f":"регистрация!A9","v":0},{"$f":"регистрация!G9","v":"00:00:00"},{"$f":"IFERROR(RIGHT(регистрация!F9,LEN(регистрация!F9)-FIND(\"*\",SUBSTITUTE(регистрация!F9,\" \",\"*\",LEN(регистрация!F9)-LEN(SUBSTITUTE(регистрация!F9,\" \",\"\"))))),регистрация!F9)","v":0},"",{"$error":"#VALUE!"},{"$error":"#VALUE!"},{"$f":"IFERROR(INDEX(субъект,MATCH(SUM(COUNTIF(G$5:G8,субъект)),COUNTIF(субъект,\"<\"&субъект),0)),\"\")","v":""},{"$f":"IFERROR(INDEX(город,MATCH(SUM(COUNTIF(H$4:H8,город)),COUNTIF(город,\"<\"&город),0)),\"\")","v":""},{"$f":"IFERROR(INDEX(разряд,MATCH(SUM(COUNTIF(I$4:I8,разряд)),COUNTIF(разряд,\"<\"&разряд),0)),\"\")","v":""},4,{"$f":"TRIM(регистрация!H9)","v":""}]
[{"$f":"регистрация!A10","v":0},{"$f":"регистрация!G10","v":"00:00:00"},{"$f":"IFERROR(RIGHT(регистрация!F10,LEN(регистрация!F10)-FIND(\"*\",SUBSTITUTE(регистрация!F10,\" \",\"*\",LEN(регистрация!F10)-LEN(SUBSTITUTE(регистрация!F10,\" \",\"\"))))),регистрация!F10)","v":0},"",{"$error":"#VALUE!"},{"$error":"#VALUE!"},{"$f":"IFERROR(INDEX(субъект,MATCH(SUM(COUNTIF(G$5:G9,субъект)),COUNTIF(субъект,\"<\"&субъект),0)),\"\")","v":""},{"$f":"IFERROR(INDEX(город,MATCH(SUM(COUNTIF(H$4:H9,город)),COUNTIF(город,\"<\"&город),0)),\"\")","v":""},{"$f":"IFERROR(INDEX(разряд,MATCH(SUM(COUNTIF(I$4:I9,разряд)),COUNTIF(разряд,\"<\"&разряд),0)),\"\")","v":""},5,{"$f":"TRIM(регистрация!H10)","v":""}]
[{"$f":"регистрация!A11","v":0},{"$f":"регистрация!G11","v":"00:00:00"},{"$f":"IFERROR(RIGHT(регистрация!F11,LEN(регистрация!F11)-FIND(\"*\",SUBSTITUTE(регистрация!F11,\" \",\"*\",LEN(регистрация!F11)-LEN(SUBSTITUTE(регистрация!F11,\" \",\"\"))))),регистрация!F11)","v":0},"",{"$error":"#VALUE!"},{"$error":"#VALUE!"},{"$f":"IFERROR(INDEX(субъект,MATCH(SUM(COUNTIF(G$5:G10,субъект)),COUNTIF(субъект,\"<\"&субъект),0)),\"\")","v":""},{"$f":"IFERROR(INDEX(город,MATCH(SUM(COUNTIF(H$4:H10,город)),COUNTIF(город,\"<\"&город),0)),\"\")","v":""},{"$f":"IFERROR(INDEX(разряд,MATCH(SUM(COUNTIF(I$4:I10,разряд)),COUNTIF(разряд,\"<\"&разряд),0)),\"\")","v":""},6,{"$f":"TRIM(регистрация!H11)","v":""}]
[{"$f":"регистрация!A12","v":0},{"$f":"регистрация!G12","v":"00:00:00"},{"$f":"IFERROR(RIGHT(регистрация!F12,LEN(регистрация!F12)-FIND(\"*\",SUBSTITUTE(регистрация!F12,\" \",\"*\",LEN(регистрация!F12)-LEN(SUBSTITUTE(регистрация!F12,\" \",\"\"))))),регистрация!F12)","v":0},"",{"$error":"#VALUE!"},{"$error":"#VALUE!"},{"$f":"IFERROR(INDEX(субъект,MATCH(SUM(COUNTIF(G$5:G11,субъект)),COUNTIF(субъект,\"<\"&субъект),0)),\"\")","v":""},{"$f":"IFERROR(INDEX(город,MATCH(SUM(COUNTIF(H$4:H11,город)),COUNTIF(город,\"<\"&город),0)),\"\")","v":""},{"$f":"IFERROR(INDEX(разряд,MATCH(SUM(COUNTIF(I$4:I11,разряд)),COUNTIF(разряд,\"<\"&разряд),0)),\"\")","v":""},7,{"$f":"TRIM(регистрация!H12)","v":""}]
[{"$f":"регистрация!A13","v":0},{"$f":"регистрация!G13","v":"00:00:00"},{"$f":"IFERROR(RIGHT(регистрация!F13,LEN(регистрация!F13)-FIND(\"*\",SUBSTITUTE(регистрация!F13,\" \",\"*\",LEN(регистрация!F13)-LEN(SUBSTITUTE(регистрация!F13,\" \",\"\"))))),регистрация!F13)","v":0},"",{"$error":"#VALUE!"},{"$error":"#VALUE!"},{"$f":"IFERROR(INDEX(субъект,MATCH(SUM(COUNTIF(G$5:G12,субъект)),COUNTIF(субъект,\"<\"&субъект),0)),\"\")","v":""},{"$f":"IFERROR(INDEX(город,MATCH(SUM(COUNTIF(H$4:H12,город)),COUNTIF(город,\"<\"&город),0)),\"\")","v":""},{"$f":"IFERROR(INDEX(разряд,MATCH(SUM(COUNTIF(I$4:I12,разряд)),COUNTIF(разряд,\"<\"&разряд),0)),\"\")","v":""},8,{"$f":"TRIM(регистрация!H13)","v":""}]
[{"$f":"регистрация!A14","v":0},{"$f":"регистрация!G14","v":"00:00:00"},{"$f":"IFERROR(RIGHT(регистрация!F14,LEN(регистрация!F14)-FIND(\"*\",SUBSTITUTE(регистрация!F14,\" \",\"*\",LEN(регистрация!F14)-LEN(SUBSTITUTE(регистрация!F14,\" \",\"\"))))),регистрация!F14)","v":0},"",{"$error":"#VALUE!"},{"$error":"#VALUE!"},{"$f":"IFERROR(INDEX(субъект,MATCH(SUM(COUNTIF(G$5:G13,субъект)),COUNTIF(субъект,\"<\"&субъект),0)),\"\")","v":""},{"$f":"IFERROR(INDEX(город,MATCH(SUM(COUNTIF(H$4:H13,город)),COUNTIF(город,\"<\"&город),0)),\"\")","v":""},{"$f":"IFERROR(INDEX(разряд,MATCH(SUM(COUNTIF(I$4:I13,разряд)),COUNTIF(разряд,\"<\"&разряд),0)),\"\")","v":""},9,{"$f":"TRIM(регистрация!H14)","v":""}]
[{"$f":"регистрация!A15","v":0},{"$f":"регистрация!G15","v":"00:00:00"},{"$f":"IFERROR(RIGHT(регистрация!F15,LEN(регистрация!F15)-FIND(\"*\",SUBSTITUTE(регистрация!F15,\" \",\"*\",LEN(регистрация!F15)-LEN(SUBSTITUTE(регистрация!F15,\" \",\"\"))))),регистрация!F15)","v":0},"",{"$error":"#VALUE!"},{"$error":"#VALUE!"},{"$f":"IFERROR(INDEX(субъект,MATCH(SUM(COUNTIF(G$5:G14,субъект)),COUNTIF(субъект,\"<\"&субъект),0)),\"\")","v":""},{"$f":"IFERROR(INDEX(город,MATCH(SUM(COUNTIF(H$4:H14,город)),COUNTIF(город,\"<\"&город),0)),\"\")","v":""},{"$f":"IFERROR(INDEX(разряд,MATCH(SUM(COUNTIF(I$4:I14,разряд)),COUNTIF(разряд,\"<\"&разряд),0)),\"\")","v":""},10,{"$f":"TRIM(регистрация!H15)","v":""}]
[{"$f":"регистрация!A16","v":0},{"$f":"регистрация!G16","v":"00:00:00"},{"$f":"IFERROR(RIGHT(регистрация!F16,LEN(регистрация!F16)-FIND(\"*\",SUBSTITUTE(регистрация!F16,\" \",\"*\",LEN(регистрация!F16)-LEN(SUBSTITUTE(регистрация!F16,\" \",\"\"))))),регистрация!F16)","v":0},"",{"$error":"#VALUE!"},{"$error":"#VALUE!"},{"$f":"IFERROR(INDEX(субъект,MATCH(SUM(COUNTIF(G$5:G15,субъект)),COUNTIF(субъект,\"<\"&субъект),0)),\"\")","v":""},{"$f":"IFERROR(INDEX(город,MATCH(SUM(COUNTIF(H$4:H15,город)),COUNTIF(город,\"<\"&город),0)),\"\")","v":""},{"$f":"IFERROR(INDEX(разряд,MATCH(SUM(COUNTIF(I$4:I15,разряд)),COUNTIF(разряд,\"<\"&разряд),0)),\"\")","v":""},11,{"$f":"TRIM(регистрация!H16)","v":""}]
[{"$f":"регистрация!A17","v":0},{"$f":"регистрация!G17","v":"00:00:00"},{"$f":"IFERROR(RIGHT(регистрация!F17,LEN(регистрация!F17)-FIND(\"*\",SUBSTITUTE(регистрация!F17,\" \",\"*\",LEN(регистрация!F17)-LEN(SUBSTITUTE(регистрация!F17,\" \",\"\"))))),регистрация!F17)","v":0},"",{"$error":"#VALUE!"},{"$error":"#VALUE!"},{"$f":"IFERROR(INDEX(субъект,MATCH(SUM(COUNTIF(G$5:G16,субъект)),COUNTIF(субъект,\"<\"&субъект),0)),\"\")","v":""},{"$f":"IFERROR(INDEX(город,MATCH(SUM(COUNTIF(H$4:H16,город)),COUNTIF(город,\"<\"&город),0)),\"\")","v":""},{"$f":"IFERROR(INDEX(разряд,MATCH(SUM(COUNTIF(I$4:I16,разряд)),COUNTIF(разряд,\"<\"&разряд),0)),\"\")","v":""},12,{"$f":"TRIM(регистрация!H17)","v":""}]
[{"$f":"регистрация!A18","v":0},{"$f":"регистрация!G18","v":"00:00:00"},{"$f":"IFERROR(RIGHT(регистрация!F18,LEN(регистрация!F18)-FIND(\"*\",SUBSTITUTE(регистрация!F18,\" \",\"*\",LEN(регистрация!F18)-LEN(SUBSTITUTE(регистрация!F18,\" \",\"\"))))),регистрация!F18)","v":0},"",{"$error":"#VALUE!"},{"$error":"#VALUE!"},{"$f":"IFERROR(INDEX(субъект,MATCH(SUM(COUNTIF(G$5:G17,субъект)),COUNTIF(субъект,\"<\"&субъект),0)),\"\")","v":""},{"$f":"IFERROR(INDEX(город,MATCH(SUM(COUNTIF(H$4:H17,город)),COUNTIF(город,\"<\"&город),0)),\"\")","v":""},null,13,{"$f":"TRIM(регистрация!H18)","v":""}]
[{"$f":"регистрация!A19","v":0},{"$f":"регистрация!G19","v":"00:00:00"},{"$f":"IFERROR(RIGHT(регистрация!F19,LEN(регистрация!F19)-FIND(\"*\",SUBSTITUTE(регистрация!F19,\" \",\"*\",LEN(регистрация!F19)-LEN(SUBSTITUTE(регистрация!F19,\" \",\"\"))))),регистрация!F19)","v":0},"",{"$error":"#VALUE!"},{"$error":"#VALUE!"},{"$f":"IFERROR(INDEX(субъект,MATCH(SUM(COUNTIF(G$5:G18,субъект)),COUNTIF(субъект,\"<\"&субъект),0)),\"\")","v":""},{"$f":"IFERROR(INDEX(город,MATCH(SUM(COUNTIF(H$4:H18,город)),COUNTIF(город,\"<\"&город),0)),\"\")","v":""},null,14,{"$f":"TRIM(регистрация!H19)","v":""}]
[{"$f":"регистрация!A20","v":0},{"$f":"регистрация!G20","v":"00:00:00"},{"$f":"IFERROR(RIGHT(регистрация!F20,LEN(регистрация!F20)-FIND(\"*\",SUBSTITUTE(регистрация!F20,\" \",\"*\",LEN(регистрация!F20)-LEN(SUBSTITUTE(регистрация!F20,\" \",\"\"))))),регистрация!F20)","v":0},"",{"$error":"#VALUE!"},{"$error":"#VALUE!"},{"$f":"IFERROR(INDEX(субъект,MATCH(SUM(COUNTIF(G$5:G19,субъект)),COUNTIF(субъект,\"<\"&субъект),0)),\"\")","v":""},{"$f":"IFERROR(INDEX(город,MATCH(SUM(COUNTIF(H$4:H19,город)),COUNTIF(город,\"<\"&город),0)),\"\")","v":""},null,15,{"$f":"TRIM(регистрация!H20)","v":""}]
[{"$f":"регистрация!A21","v":0},{"$f":"регистрация!G21","v":"00:00:00"},{"$f":"IFERROR(RIGHT(регистрация!F21,LEN(регистрация!F21)-FIND(\"*\",SUBSTITUTE(регистрация!F21,\" \",\"*\",LEN(регистрация!F21)-LEN(SUBSTITUTE(регистрация!F21,\" \",\"\"))))),регистрация!F21)","v":0},"",{"$error":"#VALUE!"},{"$error":"#VALUE!"},{"$f":"IFERROR(INDEX(субъект,MATCH(SUM(COUNTIF(G$5:G20,субъект)),COUNTIF(субъект,\"<\"&субъект),0)),\"\")","v":""},{"$f":"IFERROR(INDEX(город,MATCH(SUM(COUNTIF(H$4:H20,город)),COUNTIF(город,\"<\"&город),0)),\"\")","v":""},null,16,{"$f":"TRIM(регистрация!H21)","v":""}]
[{"$f":"регистрация!A22","v":0},{"$f":"регистрация!G22","v":"00:00:00"},{"$f":"IFERROR(RIGHT(регистрация!F22,LEN(регистрация!F22)-FIND(\"*\",SUBSTITUTE(регистрация!F22,\" \",\"*\",LEN(регистрация!F22)-LEN(SUBSTITUTE(регистрация!F22,\" \",\"\"))))),регистрация!F22)","v":0},"",{"$error":"#VALUE!"},{"$error":"#VALUE!"},{"$f":"IFERROR(INDEX(субъект,MATCH(SUM(COUNTIF(G$5:G21,субъект)),COUNTIF(субъект,\"<\"&субъект),0)),\"\")","v":""},{"$f":"IFERROR(INDEX(город,MATCH(SUM(COUNTIF(H$4:H21,город)),COUNTIF(город,\"<\"&город),0)),\"\")","v":""},null,17,{"$f":"TRIM(регистрация!H22)","v":""}]
[{"$f":"регистрация!A23","v":0},{"$f":"регистрация!G23","v":"00:00:00"},{"$f":"IFERROR(RIGHT(регистрация!F23,LEN(регистрация!F23)-FIND(\"*\",SUBSTITUTE(регистрация!F23,\" \",\"*\",LEN(регистрация!F23)-LEN(SUBSTITUTE(регистрация!F23,\" \",\"\"))))),регистрация!F23)","v":0},"",{"$error":"#VALUE!"},{"$error":"#VALUE!"},{"$f":"IFERROR(INDEX(субъект,MATCH(SUM(COUNTIF(G$5:G22,субъект)),COUNTIF(субъект,\"<\"&субъект),0)),\"\")","v":""},{"$f":"IFERROR(INDEX(город,MATCH(SUM(COUNTIF(H$4:H22,город)),COUNTIF(город,\"<\"&город),0)),\"\")","v":""},null,18,{"$f":"TRIM(регистрация!H23)","v":""}]
[{"$f":"регистрация!A24","v":0},{"$f":"регистрация!G24","v":"00:00:00"},{"$f":"IFERROR(RIGHT(регистрация!F24,LEN(регистрация!F24)-FIND(\"*\",SUBSTITUTE(регистрация!F24,\" \",\"*\",LEN(регистрация!F24)-LEN(SUBSTITUTE(регистрация!F24,\" \",\"\"))))),регистрация!F24)","v":0},"",{"$error":"#VALUE!"},{"$error":"#VALUE!"},{"$f":"IFERROR(INDEX(субъект,MATCH(SUM(COUNTIF(G$5:G23,субъект)),COUNTIF(субъект,\"<\"&субъект),0)),\"\")","v":""},{"$f":"IFERROR(INDEX(город,MATCH(SUM(COUNTIF(H$4:H23,город)),COUNTIF(город,\"<\"&город),0)),\"\")","v":""},null,19,{"$f":"TRIM(регистрация!H24)","v":""}]
[{"$f":"регистрация!A25","v":0},{"$f":"регистрация!G25","v":"00:00:00"},{"$f":"IFERROR(RIGHT(регистрация!F25,LEN(регистрация!F25)-FIND(\"*\",SUBSTITUTE(регистрация!F25,\" \",\"*\",LEN(регистрация!F25)-LEN(SUBSTITUTE(регистрация!F25,\" \",\"\"))))),регистрация!F25)","v":0},"",{"$error":"#VALUE!"},{"$error":"#VALUE!"},{"$f":"IFERROR(INDEX(субъект,MATCH(SUM(COUNTIF(G$5:G24,субъект)),COUNTIF(субъект,\"<\"&субъект),0)),\"\")","v":""},{"$f":"IFERROR(INDEX(город,MATCH(SUM(COUNTIF(H$4:H24,город)),COUNTIF(город,\"<\"&город),0)),\"\")","v":""},null,20,{"$f":"TRIM(регистрация!H25)","v":""}]
[{"$f":"регистрация!A26","v":0},{"$f":"регистрация!G26","v":"00:00:00"},{"$f":"IFERROR(RIGHT(регистрация!F26,LEN(регистрация!F26)-FIND(\"*\",SUBSTITUTE(регистрация!F26,\" \",\"*\",LEN(регистрация!F26)-LEN(SUBSTITUTE(регистрация!F26,\" \",\"\"))))),регистрация!F26)","v":0},"",{"$error":"#VALUE!"},{"$error":"#VALUE!"},{"$f":"IFERROR(INDEX(субъект,MATCH(SUM(COUNTIF(G$5:G25,субъект)),COUNTIF(субъект,\"<\"&субъект),0)),\"\")","v":""},{"$f":"IFERROR(INDEX(город,MATCH(SUM(COUNTIF(H$4:H25,город)),COUNTIF(город,\"<\"&город),0)),\"\")","v":""},null,21,{"$f":"TRIM(регистрация!H26)","v":""}]
[{"$f":"регистрация!A27","v":0},{"$f":"регистрация!G27","v":"00:00:00"},{"$f":"IFERROR(RIGHT(регистрация!F27,LEN(регистрация!F27)-FIND(\"*\",SUBSTITUTE(регистрация!F27,\" \",\"*\",LEN(регистрация!F27)-LEN(SUBSTITUTE(регистрация!F27,\" \",\"\"))))),регистрация!F27)","v":0},"",{"$error":"#VALUE!"},{"$error":"#VALUE!"},{"$f":"IFERROR(INDEX(субъект,MATCH(SUM(COUNTIF(G$5:G26,субъект)),COUNTIF(субъект,\"<\"&субъект),0)),\"\")","v":""},{"$f":"IFERROR(INDEX(город,MATCH(SUM(COUNTIF(H$4:H26,город)),COUNTIF(город,\"<\"&город),0)),\"\")","v":""},null,22,{"$f":"TRIM(регистрация!H27)","v":""}]
[{"$f":"регистрация!A28","v":0},{"$f":"регистрация!G28","v":"00:00:00"},{"$f":"IFERROR(RIGHT(регистрация!F28,LEN(регистрация!F28)-FIND(\"*\",SUBSTITUTE(регистрация!F28,\" \",\"*\",LEN(регистрация!F28)-LEN(SUBSTITUTE(регистрация!F28,\" \",\"\"))))),регистрация!F28)","v":0},"",{"$error":"#VALUE!"},{"$error":"#VALUE!"},{"$f":"IFERROR(INDEX(субъект,MATCH(SUM(COUNTIF(G$5:G27,субъект)),COUNTIF(субъект,\"<\"&субъект),0)),\"\")","v":""},{"$f":"IFERROR(INDEX(город,MATCH(SUM(COUNTIF(H$4:H27,город)),COUNTIF(город,\"<\"&город),0)),\"\")","v":""},null,23,{"$f":"TRIM(регистрация!H28)","v":""}]
[{"$f":"регистрация!A29","v":0},{"$f":"регистрация!G29","v":"00:00:00"},{"$f":"IFERROR(RIGHT(регистрация!F29,LEN(регистрация!F29)-FIND(\"*\",SUBSTITUTE(регистрация!F29,\" \",\"*\",LEN(регистрация!F29)-LEN(SUBSTITUTE(регистрация!F29,\" \",\"\"))))),регистрация!F29)","v":0},"",{"$error":"#VALUE!"},{"$error":"#VALUE!"},{"$f":"IFERROR(INDEX(субъект,MATCH(SUM(COUNTIF(G$5:G28,субъект)),COUNTIF(субъект,\"<\"&субъект),0)),\"\")","v":""},{"$f":"IFERROR(INDEX(город,MATCH(SUM(COUNTIF(H$4:H28,город)),COUNTIF(город,\"<\"&город),0)),\"\")","v":""},null,24,{"$f":"TRIM(регистрация!H29)","v":""}]
[{"$f":"регистрация!A30","v":0},{"$f":"регистрация!G30","v":"00:00:00"},{"$f":"IFERROR(RIGHT(регистрация!F30,LEN(регистрация!F30)-FIND(\"*\",SUBSTITUTE(регистрация!F30,\" \",\"*\",LEN(регистрация!F30)-LEN(SUBSTITUTE(регистрация!F30,\" \",\"\"))))),регистрация!F30)","v":0},"",{"$error":"#VALUE!"},{"$error":"#VALUE!"},{"$f":"IFERROR(INDEX(субъект,MATCH(SUM(COUNTIF(G$5:G29,субъект)),COUNTIF(субъект,\"<\"&субъект),0)),\"\")","v":""},{"$f":"IFERROR(INDEX(город,MATCH(SUM(COUNTIF(H$4:H29,город)),COUNTIF(город,\"<\"&город),0)),\"\")","v":""},null,25,{"$f":"TRIM(регистрация!H30)","v":""}]
[{"$f":"регистрация!A31","v":0},{"$f":"регистрация!G31","v":"00:00:00"},{"$f":"IFERROR(RIGHT(регистрация!F31,LEN(регистрация!F31)-FIND(\"*\",SUBSTITUTE(регистрация!F31,\" \",\"*\",LEN(регистрация!F31)-LEN(SUBSTITUTE(регистрация!F31,\" \",\"\"))))),регистрация!F31)","v":0},"",{"$error":"#VALUE!"},{"$error":"#VALUE!"},{"$f":"IFERROR(INDEX(субъект,MATCH(SUM(COUNTIF(G$5:G30,субъект)),COUNTIF(субъект,\"<\"&субъект),0)),\"\")","v":""},{"$f":"IFERROR(INDEX(город,MATCH(SUM(COUNTIF(H$4:H30,город)),COUNTIF(город,\"<\"&город),0)),\"\")","v":""},null,26,{"$f":"TRIM(регистрация!H31)","v":""}]
[{"$f":"регистрация!A32","v":0},{"$f":"регистрация!G32","v":"00:00:00"},{"$f":"IFERROR(RIGHT(регистрация!F32,LEN(регистрация!F32)-FIND(\"*\",SUBSTITUTE(регистрация!F32,\" \",\"*\",LEN(регистрация!F32)-LEN(SUBSTITUTE(регистрация!F32,\" \",\"\"))))),регистрация!F32)","v":0},"",{"$error":"#VALUE!"},{"$error":"#VALUE!"},{"$f":"IFERROR(INDEX(субъект,MATCH(SUM(COUNTIF(G$5:G31,субъект)),COUNTIF(субъект,\"<\"&субъект),0)),\"\")","v":""},{"$f":"IFERROR(INDEX(город,MATCH(SUM(COUNTIF(H$4:H31,город)),COUNTIF(город,\"<\"&город),0)),\"\")","v":""},null,27,{"$f":"TRIM(регистрация!H32)","v":""}]
[{"$f":"регистрация!A33","v":0},{"$f":"регистрация!G33","v":"00:00:00"},{"$f":"IFERROR(RIGHT(регистрация!F33,LEN(регистрация!F33)-FIND(\"*\",SUBSTITUTE(регистрация!F33,\" \",\"*\",LEN(регистрация!F33)-LEN(SUBSTITUTE(регистрация!F33,\" \",\"\"))))),регистрация!F33)","v":0},"",{"$error":"#VALUE!"},{"$error":"#VALUE!"},{"$f":"IFERROR(INDEX(субъект,MATCH(SUM(COUNTIF(G$5:G32,субъект)),COUNTIF(субъект,\"<\"&субъект),0)),\"\")","v":""},{"$f":"IFERROR(INDEX(город,MATCH(SUM(COUNTIF(H$4:H32,город)),COUNTIF(город,\"<\"&город),0)),\"\")","v":""},null,28,{"$f":"TRIM(регистрация!H33)","v":""}]
[{"$f":"регистрация!A34","v":0},{"$f":"регистрация!G34","v":"00:00:00"},{"$f":"IFERROR(RIGHT(регистрация!F34,LEN(регистрация!F34)-FIND(\"*\",SUBSTITUTE(регистрация!F34,\" \",\"*\",LEN(регистрация!F34)-LEN(SUBSTITUTE(регистрация!F34,\" \",\"\"))))),регистрация!F34)","v":0},"",{"$error":"#VALUE!"},{"$error":"#VALUE!"},{"$f":"IFERROR(INDEX(субъект,MATCH(SUM(COUNTIF(G$5:G33,субъект)),COUNTIF(субъект,\"<\"&субъект),0)),\"\")","v":""},{"$f":"IFERROR(INDEX(город,MATCH(SUM(COUNTIF(H$4:H33,город)),COUNTIF(город,\"<\"&город),0)),\"\")","v":""},null,29,{"$f":"TRIM(регистрация!H34)","v":""}]
[{"$f":"регистрация!A35","v":0},{"$f":"регистрация!G35","v":"00:00:00"},{"$f":"IFERROR(RIGHT(регистрация!F35,LEN(регистрация!F35)-FIND(\"*\",SUBSTITUTE(регистрация!F35,\" \",\"*\",LEN(регистрация!F35)-LEN(SUBSTITUTE(регистрация!F35,\" \",\"\"))))),регистрация!F35)","v":0},"",{"$error":"#VALUE!"},{"$error":"#VALUE!"},{"$f":"IFERROR(INDEX(субъект,MATCH(SUM(COUNTIF(G$5:G34,субъект)),COUNTIF(субъект,\"<\"&субъект),0)),\"\")","v":""},{"$f":"IFERROR(INDEX(город,MATCH(SUM(COUNTIF(H$4:H34,город)),COUNTIF(город,\"<\"&город),0)),\"\")","v":""},null,30,{"$f":"TRIM(регистрация!H35)","v":""}]
[{"$f":"регистрация!A36","v":0},{"$f":"регистрация!G36","v":"00:00:00"},{"$f":"IFERROR(RIGHT(регистрация!F36,LEN(регистрация!F36)-FIND(\"*\",SUBSTITUTE(регистрация!F36,\" \",\"*\",LEN(регистрация!F36)-LEN(SUBSTITUTE(регистрация!F36,\" \",\"\"))))),регистрация!F36)","v":0},"",{"$error":"#VALUE!"},{"$error":"#VALUE!"},{"$f":"IFERROR(INDEX(субъект,MATCH(SUM(COUNTIF(G$5:G35,субъект)),COUNTIF(субъект,\"<\"&субъект),0)),\"\")","v":""},{"$f":"IFERROR(INDEX(город,MATCH(SUM(COUNTIF(H$4:H35,город)),COUNTIF(город,\"<\"&город),0)),\"\")","v":""},null,31,{"$f":"TRIM(регистрация!H36)","v":""}]
[{"$f":"регистрация!A37","v":0},{"$f":"регистрация!G37","v":"00:00:00"},{"$f":"IFERROR(RIGHT(регистрация!F37,LEN(регистрация!F37)-FIND(\"*\",SUBSTITUTE(регистрация!F37,\" \",\"*\",LEN(регистрация!F37)-LEN(SUBSTITUTE(регистрация!F37,\" \",\"\"))))),регистрация!F37)","v":0},"",{"$error":"#VALUE!"},{"$error":"#VALUE!"},{"$f":"IFERROR(INDEX(субъект,MATCH(SUM(COUNTIF(G$5:G36,субъект)),COUNTIF(субъект,\"<\"&субъект),0)),\"\")","v":""},{"$f":"IFERROR(INDEX(город,MATCH(SUM(COUNTIF(H$4:H36,город)),COUNTIF(город,\"<\"&город),0)),\"\")","v":""},null,32,{"$f":"TRIM(регистрация!H37)","v":""}]
[{"$f":"регистрация!A38","v":0},{"$f":"регистрация!G38","v":"00:00:00"},{"$f":"IFERROR(RIGHT(регистрация!F38,LEN(регистрация!F38)-FIND(\"*\",SUBSTITUTE(регистрация!F38,\" \",\"*\",LEN(регистрация!F38)-LEN(SUBSTITUTE(регистрация!F38,\" \",\"\"))))),регистрация!F38)","v":0},"",{"$error":"#VALUE!"},{"$error":"#VALUE!"},{"$f":"IFERROR(INDEX(субъект,MATCH(SUM(COUNTIF(G$5:G37,субъект)),COUNTIF(субъект,\"<\"&субъект),0)),\"\")","v":""},{"$f":"IFERROR(INDEX(город,MATCH(SUM(COUNTIF(H$4:H37,город)),COUNTIF(город,\"<\"&город),0)),\"\")","v":""},null,33,{"$f":"TRIM(регистрация!H38)","v":""}]
[{"$f":"регистрация!A39","v":0},{"$f":"регистрация!G39","v":"00:00:00"},{"$f":"IFERROR(RIGHT(регистрация!F39,LEN(регистрация!F39)-FIND(\"*\",SUBSTITUTE(регистрация!F39,\" \",\"*\",LEN(регистрация!F39)-LEN(SUBSTITUTE(регистрация!F39,\" \",\"\"))))),регистрация!F39)","v":0},"",{"$error":"#VALUE!"},{"$error":"#VALUE!"},{"$f":"IFERROR(INDEX(субъект,MATCH(SUM(COUNTIF(G$5:G38,субъект)),COUNTIF(субъект,\"<\"&субъект),0)),\"\")","v":""},{"$f":"IFERROR(INDEX(город,MATCH(SUM(COUNTIF(H$4:H38,город)),COUNTIF(город,\"<\"&город),0)),\"\")","v":""},null,34,{"$f":"TRIM(регистрация!H39)","v":""}]
[{"$f":"регистрация!A40","v":0},{"$f":"регистрация!G40","v":"00:00:00"},{"$f":"IFERROR(RIGHT(регистрация!F40,LEN(регистрация!F40)-FIND(\"*\",SUBSTITUTE(регистрация!F40,\" \",\"*\",LEN(регистрация!F40)-LEN(SUBSTITUTE(регистрация!F40,\" \",\"\"))))),регистрация!F40)","v":0},"",{"$error":"#VALUE!"},{"$error":"#VALUE!"},{"$f":"IFERROR(INDEX(субъект,MATCH(SUM(COUNTIF(G$5:G39,субъект)),COUNTIF(субъект,\"<\"&субъект),0)),\"\")","v":""},{"$f":"IFERROR(INDEX(город,MATCH(SUM(COUNTIF(H$4:H39,город)),COUNTIF(город,\"<\"&город),0)),\"\")","v":""},null,35,{"$f":"TRIM(регистрация!H40)","v":""}]
[{"$f":"регистрация!A41","v":0},{"$f":"регистрация!G41","v":"00:00:00"},{"$f":"IFERROR(RIGHT(регистрация!F41,LEN(регистрация!F41)-FIND(\"*\",SUBSTITUTE(регистрация!F41,\" \",\"*\",LEN(регистрация!F41)-LEN(SUBSTITUTE(регистрация!F41,\" \",\"\"))))),регистрация!F41)","v":0},"",{"$error":"#VALUE!"},{"$error":"#VALUE!"},{"$f":"IFERROR(INDEX(субъект,MATCH(SUM(COUNTIF(G$5:G40,субъект)),COUNTIF(субъект,\"<\"&субъект),0)),\"\")","v":""},{"$f":"IFERROR(INDEX(город,MATCH(SUM(COUNTIF(H$4:H40,город)),COUNTIF(город,\"<\"&город),0)),\"\")","v":""},null,36,{"$f":"TRIM(регистрация!H41)","v":""}]
[{"$f":"регистрация!A42","v":0},{"$f":"регистрация!G42","v":"00:00:00"},{"$f":"IFERROR(RIGHT(регистрация!F42,LEN(регистрация!F42)-FIND(\"*\",SUBSTITUTE(регистрация!F42,\" \",\"*\",LEN(регистрация!F42)-LEN(SUBSTITUTE(регистрация!F42,\" \",\"\"))))),регистрация!F42)","v":0},"",{"$error":"#VALUE!"},{"$error":"#VALUE!"},{"$f":"IFERROR(INDEX(субъект,MATCH(SUM(COUNTIF(G$5:G41,субъект)),COUNTIF(субъект,\"<\"&субъект),0)),\"\")","v":""},{"$f":"IFERROR(INDEX(город,MATCH(SUM(COUNTIF(H$4:H41,город)),COUNTIF(город,\"<\"&город),0)),\"\")","v":""},null,37,{"$f":"TRIM(регистрация!H42)","v":""}]
[{"$f":"регистрация!A43","v":0},{"$f":"регистрация!G43","v":"00:00:00"},{"$f":"IFERROR(RIGHT(регистрация!F43,LEN(регистрация!F43)-FIND(\"*\",SUBSTITUTE(регистрация!F43,\" \",\"*\",LEN(регистрация!F43)-LEN(SUBSTITUTE(регистрация!F43,\" \",\"\"))))),регистрация!F43)","v":0},"",{"$error":"#VALUE!"},{"$error":"#VALUE!"},{"$f":"IFERROR(INDEX(субъект,MATCH(SUM(COUNTIF(G$5:G42,субъект)),COUNTIF(субъект,\"<\"&субъект),0)),\"\")","v":""},{"$f":"IFERROR(INDEX(город,MATCH(SUM(COUNTIF(H$4:H42,город)),COUNTIF(город,\"<\"&город),0)),\"\")","v":""},null,38,{"$f":"TRIM(регистрация!H43)","v":""}]
[{"$f":"регистрация!A44","v":0},{"$f":"регистрация!G44","v":"00:00:00"},{"$f":"IFERROR(RIGHT(регистрация!F44,LEN(регистрация!F44)-FIND(\"*\",SUBSTITUTE(регистрация!F44,\" \",\"*\",LEN(регистрация!F44)-LEN(SUBSTITUTE(регистрация!F44,\" \",\"\"))))),регистрация!F44)","v":0},"",{"$error":"#VALUE!"},{"$error":"#VALUE!"},{"$f":"IFERROR(INDEX(субъект,MATCH(SUM(COUNTIF(G$5:G43,субъект)),COUNTIF(субъект,\"<\"&субъект),0)),\"\")","v":""},{"$f":"IFERROR(INDEX(город,MATCH(SUM(COUNTIF(H$4:H43,город)),COUNTIF(город,\"<\"&город),0)),\"\")","v":""},null,39,{"$f":"TRIM(регистрация!H44)","v":""}]
[{"$f":"регистрация!A45","v":0},{"$f":"регистрация!G45","v":"00:00:00"},{"$f":"IFERROR(RIGHT(регистрация!F45,LEN(регистрация!F45)-FIND(\"*\",SUBSTITUTE(регистрация!F45,\" \",\"*\",LEN(регистрация!F45)-LEN(SUBSTITUTE(регистрация!F45,\" \",\"\"))))),регистрация!F45)","v":0},"",{"$error":"#VALUE!"},{"$error":"#VALUE!"},{"$f":"IFERROR(INDEX(субъект,MATCH(SUM(COUNTIF(G$5:G44,субъект)),COUNTIF(субъект,\"<\"&субъект),0)),\"\")","v":""},{"$f":"IFERROR(INDEX(город,MATCH(SUM(COUNTIF(H$4:H44,город)),COUNTIF(город,\"<\"&город),0)),\"\")","v":""},null,40,{"$f":"TRIM(регистрация!H45)","v":""}]
[{"$f":"регистрация!A46","v":0},{"$f":"регистрация!G46","v":"00:00:00"},{"$f":"IFERROR(RIGHT(регистрация!F46,LEN(регистрация!F46)-FIND(\"*\",SUBSTITUTE(регистрация!F46,\" \",\"*\",LEN(регистрация!F46)-LEN(SUBSTITUTE(регистрация!F46,\" \",\"\"))))),регистрация!F46)","v":0},"",{"$error":"#VALUE!"},{"$error":"#VALUE!"},{"$f":"IFERROR(INDEX(субъект,MATCH(SUM(COUNTIF(G$5:G45,субъект)),COUNTIF(субъект,\"<\"&субъект),0)),\"\")","v":""},{"$f":"IFERROR(INDEX(город,MATCH(SUM(COUNTIF(H$4:H45,город)),COUNTIF(город,\"<\"&город),0)),\"\")","v":""},null,41,{"$f":"TRIM(регистрация!H46)","v":""}]
[{"$f":"регистрация!A47","v":0},{"$f":"регистрация!G47","v":"00:00:00"},{"$f":"IFERROR(RIGHT(регистрация!F47,LEN(регистрация!F47)-FIND(\"*\",SUBSTITUTE(регистрация!F47,\" \",\"*\",LEN(регистрация!F47)-LEN(SUBSTITUTE(регистрация!F47,\" \",\"\"))))),регистрация!F47)","v":0},"",{"$error":"#VALUE!"},{"$error":"#VALUE!"},{"$f":"IFERROR(INDEX(субъект,MATCH(SUM(COUNTIF(G$5:G46,субъект)),COUNTIF(субъект,\"<\"&субъект),0)),\"\")","v":""},{"$f":"IFERROR(INDEX(город,MATCH(SUM(COUNTIF(H$4:H46,город)),COUNTIF(город,\"<\"&город),0)),\"\")","v":""},null,42,{"$f":"TRIM(регистрация!H47)","v":""}]
[{"$f":"регистрация!A48","v":0},{"$f":"регистрация!G48","v":"00:00:00"},{"$f":"IFERROR(RIGHT(регистрация!F48,LEN(регистрация!F48)-FIND(\"*\",SUBSTITUTE(регистрация!F48,\" \",\"*\",LEN(регистрация!F48)-LEN(SUBSTITUTE(регистрация!F48,\" \",\"\"))))),регистрация!F48)","v":0},"",{"$error":"#VALUE!"},{"$error":"#VALUE!"},{"$f":"IFERROR(INDEX(субъект,MATCH(SUM(COUNTIF(G$5:G47,субъект)),COUNTIF(субъект,\"<\"&субъект),0)),\"\")","v":""},{"$f":"IFERROR(INDEX(город,MATCH(SUM(COUNTIF(H$4:H47,город)),COUNTIF(город,\"<\"&город),0)),\"\")","v":""},null,43,{"$f":"TRIM(регистрация!H48)","v":""}]
[{"$f":"регистрация!A49","v":0},{"$f":"регистрация!G49","v":"00:00:00"},{"$f":"IFERROR(RIGHT(регистрация!F49,LEN(регистрация!F49)-FIND(\"*\",SUBSTITUTE(регистрация!F49,\" \",\"*\",LEN(регистрация!F49)-LEN(SUBSTITUTE(регистрация!F49,\" \",\"\"))))),регистрация!F49)","v":0},"",{"$error":"#VALUE!"},{"$error":"#VALUE!"},{"$f":"IFERROR(INDEX(субъект,MATCH(SUM(COUNTIF(G$5:G48,субъект)),COUNTIF(субъект,\"<\"&субъект),0)),\"\")","v":""},{"$f":"IFERROR(INDEX(город,MATCH(SUM(COUNTIF(H$4:H48,город)),COUNTIF(город,\"<\"&город),0)),\"\")","v":""},null,44,{"$f":"TRIM(регистрация!H49)","v":""}]
[{"$f":"регистрация!A50","v":0},{"$f":"регистрация!G50","v":"00:00:00"},{"$f":"IFERROR(RIGHT(регистрация!F50,LEN(регистрация!F50)-FIND(\"*\",SUBSTITUTE(регистрация!F50,\" \",\"*\",LEN(регистрация!F50)-LEN(SUBSTITUTE(регистрация!F50,\" \",\"\"))))),регистрация!F50)","v":0},"",{"$error":"#VALUE!"},{"$error":"#VALUE!"},{"$f":"IFERROR(INDEX(субъект,MATCH(SUM(COUNTIF(G$5:G49,субъект)),COUNTIF(субъект,\"<\"&субъект),0)),\"\")","v":""},{"$f":"IFERROR(INDEX(город,MATCH(SUM(COUNTIF(H$4:H49,город)),COUNTIF(город,\"<\"&город),0)),\"\")","v":""},null,45,{"$f":"TRIM(регистрация!H50)","v":""}]
[{"$f":"регистрация!A51","v":0},{"$f":"регистрация!G51","v":"00:00:00"},{"$f":"IFERROR(RIGHT(регистрация!F51,LEN(регистрация!F51)-FIND(\"*\",SUBSTITUTE(регистрация!F51,\" \",\"*\",LEN(регистрация!F51)-LEN(SUBSTITUTE(регистрация!F51,\" \",\"\"))))),регистрация!F51)","v":0},"",{"$error":"#VALUE!"},{"$error":"#VALUE!"},{"$f":"IFERROR(INDEX(субъект,MATCH(SUM(COUNTIF(G$5:G50,субъект)),COUNTIF(субъект,\"<\"&субъект),0)),\"\")","v":""},{"$f":"IFERROR(INDEX(город,MATCH(SUM(COUNTIF(H$4:H50,город)),COUNTIF(город,\"<\"&город),0)),\"\")","v":""},null,46,{"$f":"TRIM(регистрация!H51)","v":""}]
[{"$f":"регистрация!A52","v":0},{"$f":"регистрация!G52","v":"00:00:00"},{"$f":"IFERROR(RIGHT(регистрация!F52,LEN(регистрация!F52)-FIND(\"*\",SUBSTITUTE(регистрация!F52,\" \",\"*\",LEN(регистрация!F52)-LEN(SUBSTITUTE(регистрация!F52,\" \",\"\"))))),регистрация!F52)","v":0},"",{"$error":"#VALUE!"},{"$error":"#VALUE!"},{"$f":"IFERROR(INDEX(субъект,MATCH(SUM(COUNTIF(G$5:G51,субъект)),COUNTIF(субъект,\"<\"&субъект),0)),\"\")","v":""},{"$f":"IFERROR(INDEX(город,MATCH(SUM(COUNTIF(H$4:H51,город)),COUNTIF(город,\"<\"&город),0)),\"\")","v":""},null,47,{"$f":"TRIM(регистрация!H52)","v":""}]
[{"$f":"регистрация!A53","v":0},{"$f":"регистрация!G53","v":"00:00:00"},{"$f":"IFERROR(RIGHT(регистрация!F53,LEN(регистрация!F53)-FIND(\"*\",SUBSTITUTE(регистрация!F53,\" \",\"*\",LEN(регистрация!F53)-LEN(SUBSTITUTE(регистрация!F53,\" \",\"\"))))),регистрация!F53)","v":0},"",{"$error":"#VALUE!"},{"$error":"#VALUE!"},{"$f":"IFERROR(INDEX(субъект,MATCH(SUM(COUNTIF(G$5:G52,субъект)),COUNTIF(субъект,\"<\"&субъект),0)),\"\")","v":""},null,null,null,{"$f":"TRIM(регистрация!H53)","v":""}]
[{"$f":"регистрация!A54","v":0},{"$f":"регистрация!G54","v":"00:00:00"},{"$f":"IFERROR(RIGHT(регистрация!F54,LEN(регистрация!F54)-FIND(\"*\",SUBSTITUTE(регистрация!F54,\" \",\"*\",LEN(регистрация!F54)-LEN(SUBSTITUTE(регистрация!F54,\" \",\"\"))))),регистрация!F54)","v":0},"",{"$error":"#VALUE!"},{"$error":"#VALUE!"},{"$f":"IFERROR(INDEX(субъект,MATCH(SUM(COUNTIF(G$5:G53,субъект)),COUNTIF(субъект,\"<\"&субъект),0)),\"\")","v":""},null,null,null,{"$f":"TRIM(регистрация!H54)","v":""}]
[{"$f":"регистрация!A55","v":0},{"$f":"регистрация!G55","v":"00:00:00"},{"$f":"IFERROR(RIGHT(регистрация!F55,LEN(регистрация!F55)-FIND(\"*\",SUBSTITUTE(регистрация!F55,\" \",\"*\",LEN(регистрация!F55)-LEN(SUBSTITUTE(регистрация!F55,\" \",\"\"))))),регистрация!F55)","v":0},"",{"$error":"#VALUE!"},{"$error":"#VALUE!"},{"$f":"IFERROR(INDEX(субъект,MATCH(SUM(COUNTIF(G$5:G54,субъект)),COUNTIF(субъект,\"<\"&субъект),0)),\"\")","v":""},null,null,null,{"$f":"TRIM(регистрация!H55)","v":""}]
[{"$f":"регистрация!A56","v":0},{"$f":"регистрация!G56","v":"00:00:00"},{"$f":"IFERROR(RIGHT(регистрация!F56,LEN(регистрация!F56)-FIND(\"*\",SUBSTITUTE(регистрация!F56,\" \",\"*\",LEN(регистрация!F56)-LEN(SUBSTITUTE(регистрация!F56,\" \",\"\"))))),регистрация!F56)","v":0},"",{"$error":"#VALUE!"},{"$error":"#VALUE!"},{"$f":"IFERROR(INDEX(субъект,MATCH(SUM(COUNTIF(G$5:G55,субъект)),COUNTIF(субъект,\"<\"&субъект),0)),\"\")","v":""},null,null,null,{"$f":"TRIM(регистрация!H56)","v":""}]
[{"$f":"регистрация!A57","v":0},{"$f":"регистрация!G57","v":"00:00:00"},{"$f":"IFERROR(RIGHT(регистрация!F57,LEN(регистрация!F57)-FIND(\"*\",SUBSTITUTE(регистрация!F57,\" \",\"*\",LEN(регистрация!F57)-LEN(SUBSTITUTE(регистрация!F57,\" \",\"\"))))),регистрация!F57)","v":0},"",{"$error":"#VALUE!"},{"$error":"#VALUE!"},{"$f":"IFERROR(INDEX(субъект,MATCH(SUM(COUNTIF(G$5:G56,субъект)),COUNTIF(субъект,\"<\"&субъект),0)),\"\")","v":""},null,null,null,{"$f":"TRIM(регистрация!H57)","v":""}]
[{"$f":"регистрация!A58","v":0},{"$f":"регистрация!G58","v":"00:00:00"},{"$f":"IFERROR(RIGHT(регистрация!F58,LEN(регистрация!F58)-FIND(\"*\",SUBSTITUTE(регистрация!F58,\" \",\"*\",LEN(регистрация!F58)-LEN(SUBSTITUTE(регистрация!F58,\" \",\"\"))))),регистрация!F58)","v":0},"",{"$error":"#VALUE!"},{"$error":"#VALUE!"},{"$f":"IFERROR(INDEX(субъект,MATCH(SUM(COUNTIF(G$5:G57,субъект)),COUNTIF(субъект,\"<\"&субъект),0)),\"\")","v":""},null,null,null,{"$f":"TRIM(регистрация!H58)","v":""}]
[{"$f":"регистрация!A59","v":0},{"$f":"регистрация!G59","v":"00:00:00"},{"$f":"IFERROR(RIGHT(регистрация!F59,LEN(регистрация!F59)-FIND(\"*\",SUBSTITUTE(регистрация!F59,\" \",\"*\",LEN(регистрация!F59)-LEN(SUBSTITUTE(регистрация!F59,\" \",\"\"))))),регистрация!F59)","v":0},"",{"$error":"#VALUE!"},{"$error":"#VALUE!"},{"$f":"IFERROR(INDEX(субъект,MATCH(SUM(COUNTIF(G$5:G58,субъект)),COUNTIF(субъект,\"<\"&субъект),0)),\"\")","v":""},null,null,null,{"$f":"TRIM(регистрация!H59)","v":""}]
[{"$f":"регистрация!A60","v":0},{"$f":"регистрация!G60","v":"00:00:00"},{"$f":"IFERROR(RIGHT(регистрация!F60,LEN(регистрация!F60)-FIND(\"*\",SUBSTITUTE(регистрация!F60,\" \",\"*\",LEN(регистрация!F60)-LEN(SUBSTITUTE(регистрация!F60,\" \",\"\"))))),регистрация!F60)","v":0},"",{"$error":"#VALUE!"},{"$error":"#VALUE!"},{"$f":"IFERROR(INDEX(субъект,MATCH(SUM(COUNTIF(G$5:G59,субъект)),COUNTIF(субъект,\"<\"&субъект),0)),\"\")","v":""},null,null,null,{"$f":"TRIM(регистрация!H60)","v":""}]
[{"$f":"регистрация!A61","v":0},{"$f":"регистрация!G61","v":"00:00:00"},{"$f":"IFERROR(RIGHT(регистрация!F61,LEN(регистрация!F61)-FIND(\"*\",SUBSTITUTE(регистрация!F61,\" \",\"*\",LEN(регистрация!F61)-LEN(SUBSTITUTE(регистрация!F61,\" \",\"\"))))),регистрация!F61)","v":0},"",{"$error":"#VALUE!"},{"$error":"#VALUE!"},{"$f":"IFERROR(INDEX(субъект,MATCH(SUM(COUNTIF(G$5:G60,субъект)),COUNTIF(субъект,\"<\"&субъект),0)),\"\")","v":""},null,null,null,{"$f":"TRIM(регистрация!H61)","v":""}]
[{"$f":"регистрация!A62","v":0},{"$f":"регистрация!G62","v":"00:00:00"},{"$f":"IFERROR(RIGHT(регистрация!F62,LEN(регистрация!F62)-FIND(\"*\",SUBSTITUTE(регистрация!F62,\" \",\"*\",LEN(регистрация!F62)-LEN(SUBSTITUTE(регистрация!F62,\" \",\"\"))))),регистрация!F62)","v":0},"",{"$error":"#VALUE!"},{"$error":"#VALUE!"},{"$f":"IFERROR(INDEX(субъект,MATCH(SUM(COUNTIF(G$5:G61,субъект)),COUNTIF(субъект,\"<\"&субъект),0)),\"\")","v":""},null,null,null,{"$f":"TRIM(регистрация!H62)","v":""}]
[{"$f":"регистрация!A63","v":0},{"$f":"регистрация!G63","v":"00:00:00"},{"$f":"IFERROR(RIGHT(регистрация!F63,LEN(регистрация!F63)-FIND(\"*\",SUBSTITUTE(регистрация!F63,\" \",\"*\",LEN(регистрация!F63)-LEN(SUBSTITUTE(регистрация!F63,\" \",\"\"))))),регистрация!F63)","v":0},"",{"$error":"#VALUE!"},{"$error":"#VALUE!"},{"$f":"IFERROR(INDEX(субъект,MATCH(SUM(COUNTIF(G$5:G62,субъект)),COUNTIF(субъект,\"<\"&субъект),0)),\"\")","v":""},null,null,null,{"$f":"TRIM(регистрация!H63)","v":""}]
[{"$f":"регистрация!A64","v":0},{"$f":"регистрация!G64","v":"00:00:00"},{"$f":"IFERROR(RIGHT(регистрация!F64,LEN(регистрация!F64)-FIND(\"*\",SUBSTITUTE(регистрация!F64,\" \",\"*\",LEN(регистрация!F64)-LEN(SUBSTITUTE(регистрация!F64,\" \",\"\"))))),регистрация!F64)","v":0},"",{"$error":"#VALUE!"},{"$error":"#VALUE!"},{"$f":"IFERROR(INDEX(субъект,MATCH(SUM(COUNTIF(G$5:G63,субъект)),COUNTIF(субъект,\"<\"&субъект),0)),\"\")","v":""},null,null,null,{"$f":"TRIM(регистрация!H64)","v":""}]
[{"$f":"регистрация!A65","v":0},{"$f":"регистрация!G65","v":"00:00:00"},{"$f":"IFERROR(RIGHT(регистрация!F65,LEN(регистрация!F65)-FIND(\"*\",SUBSTITUTE(регистрация!F65,\" \",\"*\",LEN(регистрация!F65)-LEN(SUBSTITUTE(регистрация!F65,\" \",\"\"))))),регистрация!F65)","v":0},"",{"$error":"#VALUE!"},{"$error":"#VALUE!"},{"$f":"IFERROR(INDEX(субъект,MATCH(SUM(COUNTIF(G$5:G64,субъект)),COUNTIF(субъект,\"<\"&субъект),0)),\"\")","v":""},null,null,null,{"$f":"TRIM(регистрация!H65)","v":""}]
[{"$f":"регистрация!A66","v":0},{"$f":"регистрация!G66","v":"00:00:00"},{"$f":"IFERROR(RIGHT(регистрация!F66,LEN(регистрация!F66)-FIND(\"*\",SUBSTITUTE(регистрация!F66,\" \",\"*\",LEN(регистрация!F66)-LEN(SUBSTITUTE(регистрация!F66,\" \",\"\"))))),регистрация!F66)","v":0},"",{"$error":"#VALUE!"},{"$error":"#VALUE!"},{"$f":"IFERROR(INDEX(субъект,MATCH(SUM(COUNTIF(G$5:G65,субъект)),COUNTIF(субъект,\"<\"&субъект),0)),\"\")","v":""},null,null,null,{"$f":"TRIM(регистрация!H66)","v":""}]
[{"$f":"регистрация!A67","v":0},{"$f":"регистрация!G67","v":"00:00:00"},{"$f":"IFERROR(RIGHT(регистрация!F67,LEN(регистрация!F67)-FIND(\"*\",SUBSTITUTE(регистрация!F67,\" \",\"*\",LEN(регистрация!F67)-LEN(SUBSTITUTE(регистрация!F67,\" \",\"\"))))),регистрация!F67)","v":0},"",{"$error":"#VALUE!"},{"$error":"#VALUE!"},{"$f":"IFERROR(INDEX(субъект,MATCH(SUM(COUNTIF(G$5:G66,субъект)),COUNTIF(субъект,\"<\"&субъект),0)),\"\")","v":""},null,null,null,{"$f":"TRIM(регистрация!H67)","v":""}]
[{"$f":"регистрация!A68","v":0},{"$f":"регистрация!G68","v":"00:00:00"},{"$f":"IFERROR(RIGHT(регистрация!F68,LEN(регистрация!F68)-FIND(\"*\",SUBSTITUTE(регистрация!F68,\" \",\"*\",LEN(регистрация!F68)-LEN(SUBSTITUTE(регистрация!F68,\" \",\"\"))))),регистрация!F68)","v":0},"",{"$error":"#VALUE!"},{"$error":"#VALUE!"},{"$f":"IFERROR(INDEX(субъект,MATCH(SUM(COUNTIF(G$5:G67,субъект)),COUNTIF(субъект,\"<\"&субъект),0)),\"\")","v":""},null,null,null,{"$f":"TRIM(регистрация!H68)","v":""}]
[{"$f":"регистрация!A69","v":0},{"$f":"регистрация!G69","v":"00:00:00"},{"$f":"IFERROR(RIGHT(регистрация!F69,LEN(регистрация!F69)-FIND(\"*\",SUBSTITUTE(регистрация!F69,\" \",\"*\",LEN(регистрация!F69)-LEN(SUBSTITUTE(регистрация!F69,\" \",\"\"))))),регистрация!F69)","v":0},"",{"$error":"#VALUE!"},{"$error":"#VALUE!"},{"$f":"IFERROR(INDEX(субъект,MATCH(SUM(COUNTIF(G$5:G68,субъект)),COUNTIF(субъект,\"<\"&субъект),0)),\"\")","v":""},null,null,null,{"$f":"TRIM(регистрация!H69)","v":""}]
[{"$f":"регистрация!A70","v":0},{"$f":"регистрация!G70","v":"00:00:00"},{"$f":"IFERROR(RIGHT(регистрация!F70,LEN(регистрация!F70)-FIND(\"*\",SUBSTITUTE(регистрация!F70,\" \",\"*\",LEN(регистрация!F70)-LEN(SUBSTITUTE(регистрация!F70,\" \",\"\"))))),регистрация!F70)","v":0},"",{"$f":"IFERROR(LEFT(F70,FIND(\",\",F70)-1),F70)","v":{"$error":"#VALUE!"}},{"$error":"#VALUE!"},{"$f":"IFERROR(INDEX(субъект,MATCH(SUM(COUNTIF(G$5:G69,субъект)),COUNTIF(субъект,\"<\"&субъект),0)),\"\")","v":""},null,null,null,{"$f":"TRIM(регистрация!H70)","v":""}]
[{"$f":"регистрация!A71","v":0},{"$f":"регистрация!G71","v":"00:00:00"},{"$f":"IFERROR(RIGHT(регистрация!F71,LEN(регистрация!F71)-FIND(\"*\",SUBSTITUTE(регистрация!F71,\" \",\"*\",LEN(регистрация!F71)-LEN(SUBSTITUTE(регистрация!F71,\" \",\"\"))))),регистрация!F71)","v":0},{"$f":"IFERROR(LEFT(K71,FIND(\",\",K71)-1),K71)","v":""},{"$error":"#VALUE!"},{"$f":"MID(K71,FIND(\" \",K71)*1,27)","v":{"$error":"#VALUE!"}},{"$f":"IFERROR(INDEX(субъект,MATCH(SUM(COUNTIF(G$5:G70,субъект)),COUNTIF(субъект,\"<\"&субъект),0)),\"\")","v":""},null,null,null,{"$f":"TRIM(регистрация!H71)","v":""}]
[{"$f":"регистрация!A72","v":0},{"$f":"регистрация!G72","v":"00:00:00"},{"$f":"IFERROR(RIGHT(регистрация!F72,LEN(регистрация!F72)-FIND(\"*\",SUBSTITUTE(регистрация!F72,\" \",\"*\",LEN(регистрация!F72)-LEN(SUBSTITUTE(регистрация!F72,\" \",\"\"))))),регистрация!F72)","v":0},"",{"$error":"#VALUE!"},{"$error":"#VALUE!"},null,null,null,null,{"$f":"TRIM(регистрация!H72)","v":""}]
[{"$f":"регистрация!A73","v":0},{"$f":"регистрация!G73","v":"00:00:00"},{"$f":"IFERROR(RIGHT(регистрация!F73,LEN(регистрация!F73)-FIND(\"*\",SUBSTITUTE(регистрация!F73,\" \",\"*\",LEN(регистрация!F73)-LEN(SUBSTITUTE(регистрация!F73,\" \",\"\"))))),регистрация!F73)","v":0},"",{"$error":"#VALUE!"},{"$error":"#VALUE!"},null,null,null,null,{"$f":"TRIM(регистрация!H73)","v":""}]
[{"$f":"регистрация!A74","v":0},{"$f":"регистрация!G74","v":"00:00:00"},{"$f":"IFERROR(RIGHT(регистрация!F74,LEN(регистрация!F74)-FIND(\"*\",SUBSTITUTE(регистрация!F74,\" \",\"*\",LEN(регистрация!F74)-LEN(SUBSTITUTE(регистрация!F74,\" \",\"\"))))),регистрация!F74)","v":0},"",{"$error":"#VALUE!"},{"$error":"#VALUE!"},null,null,null,null,{"$f":"TRIM(регистрация!H74)","v":""}]
[{"$f":"регистрация!A75","v":0},{"$f":"регистрация!G75","v":"00:00:00"},{"$f":"IFERROR(RIGHT(регистрация!F75,LEN(регистрация!F75)-FIND(\"*\",SUBSTITUTE(регистрация!F75,\" \",\"*\",LEN(регистрация!F75)-LEN(SUBSTITUTE(регистрация!F75,\" \",\"\"))))),регистрация!F75)","v":0},"",{"$error":"#VALUE!"},{"$error":"#VALUE!"},null,null,null,null,{"$f":"TRIM(регистрация!H75)","v":""}]
[{"$f":"регистрация!A76","v":0},{"$f":"регистрация!G76","v":"00:00:00"},{"$f":"IFERROR(RIGHT(регистрация!F76,LEN(регистрация!F76)-FIND(\"*\",SUBSTITUTE(регистрация!F76,\" \",\"*\",LEN(регистрация!F76)-LEN(SUBSTITUTE(регистрация!F76,\" \",\"\"))))),регистрация!F76)","v":0},"",{"$error":"#VALUE!"},{"$error":"#VALUE!"},null,null,null,null,{"$f":"TRIM(регистрация!H76)","v":""}]
[{"$f":"регистрация!A77","v":0},{"$f":"регистрация!G77","v":"00:00:00"},{"$f":"IFERROR(RIGHT(регистрация!F77,LEN(регистрация!F77)-FIND(\"*\",SUBSTITUTE(регистрация!F77,\" \",\"*\",LEN(регистрация!F77)-LEN(SUBSTITUTE(регистрация!F77,\" \",\"\"))))),регистрация!F77)","v":0},"",{"$error":"#VALUE!"},{"$error":"#VALUE!"},null,null,null,null,{"$f":"TRIM(регистрация!H77)","v":""}]
[{"$f":"регистрация!A78","v":0},{"$f":"регистрация!G78","v":"00:00:00"},{"$f":"IFERROR(RIGHT(регистрация!F78,LEN(регистрация!F78)-FIND(\"*\",SUBSTITUTE(регистрация!F78,\" \",\"*\",LEN(регистрация!F78)-LEN(SUBSTITUTE(регистрация!F78,\" \",\"\"))))),регистрация!F78)","v":0},"",{"$error":"#VALUE!"},{"$error":"#VALUE!"},null,null,null,null,{"$f":"TRIM(регистрация!H78)","v":""}]
[{"$f":"регистрация!A79","v":0},{"$f":"регистрация!G79","v":"00:00:00"},{"$f":"IFERROR(RIGHT(регистрация!F79,LEN(регистрация!F79)-FIND(\"*\",SUBSTITUTE(регистрация!F79,\" \",\"*\",LEN(регистрация!F79)-LEN(SUBSTITUTE(регистрация!F79,\" \",\"\"))))),регистрация!F79)","v":0},"",{"$error":"#VALUE!"},{"$error":"#VALUE!"},null,null,null,null,{"$f":"TRIM(регистрация!H79)","v":""}]
[{"$f":"регистрация!A80","v":0},{"$f":"регистрация!G80","v":"00:00:00"},{"$f":"IFERROR(RIGHT(регистрация!F80,LEN(регистрация!F80)-FIND(\"*\",SUBSTITUTE(регистрация!F80,\" \",\"*\",LEN(регистрация!F80)-LEN(SUBSTITUTE(регистрация!F80,\" \",\"\"))))),регистрация!F80)","v":0},"",{"$error":"#VALUE!"},{"$error":"#VALUE!"},null,null,null,null,{"$f":"TRIM(регистрация!H80)","v":""}]
[{"$f":"регистрация!A81","v":0},{"$f":"регистрация!G81","v":"00:00:00"},{"$f":"IFERROR(RIGHT(регистрация!F81,LEN(регистрация!F81)-FIND(\"*\",SUBSTITUTE(регистрация!F81,\" \",\"*\",LEN(регистрация!F81)-LEN(SUBSTITUTE(регистрация!F81,\" \",\"\"))))),регистрация!F81)","v":0},"",{"$error":"#VALUE!"},{"$error":"#VALUE!"},null,null,null,null,{"$f":"TRIM(регистрация!H81)","v":""}]
[{"$f":"регистрация!A82","v":0},{"$f":"регистрация!G82","v":"00:00:00"},{"$f":"IFERROR(RIGHT(регистрация!F82,LEN(регистрация!F82)-FIND(\"*\",SUBSTITUTE(регистрация!F82,\" \",\"*\",LEN(регистрация!F82)-LEN(SUBSTITUTE(регистрация!F82,\" \",\"\"))))),регистрация!F82)","v":0},"",{"$error":"#VALUE!"},{"$error":"#VALUE!"},null,null,null,null,{"$f":"TRIM(регистрация!H82)","v":""}]
[{"$f":"регистрация!A83","v":0},{"$f":"регистрация!G83","v":"00:00:00"},{"$f":"IFERROR(RIGHT(регистрация!F83,LEN(регистрация!F83)-FIND(\"*\",SUBSTITUTE(регистрация!F83,\" \",\"*\",LEN(регистрация!F83)-LEN(SUBSTITUTE(регистрация!F83,\" \",\"\"))))),регистрация!F83)","v":0},"",{"$error":"#VALUE!"},{"$error":"#VALUE!"},null,null,null,null,{"$f":"TRIM(регистрация!H83)","v":""}]
[{"$f":"регистрация!A84","v":0},{"$f":"регистрация!G84","v":"00:00:00"},{"$f":"IFERROR(RIGHT(регистрация!F84,LEN(регистрация!F84)-FIND(\"*\",SUBSTITUTE(регистрация!F84,\" \",\"*\",LEN(регистрация!F84)-LEN(SUBSTITUTE(регистрация!F84,\" \",\"\"))))),регистрация!F84)","v":0},"",{"$error":"#VALUE!"},{"$error":"#VALUE!"},null,null,null,null,{"$f":"TRIM(регистрация!H84)","v":""}]
[{"$f":"регистрация!A85","v":0},{"$f":"регистрация!G85","v":"00:00:00"},{"$f":"IFERROR(RIGHT(регистрация!F85,LEN(регистрация!F85)-FIND(\"*\",SUBSTITUTE(регистрация!F85,\" \",\"*\",LEN(регистрация!F85)-LEN(SUBSTITUTE(регистрация!F85,\" \",\"\"))))),регистрация!F85)","v":0},"",{"$error":"#VALUE!"},{"$error":"#VALUE!"},null,null,null,null,{"$f":"TRIM(регистрация!H85)","v":""}]
[{"$f":"регистрация!A86","v":0},{"$f":"регистрация!G86","v":"00:00:00"},{"$f":"IFERROR(RIGHT(регистрация!F86,LEN(регистрация!F86)-FIND(\"*\",SUBSTITUTE(регистрация!F86,\" \",\"*\",LEN(регистрация!F86)-LEN(SUBSTITUTE(регистрация!F86,\" \",\"\"))))),регистрация!F86)","v":0},"",{"$error":"#VALUE!"},{"$error":"#VALUE!"},null,null,null,null,{"$f":"TRIM(регистрация!H86)","v":""}]
[{"$f":"регистрация!A87","v":0},{"$f":"регистрация!G87","v":"00:00:00"},{"$f":"IFERROR(RIGHT(регистрация!F87,LEN(регистрация!F87)-FIND(\"*\",SUBSTITUTE(регистрация!F87,\" \",\"*\",LEN(регистрация!F87)-LEN(SUBSTITUTE(регистрация!F87,\" \",\"\"))))),регистрация!F87)","v":0},"",{"$error":"#VALUE!"},{"$error":"#VALUE!"},null,null,null,null,{"$f":"TRIM(регистрация!H87)","v":""}]
[{"$f":"регистрация!A88","v":0},{"$f":"регистрация!G88","v":"00:00:00"},{"$f":"IFERROR(RIGHT(регистрация!F88,LEN(регистрация!F88)-FIND(\"*\",SUBSTITUTE(регистрация!F88,\" \",\"*\",LEN(регистрация!F88)-LEN(SUBSTITUTE(регистрация!F88,\" \",\"\"))))),регистрация!F88)","v":0},"",{"$error":"#VALUE!"},{"$error":"#VALUE!"},null,null,null,null,{"$f":"TRIM(регистрация!H88)","v":""}]
[{"$f":"регистрация!A89","v":0},{"$f":"регистрация!G89","v":"00:00:00"},{"$f":"IFERROR(RIGHT(регистрация!F89,LEN(регистрация!F89)-FIND(\"*\",SUBSTITUTE(регистрация!F89,\" \",\"*\",LEN(регистрация!F89)-LEN(SUBSTITUTE(регистрация!F89,\" \",\"\"))))),регистрация!F89)","v":0},"",{"$error":"#VALUE!"},{"$error":"#VALUE!"},null,null,null,null,{"$f":"TRIM(регистрация!H89)","v":""}]
[{"$f":"регистрация!A90","v":0},{"$f":"регистрация!G90","v":"00:00:00"},{"$f":"IFERROR(RIGHT(регистрация!F90,LEN(регистрация!F90)-FIND(\"*\",SUBSTITUTE(регистрация!F90,\" \",\"*\",LEN(регистрация!F90)-LEN(SUBSTITUTE(регистрация!F90,\" \",\"\"))))),регистрация!F90)","v":0},"",{"$error":"#VALUE!"},{"$error":"#VALUE!"},null,null,null,null,{"$f":"TRIM(регистрация!H90)","v":""}]
[{"$f":"регистрация!A91","v":0},{"$f":"регистрация!G91","v":"00:00:00"},{"$f":"IFERROR(RIGHT(регистрация!F91,LEN(регистрация!F91)-FIND(\"*\",SUBSTITUTE(регистрация!F91,\" \",\"*\",LEN(регистрация!F91)-LEN(SUBSTITUTE(регистрация!F91,\" \",\"\"))))),регистрация!F91)","v":0},"",{"$error":"#VALUE!"},{"$error":"#VALUE!"},null,null,null,null,{"$f":"TRIM(регистрация!H91)","v":""}]
[{"$f":"регистрация!A92","v":0},{"$f":"регистрация!G92","v":"00:00:00"},{"$f":"IFERROR(RIGHT(регистрация!F92,LEN(регистрация!F92)-FIND(\"*\",SUBSTITUTE(регистрация!F92,\" \",\"*\",LEN(регистрация!F92)-LEN(SUBSTITUTE(регистрация!F92,\" \",\"\"))))),регистрация!F92)","v":0},"",{"$error":"#VALUE!"},{"$error":"#VALUE!"},null,null,null,null,{"$f":"TRIM(регистрация!H92)","v":""}]
[{"$f":"регистрация!A93","v":0},{"$f":"регистрация!G93","v":"00:00:00"},{"$f":"IFERROR(RIGHT(регистрация!F93,LEN(регистрация!F93)-FIND(\"*\",SUBSTITUTE(регистрация!F93,\" \",\"*\",LEN(регистрация!F93)-LEN(SUBSTITUTE(регистрация!F93,\" \",\"\"))))),регистрация!F93)","v":0},"",{"$error":"#VALUE!"},{"$error":"#VALUE!"},null,null,null,null,{"$f":"TRIM(регистрация!H93)","v":""}]
[{"$f":"регистрация!A94","v":0},{"$f":"регистрация!G94","v":"00:00:00"},{"$f":"IFERROR(RIGHT(регистрация!F94,LEN(регистрация!F94)-FIND(\"*\",SUBSTITUTE(регистрация!F94,\" \",\"*\",LEN(регистрация!F94)-LEN(SUBSTITUTE(регистрация!F94,\" \",\"\"))))),регистрация!F94)","v":0},"",{"$error":"#VALUE!"},{"$error":"#VALUE!"},null,null,null,null,{"$f":"TRIM(регистрация!H94)","v":""}]
[{"$f":"регистрация!A95","v":0},{"$f":"регистрация!G95","v":"00:00:00"},{"$f":"IFERROR(RIGHT(регистрация!F95,LEN(регистрация!F95)-FIND(\"*\",SUBSTITUTE(регистрация!F95,\" \",\"*\",LEN(регистрация!F95)-LEN(SUBSTITUTE(регистрация!F95,\" \",\"\"))))),регистрация!F95)","v":0},"",{"$error":"#VALUE!"},{"$error":"#VALUE!"},null,null,null,null,{"$f":"TRIM(регистрация!H95)","v":""}]
[{"$f":"регистрация!A96","v":0},{"$f":"регистрация!G96","v":"00:00:00"},{"$f":"IFERROR(RIGHT(регистрация!F96,LEN(регистрация!F96)-FIND(\"*\",SUBSTITUTE(регистрация!F96,\" \",\"*\",LEN(регистрация!F96)-LEN(SUBSTITUTE(регистрация!F96,\" \",\"\"))))),регистрация!F96)","v":0},"",{"$error":"#VALUE!"},{"$error":"#VALUE!"},null,null,null,null,{"$f":"TRIM(регистрация!H96)","v":""}]
[{"$f":"регистрация!A97","v":0},{"$f":"регистрация!G97","v":"00:00:00"},{"$f":"IFERROR(RIGHT(регистрация!F97,LEN(регистрация!F97)-FIND(\"*\",SUBSTITUTE(регистрация!F97,\" \",\"*\",LEN(регистрация!F97)-LEN(SUBSTITUTE(регистрация!F97,\" \",\"\"))))),регистрация!F97)","v":0},"",{"$error":"#VALUE!"},{"$error":"#VALUE!"},null,null,null,null,{"$f":"TRIM(регистрация!H97)","v":""}]
[{"$f":"регистрация!A98","v":0},{"$f":"регистрация!G98","v":"00:00:00"},{"$f":"IFERROR(RIGHT(регистрация!F98,LEN(регистрация!F98)-FIND(\"*\",SUBSTITUTE(регистрация!F98,\" \",\"*\",LEN(регистрация!F98)-LEN(SUBSTITUTE(регистрация!F98,\" \",\"\"))))),регистрация!F98)","v":0},"",{"$error":"#VALUE!"},{"$error":"#VALUE!"},null,null,null,null,{"$f":"TRIM(регистрация!H98)","v":""}]
[{"$f":"регистрация!A99","v":0},{"$f":"регистрация!G99","v":"00:00:00"},{"$f":"IFERROR(RIGHT(регистрация!F99,LEN(регистрация!F99)-FIND(\"*\",SUBSTITUTE(регистрация!F99,\" \",\"*\",LEN(регистрация!F99)-LEN(SUBSTITUTE(регистрация!F99,\" \",\"\"))))),регистрация!F99)","v":0},"",{"$error":"#VALUE!"},{"$error":"#VALUE!"},null,null,null,null,{"$f":"TRIM(регистрация!H99)","v":""}]
[{"$f":"регистрация!A100","v":0},{"$f":"регистрация!G100","v":"00:00:00"},{"$f":"IFERROR(RIGHT(регистрация!F100,LEN(регистрация!F100)-FIND(\"*\",SUBSTITUTE(регистрация!F100,\" \",\"*\",LEN(регистрация!F100)-LEN(SUBSTITUTE(регистрация!F100,\" \",\"\"))))),регистрация!F100)","v":0},"",{"$error":"#VALUE!"},{"$error":"#VALUE!"},null,null,null,null,{"$f":"TRIM(регистрация!H100)","v":""}]
[{"$f":"регистрация!A101","v":0},{"$f":"регистрация!G101","v":"00:00:00"},{"$f":"IFERROR(RIGHT(регистрация!F101,LEN(регистрация!F101)-FIND(\"*\",SUBSTITUTE(регистрация!F101,\" \",\"*\",LEN(регистрация!F101)-LEN(SUBSTITUTE(регистрация!F101,\" \",\"\"))))),регистрация!F101)","v":0},"",{"$error":"#VALUE!"},{"$error":"#VALUE!"},null,null,null,null,{"$f":"TRIM(регистрация!H101)","v":""}]
[{"$f":"регистрация!A102","v":0},{"$f":"регистрация!G102","v":"00:00:00"},{"$f":"IFERROR(RIGHT(регистрация!F102,LEN(регистрация!F102)-FIND(\"*\",SUBSTITUTE(регистрация!F102,\" \",\"*\",LEN(регистрация!F102)-LEN(SUBSTITUTE(регистрация!F102,\" \",\"\"))))),регистрация!F102)","v":0},"",{"$error":"#VALUE!"},{"$error":"#VALUE!"},null,null,null,null,{"$f":"TRIM(регистрация!H102)","v":""}]
[{"$f":"регистрация!A103","v":0},{"$f":"регистрация!G103","v":"00:00:00"},{"$f":"IFERROR(RIGHT(регистрация!F103,LEN(регистрация!F103)-FIND(\"*\",SUBSTITUTE(регистрация!F103,\" \",\"*\",LEN(регистрация!F103)-LEN(SUBSTITUTE(регистрация!F103,\" \",\"\"))))),регистрация!F103)","v":0},"",{"$error":"#VALUE!"},{"$error":"#VALUE!"},null,null,null,null,{"$f":"TRIM(регистрация!H103)","v":""}]
[{"$f":"регистрация!A104","v":0},{"$f":"регистрация!G104","v":"00:00:00"},{"$f":"IFERROR(RIGHT(регистрация!F104,LEN(регистрация!F104)-FIND(\"*\",SUBSTITUTE(регистрация!F104,\" \",\"*\",LEN(регистрация!F104)-LEN(SUBSTITUTE(регистрация!F104,\" \",\"\"))))),регистрация!F104)","v":0},"",{"$error":"#VALUE!"},{"$error":"#VALUE!"},null,null,null,null,{"$f":"TRIM(регистрация!H104)","v":""}]
[{"$f":"регистрация!A105","v":0},{"$f":"регистрация!G105","v":"00:00:00"},{"$f":"IFERROR(RIGHT(регистрация!F105,LEN(регистрация!F105)-FIND(\"*\",SUBSTITUTE(регистрация!F105,\" \",\"*\",LEN(регистрация!F105)-LEN(SUBSTITUTE(регистрация!F105,\" \",\"\"))))),регистрация!F105)","v":0},"",{"$error":"#VALUE!"},{"$error":"#VALUE!"},null,null,null,null,{"$f":"TRIM(регистрация!H105)","v":""}]
[{"$f":"регистрация!A106","v":0},{"$f":"регистрация!G106","v":"00:00:00"},{"$f":"IFERROR(RIGHT(регистрация!F106,LEN(регистрация!F106)-FIND(\"*\",SUBSTITUTE(регистрация!F106,\" \",\"*\",LEN(регистрация!F106)-LEN(SUBSTITUTE(регистрация!F106,\" \",\"\"))))),регистрация!F106)","v":0},"",{"$error":"#VALUE!"},{"$error":"#VALUE!"},null,null,null,null,{"$f":"TRIM(регистрация!H106)","v":""}]
[{"$f":"регистрация!A107","v":0},{"$f":"регистрация!G107","v":"00:00:00"},{"$f":"IFERROR(RIGHT(регистрация!F107,LEN(регистрация!F107)-FIND(\"*\",SUBSTITUTE(регистрация!F107,\" \",\"*\",LEN(регистрация!F107)-LEN(SUBSTITUTE(регистрация!F107,\" \",\"\"))))),регистрация!F107)","v":0},"",{"$error":"#VALUE!"},{"$error":"#VALUE!"},null,null,null,null,{"$f":"TRIM(регистрация!H107)","v":""}]
[{"$f":"регистрация!A108","v":0},{"$f":"регистрация!G108","v":"00:00:00"},{"$f":"IFERROR(RIGHT(регистрация!F108,LEN(регистрация!F108)-FIND(\"*\",SUBSTITUTE(регистрация!F108,\" \",\"*\",LEN(регистрация!F108)-LEN(SUBSTITUTE(регистрация!F108,\" \",\"\"))))),регистрация!F108)","v":0},"",{"$error":"#VALUE!"},{"$error":"#VALUE!"},null,null,null,null,{"$f":"TRIM(регистрация!H108)","v":""}]
[{"$f":"регистрация!A109","v":0},{"$f":"регистрация!G109","v":"00:00:00"},{"$f":"IFERROR(RIGHT(регистрация!F109,LEN(регистрация!F109)-FIND(\"*\",SUBSTITUTE(регистрация!F109,\" \",\"*\",LEN(регистрация!F109)-LEN(SUBSTITUTE(регистрация!F109,\" \",\"\"))))),регистрация!F109)","v":0},"",{"$error":"#VALUE!"},{"$error":"#VALUE!"},null,null,null,null,{"$f":"TRIM(регистрация!H109)","v":""}]
[{"$f":"регистрация!A110","v":0},{"$f":"регистрация!G110","v":"00:00:00"},{"$f":"IFERROR(RIGHT(регистрация!F110,LEN(регистрация!F110)-FIND(\"*\",SUBSTITUTE(регистрация!F110,\" \",\"*\",LEN(регистрация!F110)-LEN(SUBSTITUTE(регистрация!F110,\" \",\"\"))))),регистрация!F110)","v":0},"",{"$error":"#VALUE!"},{"$error":"#VALUE!"},null,null,null,null,{"$f":"TRIM(регистрация!H110)","v":""}]
[{"$f":"регистрация!A111","v":0},{"$f":"регистрация!G111","v":"00:00:00"},{"$f":"IFERROR(RIGHT(регистрация!F111,LEN(регистрация!F111)-FIND(\"*\",SUBSTITUTE(регистрация!F111,\" \",\"*\",LEN(регистрация!F111)-LEN(SUBSTITUTE(регистрация!F111,\" \",\"\"))))),регистрация!F111)","v":0},"",{"$error":"#VALUE!"},{"$error":"#VALUE!"},null,null,null,null,{"$f":"TRIM(регистрация!H111)","v":""}]
[{"$f":"регистрация!A112","v":0},{"$f":"регистрация!G112","v":"00:00:00"},{"$f":"IFERROR(RIGHT(регистрация!F112,LEN(регистрация!F112)-FIND(\"*\",SUBSTITUTE(регистрация!F112,\" \",\"*\",LEN(регистрация!F112)-LEN(SUBSTITUTE(регистрация!F112,\" \",\"\"))))),регистрация!F112)","v":0},"",{"$error":"#VALUE!"},{"$error":"#VALUE!"},null,null,null,null,{"$f":"TRIM(регистрация!H112)","v":""}]
[{"$f":"регистрация!A113","v":0},{"$f":"регистрация!G113","v":"00:00:00"},{"$f":"IFERROR(RIGHT(регистрация!F113,LEN(регистрация!F113)-FIND(\"*\",SUBSTITUTE(регистрация!F113,\" \",\"*\",LEN(регистрация!F113)-LEN(SUBSTITUTE(регистрация!F113,\" \",\"\"))))),регистрация!F113)","v":0},"",{"$error":"#VALUE!"},{"$error":"#VALUE!"},null,null,null,null,{"$f":"TRIM(регистрация!H113)","v":""}]
[{"$f":"регистрация!A114","v":0},{"$f":"регистрация!G114","v":"00:00:00"},{"$f":"IFERROR(RIGHT(регистрация!F114,LEN(регистрация!F114)-FIND(\"*\",SUBSTITUTE(регистрация!F114,\" \",\"*\",LEN(регистрация!F114)-LEN(SUBSTITUTE(регистрация!F114,\" \",\"\"))))),регистрация!F114)","v":0},"",{"$error":"#VALUE!"},{"$error":"#VALUE!"},null,null,null,null,{"$f":"TRIM(регистрация!H114)","v":""}]
[{"$f":"регистрация!A115","v":0},{"$f":"регистрация!G115","v":"00:00:00"},{"$f":"IFERROR(RIGHT(регистрация!F115,LEN(регистрация!F115)-FIND(\"*\",SUBSTITUTE(регистрация!F115,\" \",\"*\",LEN(регистрация!F115)-LEN(SUBSTITUTE(регистрация!F115,\" \",\"\"))))),регистрация!F115)","v":0},"",{"$error":"#VALUE!"},{"$error":"#VALUE!"},null,null,null,null,{"$f":"TRIM(регистрация!H115)","v":""}]
[{"$f":"регистрация!A116","v":0},{"$f":"регистрация!G116","v":"00:00:00"},{"$f":"IFERROR(RIGHT(регистрация!F116,LEN(регистрация!F116)-FIND(\"*\",SUBSTITUTE(регистрация!F116,\" \",\"*\",LEN(регистрация!F116)-LEN(SUBSTITUTE(регистрация!F116,\" \",\"\"))))),регистрация!F116)","v":0},"",{"$error":"#VALUE!"},{"$error":"#VALUE!"},null,null,null,null,{"$f":"TRIM(регистрация!H116)","v":""}]
[{"$f":"регистрация!A117","v":0},{"$f":"регистрация!G117","v":"00:00:00"},{"$f":"IFERROR(RIGHT(регистрация!F117,LEN(регистрация!F117)-FIND(\"*\",SUBSTITUTE(регистрация!F117,\" \",\"*\",LEN(регистрация!F117)-LEN(SUBSTITUTE(регистрация!F117,\" \",\"\"))))),регистрация!F117)","v":0},"",{"$error":"#VALUE!"},{"$error":"#VALUE!"},null,null,null,null,{"$f":"TRIM(регистрация!H117)","v":""}]
[{"$f":"регистрация!A118","v":0},{"$f":"регистрация!G118","v":"00:00:00"},{"$f":"IFERROR(RIGHT(регистрация!F118,LEN(регистрация!F118)-FIND(\"*\",SUBSTITUTE(регистрация!F118,\" \",\"*\",LEN(регистрация!F118)-LEN(SUBSTITUTE(регистрация!F118,\" \",\"\"))))),регистрация!F118)","v":0},"",{"$error":"#VALUE!"},{"$error":"#VALUE!"},null,null,null,null,{"$f":"TRIM(регистрация!H118)","v":""}]
[{"$f":"регистрация!A119","v":0},{"$f":"регистрация!G119","v":"00:00:00"},{"$f":"IFERROR(RIGHT(регистрация!F119,LEN(регистрация!F119)-FIND(\"*\",SUBSTITUTE(регистрация!F119,\" \",\"*\",LEN(регистрация!F119)-LEN(SUBSTITUTE(регистрация!F119,\" \",\"\"))))),регистрация!F119)","v":0},"",{"$error":"#VALUE!"},{"$error":"#VALUE!"},null,null,null,null,{"$f":"TRIM(регистрация!H119)","v":""}]
[{"$f":"регистрация!A120","v":0},{"$f":"регистрация!G120","v":"00:00:00"},{"$f":"IFERROR(RIGHT(регистрация!F120,LEN(регистрация!F120)-FIND(\"*\",SUBSTITUTE(регистрация!F120,\" \",\"*\",LEN(регистрация!F120)-LEN(SUBSTITUTE(регистрация!F120,\" \",\"\"))))),регистрация!F120)","v":0},"",{"$error":"#VALUE!"},{"$error":"#VALUE!"},null,null,null,null,{"$f":"TRIM(регистрация!H120)","v":""}]
[{"$f":"регистрация!A121","v":0},{"$f":"регистрация!G121","v":"00:00:00"},{"$f":"IFERROR(RIGHT(регистрация!F121,LEN(регистрация!F121)-FIND(\"*\",SUBSTITUTE(регистрация!F121,\" \",\"*\",LEN(регистрация!F121)-LEN(SUBSTITUTE(регистрация!F121,\" \",\"\"))))),регистрация!F121)","v":0},"",{"$error":"#VALUE!"},{"$error":"#VALUE!"},null,null,null,null,{"$f":"TRIM(регистрация!H121)","v":""}]
[{"$f":"регистрация!A122","v":0},{"$f":"регистрация!G122","v":"00:00:00"},{"$f":"IFERROR(RIGHT(регистрация!F122,LEN(регистрация!F122)-FIND(\"*\",SUBSTITUTE(регистрация!F122,\" \",\"*\",LEN(регистрация!F122)-LEN(SUBSTITUTE(регистрация!F122,\" \",\"\"))))),регистрация!F122)","v":0},"",{"$error":"#VALUE!"},{"$error":"#VALUE!"},null,null,null,null,{"$f":"TRIM(регистрация!H122)","v":""}]
[{"$f":"регистрация!A123","v":0},{"$f":"регистрация!G123","v":"00:00:00"},{"$f":"IFERROR(RIGHT(регистрация!F123,LEN(регистрация!F123)-FIND(\"*\",SUBSTITUTE(регистрация!F123,\" \",\"*\",LEN(регистрация!F123)-LEN(SUBSTITUTE(регистрация!F123,\" \",\"\"))))),регистрация!F123)","v":0},"",{"$error":"#VALUE!"},{"$error":"#VALUE!"},null,null,null,null,{"$f":"TRIM(регистрация!H123)","v":""}]
[{"$f":"регистрация!A124","v":0},{"$f":"регистрация!G124","v":"00:00:00"},{"$f":"IFERROR(RIGHT(регистрация!F124,LEN(регистрация!F124)-FIND(\"*\",SUBSTITUTE(регистрация!F124,\" \",\"*\",LEN(регистрация!F124)-LEN(SUBSTITUTE(регистрация!F124,\" \",\"\"))))),регистрация!F124)","v":0},"",{"$error":"#VALUE!"},{"$error":"#VALUE!"},null,null,null,null,{"$f":"TRIM(регистрация!H124)","v":""}]
[{"$f":"регистрация!A125","v":0},{"$f":"регистрация!G125","v":"00:00:00"},{"$f":"IFERROR(RIGHT(регистрация!F125,LEN(регистрация!F125)-FIND(\"*\",SUBSTITUTE(регистрация!F125,\" \",\"*\",LEN(регистрация!F125)-LEN(SUBSTITUTE(регистрация!F125,\" \",\"\"))))),регистрация!F125)","v":0},"",{"$error":"#VALUE!"},{"$error":"#VALUE!"},null,null,null,null,{"$f":"TRIM(регистрация!H125)","v":""}]
[{"$f":"регистрация!A126","v":0},{"$f":"регистрация!G126","v":"00:00:00"},{"$f":"IFERROR(RIGHT(регистрация!F126,LEN(регистрация!F126)-FIND(\"*\",SUBSTITUTE(регистрация!F126,\" \",\"*\",LEN(регистрация!F126)-LEN(SUBSTITUTE(регистрация!F126,\" \",\"\"))))),регистрация!F126)","v":0},"",{"$error":"#VALUE!"},{"$error":"#VALUE!"},null,null,null,null,{"$f":"TRIM(регистрация!H126)","v":""}]
[{"$f":"регистрация!A127","v":0},{"$f":"регистрация!G127","v":"00:00:00"},{"$f":"IFERROR(RIGHT(регистрация!F127,LEN(регистрация!F127)-FIND(\"*\",SUBSTITUTE(регистрация!F127,\" \",\"*\",LEN(регистрация!F127)-LEN(SUBSTITUTE(регистрация!F127,\" \",\"\"))))),регистрация!F127)","v":0},"",{"$error":"#VALUE!"},{"$error":"#VALUE!"},null,null,null,null,{"$f":"TRIM(регистрация!H127)","v":""}]
[{"$f":"регистрация!A128","v":0},{"$f":"регистрация!G128","v":"00:00:00"},{"$f":"IFERROR(RIGHT(регистрация!F128,LEN(регистрация!F128)-FIND(\"*\",SUBSTITUTE(регистрация!F128,\" \",\"*\",LEN(регистрация!F128)-LEN(SUBSTITUTE(регистрация!F128,\" \",\"\"))))),регистрация!F128)","v":0},"",{"$error":"#VALUE!"},{"$error":"#VALUE!"},null,null,null,null,{"$f":"TRIM(регистрация!H128)","v":""}]
[{"$f":"регистрация!A129","v":0},{"$f":"регистрация!G129","v":"00:00:00"},{"$f":"IFERROR(RIGHT(регистрация!F129,LEN(регистрация!F129)-FIND(\"*\",SUBSTITUTE(регистрация!F129,\" \",\"*\",LEN(регистрация!F129)-LEN(SUBSTITUTE(регистрация!F129,\" \",\"\"))))),регистрация!F129)","v":0},"",{"$error":"#VALUE!"},{"$error":"#VALUE!"},null,null,null,null,{"$f":"TRIM(регистрация!H129)","v":""}]
[{"$f":"регистрация!A130","v":0},{"$f":"регистрация!G130","v":"00:00:00"},{"$f":"IFERROR(RIGHT(регистрация!F130,LEN(регистрация!F130)-FIND(\"*\",SUBSTITUTE(регистрация!F130,\" \",\"*\",LEN(регистрация!F130)-LEN(SUBSTITUTE(регистрация!F130,\" \",\"\"))))),регистрация!F130)","v":0},"",{"$error":"#VALUE!"},{"$error":"#VALUE!"},null,null,null,null,{"$f":"TRIM(регистрация!H130)","v":""}]
[{"$f":"регистрация!A131","v":0},{"$f":"регистрация!G131","v":"00:00:00"},{"$f":"IFERROR(RIGHT(регистрация!F131,LEN(регистрация!F131)-FIND(\"*\",SUBSTITUTE(регистрация!F131,\" \",\"*\",LEN(регистрация!F131)-LEN(SUBSTITUTE(регистрация!F131,\" \",\"\"))))),регистрация!F131)","v":0},"",{"$error":"#VALUE!"},{"$error":"#VALUE!"},null,null,null,null,{"$f":"TRIM(регистрация!H131)","v":""}]
[{"$f":"регистрация!A132","v":0},{"$f":"регистрация!G132","v":"00:00:00"},{"$f":"IFERROR(RIGHT(регистрация!F132,LEN(регистрация!F132)-FIND(\"*\",SUBSTITUTE(регистрация!F132,\" \",\"*\",LEN(регистрация!F132)-LEN(SUBSTITUTE(регистрация!F132,\" \",\"\"))))),регистрация!F132)","v":0},"",{"$error":"#VALUE!"},{"$error":"#VALUE!"},null,null,null,null,{"$f":"TRIM(регистрация!H132)","v":""}]
[{"$f":"регистрация!A133","v":0},{"$f":"регистрация!G133","v":"00:00:00"},{"$f":"IFERROR(RIGHT(регистрация!F133,LEN(регистрация!F133)-FIND(\"*\",SUBSTITUTE(регистрация!F133,\" \",\"*\",LEN(регистрация!F133)-LEN(SUBSTITUTE(регистрация!F133,\" \",\"\"))))),регистрация!F133)","v":0},"",{"$error":"#VALUE!"},{"$error":"#VALUE!"},null,null,null,null,{"$f":"TRIM(регистрация!H133)","v":""}]
[{"$f":"регистрация!A134","v":0},{"$f":"регистрация!G134","v":"00:00:00"},{"$f":"IFERROR(RIGHT(регистрация!F134,LEN(регистрация!F134)-FIND(\"*\",SUBSTITUTE(регистрация!F134,\" \",\"*\",LEN(регистрация!F134)-LEN(SUBSTITUTE(регистрация!F134,\" \",\"\"))))),регистрация!F134)","v":0},"",{"$f":"IFERROR(LEFT(F134,FIND(\",\",F134)-1),F134)","v":{"$error":"#VALUE!"}},{"$error":"#VALUE!"},null,null,null,null,{"$f":"TRIM(регистрация!H134)","v":""}]
[{"$f":"регистрация!A135","v":0},{"$f":"регистрация!G135","v":"00:00:00"},{"$f":"IFERROR(RIGHT(регистрация!F135,LEN(регистрация!F135)-FIND(\"*\",SUBSTITUTE(регистрация!F135,\" \",\"*\",LEN(регистрация!F135)-LEN(SUBSTITUTE(регистрация!F135,\" \",\"\"))))),регистрация!F135)","v":0},{"$f":"IFERROR(LEFT(K135,FIND(\",\",K135)-1),K135)","v":""},{"$error":"#VALUE!"},{"$f":"MID(K135,FIND(\" \",K135)*1,27)","v":{"$error":"#VALUE!"}},null,null,null,null,{"$f":"TRIM(регистрация!H135)","v":""}]
[{"$f":"регистрация!A136","v":0},{"$f":"регистрация!G136","v":"00:00:00"},{"$f":"IFERROR(RIGHT(регистрация!F136,LEN(регистрация!F136)-FIND(\"*\",SUBSTITUTE(регистрация!F136,\" \",\"*\",LEN(регистрация!F136)-LEN(SUBSTITUTE(регистрация!F136,\" \",\"\"))))),регистрация!F136)","v":0},"",{"$error":"#VALUE!"},{"$error":"#VALUE!"},null,null,null,null,{"$f":"TRIM(регистрация!H136)","v":""}]
[{"$f":"регистрация!A137","v":0},{"$f":"регистрация!G137","v":"00:00:00"},{"$f":"IFERROR(RIGHT(регистрация!F137,LEN(регистрация!F137)-FIND(\"*\",SUBSTITUTE(регистрация!F137,\" \",\"*\",LEN(регистрация!F137)-LEN(SUBSTITUTE(регистрация!F137,\" \",\"\"))))),регистрация!F137)","v":0},"",{"$error":"#VALUE!"},{"$error":"#VALUE!"},null,null,null,null,{"$f":"TRIM(регистрация!H137)","v":""}]
[{"$f":"регистрация!A138","v":0},{"$f":"регистрация!G138","v":"00:00:00"},{"$f":"IFERROR(RIGHT(регистрация!F138,LEN(регистрация!F138)-FIND(\"*\",SUBSTITUTE(регистрация!F138,\" \",\"*\",LEN(регистрация!F138)-LEN(SUBSTITUTE(регистрация!F138,\" \",\"\"))))),регистрация!F138)","v":0},"",{"$error":"#VALUE!"},{"$error":"#VALUE!"},null,null,null,null,{"$f":"TRIM(регистрация!H138)","v":""}]
[{"$f":"регистрация!A139","v":0},{"$f":"регистрация!G139","v":"00:00:00"},{"$f":"IFERROR(RIGHT(регистрация!F139,LEN(регистрация!F139)-FIND(\"*\",SUBSTITUTE(регистрация!F139,\" \",\"*\",LEN(регистрация!F139)-LEN(SUBSTITUTE(регистрация!F139,\" \",\"\"))))),регистрация!F139)","v":0},"",{"$error":"#VALUE!"},{"$error":"#VALUE!"},null,null,null,null,{"$f":"TRIM(регистрация!H139)","v":""}]
[{"$f":"регистрация!A140","v":0},{"$f":"регистрация!G140","v":"00:00:00"},{"$f":"IFERROR(RIGHT(регистрация!F140,LEN(регистрация!F140)-FIND(\"*\",SUBSTITUTE(регистрация!F140,\" \",\"*\",LEN(регистрация!F140)-LEN(SUBSTITUTE(регистрация!F140,\" \",\"\"))))),регистрация!F140)","v":0},"",{"$error":"#VALUE!"},{"$error":"#VALUE!"},null,null,null,null,{"$f":"TRIM(регистрация!H140)","v":""}]
[{"$f":"регистрация!A141","v":0},{"$f":"регистрация!G141","v":"00:00:00"},{"$f":"IFERROR(RIGHT(регистрация!F141,LEN(регистрация!F141)-FIND(\"*\",SUBSTITUTE(регистрация!F141,\" \",\"*\",LEN(регистрация!F141)-LEN(SUBSTITUTE(регистрация!F141,\" \",\"\"))))),регистрация!F141)","v":0},"",{"$error":"#VALUE!"},{"$error":"#VALUE!"},null,null,null,null,{"$f":"TRIM(регистрация!H141)","v":""}]
[{"$f":"регистрация!A142","v":0},{"$f":"регистрация!G142","v":"00:00:00"},{"$f":"IFERROR(RIGHT(регистрация!F142,LEN(регистрация!F142)-FIND(\"*\",SUBSTITUTE(регистрация!F142,\" \",\"*\",LEN(регистрация!F142)-LEN(SUBSTITUTE(регистрация!F142,\" \",\"\"))))),регистрация!F142)","v":0},"",{"$error":"#VALUE!"},{"$error":"#VALUE!"},null,null,null,null,{"$f":"TRIM(регистрация!H142)","v":""}]
[{"$f":"регистрация!A143","v":0},{"$f":"регистрация!G143","v":"00:00:00"},{"$f":"IFERROR(RIGHT(регистрация!F143,LEN(регистрация!F143)-FIND(\"*\",SUBSTITUTE(регистрация!F143,\" \",\"*\",LEN(регистрация!F143)-LEN(SUBSTITUTE(регистрация!F143,\" \",\"\"))))),регистрация!F143)","v":0},"",{"$error":"#VALUE!"},{"$error":"#VALUE!"},null,null,null,null,{"$f":"TRIM(регистрация!H143)","v":""}]
[{"$f":"регистрация!A144","v":0},{"$f":"регистрация!G144","v":"00:00:00"},{"$f":"IFERROR(RIGHT(регистрация!F144,LEN(регистрация!F144)-FIND(\"*\",SUBSTITUTE(регистрация!F144,\" \",\"*\",LEN(регистрация!F144)-LEN(SUBSTITUTE(регистрация!F144,\" \",\"\"))))),регистрация!F144)","v":0},"",{"$error":"#VALUE!"},{"$error":"#VALUE!"},null,null,null,null,{"$f":"TRIM(регистрация!H144)","v":""}]
[{"$f":"регистрация!A145","v":0},{"$f":"регистрация!G145","v":"00:00:00"},{"$f":"IFERROR(RIGHT(регистрация!F145,LEN(регистрация!F145)-FIND(\"*\",SUBSTITUTE(регистрация!F145,\" \",\"*\",LEN(регистрация!F145)-LEN(SUBSTITUTE(регистрация!F145,\" \",\"\"))))),регистрация!F145)","v":0},"",{"$error":"#VALUE!"},{"$error":"#VALUE!"},null,null,null,null,{"$f":"TRIM(регистрация!H145)","v":""}]
[{"$f":"регистрация!A146","v":0},{"$f":"регистрация!G146","v":"00:00:00"},{"$f":"IFERROR(RIGHT(регистрация!F146,LEN(регистрация!F146)-FIND(\"*\",SUBSTITUTE(регистрация!F146,\" \",\"*\",LEN(регистрация!F146)-LEN(SUBSTITUTE(регистрация!F146,\" \",\"\"))))),регистрация!F146)","v":0},"",{"$error":"#VALUE!"},{"$error":"#VALUE!"},null,null,null,null,{"$f":"TRIM(регистрация!H146)","v":""}]
[{"$f":"регистрация!A147","v":0},{"$f":"регистрация!G147","v":"00:00:00"},{"$f":"IFERROR(RIGHT(регистрация!F147,LEN(регистрация!F147)-FIND(\"*\",SUBSTITUTE(регистрация!F147,\" \",\"*\",LEN(регистрация!F147)-LEN(SUBSTITUTE(регистрация!F147,\" \",\"\"))))),регистрация!F147)","v":0},"",{"$error":"#VALUE!"},{"$error":"#VALUE!"},null,null,null,null,{"$f":"TRIM(регистрация!H147)","v":""}]
[{"$f":"регистрация!A148","v":0},{"$f":"регистрация!G148","v":"00:00:00"},{"$f":"IFERROR(RIGHT(регистрация!F148,LEN(регистрация!F148)-FIND(\"*\",SUBSTITUTE(регистрация!F148,\" \",\"*\",LEN(регистрация!F148)-LEN(SUBSTITUTE(регистрация!F148,\" \",\"\"))))),регистрация!F148)","v":0},"",{"$error":"#VALUE!"},{"$error":"#VALUE!"},null,null,null,null,{"$f":"TRIM(регистрация!H148)","v":""}]
[{"$f":"регистрация!A149","v":0},{"$f":"регистрация!G149","v":"00:00:00"},{"$f":"IFERROR(RIGHT(регистрация!F149,LEN(регистрация!F149)-FIND(\"*\",SUBSTITUTE(регистрация!F149,\" \",\"*\",LEN(регистрация!F149)-LEN(SUBSTITUTE(регистрация!F149,\" \",\"\"))))),регистрация!F149)","v":0},"",{"$error":"#VALUE!"},{"$error":"#VALUE!"},null,null,null,null,{"$f":"TRIM(регистрация!H149)","v":""}]
[{"$f":"регистрация!A150","v":0},{"$f":"регистрация!G150","v":"00:00:00"},{"$f":"IFERROR(RIGHT(регистрация!F150,LEN(регистрация!F150)-FIND(\"*\",SUBSTITUTE(регистрация!F150,\" \",\"*\",LEN(регистрация!F150)-LEN(SUBSTITUTE(регистрация!F150,\" \",\"\"))))),регистрация!F150)","v":0},"",{"$error":"#VALUE!"},{"$error":"#VALUE!"},null,null,null,null,{"$f":"TRIM(регистрация!H150)","v":""}]
[{"$f":"регистрация!A151","v":0},{"$f":"регистрация!G151","v":"00:00:00"},{"$f":"IFERROR(RIGHT(регистрация!F151,LEN(регистрация!F151)-FIND(\"*\",SUBSTITUTE(регистрация!F151,\" \",\"*\",LEN(регистрация!F151)-LEN(SUBSTITUTE(регистрация!F151,\" \",\"\"))))),регистрация!F151)","v":0},"",{"$error":"#VALUE!"},{"$error":"#VALUE!"},null,null,null,null,{"$f":"TRIM(регистрация!H151)","v":""}]
[{"$f":"регистрация!A152","v":0},{"$f":"регистрация!G152","v":"00:00:00"},{"$f":"IFERROR(RIGHT(регистрация!F152,LEN(регистрация!F152)-FIND(\"*\",SUBSTITUTE(регистрация!F152,\" \",\"*\",LEN(регистрация!F152)-LEN(SUBSTITUTE(регистрация!F152,\" \",\"\"))))),регистрация!F152)","v":0},"",{"$error":"#VALUE!"},{"$error":"#VALUE!"},null,null,null,null,{"$f":"TRIM(регистрация!H152)","v":""}]
[{"$f":"регистрация!A153","v":0},{"$f":"регистрация!G153","v":"00:00:00"},{"$f":"IFERROR(RIGHT(регистрация!F153,LEN(регистрация!F153)-FIND(\"*\",SUBSTITUTE(регистрация!F153,\" \",\"*\",LEN(регистрация!F153)-LEN(SUBSTITUTE(регистрация!F153,\" \",\"\"))))),регистрация!F153)","v":0},"",{"$error":"#VALUE!"},{"$error":"#VALUE!"},null,null,null,null,{"$f":"TRIM(регистрация!H153)","v":""}]
[{"$f":"регистрация!A154","v":0},{"$f":"регистрация!G154","v":"00:00:00"},{"$f":"IFERROR(RIGHT(регистрация!F154,LEN(регистрация!F154)-FIND(\"*\",SUBSTITUTE(регистрация!F154,\" \",\"*\",LEN(регистрация!F154)-LEN(SUBSTITUTE(регистрация!F154,\" \",\"\"))))),регистрация!F154)","v":0},"",{"$error":"#VALUE!"},{"$error":"#VALUE!"},null,null,null,null,{"$f":"TRIM(регистрация!H154)","v":""}]
[{"$f":"регистрация!A155","v":0},{"$f":"регистрация!G155","v":"00:00:00"},{"$f":"IFERROR(RIGHT(регистрация!F155,LEN(регистрация!F155)-FIND(\"*\",SUBSTITUTE(регистрация!F155,\" \",\"*\",LEN(регистрация!F155)-LEN(SUBSTITUTE(регистрация!F155,\" \",\"\"))))),регистрация!F155)","v":0},"",{"$error":"#VALUE!"},{"$error":"#VALUE!"},null,null,null,null,{"$f":"TRIM(регистрация!H155)","v":""}]
[{"$f":"регистрация!A156","v":0},{"$f":"регистрация!G156","v":"00:00:00"},{"$f":"IFERROR(RIGHT(регистрация!F156,LEN(регистрация!F156)-FIND(\"*\",SUBSTITUTE(регистрация!F156,\" \",\"*\",LEN(регистрация!F156)-LEN(SUBSTITUTE(регистрация!F156,\" \",\"\"))))),регистрация!F156)","v":0},"",{"$error":"#VALUE!"},{"$error":"#VALUE!"},null,null,null,null,{"$f":"TRIM(регистрация!H156)","v":""}]
[{"$f":"регистрация!A157","v":0},{"$f":"регистрация!G157","v":"00:00:00"},{"$f":"IFERROR(RIGHT(регистрация!F157,LEN(регистрация!F157)-FIND(\"*\",SUBSTITUTE(регистрация!F157,\" \",\"*\",LEN(регистрация!F157)-LEN(SUBSTITUTE(регистрация!F157,\" \",\"\"))))),регистрация!F157)","v":0},"",{"$error":"#VALUE!"},{"$error":"#VALUE!"},null,null,null,null,{"$f":"TRIM(регистрация!H157)","v":""}]
[{"$f":"регистрация!A158","v":0},{"$f":"регистрация!G158","v":"00:00:00"},{"$f":"IFERROR(RIGHT(регистрация!F158,LEN(регистрация!F158)-FIND(\"*\",SUBSTITUTE(регистрация!F158,\" \",\"*\",LEN(регистрация!F158)-LEN(SUBSTITUTE(регистрация!F158,\" \",\"\"))))),регистрация!F158)","v":0},"",{"$error":"#VALUE!"},{"$error":"#VALUE!"},null,null,null,null,{"$f":"TRIM(регистрация!H158)","v":""}]
[{"$f":"регистрация!A159","v":0},{"$f":"регистрация!G159","v":"00:00:00"},{"$f":"IFERROR(RIGHT(регистрация!F159,LEN(регистрация!F159)-FIND(\"*\",SUBSTITUTE(регистрация!F159,\" \",\"*\",LEN(регистрация!F159)-LEN(SUBSTITUTE(регистрация!F159,\" \",\"\"))))),регистрация!F159)","v":0},"",{"$error":"#VALUE!"},{"$error":"#VALUE!"},null,null,null,null,{"$f":"TRIM(регистрация!H159)","v":""}]
[{"$f":"регистрация!A160","v":0},{"$f":"регистрация!G160","v":"00:00:00"},{"$f":"IFERROR(RIGHT(регистрация!F160,LEN(регистрация!F160)-FIND(\"*\",SUBSTITUTE(регистрация!F160,\" \",\"*\",LEN(регистрация!F160)-LEN(SUBSTITUTE(регистрация!F160,\" \",\"\"))))),регистрация!F160)","v":0},"",{"$error":"#VALUE!"},{"$error":"#VALUE!"},null,null,null,null,{"$f":"TRIM(регистрация!H160)","v":""}]
[{"$f":"регистрация!A161","v":0},{"$f":"регистрация!G161","v":"00:00:00"},{"$f":"IFERROR(RIGHT(регистрация!F161,LEN(регистрация!F161)-FIND(\"*\",SUBSTITUTE(регистрация!F161,\" \",\"*\",LEN(регистрация!F161)-LEN(SUBSTITUTE(регистрация!F161,\" \",\"\"))))),регистрация!F161)","v":0},"",{"$error":"#VALUE!"},{"$error":"#VALUE!"},null,null,null,null,{"$f":"TRIM(регистрация!H161)","v":""}]
[{"$f":"регистрация!A162","v":0},{"$f":"регистрация!G162","v":"00:00:00"},{"$f":"IFERROR(RIGHT(регистрация!F162,LEN(регистрация!F162)-FIND(\"*\",SUBSTITUTE(регистрация!F162,\" \",\"*\",LEN(регистрация!F162)-LEN(SUBSTITUTE(регистрация!F162,\" \",\"\"))))),регистрация!F162)","v":0},"",{"$error":"#VALUE!"},{"$error":"#VALUE!"},null,null,null,null,{"$f":"TRIM(регистрация!H162)","v":""}]
[{"$f":"регистрация!A163","v":0},{"$f":"регистрация!G163","v":"00:00:00"},{"$f":"IFERROR(RIGHT(регистрация!F163,LEN(регистрация!F163)-FIND(\"*\",SUBSTITUTE(регистрация!F163,\" \",\"*\",LEN(регистрация!F163)-LEN(SUBSTITUTE(регистрация!F163,\" \",\"\"))))),регистрация!F163)","v":0},"",{"$error":"#VALUE!"},{"$error":"#VALUE!"},null,null,null,null,{"$f":"TRIM(регистрация!H163)","v":""}]
[{"$f":"регистрация!A164","v":0},{"$f":"регистрация!G164","v":"00:00:00"},{"$f":"IFERROR(RIGHT(регистрация!F164,LEN(регистрация!F164)-FIND(\"*\",SUBSTITUTE(регистрация!F164,\" \",\"*\",LEN(регистрация!F164)-LEN(SUBSTITUTE(регистрация!F164,\" \",\"\"))))),регистрация!F164)","v":0},"",{"$error":"#VALUE!"},{"$error":"#VALUE!"},null,null,null,null,{"$f":"TRIM(регистрация!H164)","v":""}]
[{"$f":"регистрация!A165","v":0},{"$f":"регистрация!G165","v":"00:00:00"},{"$f":"IFERROR(RIGHT(регистрация!F165,LEN(регистрация!F165)-FIND(\"*\",SUBSTITUTE(регистрация!F165,\" \",\"*\",LEN(регистрация!F165)-LEN(SUBSTITUTE(регистрация!F165,\" \",\"\"))))),регистрация!F165)","v":0},"",{"$error":"#VALUE!"},{"$error":"#VALUE!"},null,null,null,null,{"$f":"TRIM(регистрация!H165)","v":""}]
[{"$f":"регистрация!A166","v":0},{"$f":"регистрация!G166","v":"00:00:00"},{"$f":"IFERROR(RIGHT(регистрация!F166,LEN(регистрация!F166)-FIND(\"*\",SUBSTITUTE(регистрация!F166,\" \",\"*\",LEN(регистрация!F166)-LEN(SUBSTITUTE(регистрация!F166,\" \",\"\"))))),регистрация!F166)","v":0},"",{"$error":"#VALUE!"},{"$error":"#VALUE!"},null,null,null,null,{"$f":"TRIM(регистрация!H166)","v":""}]
[{"$f":"регистрация!A167","v":0},{"$f":"регистрация!G167","v":"00:00:00"},{"$f":"IFERROR(RIGHT(регистрация!F167,LEN(регистрация!F167)-FIND(\"*\",SUBSTITUTE(регистрация!F167,\" \",\"*\",LEN(регистрация!F167)-LEN(SUBSTITUTE(регистрация!F167,\" \",\"\"))))),регистрация!F167)","v":0},"",{"$error":"#VALUE!"},{"$error":"#VALUE!"},null,null,null,null,{"$f":"TRIM(регистрация!H167)","v":""}]
[{"$f":"регистрация!A168","v":0},{"$f":"регистрация!G168","v":"00:00:00"},{"$f":"IFERROR(RIGHT(регистрация!F168,LEN(регистрация!F168)-FIND(\"*\",SUBSTITUTE(регистрация!F168,\" \",\"*\",LEN(регистрация!F168)-LEN(SUBSTITUTE(регистрация!F168,\" \",\"\"))))),регистрация!F168)","v":0},"",{"$error":"#VALUE!"},{"$error":"#VALUE!"},null,null,null,null,{"$f":"TRIM(регистрация!H168)","v":""}]
[{"$f":"регистрация!A169","v":0},{"$f":"регистрация!G169","v":"00:00:00"},{"$f":"IFERROR(RIGHT(регистрация!F169,LEN(регистрация!F169)-FIND(\"*\",SUBSTITUTE(регистрация!F169,\" \",\"*\",LEN(регистрация!F169)-LEN(SUBSTITUTE(регистрация!F169,\" \",\"\"))))),регистрация!F169)","v":0},"",{"$error":"#VALUE!"},{"$error":"#VALUE!"},null,null,null,null,{"$f":"TRIM(регистрация!H169)","v":""}]
[{"$f":"регистрация!A170","v":0},{"$f":"регистрация!G170","v":"00:00:00"},{"$f":"IFERROR(RIGHT(регистрация!F170,LEN(регистрация!F170)-FIND(\"*\",SUBSTITUTE(регистрация!F170,\" \",\"*\",LEN(регистрация!F170)-LEN(SUBSTITUTE(регистрация!F170,\" \",\"\"))))),регистрация!F170)","v":0},"",{"$error":"#VALUE!"},{"$error":"#VALUE!"},null,null,null,null,{"$f":"TRIM(регистрация!H170)","v":""}]
[{"$f":"регистрация!A171","v":0},{"$f":"регистрация!G171","v":"00:00:00"},{"$f":"IFERROR(RIGHT(регистрация!F171,LEN(регистрация!F171)-FIND(\"*\",SUBSTITUTE(регистрация!F171,\" \",\"*\",LEN(регистрация!F171)-LEN(SUBSTITUTE(регистрация!F171,\" \",\"\"))))),регистрация!F171)","v":0},"",{"$error":"#VALUE!"},{"$error":"#VALUE!"},null,null,null,null,{"$f":"TRIM(регистрация!H171)","v":""}]
[{"$f":"регистрация!A172","v":0},{"$f":"регистрация!G172","v":"00:00:00"},{"$f":"IFERROR(RIGHT(регистрация!F172,LEN(регистрация!F172)-FIND(\"*\",SUBSTITUTE(регистрация!F172,\" \",\"*\",LEN(регистрация!F172)-LEN(SUBSTITUTE(регистрация!F172,\" \",\"\"))))),регистрация!F172)","v":0},"",{"$error":"#VALUE!"},{"$error":"#VALUE!"},null,null,null,null,{"$f":"TRIM(регистрация!H172)","v":""}]
[{"$f":"регистрация!A173","v":0},{"$f":"регистрация!G173","v":"00:00:00"},{"$f":"IFERROR(RIGHT(регистрация!F173,LEN(регистрация!F173)-FIND(\"*\",SUBSTITUTE(регистрация!F173,\" \",\"*\",LEN(регистрация!F173)-LEN(SUBSTITUTE(регистрация!F173,\" \",\"\"))))),регистрация!F173)","v":0},"",{"$error":"#VALUE!"},{"$error":"#VALUE!"},null,null,null,null,{"$f":"TRIM(регистрация!H173)","v":""}]
[{"$f":"регистрация!A174","v":0},{"$f":"регистрация!G174","v":"00:00:00"},{"$f":"IFERROR(RIGHT(регистрация!F174,LEN(регистрация!F174)-FIND(\"*\",SUBSTITUTE(регистрация!F174,\" \",\"*\",LEN(регистрация!F174)-LEN(SUBSTITUTE(регистрация!F174,\" \",\"\"))))),регистрация!F174)","v":0},"",{"$error":"#VALUE!"},{"$error":"#VALUE!"},null,null,null,null,{"$f":"TRIM(регистрация!H174)","v":""}]
[{"$f":"регистрация!A175","v":0},{"$f":"регистрация!G175","v":"00:00:00"},{"$f":"IFERROR(RIGHT(регистрация!F175,LEN(регистрация!F175)-FIND(\"*\",SUBSTITUTE(регистрация!F175,\" \",\"*\",LEN(регистрация!F175)-LEN(SUBSTITUTE(регистрация!F175,\" \",\"\"))))),регистрация!F175)","v":0},"",{"$error":"#VALUE!"},{"$error":"#VALUE!"},null,null,null,null,{"$f":"TRIM(регистрация!H175)","v":""}]
[{"$f":"регистрация!A176","v":0},{"$f":"регистрация!G176","v":"00:00:00"},{"$f":"IFERROR(RIGHT(регистрация!F176,LEN(регистрация!F176)-FIND(\"*\",SUBSTITUTE(регистрация!F176,\" \",\"*\",LEN(регистрация!F176)-LEN(SUBSTITUTE(регистрация!F176,\" \",\"\"))))),регистрация!F176)","v":0},"",{"$error":"#VALUE!"},{"$error":"#VALUE!"},null,null,null,null,{"$f":"TRIM(регистрация!H176)","v":""}]
[{"$f":"регистрация!A177","v":0},{"$f":"регистрация!G177","v":"00:00:00"},{"$f":"IFERROR(RIGHT(регистрация!F177,LEN(регистрация!F177)-FIND(\"*\",SUBSTITUTE(регистрация!F177,\" \",\"*\",LEN(регистрация!F177)-LEN(SUBSTITUTE(регистрация!F177,\" \",\"\"))))),регистрация!F177)","v":0},"",{"$error":"#VALUE!"},{"$error":"#VALUE!"},null,null,null,null,{"$f":"TRIM(регистрация!H177)","v":""}]
[{"$f":"регистрация!A178","v":0},{"$f":"регистрация!G178","v":"00:00:00"},{"$f":"IFERROR(RIGHT(регистрация!F178,LEN(регистрация!F178)-FIND(\"*\",SUBSTITUTE(регистрация!F178,\" \",\"*\",LEN(регистрация!F178)-LEN(SUBSTITUTE(регистрация!F178,\" \",\"\"))))),регистрация!F178)","v":0},"",{"$error":"#VALUE!"},{"$error":"#VALUE!"},null,null,null,null,{"$f":"TRIM(регистрация!H178)","v":""}]
[{"$f":"регистрация!A179","v":0},{"$f":"регистрация!G179","v":"00:00:00"},{"$f":"IFERROR(RIGHT(регистрация!F179,LEN(регистрация!F179)-FIND(\"*\",SUBSTITUTE(регистрация!F179,\" \",\"*\",LEN(регистрация!F179)-LEN(SUBSTITUTE(регистрация!F179,\" \",\"\"))))),регистрация!F179)","v":0},"",{"$error":"#VALUE!"},{"$error":"#VALUE!"},null,null,null,null,{"$f":"TRIM(регистрация!H179)","v":""}]
[{"$f":"регистрация!A180","v":0},{"$f":"регистрация!G180","v":"00:00:00"},{"$f":"IFERROR(RIGHT(регистрация!F180,LEN(регистрация!F180)-FIND(\"*\",SUBSTITUTE(регистрация!F180,\" \",\"*\",LEN(регистрация!F180)-LEN(SUBSTITUTE(регистрация!F180,\" \",\"\"))))),регистрация!F180)","v":0},"",{"$error":"#VALUE!"},{"$error":"#VALUE!"},null,null,null,null,{"$f":"TRIM(регистрация!H180)","v":""}]
[{"$f":"регистрация!A181","v":0},{"$f":"регистрация!G181","v":"00:00:00"},{"$f":"IFERROR(RIGHT(регистрация!F181,LEN(регистрация!F181)-FIND(\"*\",SUBSTITUTE(регистрация!F181,\" \",\"*\",LEN(регистрация!F181)-LEN(SUBSTITUTE(регистрация!F181,\" \",\"\"))))),регистрация!F181)","v":0},"",{"$error":"#VALUE!"},{"$error":"#VALUE!"},null,null,null,null,{"$f":"TRIM(регистрация!H181)","v":""}]
[{"$f":"регистрация!A182","v":0},{"$f":"регистрация!G182","v":"00:00:00"},{"$f":"IFERROR(RIGHT(регистрация!F182,LEN(регистрация!F182)-FIND(\"*\",SUBSTITUTE(регистрация!F182,\" \",\"*\",LEN(регистрация!F182)-LEN(SUBSTITUTE(регистрация!F182,\" \",\"\"))))),регистрация!F182)","v":0},"",{"$error":"#VALUE!"},{"$error":"#VALUE!"},null,null,null,null,{"$f":"TRIM(регистрация!H182)","v":""}]
[{"$f":"регистрация!A183","v":0},{"$f":"регистрация!G183","v":"00:00:00"},{"$f":"IFERROR(RIGHT(регистрация!F183,LEN(регистрация!F183)-FIND(\"*\",SUBSTITUTE(регистрация!F183,\" \",\"*\",LEN(регистрация!F183)-LEN(SUBSTITUTE(регистрация!F183,\" \",\"\"))))),регистрация!F183)","v":0},"",{"$error":"#VALUE!"},{"$error":"#VALUE!"},null,null,null,null,{"$f":"TRIM(регистрация!H183)","v":""}]
[{"$f":"регистрация!A184","v":0},{"$f":"регистрация!G184","v":"00:00:00"},{"$f":"IFERROR(RIGHT(регистрация!F184,LEN(регистрация!F184)-FIND(\"*\",SUBSTITUTE(регистрация!F184,\" \",\"*\",LEN(регистрация!F184)-LEN(SUBSTITUTE(регистрация!F184,\" \",\"\"))))),регистрация!F184)","v":0},"",{"$error":"#VALUE!"},{"$error":"#VALUE!"},null,null,null,null,{"$f":"TRIM(регистрация!H184)","v":""}]
[{"$f":"регистрация!A185","v":0},{"$f":"регистрация!G185","v":"00:00:00"},{"$f":"IFERROR(RIGHT(регистрация!F185,LEN(регистрация!F185)-FIND(\"*\",SUBSTITUTE(регистрация!F185,\" \",\"*\",LEN(регистрация!F185)-LEN(SUBSTITUTE(регистрация!F185,\" \",\"\"))))),регистрация!F185)","v":0},"",{"$error":"#VALUE!"},{"$error":"#VALUE!"},null,null,null,null,{"$f":"TRIM(регистрация!H185)","v":""}]
[{"$f":"регистрация!A186","v":0},{"$f":"регистрация!G186","v":"00:00:00"},{"$f":"IFERROR(RIGHT(регистрация!F186,LEN(регистрация!F186)-FIND(\"*\",SUBSTITUTE(регистрация!F186,\" \",\"*\",LEN(регистрация!F186)-LEN(SUBSTITUTE(регистрация!F186,\" \",\"\"))))),регистрация!F186)","v":0},"",{"$error":"#VALUE!"},{"$error":"#VALUE!"},null,null,null,null,{"$f":"TRIM(регистрация!H186)","v":""}]
[{"$f":"регистрация!A187","v":0},{"$f":"регистрация!G187","v":"00:00:00"},{"$f":"IFERROR(RIGHT(регистрация!F187,LEN(регистрация!F187)-FIND(\"*\",SUBSTITUTE(регистрация!F187,\" \",\"*\",LEN(регистрация!F187)-LEN(SUBSTITUTE(регистрация!F187,\" \",\"\"))))),регистрация!F187)","v":0},"",{"$error":"#VALUE!"},{"$error":"#VALUE!"},null,null,null,null,{"$f":"TRIM(регистрация!H187)","v":""}]
[{"$f":"регистрация!A188","v":0},{"$f":"регистрация!G188","v":"00:00:00"},{"$f":"IFERROR(RIGHT(регистрация!F188,LEN(регистрация!F188)-FIND(\"*\",SUBSTITUTE(регистрация!F188,\" \",\"*\",LEN(регистрация!F188)-LEN(SUBSTITUTE(регистрация!F188,\" \",\"\"))))),регистрация!F188)","v":0},"",{"$error":"#VALUE!"},{"$error":"#VALUE!"},null,null,null,null,{"$f":"TRIM(регистрация!H188)","v":""}]
[{"$f":"регистрация!A189","v":0},{"$f":"регистрация!G189","v":"00:00:00"},{"$f":"IFERROR(RIGHT(регистрация!F189,LEN(регистрация!F189)-FIND(\"*\",SUBSTITUTE(регистрация!F189,\" \",\"*\",LEN(регистрация!F189)-LEN(SUBSTITUTE(регистрация!F189,\" \",\"\"))))),регистрация!F189)","v":0},"",{"$error":"#VALUE!"},{"$error":"#VALUE!"},null,null,null,null,{"$f":"TRIM(регистрация!H189)","v":""}]
[{"$f":"регистрация!A190","v":0},{"$f":"регистрация!G190","v":"00:00:00"},{"$f":"IFERROR(RIGHT(регистрация!F190,LEN(регистрация!F190)-FIND(\"*\",SUBSTITUTE(регистрация!F190,\" \",\"*\",LEN(регистрация!F190)-LEN(SUBSTITUTE(регистрация!F190,\" \",\"\"))))),регистрация!F190)","v":0},"",{"$error":"#VALUE!"},{"$error":"#VALUE!"},null,null,null,null,{"$f":"TRIM(регистрация!H190)","v":""}]
[{"$f":"регистрация!A191","v":0},{"$f":"регистрация!G191","v":"00:00:00"},{"$f":"IFERROR(RIGHT(регистрация!F191,LEN(регистрация!F191)-FIND(\"*\",SUBSTITUTE(регистрация!F191,\" \",\"*\",LEN(регистрация!F191)-LEN(SUBSTITUTE(регистрация!F191,\" \",\"\"))))),регистрация!F191)","v":0},"",{"$error":"#VALUE!"},{"$error":"#VALUE!"},null,null,null,null,{"$f":"TRIM(регистрация!H191)","v":""}]
[{"$f":"регистрация!A192","v":0},{"$f":"регистрация!G192","v":"00:00:00"},{"$f":"IFERROR(RIGHT(регистрация!F192,LEN(регистрация!F192)-FIND(\"*\",SUBSTITUTE(регистрация!F192,\" \",\"*\",LEN(регистрация!F192)-LEN(SUBSTITUTE(регистрация!F192,\" \",\"\"))))),регистрация!F192)","v":0},"",{"$error":"#VALUE!"},{"$error":"#VALUE!"},null,null,null,null,{"$f":"TRIM(регистрация!H192)","v":""}]
[{"$f":"регистрация!A193","v":0},{"$f":"регистрация!G193","v":"00:00:00"},{"$f":"IFERROR(RIGHT(регистрация!F193,LEN(регистрация!F193)-FIND(\"*\",SUBSTITUTE(регистрация!F193,\" \",\"*\",LEN(регистрация!F193)-LEN(SUBSTITUTE(регистрация!F193,\" \",\"\"))))),регистрация!F193)","v":0},"",{"$error":"#VALUE!"},{"$error":"#VALUE!"},null,null,null,null,{"$f":"TRIM(регистрация!H193)","v":""}]
[{"$f":"регистрация!A194","v":0},{"$f":"регистрация!G194","v":"00:00:00"},{"$f":"IFERROR(RIGHT(регистрация!F194,LEN(регистрация!F194)-FIND(\"*\",SUBSTITUTE(регистрация!F194,\" \",\"*\",LEN(регистрация!F194)-LEN(SUBSTITUTE(регистрация!F194,\" \",\"\"))))),регистрация!F194)","v":0},"",{"$error":"#VALUE!"},{"$error":"#VALUE!"},null,null,null,null,{"$f":"TRIM(регистрация!H194)","v":""}]
[{"$f":"регистрация!A195","v":0},{"$f":"регистрация!G195","v":"00:00:00"},{"$f":"IFERROR(RIGHT(регистрация!F195,LEN(регистрация!F195)-FIND(\"*\",SUBSTITUTE(регистрация!F195,\" \",\"*\",LEN(регистрация!F195)-LEN(SUBSTITUTE(регистрация!F195,\" \",\"\"))))),регистрация!F195)","v":0},"",{"$error":"#VALUE!"},{"$error":"#VALUE!"},null,null,null,null,{"$f":"TRIM(регистрация!H195)","v":""}]
[{"$f":"регистрация!A196","v":0},{"$f":"регистрация!G196","v":"00:00:00"},{"$f":"IFERROR(RIGHT(регистрация!F196,LEN(регистрация!F196)-FIND(\"*\",SUBSTITUTE(регистрация!F196,\" \",\"*\",LEN(регистрация!F196)-LEN(SUBSTITUTE(регистрация!F196,\" \",\"\"))))),регистрация!F196)","v":0},"",{"$error":"#VALUE!"},{"$error":"#VALUE!"},null,null,null,null,{"$f":"TRIM(регистрация!H196)","v":""}]
[{"$f":"регистрация!A197","v":0},{"$f":"регистрация!G197","v":"00:00:00"},{"$f":"IFERROR(RIGHT(регистрация!F197,LEN(регистрация!F197)-FIND(\"*\",SUBSTITUTE(регистрация!F197,\" \",\"*\",LEN(регистрация!F197)-LEN(SUBSTITUTE(регистрация!F197,\" \",\"\"))))),регистрация!F197)","v":0},"",{"$error":"#VALUE!"},{"$error":"#VALUE!"},null,null,null,null,{"$f":"TRIM(регистрация!H197)","v":""}]
[{"$f":"регистрация!A198","v":0},{"$f":"регистрация!G198","v":"00:00:00"},{"$f":"IFERROR(RIGHT(регистрация!F198,LEN(регистрация!F198)-FIND(\"*\",SUBSTITUTE(регистрация!F198,\" \",\"*\",LEN(регистрация!F198)-LEN(SUBSTITUTE(регистрация!F198,\" \",\"\"))))),регистрация!F198)","v":0},"",{"$f":"IFERROR(LEFT(F198,FIND(\",\",F198)-1),F198)","v":{"$error":"#VALUE!"}},{"$error":"#VALUE!"},null,null,null,null,{"$f":"TRIM(регистрация!H198)","v":""}]
[{"$f":"регистрация!A199","v":0},{"$f":"регистрация!G199","v":"00:00:00"},{"$f":"IFERROR(RIGHT(регистрация!F199,LEN(регистрация!F199)-FIND(\"*\",SUBSTITUTE(регистрация!F199,\" \",\"*\",LEN(регистрация!F199)-LEN(SUBSTITUTE(регистрация!F199,\" \",\"\"))))),регистрация!F199)","v":0},{"$f":"IFERROR(LEFT(K199,FIND(\",\",K199)-1),K199)","v":""},{"$error":"#VALUE!"},{"$f":"MID(K199,FIND(\" \",K199)*1,27)","v":{"$error":"#VALUE!"}},null,null,null,null,{"$f":"TRIM(регистрация!H199)","v":""}]
[{"$f":"регистрация!A200","v":0},{"$f":"регистрация!G200","v":"00:00:00"},{"$f":"IFERROR(RIGHT(регистрация!F200,LEN(регистрация!F200)-FIND(\"*\",SUBSTITUTE(регистрация!F200,\" \",\"*\",LEN(регистрация!F200)-LEN(SUBSTITUTE(регистрация!F200,\" \",\"\"))))),регистрация!F200)","v":0},"",{"$error":"#VALUE!"},{"$error":"#VALUE!"},null,null,null,null,{"$f":"TRIM(регистрация!H200)","v":""}]
[{"$f":"регистрация!A201","v":0},{"$f":"регистрация!G201","v":"00:00:00"},{"$f":"IFERROR(RIGHT(регистрация!F201,LEN(регистрация!F201)-FIND(\"*\",SUBSTITUTE(регистрация!F201,\" \",\"*\",LEN(регистрация!F201)-LEN(SUBSTITUTE(регистрация!F201,\" \",\"\"))))),регистрация!F201)","v":0},"",{"$error":"#VALUE!"},{"$error":"#VALUE!"},null,null,null,null,{"$f":"TRIM(регистрация!H201)","v":""}]
[{"$f":"регистрация!A202","v":0},{"$f":"регистрация!G202","v":"00:00:00"},{"$f":"IFERROR(RIGHT(регистрация!F202,LEN(регистрация!F202)-FIND(\"*\",SUBSTITUTE(регистрация!F202,\" \",\"*\",LEN(регистрация!F202)-LEN(SUBSTITUTE(регистрация!F202,\" \",\"\"))))),регистрация!F202)","v":0},"",{"$error":"#VALUE!"},{"$error":"#VALUE!"},null,null,null,null,{"$f":"TRIM(регистрация!H202)","v":""}]
[{"$f":"регистрация!A203","v":0},{"$f":"регистрация!G203","v":"00:00:00"},{"$f":"IFERROR(RIGHT(регистрация!F203,LEN(регистрация!F203)-FIND(\"*\",SUBSTITUTE(регистрация!F203,\" \",\"*\",LEN(регистрация!F203)-LEN(SUBSTITUTE(регистрация!F203,\" \",\"\"))))),регистрация!F203)","v":0},"",{"$error":"#VALUE!"},{"$error":"#VALUE!"},null,null,null,null,{"$f":"TRIM(регистрация!H203)","v":""}]
[{"$f":"регистрация!A204","v":0},{"$f":"регистрация!G204","v":"00:00:00"},{"$f":"IFERROR(RIGHT(регистрация!F204,LEN(регистрация!F204)-FIND(\"*\",SUBSTITUTE(регистрация!F204,\" \",\"*\",LEN(регистрация!F204)-LEN(SUBSTITUTE(регистрация!F204,\" \",\"\"))))),регистрация!F204)","v":0},"",{"$error":"#VALUE!"},{"$error":"#VALUE!"},null,null,null,null,{"$f":"TRIM(регистрация!H204)","v":""}]
[{"$f":"регистрация!A205","v":0},{"$f":"регистрация!G205","v":"00:00:00"},{"$f":"IFERROR(RIGHT(регистрация!F205,LEN(регистрация!F205)-FIND(\"*\",SUBSTITUTE(регистрация!F205,\" \",\"*\",LEN(регистрация!F205)-LEN(SUBSTITUTE(регистрация!F205,\" \",\"\"))))),регистрация!F205)","v":0},"",{"$error":"#VALUE!"},{"$error":"#VALUE!"},null,null,null,null,{"$f":"TRIM(регистрация!H205)","v":""}]
[{"$f":"регистрация!A206","v":0},{"$f":"регистрация!G206","v":"00:00:00"},{"$f":"IFERROR(RIGHT(регистрация!F206,LEN(регистрация!F206)-FIND(\"*\",SUBSTITUTE(регистрация!F206,\" \",\"*\",LEN(регистрация!F206)-LEN(SUBSTITUTE(регистрация!F206,\" \",\"\"))))),регистрация!F206)","v":0},"",{"$error":"#VALUE!"},{"$error":"#VALUE!"},null,null,null,null,{"$f":"TRIM(регистрация!H206)","v":""}]
[{"$f":"регистрация!A207","v":0},{"$f":"регистрация!G207","v":"00:00:00"},{"$f":"IFERROR(RIGHT(регистрация!F207,LEN(регистрация!F207)-FIND(\"*\",SUBSTITUTE(регистрация!F207,\" \",\"*\",LEN(регистрация!F207)-LEN(SUBSTITUTE(регистрация!F207,\" \",\"\"))))),регистрация!F207)","v":0},"",{"$error":"#VALUE!"},{"$error":"#VALUE!"},null,null,null,null,{"$f":"TRIM(регистрация!H207)","v":""}]
[{"$f":"регистрация!A208","v":0},{"$f":"регистрация!G208","v":"00:00:00"},{"$f":"IFERROR(RIGHT(регистрация!F208,LEN(регистрация!F208)-FIND(\"*\",SUBSTITUTE(регистрация!F208,\" \",\"*\",LEN(регистрация!F208)-LEN(SUBSTITUTE(регистрация!F208,\" \",\"\"))))),регистрация!F208)","v":0},"",{"$error":"#VALUE!"},{"$error":"#VALUE!"},null,null,null,null,{"$f":"TRIM(регистрация!H208)","v":""}]
[{"$f":"регистрация!A209","v":0},{"$f":"регистрация!G209","v":"00:00:00"},{"$f":"IFERROR(RIGHT(регистрация!F209,LEN(регистрация!F209)-FIND(\"*\",SUBSTITUTE(регистрация!F209,\" \",\"*\",LEN(регистрация!F209)-LEN(SUBSTITUTE(регистрация!F209,\" \",\"\"))))),регистрация!F209)","v":0},"",{"$error":"#VALUE!"},{"$error":"#VALUE!"},null,null,null,null,{"$f":"TRIM(регистрация!H209)","v":""}]
[{"$f":"регистрация!A210","v":0},{"$f":"регистрация!G210","v":"00:00:00"},{"$f":"IFERROR(RIGHT(регистрация!F210,LEN(регистрация!F210)-FIND(\"*\",SUBSTITUTE(регистрация!F210,\" \",\"*\",LEN(регистрация!F210)-LEN(SUBSTITUTE(регистрация!F210,\" \",\"\"))))),регистрация!F210)","v":0},"",{"$error":"#VALUE!"},{"$error":"#VALUE!"},null,null,null,null,{"$f":"TRIM(регистрация!H210)","v":""}]
[{"$f":"регистрация!A211","v":0},{"$f":"регистрация!G211","v":"00:00:00"},{"$f":"IFERROR(RIGHT(регистрация!F211,LEN(регистрация!F211)-FIND(\"*\",SUBSTITUTE(регистрация!F211,\" \",\"*\",LEN(регистрация!F211)-LEN(SUBSTITUTE(регистрация!F211,\" \",\"\"))))),регистрация!F211)","v":0},"",{"$error":"#VALUE!"},{"$error":"#VALUE!"},null,null,null,null,{"$f":"TRIM(регистрация!H211)","v":""}]
[{"$f":"регистрация!A212","v":0},{"$f":"регистрация!G212","v":"00:00:00"},{"$f":"IFERROR(RIGHT(регистрация!F212,LEN(регистрация!F212)-FIND(\"*\",SUBSTITUTE(регистрация!F212,\" \",\"*\",LEN(регистрация!F212)-LEN(SUBSTITUTE(регистрация!F212,\" \",\"\"))))),регистрация!F212)","v":0},"",{"$error":"#VALUE!"},{"$error":"#VALUE!"},null,null,null,null,{"$f":"TRIM(регистрация!H212)","v":""}]
[{"$f":"регистрация!A213","v":0},{"$f":"регистрация!G213","v":"00:00:00"},{"$f":"IFERROR(RIGHT(регистрация!F213,LEN(регистрация!F213)-FIND(\"*\",SUBSTITUTE(регистрация!F213,\" \",\"*\",LEN(регистрация!F213)-LEN(SUBSTITUTE(регистрация!F213,\" \",\"\"))))),регистрация!F213)","v":0},"",{"$error":"#VALUE!"},{"$error":"#VALUE!"},null,null,null,null,{"$f":"TRIM(регистрация!H213)","v":""}]
[{"$f":"регистрация!A214","v":0},{"$f":"регистрация!G214","v":"00:00:00"},{"$f":"IFERROR(RIGHT(регистрация!F214,LEN(регистрация!F214)-FIND(\"*\",SUBSTITUTE(регистрация!F214,\" \",\"*\",LEN(регистрация!F214)-LEN(SUBSTITUTE(регистрация!F214,\" \",\"\"))))),регистрация!F214)","v":0},"",{"$error":"#VALUE!"},{"$error":"#VALUE!"},null,null,null,null,{"$f":"TRIM(регистрация!H214)","v":""}]
[{"$f":"регистрация!A215","v":0},{"$f":"регистрация!G215","v":"00:00:00"},{"$f":"IFERROR(RIGHT(регистрация!F215,LEN(регистрация!F215)-FIND(\"*\",SUBSTITUTE(регистрация!F215,\" \",\"*\",LEN(регистрация!F215)-LEN(SUBSTITUTE(регистрация!F215,\" \",\"\"))))),регистрация!F215)","v":0},"",{"$error":"#VALUE!"},{"$error":"#VALUE!"},null,null,null,null,{"$f":"TRIM(регистрация!H215)","v":""}]
[{"$f":"регистрация!A216","v":0},{"$f":"регистрация!G216","v":"00:00:00"},{"$f":"IFERROR(RIGHT(регистрация!F216,LEN(регистрация!F216)-FIND(\"*\",SUBSTITUTE(регистрация!F216,\" \",\"*\",LEN(регистрация!F216)-LEN(SUBSTITUTE(регистрация!F216,\" \",\"\"))))),регистрация!F216)","v":0},"",{"$error":"#VALUE!"},{"$error":"#VALUE!"},null,null,null,null,{"$f":"TRIM(регистрация!H216)","v":""}]
[{"$f":"регистрация!A217","v":0},{"$f":"регистрация!G217","v":"00:00:00"},{"$f":"IFERROR(RIGHT(регистрация!F217,LEN(регистрация!F217)-FIND(\"*\",SUBSTITUTE(регистрация!F217,\" \",\"*\",LEN(регистрация!F217)-LEN(SUBSTITUTE(регистрация!F217,\" \",\"\"))))),регистрация!F217)","v":0},"",{"$error":"#VALUE!"},{"$error":"#VALUE!"},null,null,null,null,{"$f":"TRIM(регистрация!H217)","v":""}]
[{"$f":"регистрация!A218","v":0},{"$f":"регистрация!G218","v":"00:00:00"},{"$f":"IFERROR(RIGHT(регистрация!F218,LEN(регистрация!F218)-FIND(\"*\",SUBSTITUTE(регистрация!F218,\" \",\"*\",LEN(регистрация!F218)-LEN(SUBSTITUTE(регистрация!F218,\" \",\"\"))))),регистрация!F218)","v":0},"",{"$error":"#VALUE!"},{"$error":"#VALUE!"},null,null,null,null,{"$f":"TRIM(регистрация!H218)","v":""}]
[{"$f":"регистрация!A219","v":0},{"$f":"регистрация!G219","v":"00:00:00"},{"$f":"IFERROR(RIGHT(регистрация!F219,LEN(регистрация!F219)-FIND(\"*\",SUBSTITUTE(регистрация!F219,\" \",\"*\",LEN(регистрация!F219)-LEN(SUBSTITUTE(регистрация!F219,\" \",\"\"))))),регистрация!F219)","v":0},"",{"$error":"#VALUE!"},{"$error":"#VALUE!"},null,null,null,null,{"$f":"TRIM(регистрация!H219)","v":""}]
[{"$f":"регистрация!A220","v":0},{"$f":"регистрация!G220","v":"00:00:00"},{"$f":"IFERROR(RIGHT(регистрация!F220,LEN(регистрация!F220)-FIND(\"*\",SUBSTITUTE(регистрация!F220,\" \",\"*\",LEN(регистрация!F220)-LEN(SUBSTITUTE(регистрация!F220,\" \",\"\"))))),регистрация!F220)","v":0},"",{"$error":"#VALUE!"},{"$error":"#VALUE!"},null,null,null,null,{"$f":"TRIM(регистрация!H220)","v":""}]
[{"$f":"регистрация!A221","v":0},{"$f":"регистрация!G221","v":"00:00:00"},{"$f":"IFERROR(RIGHT(регистрация!F221,LEN(регистрация!F221)-FIND(\"*\",SUBSTITUTE(регистрация!F221,\" \",\"*\",LEN(регистрация!F221)-LEN(SUBSTITUTE(регистрация!F221,\" \",\"\"))))),регистрация!F221)","v":0},"",{"$error":"#VALUE!"},{"$error":"#VALUE!"},null,null,null,null,{"$f":"TRIM(регистрация!H221)","v":""}]
[{"$f":"регистрация!A222","v":0},{"$f":"регистрация!G222","v":"00:00:00"},{"$f":"IFERROR(RIGHT(регистрация!F222,LEN(регистрация!F222)-FIND(\"*\",SUBSTITUTE(регистрация!F222,\" \",\"*\",LEN(регистрация!F222)-LEN(SUBSTITUTE(регистрация!F222,\" \",\"\"))))),регистрация!F222)","v":0},"",{"$error":"#VALUE!"},{"$error":"#VALUE!"},null,null,null,null,{"$f":"TRIM(регистрация!H222)","v":""}]
[{"$f":"регистрация!A223","v":0},{"$f":"регистрация!G223","v":"00:00:00"},{"$f":"IFERROR(RIGHT(регистрация!F223,LEN(регистрация!F223)-FIND(\"*\",SUBSTITUTE(регистрация!F223,\" \",\"*\",LEN(регистрация!F223)-LEN(SUBSTITUTE(регистрация!F223,\" \",\"\"))))),регистрация!F223)","v":0},"",{"$error":"#VALUE!"},{"$error":"#VALUE!"},null,null,null,null,{"$f":"TRIM(регистрация!H223)","v":""}]
[{"$f":"регистрация!A224","v":0},{"$f":"регистрация!G224","v":"00:00:00"},{"$f":"IFERROR(RIGHT(регистрация!F224,LEN(регистрация!F224)-FIND(\"*\",SUBSTITUTE(регистрация!F224,\" \",\"*\",LEN(регистрация!F224)-LEN(SUBSTITUTE(регистрация!F224,\" \",\"\"))))),регистрация!F224)","v":0},"",{"$error":"#VALUE!"},{"$error":"#VALUE!"},null,null,null,null,{"$f":"TRIM(регистрация!H224)","v":""}]
[{"$f":"регистрация!A225","v":0},{"$f":"регистрация!G225","v":"00:00:00"},{"$f":"IFERROR(RIGHT(регистрация!F225,LEN(регистрация!F225)-FIND(\"*\",SUBSTITUTE(регистрация!F225,\" \",\"*\",LEN(регистрация!F225)-LEN(SUBSTITUTE(регистрация!F225,\" \",\"\"))))),регистрация!F225)","v":0},"",{"$error":"#VALUE!"},{"$error":"#VALUE!"},null,null,null,null,{"$f":"TRIM(регистрация!H225)","v":""}]
[{"$f":"регистрация!A226","v":0},{"$f":"регистрация!G226","v":"00:00:00"},{"$f":"IFERROR(RIGHT(регистрация!F226,LEN(регистрация!F226)-FIND(\"*\",SUBSTITUTE(регистрация!F226,\" \",\"*\",LEN(регистрация!F226)-LEN(SUBSTITUTE(регистрация!F226,\" \",\"\"))))),регистрация!F226)","v":0},"",{"$error":"#VALUE!"},{"$error":"#VALUE!"},null,null,null,null,{"$f":"TRIM(регистрация!H226)","v":""}]
[{"$f":"регистрация!A227","v":0},{"$f":"регистрация!G227","v":"00:00:00"},{"$f":"IFERROR(RIGHT(регистрация!F227,LEN(регистрация!F227)-FIND(\"*\",SUBSTITUTE(регистрация!F227,\" \",\"*\",LEN(регистрация!F227)-LEN(SUBSTITUTE(регистрация!F227,\" \",\"\"))))),регистрация!F227)","v":0},"",{"$error":"#VALUE!"},{"$error":"#VALUE!"},null,null,null,null,{"$f":"TRIM(регистрация!H227)","v":""}]
[{"$f":"регистрация!A228","v":0},{"$f":"регистрация!G228","v":"00:00:00"},{"$f":"IFERROR(RIGHT(регистрация!F228,LEN(регистрация!F228)-FIND(\"*\",SUBSTITUTE(регистрация!F228,\" \",\"*\",LEN(регистрация!F228)-LEN(SUBSTITUTE(регистрация!F228,\" \",\"\"))))),регистрация!F228)","v":0},"",{"$error":"#VALUE!"},{"$error":"#VALUE!"},null,null,null,null,{"$f":"TRIM(регистрация!H228)","v":""}]
[{"$f":"регистрация!A229","v":0},{"$f":"регистрация!G229","v":"00:00:00"},{"$f":"IFERROR(RIGHT(регистрация!F229,LEN(регистрация!F229)-FIND(\"*\",SUBSTITUTE(регистрация!F229,\" \",\"*\",LEN(регистрация!F229)-LEN(SUBSTITUTE(регистрация!F229,\" \",\"\"))))),регистрация!F229)","v":0},"",{"$error":"#VALUE!"},{"$error":"#VALUE!"},null,null,null,null,{"$f":"TRIM(регистрация!H229)","v":""}]
[{"$f":"регистрация!A230","v":0},{"$f":"регистрация!G230","v":"00:00:00"},{"$f":"IFERROR(RIGHT(регистрация!F230,LEN(регистрация!F230)-FIND(\"*\",SUBSTITUTE(регистрация!F230,\" \",\"*\",LEN(регистрация!F230)-LEN(SUBSTITUTE(регистрация!F230,\" \",\"\"))))),регистрация!F230)","v":0},"",{"$error":"#VALUE!"},{"$error":"#VALUE!"},null,null,null,null,{"$f":"TRIM(регистрация!H230)","v":""}]
[{"$f":"регистрация!A231","v":0},{"$f":"регистрация!G231","v":"00:00:00"},{"$f":"IFERROR(RIGHT(регистрация!F231,LEN(регистрация!F231)-FIND(\"*\",SUBSTITUTE(регистрация!F231,\" \",\"*\",LEN(регистрация!F231)-LEN(SUBSTITUTE(регистрация!F231,\" \",\"\"))))),регистрация!F231)","v":0},"",{"$error":"#VALUE!"},{"$error":"#VALUE!"},null,null,null,null,{"$f":"TRIM(регистрация!H231)","v":""}]
[{"$f":"регистрация!A232","v":0},{"$f":"регистрация!G232","v":"00:00:00"},{"$f":"IFERROR(RIGHT(регистрация!F232,LEN(регистрация!F232)-FIND(\"*\",SUBSTITUTE(регистрация!F232,\" \",\"*\",LEN(регистрация!F232)-LEN(SUBSTITUTE(регистрация!F232,\" \",\"\"))))),регистрация!F232)","v":0},"",{"$error":"#VALUE!"},{"$error":"#VALUE!"},null,null,null,null,{"$f":"TRIM(регистрация!H232)","v":""}]
[{"$f":"регистрация!A233","v":0},{"$f":"регистрация!G233","v":"00:00:00"},{"$f":"IFERROR(RIGHT(регистрация!F233,LEN(регистрация!F233)-FIND(\"*\",SUBSTITUTE(регистрация!F233,\" \",\"*\",LEN(регистрация!F233)-LEN(SUBSTITUTE(регистрация!F233,\" \",\"\"))))),регистрация!F233)","v":0},"",{"$error":"#VALUE!"},{"$error":"#VALUE!"},null,null,null,null,{"$f":"TRIM(регистрация!H233)","v":""}]
[{"$f":"регистрация!A234","v":0},{"$f":"регистрация!G234","v":"00:00:00"},{"$f":"IFERROR(RIGHT(регистрация!F234,LEN(регистрация!F234)-FIND(\"*\",SUBSTITUTE(регистрация!F234,\" \",\"*\",LEN(регистрация!F234)-LEN(SUBSTITUTE(регистрация!F234,\" \",\"\"))))),регистрация!F234)","v":0},"",{"$error":"#VALUE!"},{"$error":"#VALUE!"},null,null,null,null,{"$f":"TRIM(регистрация!H234)","v":""}]
[{"$f":"регистрация!A235","v":0},{"$f":"регистрация!G235","v":"00:00:00"},{"$f":"IFERROR(RIGHT(регистрация!F235,LEN(регистрация!F235)-FIND(\"*\",SUBSTITUTE(регистрация!F235,\" \",\"*\",LEN(регистрация!F235)-LEN(SUBSTITUTE(регистрация!F235,\" \",\"\"))))),регистрация!F235)","v":0},"",{"$error":"#VALUE!"},{"$error":"#VALUE!"},null,null,null,null,{"$f":"TRIM(регистрация!H235)","v":""}]
[{"$f":"регистрация!A236","v":0},{"$f":"регистрация!G236","v":"00:00:00"},{"$f":"IFERROR(RIGHT(регистрация!F236,LEN(регистрация!F236)-FIND(\"*\",SUBSTITUTE(регистрация!F236,\" \",\"*\",LEN(регистрация!F236)-LEN(SUBSTITUTE(регистрация!F236,\" \",\"\"))))),регистрация!F236)","v":0},"",{"$error":"#VALUE!"},{"$error":"#VALUE!"},null,null,null,null,{"$f":"TRIM(регистрация!H236)","v":""}]
[{"$f":"регистрация!A237","v":0},{"$f":"регистрация!G237","v":"00:00:00"},{"$f":"IFERROR(RIGHT(регистрация!F237,LEN(регистрация!F237)-FIND(\"*\",SUBSTITUTE(регистрация!F237,\" \",\"*\",LEN(регистрация!F237)-LEN(SUBSTITUTE(регистрация!F237,\" \",\"\"))))),регистрация!F237)","v":0},"",{"$error":"#VALUE!"},{"$error":"#VALUE!"},null,null,null,null,{"$f":"TRIM(регистрация!H237)","v":""}]
[{"$f":"регистрация!A238","v":0},{"$f":"регистрация!G238","v":"00:00:00"},{"$f":"IFERROR(RIGHT(регистрация!F238,LEN(регистрация!F238)-FIND(\"*\",SUBSTITUTE(регистрация!F238,\" \",\"*\",LEN(регистрация!F238)-LEN(SUBSTITUTE(регистрация!F238,\" \",\"\"))))),регистрация!F238)","v":0},"",{"$error":"#VALUE!"},{"$error":"#VALUE!"},null,null,null,null,{"$f":"TRIM(регистрация!H238)","v":""}]
[{"$f":"регистрация!A239","v":0},{"$f":"регистрация!G239","v":"00:00:00"},{"$f":"IFERROR(RIGHT(регистрация!F239,LEN(регистрация!F239)-FIND(\"*\",SUBSTITUTE(регистрация!F239,\" \",\"*\",LEN(регистрация!F239)-LEN(SUBSTITUTE(регистрация!F239,\" \",\"\"))))),регистрация!F239)","v":0},"",{"$error":"#VALUE!"},{"$error":"#VALUE!"},null,null,null,null,{"$f":"TRIM(регистрация!H239)","v":""}]
[{"$f":"регистрация!A240","v":0},{"$f":"регистрация!G240","v":"00:00:00"},{"$f":"IFERROR(RIGHT(регистрация!F240,LEN(регистрация!F240)-FIND(\"*\",SUBSTITUTE(регистрация!F240,\" \",\"*\",LEN(регистрация!F240)-LEN(SUBSTITUTE(регистрация!F240,\" \",\"\"))))),регистрация!F240)","v":0},"",{"$error":"#VALUE!"},{"$error":"#VALUE!"},null,null,null,null,{"$f":"TRIM(регистрация!H240)","v":""}]
[{"$f":"регистрация!A241","v":0},{"$f":"регистрация!G241","v":"00:00:00"},{"$f":"IFERROR(RIGHT(регистрация!F241,LEN(регистрация!F241)-FIND(\"*\",SUBSTITUTE(регистрация!F241,\" \",\"*\",LEN(регистрация!F241)-LEN(SUBSTITUTE(регистрация!F241,\" \",\"\"))))),регистрация!F241)","v":0},"",{"$error":"#VALUE!"},{"$error":"#VALUE!"},null,null,null,null,{"$f":"TRIM(регистрация!H241)","v":""}]
[{"$f":"регистрация!A242","v":0},{"$f":"регистрация!G242","v":"00:00:00"},{"$f":"IFERROR(RIGHT(регистрация!F242,LEN(регистрация!F242)-FIND(\"*\",SUBSTITUTE(регистрация!F242,\" \",\"*\",LEN(регистрация!F242)-LEN(SUBSTITUTE(регистрация!F242,\" \",\"\"))))),регистрация!F242)","v":0},"",{"$error":"#VALUE!"},{"$error":"#VALUE!"},null,null,null,null,{"$f":"TRIM(регистрация!H242)","v":""}]
[{"$f":"регистрация!A243","v":0},{"$f":"регистрация!G243","v":"00:00:00"},{"$f":"IFERROR(RIGHT(регистрация!F243,LEN(регистрация!F243)-FIND(\"*\",SUBSTITUTE(регистрация!F243,\" \",\"*\",LEN(регистрация!F243)-LEN(SUBSTITUTE(регистрация!F243,\" \",\"\"))))),регистрация!F243)","v":0},"",{"$error":"#VALUE!"},{"$error":"#VALUE!"},null,null,null,null,{"$f":"TRIM(регистрация!H243)","v":""}]
[{"$f":"регистрация!A244","v":0},{"$f":"регистрация!G244","v":"00:00:00"},{"$f":"IFERROR(RIGHT(регистрация!F244,LEN(регистрация!F244)-FIND(\"*\",SUBSTITUTE(регистрация!F244,\" \",\"*\",LEN(регистрация!F244)-LEN(SUBSTITUTE(регистрация!F244,\" \",\"\"))))),регистрация!F244)","v":0},"",{"$error":"#VALUE!"},{"$error":"#VALUE!"},null,null,null,null,{"$f":"TRIM(регистрация!H244)","v":""}]
[{"$f":"регистрация!A245","v":0},{"$f":"регистрация!G245","v":"00:00:00"},{"$f":"IFERROR(RIGHT(регистрация!F245,LEN(регистрация!F245)-FIND(\"*\",SUBSTITUTE(регистрация!F245,\" \",\"*\",LEN(регистрация!F245)-LEN(SUBSTITUTE(регистрация!F245,\" \",\"\"))))),регистрация!F245)","v":0},"",{"$error":"#VALUE!"},{"$error":"#VALUE!"},null,null,null,null,{"$f":"TRIM(регистрация!H245)","v":""}]
[{"$f":"регистрация!A246","v":0},{"$f":"регистрация!G246","v":"00:00:00"},{"$f":"IFERROR(RIGHT(регистрация!F246,LEN(регистрация!F246)-FIND(\"*\",SUBSTITUTE(регистрация!F246,\" \",\"*\",LEN(регистрация!F246)-LEN(SUBSTITUTE(регистрация!F246,\" \",\"\"))))),регистрация!F246)","v":0},"",{"$error":"#VALUE!"},{"$error":"#VALUE!"},null,null,null,null,{"$f":"TRIM(регистрация!H246)","v":""}]
[{"$f":"регистрация!A247","v":0},{"$f":"регистрация!G247","v":"00:00:00"},{"$f":"IFERROR(RIGHT(регистрация!F247,LEN(регистрация!F247)-FIND(\"*\",SUBSTITUTE(регистрация!F247,\" \",\"*\",LEN(регистрация!F247)-LEN(SUBSTITUTE(регистрация!F247,\" \",\"\"))))),регистрация!F247)","v":0},"",{"$error":"#VALUE!"},{"$error":"#VALUE!"},null,null,null,null,{"$f":"TRIM(регистрация!H247)","v":""}]
[{"$f":"регистрация!A248","v":0},{"$f":"регистрация!G248","v":"00:00:00"},{"$f":"IFERROR(RIGHT(регистрация!F248,LEN(регистрация!F248)-FIND(\"*\",SUBSTITUTE(регистрация!F248,\" \",\"*\",LEN(регистрация!F248)-LEN(SUBSTITUTE(регистрация!F248,\" \",\"\"))))),регистрация!F248)","v":0},"",{"$error":"#VALUE!"},{"$error":"#VALUE!"},null,null,null,null,{"$f":"TRIM(регистрация!H248)","v":""}]
[{"$f":"регистрация!A249","v":0},{"$f":"регистрация!G249","v":"00:00:00"},{"$f":"IFERROR(RIGHT(регистрация!F249,LEN(регистрация!F249)-FIND(\"*\",SUBSTITUTE(регистрация!F249,\" \",\"*\",LEN(регистрация!F249)-LEN(SUBSTITUTE(регистрация!F249,\" \",\"\"))))),регистрация!F249)","v":0},"",{"$error":"#VALUE!"},{"$error":"#VALUE!"},null,null,null,null,{"$f":"TRIM(регистрация!H249)","v":""}]
[{"$f":"регистрация!A250","v":0},{"$f":"регистрация!G250","v":"00:00:00"},{"$f":"IFERROR(RIGHT(регистрация!F250,LEN(регистрация!F250)-FIND(\"*\",SUBSTITUTE(регистрация!F250,\" \",\"*\",LEN(регистрация!F250)-LEN(SUBSTITUTE(регистрация!F250,\" \",\"\"))))),регистрация!F250)","v":0},"",{"$error":"#VALUE!"},{"$error":"#VALUE!"},null,null,null,null,{"$f":"TRIM(регистрация!H250)","v":""}]
[{"$f":"регистрация!A251","v":0},{"$f":"регистрация!G251","v":"00:00:00"},{"$f":"IFERROR(RIGHT(регистрация!F251,LEN(регистрация!F251)-FIND(\"*\",SUBSTITUTE(регистрация!F251,\" \",\"*\",LEN(регистрация!F251)-LEN(SUBSTITUTE(регистрация!F251,\" \",\"\"))))),регистрация!F251)","v":0},"",{"$error":"#VALUE!"},{"$error":"#VALUE!"},null,null,null,null,{"$f":"TRIM(регистрация!H251)","v":""}]
[{"$f":"регистрация!A252","v":0},{"$f":"регистрация!G252","v":"00:00:00"},{"$f":"IFERROR(RIGHT(регистрация!F252,LEN(регистрация!F252)-FIND(\"*\",SUBSTITUTE(регистрация!F252,\" \",\"*\",LEN(регистрация!F252)-LEN(SUBSTITUTE(регистрация!F252,\" \",\"\"))))),регистрация!F252)","v":0},"",{"$error":"#VALUE!"},{"$error":"#VALUE!"},null,null,null,null,{"$f":"TRIM(регистрация!H252)","v":""}]
[{"$f":"регистрация!A253","v":0},{"$f":"регистрация!G253","v":"00:00:00"},{"$f":"IFERROR(RIGHT(регистрация!F253,LEN(регистрация!F253)-FIND(\"*\",SUBSTITUTE(регистрация!F253,\" \",\"*\",LEN(регистрация!F253)-LEN(SUBSTITUTE(регистрация!F253,\" \",\"\"))))),регистрация!F253)","v":0},"",{"$error":"#VALUE!"},{"$error":"#VALUE!"},null,null,null,null,{"$f":"TRIM(регистрация!H253)","v":""}]
[{"$f":"регистрация!A254","v":0},{"$f":"регистрация!G254","v":"00:00:00"},{"$f":"IFERROR(RIGHT(регистрация!F254,LEN(регистрация!F254)-FIND(\"*\",SUBSTITUTE(регистрация!F254,\" \",\"*\",LEN(регистрация!F254)-LEN(SUBSTITUTE(регистрация!F254,\" \",\"\"))))),регистрация!F254)","v":0},"",{"$error":"#VALUE!"},{"$error":"#VALUE!"},null,null,null,null,{"$f":"TRIM(регистрация!H254)","v":""}]
[{"$f":"регистрация!A255","v":0},{"$f":"регистрация!G255","v":"00:00:00"},{"$f":"IFERROR(RIGHT(регистрация!F255,LEN(регистрация!F255)-FIND(\"*\",SUBSTITUTE(регистрация!F255,\" \",\"*\",LEN(регистрация!F255)-LEN(SUBSTITUTE(регистрация!F255,\" \",\"\"))))),регистрация!F255)","v":0},"",{"$error":"#VALUE!"},{"$error":"#VALUE!"},null,null,null,null,{"$f":"TRIM(регистрация!H255)","v":""}]
[{"$f":"регистрация!A256","v":0},{"$f":"регистрация!G256","v":"00:00:00"},{"$f":"IFERROR(RIGHT(регистрация!F256,LEN(регистрация!F256)-FIND(\"*\",SUBSTITUTE(регистрация!F256,\" \",\"*\",LEN(регистрация!F256)-LEN(SUBSTITUTE(регистрация!F256,\" \",\"\"))))),регистрация!F256)","v":0},"",{"$error":"#VALUE!"},{"$error":"#VALUE!"},null,null,null,null,{"$f":"TRIM(регистрация!H256)","v":""}]
[{"$f":"регистрация!A257","v":0},{"$f":"регистрация!G257","v":"00:00:00"},{"$f":"IFERROR(RIGHT(регистрация!F257,LEN(регистрация!F257)-FIND(\"*\",SUBSTITUTE(регистрация!F257,\" \",\"*\",LEN(регистрация!F257)-LEN(SUBSTITUTE(регистрация!F257,\" \",\"\"))))),регистрация!F257)","v":0},"",{"$error":"#VALUE!"},{"$error":"#VALUE!"},null,null,null,null,{"$f":"TRIM(регистрация!H257)","v":""}]
[{"$f":"регистрация!A258","v":0},{"$f":"регистрация!G258","v":"00:00:00"},{"$f":"IFERROR(RIGHT(регистрация!F258,LEN(регистрация!F258)-FIND(\"*\",SUBSTITUTE(регистрация!F258,\" \",\"*\",LEN(регистрация!F258)-LEN(SUBSTITUTE(регистрация!F258,\" \",\"\"))))),регистрация!F258)","v":0},"",{"$error":"#VALUE!"},{"$error":"#VALUE!"},null,null,null,null,{"$f":"TRIM(регистрация!H258)","v":""}]
[{"$f":"регистрация!A259","v":0},{"$f":"регистрация!G259","v":"00:00:00"},{"$f":"IFERROR(RIGHT(регистрация!F259,LEN(регистрация!F259)-FIND(\"*\",SUBSTITUTE(регистрация!F259,\" \",\"*\",LEN(регистрация!F259)-LEN(SUBSTITUTE(регистрация!F259,\" \",\"\"))))),регистрация!F259)","v":0},"",{"$error":"#VALUE!"},{"$error":"#VALUE!"},null,null,null,null,{"$f":"TRIM(регистрация!H259)","v":""}]
[{"$f":"регистрация!A260","v":0},{"$f":"регистрация!G260","v":"00:00:00"},{"$f":"IFERROR(RIGHT(регистрация!F260,LEN(регистрация!F260)-FIND(\"*\",SUBSTITUTE(регистрация!F260,\" \",\"*\",LEN(регистрация!F260)-LEN(SUBSTITUTE(регистрация!F260,\" \",\"\"))))),регистрация!F260)","v":0},"",{"$error":"#VALUE!"},{"$error":"#VALUE!"},null,null,null,null,{"$f":"TRIM(регистрация!H260)","v":""}]
[{"$f":"регистрация!A261","v":0},{"$f":"регистрация!G261","v":"00:00:00"},{"$f":"IFERROR(RIGHT(регистрация!F261,LEN(регистрация!F261)-FIND(\"*\",SUBSTITUTE(регистрация!F261,\" \",\"*\",LEN(регистрация!F261)-LEN(SUBSTITUTE(регистрация!F261,\" \",\"\"))))),регистрация!F261)","v":0},"",{"$error":"#VALUE!"},{"$error":"#VALUE!"},null,null,null,null,{"$f":"TRIM(регистрация!H261)","v":""}]
[{"$f":"регистрация!A262","v":0},{"$f":"регистрация!G262","v":"00:00:00"},{"$f":"IFERROR(RIGHT(регистрация!F262,LEN(регистрация!F262)-FIND(\"*\",SUBSTITUTE(регистрация!F262,\" \",\"*\",LEN(регистрация!F262)-LEN(SUBSTITUTE(регистрация!F262,\" \",\"\"))))),регистрация!F262)","v":0},"",{"$f":"IFERROR(LEFT(F262,FIND(\",\",F262)-1),F262)","v":{"$error":"#VALUE!"}},{"$error":"#VALUE!"},null,null,null,null,{"$f":"TRIM(регистрация!H262)","v":""}]
[{"$f":"регистрация!A263","v":0},{"$f":"регистрация!G263","v":"00:00:00"},{"$f":"IFERROR(RIGHT(регистрация!F263,LEN(регистрация!F263)-FIND(\"*\",SUBSTITUTE(регистрация!F263,\" \",\"*\",LEN(регистрация!F263)-LEN(SUBSTITUTE(регистрация!F263,\" \",\"\"))))),регистрация!F263)","v":0},{"$f":"IFERROR(LEFT(K263,FIND(\",\",K263)-1),K263)","v":""},{"$error":"#VALUE!"},{"$f":"MID(K263,FIND(\" \",K263)*1,27)","v":{"$error":"#VALUE!"}},null,null,null,null,{"$f":"TRIM(регистрация!H263)","v":""}]
[{"$f":"регистрация!A264","v":0},{"$f":"регистрация!G264","v":"00:00:00"},{"$f":"IFERROR(RIGHT(регистрация!F264,LEN(регистрация!F264)-FIND(\"*\",SUBSTITUTE(регистрация!F264,\" \",\"*\",LEN(регистрация!F264)-LEN(SUBSTITUTE(регистрация!F264,\" \",\"\"))))),регистрация!F264)","v":0},"",{"$error":"#VALUE!"},{"$error":"#VALUE!"},null,null,null,null,{"$f":"TRIM(регистрация!H264)","v":""}]
[{"$f":"регистрация!A265","v":0},{"$f":"регистрация!G265","v":"00:00:00"},{"$f":"IFERROR(RIGHT(регистрация!F265,LEN(регистрация!F265)-FIND(\"*\",SUBSTITUTE(регистрация!F265,\" \",\"*\",LEN(регистрация!F265)-LEN(SUBSTITUTE(регистрация!F265,\" \",\"\"))))),регистрация!F265)","v":0},"",{"$error":"#VALUE!"},{"$error":"#VALUE!"},null,null,null,null,{"$f":"TRIM(регистрация!H265)","v":""}]
[{"$f":"регистрация!A266","v":0},{"$f":"регистрация!G266","v":"00:00:00"},{"$f":"IFERROR(RIGHT(регистрация!F266,LEN(регистрация!F266)-FIND(\"*\",SUBSTITUTE(регистрация!F266,\" \",\"*\",LEN(регистрация!F266)-LEN(SUBSTITUTE(регистрация!F266,\" \",\"\"))))),регистрация!F266)","v":0},"",{"$error":"#VALUE!"},{"$error":"#VALUE!"},null,null,null,null,{"$f":"TRIM(регистрация!H266)","v":""}]
[{"$f":"регистрация!A267","v":0},{"$f":"регистрация!G267","v":"00:00:00"},{"$f":"IFERROR(RIGHT(регистрация!F267,LEN(регистрация!F267)-FIND(\"*\",SUBSTITUTE(регистрация!F267,\" \",\"*\",LEN(регистрация!F267)-LEN(SUBSTITUTE(регистрация!F267,\" \",\"\"))))),регистрация!F267)","v":0},"",{"$error":"#VALUE!"},{"$error":"#VALUE!"},null,null,null,null,{"$f":"TRIM(регистрация!H267)","v":""}]
[{"$f":"регистрация!A268","v":0},{"$f":"регистрация!G268","v":"00:00:00"},{"$f":"IFERROR(RIGHT(регистрация!F268,LEN(регистрация!F268)-FIND(\"*\",SUBSTITUTE(регистрация!F268,\" \",\"*\",LEN(регистрация!F268)-LEN(SUBSTITUTE(регистрация!F268,\" \",\"\"))))),регистрация!F268)","v":0},"",{"$error":"#VALUE!"},{"$error":"#VALUE!"},null,null,null,null,{"$f":"TRIM(регистрация!H268)","v":""}]
[{"$f":"регистрация!A269","v":0},{"$f":"регистрация!G269","v":"00:00:00"},{"$f":"IFERROR(RIGHT(регистрация!F269,LEN(регистрация!F269)-FIND(\"*\",SUBSTITUTE(регистрация!F269,\" \",\"*\",LEN(регистрация!F269)-LEN(SUBSTITUTE(регистрация!F269,\" \",\"\"))))),регистрация!F269)","v":0},"",{"$error":"#VALUE!"},{"$error":"#VALUE!"},null,null,null,null,{"$f":"TRIM(регистрация!H269)","v":""}]
[{"$f":"регистрация!A270","v":0},{"$f":"регистрация!G270","v":"00:00:00"},{"$f":"IFERROR(RIGHT(регистрация!F270,LEN(регистрация!F270)-FIND(\"*\",SUBSTITUTE(регистрация!F270,\" \",\"*\",LEN(регистрация!F270)-LEN(SUBSTITUTE(регистрация!F270,\" \",\"\"))))),регистрация!F270)","v":0},"",{"$error":"#VALUE!"},{"$error":"#VALUE!"},null,null,null,null,{"$f":"TRIM(регистрация!H270)","v":""}]
[{"$f":"регистрация!A271","v":0},{"$f":"регистрация!G271","v":"00:00:00"},{"$f":"IFERROR(RIGHT(регистрация!F271,LEN(регистрация!F271)-FIND(\"*\",SUBSTITUTE(регистрация!F271,\" \",\"*\",LEN(регистрация!F271)-LEN(SUBSTITUTE(регистрация!F271,\" \",\"\"))))),регистрация!F271)","v":0},"",{"$error":"#VALUE!"},{"$error":"#VALUE!"},null,null,null,null,{"$f":"TRIM(регистрация!H271)","v":""}]
[{"$f":"регистрация!A272","v":0},{"$f":"регистрация!G272","v":"00:00:00"},{"$f":"IFERROR(RIGHT(регистрация!F272,LEN(регистрация!F272)-FIND(\"*\",SUBSTITUTE(регистрация!F272,\" \",\"*\",LEN(регистрация!F272)-LEN(SUBSTITUTE(регистрация!F272,\" \",\"\"))))),регистрация!F272)","v":0},"",{"$error":"#VALUE!"},{"$error":"#VALUE!"},null,null,null,null,{"$f":"TRIM(регистрация!H272)","v":""}]
[{"$f":"регистрация!A273","v":0},{"$f":"регистрация!G273","v":"00:00:00"},{"$f":"IFERROR(RIGHT(регистрация!F273,LEN(регистрация!F273)-FIND(\"*\",SUBSTITUTE(регистрация!F273,\" \",\"*\",LEN(регистрация!F273)-LEN(SUBSTITUTE(регистрация!F273,\" \",\"\"))))),регистрация!F273)","v":0},"",{"$error":"#VALUE!"},{"$error":"#VALUE!"},null,null,null,null,{"$f":"TRIM(регистрация!H273)","v":""}]
[{"$f":"регистрация!A274","v":0},{"$f":"регистрация!G274","v":"00:00:00"},{"$f":"IFERROR(RIGHT(регистрация!F274,LEN(регистрация!F274)-FIND(\"*\",SUBSTITUTE(регистрация!F274,\" \",\"*\",LEN(регистрация!F274)-LEN(SUBSTITUTE(регистрация!F274,\" \",\"\"))))),регистрация!F274)","v":0},"",{"$error":"#VALUE!"},{"$error":"#VALUE!"},null,null,null,null,{"$f":"TRIM(регистрация!H274)","v":""}]
[{"$f":"регистрация!A275","v":0},{"$f":"регистрация!G275","v":"00:00:00"},{"$f":"IFERROR(RIGHT(регистрация!F275,LEN(регистрация!F275)-FIND(\"*\",SUBSTITUTE(регистрация!F275,\" \",\"*\",LEN(регистрация!F275)-LEN(SUBSTITUTE(регистрация!F275,\" \",\"\"))))),регистрация!F275)","v":0},"",{"$error":"#VALUE!"},{"$error":"#VALUE!"},null,null,null,null,{"$f":"TRIM(регистрация!H275)","v":""}]
[{"$f":"регистрация!A276","v":0},{"$f":"регистрация!G276","v":"00:00:00"},{"$f":"IFERROR(RIGHT(регистрация!F276,LEN(регистрация!F276)-FIND(\"*\",SUBSTITUTE(регистрация!F276,\" \",\"*\",LEN(регистрация!F276)-LEN(SUBSTITUTE(регистрация!F276,\" \",\"\"))))),регистрация!F276)","v":0},"",{"$error":"#VALUE!"},{"$error":"#VALUE!"},null,null,null,null,{"$f":"TRIM(регистрация!H276)","v":""}]
[{"$f":"регистрация!A277","v":0},{"$f":"регистрация!G277","v":"00:00:00"},{"$f":"IFERROR(RIGHT(регистрация!F277,LEN(регистрация!F277)-FIND(\"*\",SUBSTITUTE(регистрация!F277,\" \",\"*\",LEN(регистрация!F277)-LEN(SUBSTITUTE(регистрация!F277,\" \",\"\"))))),регистрация!F277)","v":0},"",{"$error":"#VALUE!"},{"$error":"#VALUE!"},null,null,null,null,{"$f":"TRIM(регистрация!H277)","v":""}]
[{"$f":"регистрация!A278","v":0},{"$f":"регистрация!G278","v":"00:00:00"},{"$f":"IFERROR(RIGHT(регистрация!F278,LEN(регистрация!F278)-FIND(\"*\",SUBSTITUTE(регистрация!F278,\" \",\"*\",LEN(регистрация!F278)-LEN(SUBSTITUTE(регистрация!F278,\" \",\"\"))))),регистрация!F278)","v":0},"",{"$error":"#VALUE!"},{"$error":"#VALUE!"},null,null,null,null,{"$f":"TRIM(регистрация!H278)","v":""}]
[{"$f":"регистрация!A279","v":0},{"$f":"регистрация!G279","v":"00:00:00"},{"$f":"IFERROR(RIGHT(регистрация!F279,LEN(регистрация!F279)-FIND(\"*\",SUBSTITUTE(регистрация!F279,\" \",\"*\",LEN(регистрация!F279)-LEN(SUBSTITUTE(регистрация!F279,\" \",\"\"))))),регистрация!F279)","v":0},"",{"$error":"#VALUE!"},{"$error":"#VALUE!"},null,null,null,null,{"$f":"TRIM(регистрация!H279)","v":""}]
[{"$f":"регистрация!A280","v":0},{"$f":"регистрация!G280","v":"00:00:00"},{"$f":"IFERROR(RIGHT(регистрация!F280,LEN(регистрация!F280)-FIND(\"*\",SUBSTITUTE(регистрация!F280,\" \",\"*\",LEN(регистрация!F280)-LEN(SUBSTITUTE(регистрация!F280,\" \",\"\"))))),регистрация!F280)","v":0},"",{"$error":"#VALUE!"},{"$error":"#VALUE!"},null,null,null,null,{"$f":"TRIM(регистрация!H280)","v":""}]
[{"$f":"регистрация!A281","v":0},{"$f":"регистрация!G281","v":"00:00:00"},{"$f":"IFERROR(RIGHT(регистрация!F281,LEN(регистрация!F281)-FIND(\"*\",SUBSTITUTE(регистрация!F281,\" \",\"*\",LEN(регистрация!F281)-LEN(SUBSTITUTE(регистрация!F281,\" \",\"\"))))),регистрация!F281)","v":0},"",{"$error":"#VALUE!"},{"$error":"#VALUE!"},null,null,null,null,{"$f":"TRIM(регистрация!H281)","v":""}]
[{"$f":"регистрация!A282","v":0},{"$f":"регистрация!G282","v":"00:00:00"},{"$f":"IFERROR(RIGHT(регистрация!F282,LEN(регистрация!F282)-FIND(\"*\",SUBSTITUTE(регистрация!F282,\" \",\"*\",LEN(регистрация!F282)-LEN(SUBSTITUTE(регистрация!F282,\" \",\"\"))))),регистрация!F282)","v":0},"",{"$error":"#VALUE!"},{"$error":"#VALUE!"},null,null,null,null,{"$f":"TRIM(регистрация!H282)","v":""}]
[{"$f":"регистрация!A283","v":0},{"$f":"регистрация!G283","v":"00:00:00"},{"$f":"IFERROR(RIGHT(регистрация!F283,LEN(регистрация!F283)-FIND(\"*\",SUBSTITUTE(регистрация!F283,\" \",\"*\",LEN(регистрация!F283)-LEN(SUBSTITUTE(регистрация!F283,\" \",\"\"))))),регистрация!F283)","v":0},"",{"$error":"#VALUE!"},{"$error":"#VALUE!"},null,null,null,null,{"$f":"TRIM(регистрация!H283)","v":""}]
[{"$f":"регистрация!A284","v":0},{"$f":"регистрация!G284","v":"00:00:00"},{"$f":"IFERROR(RIGHT(регистрация!F284,LEN(регистрация!F284)-FIND(\"*\",SUBSTITUTE(регистрация!F284,\" \",\"*\",LEN(регистрация!F284)-LEN(SUBSTITUTE(регистрация!F284,\" \",\"\"))))),регистрация!F284)","v":0},"",{"$error":"#VALUE!"},{"$error":"#VALUE!"},null,null,null,null,{"$f":"TRIM(регистрация!H284)","v":""}]
[{"$f":"регистрация!A285","v":0},{"$f":"регистрация!G285","v":"00:00:00"},{"$f":"IFERROR(RIGHT(регистрация!F285,LEN(регистрация!F285)-FIND(\"*\",SUBSTITUTE(регистрация!F285,\" \",\"*\",LEN(регистрация!F285)-LEN(SUBSTITUTE(регистрация!F285,\" \",\"\"))))),регистрация!F285)","v":0},"",{"$error":"#VALUE!"},{"$error":"#VALUE!"},null,null,null,null,{"$f":"TRIM(регистрация!H285)","v":""}]
[{"$f":"регистрация!A286","v":0},{"$f":"регистрация!G286","v":"00:00:00"},{"$f":"IFERROR(RIGHT(регистрация!F286,LEN(регистрация!F286)-FIND(\"*\",SUBSTITUTE(регистрация!F286,\" \",\"*\",LEN(регистрация!F286)-LEN(SUBSTITUTE(регистрация!F286,\" \",\"\"))))),регистрация!F286)","v":0},"",{"$error":"#VALUE!"},{"$error":"#VALUE!"},null,null,null,null,{"$f":"TRIM(регистрация!H286)","v":""}]
[{"$f":"регистрация!A287","v":0},{"$f":"регистрация!G287","v":"00:00:00"},{"$f":"IFERROR(RIGHT(регистрация!F287,LEN(регистрация!F287)-FIND(\"*\",SUBSTITUTE(регистрация!F287,\" \",\"*\",LEN(регистрация!F287)-LEN(SUBSTITUTE(регистрация!F287,\" \",\"\"))))),регистрация!F287)","v":0},"",{"$error":"#VALUE!"},{"$error":"#VALUE!"},null,null,null,null,{"$f":"TRIM(регистрация!H287)","v":""}]
[{"$f":"регистрация!A288","v":0},{"$f":"регистрация!G288","v":"00:00:00"},{"$f":"IFERROR(RIGHT(регистрация!F288,LEN(регистрация!F288)-FIND(\"*\",SUBSTITUTE(регистрация!F288,\" \",\"*\",LEN(регистрация!F288)-LEN(SUBSTITUTE(регистрация!F288,\" \",\"\"))))),регистрация!F288)","v":0},"",{"$error":"#VALUE!"},{"$error":"#VALUE!"},null,null,null,null,{"$f":"TRIM(регистрация!H288)","v":""}]
[{"$f":"регистрация!A289","v":0},{"$f":"регистрация!G289","v":"00:00:00"},{"$f":"IFERROR(RIGHT(регистрация!F289,LEN(регистрация!F289)-FIND(\"*\",SUBSTITUTE(регистрация!F289,\" \",\"*\",LEN(регистрация!F289)-LEN(SUBSTITUTE(регистрация!F289,\" \",\"\"))))),регистрация!F289)","v":0},"",{"$error":"#VALUE!"},{"$error":"#VALUE!"},null,null,null,null,{"$f":"TRIM(регистрация!H289)","v":""}]
[{"$f":"регистрация!A290","v":0},{"$f":"регистрация!G290","v":"00:00:00"},{"$f":"IFERROR(RIGHT(регистрация!F290,LEN(регистрация!F290)-FIND(\"*\",SUBSTITUTE(регистрация!F290,\" \",\"*\",LEN(регистрация!F290)-LEN(SUBSTITUTE(регистрация!F290,\" \",\"\"))))),регистрация!F290)","v":0},"",{"$error":"#VALUE!"},{"$error":"#VALUE!"},null,null,null,null,{"$f":"TRIM(регистрация!H290)","v":""}]
[{"$f":"регистрация!A291","v":0},{"$f":"регистрация!G291","v":"00:00:00"},{"$f":"IFERROR(RIGHT(регистрация!F291,LEN(регистрация!F291)-FIND(\"*\",SUBSTITUTE(регистрация!F291,\" \",\"*\",LEN(регистрация!F291)-LEN(SUBSTITUTE(регистрация!F291,\" \",\"\"))))),регистрация!F291)","v":0},"",{"$error":"#VALUE!"},{"$error":"#VALUE!"},null,null,null,null,{"$f":"TRIM(регистрация!H291)","v":""}]
[{"$f":"регистрация!A292","v":0},{"$f":"регистрация!G292","v":"00:00:00"},{"$f":"IFERROR(RIGHT(регистрация!F292,LEN(регистрация!F292)-FIND(\"*\",SUBSTITUTE(регистрация!F292,\" \",\"*\",LEN(регистрация!F292)-LEN(SUBSTITUTE(регистрация!F292,\" \",\"\"))))),регистрация!F292)","v":0},"",{"$error":"#VALUE!"},{"$error":"#VALUE!"},null,null,null,null,{"$f":"TRIM(регистрация!H292)","v":""}]
[{"$f":"регистрация!A293","v":0},{"$f":"регистрация!G293","v":"00:00:00"},{"$f":"IFERROR(RIGHT(регистрация!F293,LEN(регистрация!F293)-FIND(\"*\",SUBSTITUTE(регистрация!F293,\" \",\"*\",LEN(регистрация!F293)-LEN(SUBSTITUTE(регистрация!F293,\" \",\"\"))))),регистрация!F293)","v":0},"",{"$error":"#VALUE!"},{"$error":"#VALUE!"},null,null,null,null,{"$f":"TRIM(регистрация!H293)","v":""}]
[{"$f":"регистрация!A294","v":0},{"$f":"регистрация!G294","v":"00:00:00"},{"$f":"IFERROR(RIGHT(регистрация!F294,LEN(регистрация!F294)-FIND(\"*\",SUBSTITUTE(регистрация!F294,\" \",\"*\",LEN(регистрация!F294)-LEN(SUBSTITUTE(регистрация!F294,\" \",\"\"))))),регистрация!F294)","v":0},"",{"$error":"#VALUE!"},{"$error":"#VALUE!"},null,null,null,null,{"$f":"TRIM(регистрация!H294)","v":""}]
[{"$f":"регистрация!A295","v":0},{"$f":"регистрация!G295","v":"00:00:00"},{"$f":"IFERROR(RIGHT(регистрация!F295,LEN(регистрация!F295)-FIND(\"*\",SUBSTITUTE(регистрация!F295,\" \",\"*\",LEN(регистрация!F295)-LEN(SUBSTITUTE(регистрация!F295,\" \",\"\"))))),регистрация!F295)","v":0},"",{"$error":"#VALUE!"},{"$error":"#VALUE!"},null,null,null,null,{"$f":"TRIM(регистрация!H295)","v":""}]
[{"$f":"регистрация!A296","v":0},{"$f":"регистрация!G296","v":"00:00:00"},{"$f":"IFERROR(RIGHT(регистрация!F296,LEN(регистрация!F296)-FIND(\"*\",SUBSTITUTE(регистрация!F296,\" \",\"*\",LEN(регистрация!F296)-LEN(SUBSTITUTE(регистрация!F296,\" \",\"\"))))),регистрация!F296)","v":0},"",{"$error":"#VALUE!"},{"$error":"#VALUE!"},null,null,null,null,{"$f":"TRIM(регистрация!H296)","v":""}]
[{"$f":"регистрация!A297","v":0},{"$f":"регистрация!G297","v":"00:00:00"},{"$f":"IFERROR(RIGHT(регистрация!F297,LEN(регистрация!F297)-FIND(\"*\",SUBSTITUTE(регистрация!F297,\" \",\"*\",LEN(регистрация!F297)-LEN(SUBSTITUTE(регистрация!F297,\" \",\"\"))))),регистрация!F297)","v":0},"",{"$error":"#VALUE!"},{"$error":"#VALUE!"},null,null,null,null,{"$f":"TRIM(регистрация!H297)","v":""}]
[{"$f":"регистрация!A298","v":0},{"$f":"регистрация!G298","v":"00:00:00"},{"$f":"IFERROR(RIGHT(регистрация!F298,LEN(регистрация!F298)-FIND(\"*\",SUBSTITUTE(регистрация!F298,\" \",\"*\",LEN(регистрация!F298)-LEN(SUBSTITUTE(регистрация!F298,\" \",\"\"))))),регистрация!F298)","v":0},"",{"$error":"#VALUE!"},{"$error":"#VALUE!"},null,null,null,null,{"$f":"TRIM(регистрация!H298)","v":""}]
[{"$f":"регистрация!A299","v":0},{"$f":"регистрация!G299","v":"00:00:00"},{"$f":"IFERROR(RIGHT(регистрация!F299,LEN(регистрация!F299)-FIND(\"*\",SUBSTITUTE(регистрация!F299,\" \",\"*\",LEN(регистрация!F299)-LEN(SUBSTITUTE(регистрация!F299,\" \",\"\"))))),регистрация!F299)","v":0},"",{"$error":"#VALUE!"},{"$error":"#VALUE!"},null,null,null,null,{"$f":"TRIM(регистрация!H299)","v":""}]
[{"$f":"регистрация!A300","v":0},{"$f":"регистрация!G300","v":"00:00:00"},{"$f":"IFERROR(RIGHT(регистрация!F300,LEN(регистрация!F300)-FIND(\"*\",SUBSTITUTE(регистрация!F300,\" \",\"*\",LEN(регистрация!F300)-LEN(SUBSTITUTE(регистрация!F300,\" \",\"\"))))),регистрация!F300)","v":0},"",{"$error":"#VALUE!"},{"$error":"#VALUE!"},null,null,null,null,{"$f":"TRIM(регистрация!H300)","v":""}]
[{"$f":"регистрация!A301","v":0},{"$f":"регистрация!G301","v":"00:00:00"},{"$f":"IFERROR(RIGHT(регистрация!F301,LEN(регистрация!F301)-FIND(\"*\",SUBSTITUTE(регистрация!F301,\" \",\"*\",LEN(регистрация!F301)-LEN(SUBSTITUTE(регистрация!F301,\" \",\"\"))))),регистрация!F301)","v":0},"",{"$error":"#VALUE!"},{"$error":"#VALUE!"},null,null,null,null,{"$f":"TRIM(регистрация!H301)","v":""}]
[{"$f":"регистрация!A302","v":0},{"$f":"регистрация!G302","v":"00:00:00"},{"$f":"IFERROR(RIGHT(регистрация!F302,LEN(регистрация!F302)-FIND(\"*\",SUBSTITUTE(регистрация!F302,\" \",\"*\",LEN(регистрация!F302)-LEN(SUBSTITUTE(регистрация!F302,\" \",\"\"))))),регистрация!F302)","v":0},"",{"$error":"#VALUE!"},{"$error":"#VALUE!"},null,null,null,null,{"$f":"TRIM(регистрация!H302)","v":""}]
[{"$f":"регистрация!A303","v":0},{"$f":"регистрация!G303","v":"00:00:00"},{"$f":"IFERROR(RIGHT(регистрация!F303,LEN(регистрация!F303)-FIND(\"*\",SUBSTITUTE(регистрация!F303,\" \",\"*\",LEN(регистрация!F303)-LEN(SUBSTITUTE(регистрация!F303,\" \",\"\"))))),регистрация!F303)","v":0},"",{"$error":"#VALUE!"},{"$error":"#VALUE!"},null,null,null,null,{"$f":"TRIM(регистрация!H303)","v":""}]
[{"$f":"регистрация!A304","v":0},{"$f":"регистрация!G304","v":"00:00:00"},{"$f":"IFERROR(RIGHT(регистрация!F304,LEN(регистрация!F304)-FIND(\"*\",SUBSTITUTE(регистрация!F304,\" \",\"*\",LEN(регистрация!F304)-LEN(SUBSTITUTE(регистрация!F304,\" \",\"\"))))),регистрация!F304)","v":0},"",{"$error":"#VALUE!"},{"$error":"#VALUE!"},null,null,null,null,{"$f":"TRIM(регистрация!H304)","v":""}]
[{"$f":"регистрация!A305","v":0},{"$f":"регистрация!G305","v":"00:00:00"},{"$f":"IFERROR(RIGHT(регистрация!F305,LEN(регистрация!F305)-FIND(\"*\",SUBSTITUTE(регистрация!F305,\" \",\"*\",LEN(регистрация!F305)-LEN(SUBSTITUTE(регистрация!F305,\" \",\"\"))))),регистрация!F305)","v":0},"",{"$error":"#VALUE!"},{"$error":"#VALUE!"},null,null,null,null,{"$f":"TRIM(регистрация!H305)","v":""}]
[{"$f":"регистрация!A306","v":0},{"$f":"регистрация!G306","v":"00:00:00"},{"$f":"IFERROR(RIGHT(регистрация!F306,LEN(регистрация!F306)-FIND(\"*\",SUBSTITUTE(регистрация!F306,\" \",\"*\",LEN(регистрация!F306)-LEN(SUBSTITUTE(регистрация!F306,\" \",\"\"))))),регистрация!F306)","v":0},"",{"$error":"#VALUE!"},{"$error":"#VALUE!"},null,null,null,null,{"$f":"TRIM(регистрация!H306)","v":""}]
[{"$f":"регистрация!A307","v":0},{"$f":"регистрация!G307","v":"00:00:00"},{"$f":"IFERROR(RIGHT(регистрация!F307,LEN(регистрация!F307)-FIND(\"*\",SUBSTITUTE(регистрация!F307,\" \",\"*\",LEN(регистрация!F307)-LEN(SUBSTITUTE(регистрация!F307,\" \",\"\"))))),регистрация!F307)","v":0},"",{"$error":"#VALUE!"},{"$error":"#VALUE!"},null,null,null,null,{"$f":"TRIM(регистрация!H307)","v":""}]
[{"$f":"регистрация!A308","v":0},{"$f":"регистрация!G308","v":"00:00:00"},{"$f":"IFERROR(RIGHT(регистрация!F308,LEN(регистрация!F308)-FIND(\"*\",SUBSTITUTE(регистрация!F308,\" \",\"*\",LEN(регистрация!F308)-LEN(SUBSTITUTE(регистрация!F308,\" \",\"\"))))),регистрация!F308)","v":0},"",{"$error":"#VALUE!"},{"$error":"#VALUE!"},null,null,null,null,{"$f":"TRIM(регистрация!H308)","v":""}]
[{"$f":"регистрация!A309","v":0},{"$f":"регистрация!G309","v":"00:00:00"},{"$f":"IFERROR(RIGHT(регистрация!F309,LEN(регистрация!F309)-FIND(\"*\",SUBSTITUTE(регистрация!F309,\" \",\"*\",LEN(регистрация!F309)-LEN(SUBSTITUTE(регистрация!F309,\" \",\"\"))))),регистрация!F309)","v":0},"",{"$error":"#VALUE!"},{"$error":"#VALUE!"},null,null,null,null,{"$f":"TRIM(регистрация!H309)","v":""}]
[{"$f":"регистрация!A310","v":0},{"$f":"регистрация!G310","v":"00:00:00"},{"$f":"IFERROR(RIGHT(регистрация!F310,LEN(регистрация!F310)-FIND(\"*\",SUBSTITUTE(регистрация!F310,\" \",\"*\",LEN(регистрация!F310)-LEN(SUBSTITUTE(регистрация!F310,\" \",\"\"))))),регистрация!F310)","v":0},"",{"$error":"#VALUE!"},{"$error":"#VALUE!"},null,null,null,null,{"$f":"TRIM(регистрация!H310)","v":""}]
[{"$f":"регистрация!A311","v":0},{"$f":"регистрация!G311","v":"00:00:00"},{"$f":"IFERROR(RIGHT(регистрация!F311,LEN(регистрация!F311)-FIND(\"*\",SUBSTITUTE(регистрация!F311,\" \",\"*\",LEN(регистрация!F311)-LEN(SUBSTITUTE(регистрация!F311,\" \",\"\"))))),регистрация!F311)","v":0},"",{"$error":"#VALUE!"},{"$error":"#VALUE!"},null,null,null,null,{"$f":"TRIM(регистрация!H311)","v":""}]
[{"$f":"регистрация!A312","v":0},{"$f":"регистрация!G312","v":"00:00:00"},{"$f":"IFERROR(RIGHT(регистрация!F312,LEN(регистрация!F312)-FIND(\"*\",SUBSTITUTE(регистрация!F312,\" \",\"*\",LEN(регистрация!F312)-LEN(SUBSTITUTE(регистрация!F312,\" \",\"\"))))),регистрация!F312)","v":0},"",{"$error":"#VALUE!"},{"$error":"#VALUE!"},null,null,null,null,{"$f":"TRIM(регистрация!H312)","v":""}]
[{"$f":"регистрация!A313","v":0},{"$f":"регистрация!G313","v":"00:00:00"},{"$f":"IFERROR(RIGHT(регистрация!F313,LEN(регистрация!F313)-FIND(\"*\",SUBSTITUTE(регистрация!F313,\" \",\"*\",LEN(регистрация!F313)-LEN(SUBSTITUTE(регистрация!F313,\" \",\"\"))))),регистрация!F313)","v":0},"",{"$error":"#VALUE!"},{"$error":"#VALUE!"},null,null,null,null,{"$f":"TRIM(регистрация!H313)","v":""}]
[{"$f":"регистрация!A314","v":0},{"$f":"регистрация!G314","v":"00:00:00"},{"$f":"IFERROR(RIGHT(регистрация!F314,LEN(регистрация!F314)-FIND(\"*\",SUBSTITUTE(регистрация!F314,\" \",\"*\",LEN(регистрация!F314)-LEN(SUBSTITUTE(регистрация!F314,\" \",\"\"))))),регистрация!F314)","v":0},"",{"$error":"#VALUE!"},{"$error":"#VALUE!"},null,null,null,null,{"$f":"TRIM(регистрация!H314)","v":""}]
[{"$f":"регистрация!A315","v":0},{"$f":"регистрация!G315","v":"00:00:00"},{"$f":"IFERROR(RIGHT(регистрация!F315,LEN(регистрация!F315)-FIND(\"*\",SUBSTITUTE(регистрация!F315,\" \",\"*\",LEN(регистрация!F315)-LEN(SUBSTITUTE(регистрация!F315,\" \",\"\"))))),регистрация!F315)","v":0},"",{"$error":"#VALUE!"},{"$error":"#VALUE!"},null,null,null,null,{"$f":"TRIM(регистрация!H315)","v":""}]
[{"$f":"регистрация!A316","v":0},{"$f":"регистрация!G316","v":"00:00:00"},{"$f":"IFERROR(RIGHT(регистрация!F316,LEN(регистрация!F316)-FIND(\"*\",SUBSTITUTE(регистрация!F316,\" \",\"*\",LEN(регистрация!F316)-LEN(SUBSTITUTE(регистрация!F316,\" \",\"\"))))),регистрация!F316)","v":0},"",{"$error":"#VALUE!"},{"$error":"#VALUE!"},null,null,null,null,{"$f":"TRIM(регистрация!H316)","v":""}]
[{"$f":"регистрация!A317","v":0},{"$f":"регистрация!G317","v":"00:00:00"},{"$f":"IFERROR(RIGHT(регистрация!F317,LEN(регистрация!F317)-FIND(\"*\",SUBSTITUTE(регистрация!F317,\" \",\"*\",LEN(регистрация!F317)-LEN(SUBSTITUTE(регистрация!F317,\" \",\"\"))))),регистрация!F317)","v":0},"",{"$error":"#VALUE!"},{"$error":"#VALUE!"},null,null,null,null,{"$f":"TRIM(регистрация!H317)","v":""}]
[{"$f":"регистрация!A318","v":0},{"$f":"регистрация!G318","v":"00:00:00"},{"$f":"IFERROR(RIGHT(регистрация!F318,LEN(регистрация!F318)-FIND(\"*\",SUBSTITUTE(регистрация!F318,\" \",\"*\",LEN(регистрация!F318)-LEN(SUBSTITUTE(регистрация!F318,\" \",\"\"))))),регистрация!F318)","v":0},"",{"$error":"#VALUE!"},{"$error":"#VALUE!"},null,null,null,null,{"$f":"TRIM(регистрация!H318)","v":""}]
[{"$f":"регистрация!A319","v":0},{"$f":"регистрация!G319","v":"00:00:00"},{"$f":"IFERROR(RIGHT(регистрация!F319,LEN(регистрация!F319)-FIND(\"*\",SUBSTITUTE(регистрация!F319,\" \",\"*\",LEN(регистрация!F319)-LEN(SUBSTITUTE(регистрация!F319,\" \",\"\"))))),регистрация!F319)","v":0},"",{"$error":"#VALUE!"},{"$error":"#VALUE!"},null,null,null,null,{"$f":"TRIM(регистрация!H319)","v":""}]
[{"$f":"регистрация!A320","v":0},{"$f":"регистрация!G320","v":"00:00:00"},{"$f":"IFERROR(RIGHT(регистрация!F320,LEN(регистрация!F320)-FIND(\"*\",SUBSTITUTE(регистрация!F320,\" \",\"*\",LEN(регистрация!F320)-LEN(SUBSTITUTE(регистрация!F320,\" \",\"\"))))),регистрация!F320)","v":0},"",{"$error":"#VALUE!"},{"$error":"#VALUE!"},null,null,null,null,{"$f":"TRIM(регистрация!H320)","v":""}]
[{"$f":"регистрация!A321","v":0},{"$f":"регистрация!G321","v":"00:00:00"},{"$f":"IFERROR(RIGHT(регистрация!F321,LEN(регистрация!F321)-FIND(\"*\",SUBSTITUTE(регистрация!F321,\" \",\"*\",LEN(регистрация!F321)-LEN(SUBSTITUTE(регистрация!F321,\" \",\"\"))))),регистрация!F321)","v":0},"",{"$error":"#VALUE!"},{"$error":"#VALUE!"},null,null,null,null,{"$f":"TRIM(регистрация!H321)","v":""}]
[{"$f":"регистрация!A322","v":0},{"$f":"регистрация!G322","v":"00:00:00"},{"$f":"IFERROR(RIGHT(регистрация!F322,LEN(регистрация!F322)-FIND(\"*\",SUBSTITUTE(регистрация!F322,\" \",\"*\",LEN(регистрация!F322)-LEN(SUBSTITUTE(регистрация!F322,\" \",\"\"))))),регистрация!F322)","v":0},"",{"$error":"#VALUE!"},{"$error":"#VALUE!"},null,null,null,null,{"$f":"TRIM(регистрация!H322)","v":""}]
[{"$f":"регистрация!A323","v":0},{"$f":"регистрация!G323","v":"00:00:00"},{"$f":"IFERROR(RIGHT(регистрация!F323,LEN(регистрация!F323)-FIND(\"*\",SUBSTITUTE(регистрация!F323,\" \",\"*\",LEN(регистрация!F323)-LEN(SUBSTITUTE(регистрация!F323,\" \",\"\"))))),регистрация!F323)","v":0},"",{"$error":"#VALUE!"},{"$error":"#VALUE!"},null,null,null,null,{"$f":"TRIM(регистрация!H323)","v":""}]
[{"$f":"регистрация!A324","v":0},{"$f":"регистрация!G324","v":"00:00:00"},{"$f":"IFERROR(RIGHT(регистрация!F324,LEN(регистрация!F324)-FIND(\"*\",SUBSTITUTE(регистрация!F324,\" \",\"*\",LEN(регистрация!F324)-LEN(SUBSTITUTE(регистрация!F324,\" \",\"\"))))),регистрация!F324)","v":0},"",{"$error":"#VALUE!"},{"$error":"#VALUE!"},null,null,null,null,{"$f":"TRIM(регистрация!H324)","v":""}]
[{"$f":"регистрация!A325","v":0},{"$f":"регистрация!G325","v":"00:00:00"},{"$f":"IFERROR(RIGHT(регистрация!F325,LEN(регистрация!F325)-FIND(\"*\",SUBSTITUTE(регистрация!F325,\" \",\"*\",LEN(регистрация!F325)-LEN(SUBSTITUTE(регистрация!F325,\" \",\"\"))))),регистрация!F325)","v":0},"",{"$error":"#VALUE!"},{"$error":"#VALUE!"},null,null,null,null,{"$f":"TRIM(регистрация!H325)","v":""}]
[{"$f":"регистрация!A326","v":0},{"$f":"регистрация!G326","v":"00:00:00"},{"$f":"IFERROR(RIGHT(регистрация!F326,LEN(регистрация!F326)-FIND(\"*\",SUBSTITUTE(регистрация!F326,\" \",\"*\",LEN(регистрация!F326)-LEN(SUBSTITUTE(регистрация!F326,\" \",\"\"))))),регистрация!F326)","v":0},"",{"$f":"IFERROR(LEFT(F326,FIND(\",\",F326)-1),F326)","v":{"$error":"#VALUE!"}},{"$error":"#VALUE!"},null,null,null,null,{"$f":"TRIM(регистрация!H326)","v":""}]
[{"$f":"регистрация!A327","v":0},{"$f":"регистрация!G327","v":"00:00:00"},{"$f":"IFERROR(RIGHT(регистрация!F327,LEN(регистрация!F327)-FIND(\"*\",SUBSTITUTE(регистрация!F327,\" \",\"*\",LEN(регистрация!F327)-LEN(SUBSTITUTE(регистрация!F327,\" \",\"\"))))),регистрация!F327)","v":0},{"$f":"IFERROR(LEFT(K327,FIND(\",\",K327)-1),K327)","v":""},{"$error":"#VALUE!"},{"$f":"MID(K327,FIND(\" \",K327)*1,27)","v":{"$error":"#VALUE!"}},null,null,null,null,{"$f":"TRIM(регистрация!H327)","v":""}]
[{"$f":"регистрация!A328","v":0},{"$f":"регистрация!G328","v":"00:00:00"},{"$f":"IFERROR(RIGHT(регистрация!F328,LEN(регистрация!F328)-FIND(\"*\",SUBSTITUTE(регистрация!F328,\" \",\"*\",LEN(регистрация!F328)-LEN(SUBSTITUTE(регистрация!F328,\" \",\"\"))))),регистрация!F328)","v":0},"",{"$error":"#VALUE!"},{"$error":"#VALUE!"},null,null,null,null,{"$f":"TRIM(регистрация!H328)","v":""}]
[{"$f":"регистрация!A329","v":0},{"$f":"регистрация!G329","v":"00:00:00"},{"$f":"IFERROR(RIGHT(регистрация!F329,LEN(регистрация!F329)-FIND(\"*\",SUBSTITUTE(регистрация!F329,\" \",\"*\",LEN(регистрация!F329)-LEN(SUBSTITUTE(регистрация!F329,\" \",\"\"))))),регистрация!F329)","v":0},"",{"$error":"#VALUE!"},{"$error":"#VALUE!"},null,null,null,null,{"$f":"TRIM(регистрация!H329)","v":""}]
[{"$f":"регистрация!A330","v":0},{"$f":"регистрация!G330","v":"00:00:00"},{"$f":"IFERROR(RIGHT(регистрация!F330,LEN(регистрация!F330)-FIND(\"*\",SUBSTITUTE(регистрация!F330,\" \",\"*\",LEN(регистрация!F330)-LEN(SUBSTITUTE(регистрация!F330,\" \",\"\"))))),регистрация!F330)","v":0},"",{"$error":"#VALUE!"},{"$error":"#VALUE!"},null,null,null,null,{"$f":"TRIM(регистрация!H330)","v":""}]
[{"$f":"регистрация!A331","v":0},{"$f":"регистрация!G331","v":"00:00:00"},{"$f":"IFERROR(RIGHT(регистрация!F331,LEN(регистрация!F331)-FIND(\"*\",SUBSTITUTE(регистрация!F331,\" \",\"*\",LEN(регистрация!F331)-LEN(SUBSTITUTE(регистрация!F331,\" \",\"\"))))),регистрация!F331)","v":0},"",{"$error":"#VALUE!"},{"$error":"#VALUE!"},null,null,null,null,{"$f":"TRIM(регистрация!H331)","v":""}]
[{"$f":"регистрация!A332","v":0},{"$f":"регистрация!G332","v":"00:00:00"},{"$f":"IFERROR(RIGHT(регистрация!F332,LEN(регистрация!F332)-FIND(\"*\",SUBSTITUTE(регистрация!F332,\" \",\"*\",LEN(регистрация!F332)-LEN(SUBSTITUTE(регистрация!F332,\" \",\"\"))))),регистрация!F332)","v":0},"",{"$error":"#VALUE!"},{"$error":"#VALUE!"},null,null,null,null,{"$f":"TRIM(регистрация!H332)","v":""}]
[{"$f":"регистрация!A333","v":0},{"$f":"регистрация!G333","v":"00:00:00"},{"$f":"IFERROR(RIGHT(регистрация!F333,LEN(регистрация!F333)-FIND(\"*\",SUBSTITUTE(регистрация!F333,\" \",\"*\",LEN(регистрация!F333)-LEN(SUBSTITUTE(регистрация!F333,\" \",\"\"))))),регистрация!F333)","v":0},"",{"$error":"#VALUE!"},{"$error":"#VALUE!"},null,null,null,null,{"$f":"TRIM(регистрация!H333)","v":""}]
[{"$f":"регистрация!A334","v":0},{"$f":"регистрация!G334","v":"00:00:00"},{"$f":"IFERROR(RIGHT(регистрация!F334,LEN(регистрация!F334)-FIND(\"*\",SUBSTITUTE(регистрация!F334,\" \",\"*\",LEN(регистрация!F334)-LEN(SUBSTITUTE(регистрация!F334,\" \",\"\"))))),регистрация!F334)","v":0},"",{"$error":"#VALUE!"},{"$error":"#VALUE!"},null,null,null,null,{"$f":"TRIM(регистрация!H334)","v":""}]
[{"$f":"регистрация!A335","v":0},{"$f":"регистрация!G335","v":"00:00:00"},{"$f":"IFERROR(RIGHT(регистрация!F335,LEN(регистрация!F335)-FIND(\"*\",SUBSTITUTE(регистрация!F335,\" \",\"*\",LEN(регистрация!F335)-LEN(SUBSTITUTE(регистрация!F335,\" \",\"\"))))),регистрация!F335)","v":0},"",{"$error":"#VALUE!"},{"$error":"#VALUE!"},null,null,null,null,{"$f":"TRIM(регистрация!H335)","v":""}]
[{"$f":"регистрация!A336","v":0},{"$f":"регистрация!G336","v":"00:00:00"},{"$f":"IFERROR(RIGHT(регистрация!F336,LEN(регистрация!F336)-FIND(\"*\",SUBSTITUTE(регистрация!F336,\" \",\"*\",LEN(регистрация!F336)-LEN(SUBSTITUTE(регистрация!F336,\" \",\"\"))))),регистрация!F336)","v":0},"",{"$error":"#VALUE!"},{"$error":"#VALUE!"},null,null,null,null,{"$f":"TRIM(регистрация!H336)","v":""}]
[{"$f":"регистрация!A337","v":0},{"$f":"регистрация!G337","v":"00:00:00"},{"$f":"IFERROR(RIGHT(регистрация!F337,LEN(регистрация!F337)-FIND(\"*\",SUBSTITUTE(регистрация!F337,\" \",\"*\",LEN(регистрация!F337)-LEN(SUBSTITUTE(регистрация!F337,\" \",\"\"))))),регистрация!F337)","v":0},"",{"$error":"#VALUE!"},{"$error":"#VALUE!"},null,null,null,null,{"$f":"TRIM(регистрация!H337)","v":""}]
[{"$f":"регистрация!A338","v":0},{"$f":"регистрация!G338","v":"00:00:00"},{"$f":"IFERROR(RIGHT(регистрация!F338,LEN(регистрация!F338)-FIND(\"*\",SUBSTITUTE(регистрация!F338,\" \",\"*\",LEN(регистрация!F338)-LEN(SUBSTITUTE(регистрация!F338,\" \",\"\"))))),регистрация!F338)","v":0},"",{"$error":"#VALUE!"},{"$error":"#VALUE!"},null,null,null,null,{"$f":"TRIM(регистрация!H338)","v":""}]
[{"$f":"регистрация!A339","v":0},{"$f":"регистрация!G339","v":"00:00:00"},{"$f":"IFERROR(RIGHT(регистрация!F339,LEN(регистрация!F339)-FIND(\"*\",SUBSTITUTE(регистрация!F339,\" \",\"*\",LEN(регистрация!F339)-LEN(SUBSTITUTE(регистрация!F339,\" \",\"\"))))),регистрация!F339)","v":0},"",{"$error":"#VALUE!"},{"$error":"#VALUE!"},null,null,null,null,{"$f":"TRIM(регистрация!H339)","v":""}]
[{"$f":"регистрация!A340","v":0},{"$f":"регистрация!G340","v":"00:00:00"},{"$f":"IFERROR(RIGHT(регистрация!F340,LEN(регистрация!F340)-FIND(\"*\",SUBSTITUTE(регистрация!F340,\" \",\"*\",LEN(регистрация!F340)-LEN(SUBSTITUTE(регистрация!F340,\" \",\"\"))))),регистрация!F340)","v":0},"",{"$error":"#VALUE!"},{"$error":"#VALUE!"},null,null,null,null,{"$f":"TRIM(регистрация!H340)","v":""}]
[{"$f":"регистрация!A341","v":0},{"$f":"регистрация!G341","v":"00:00:00"},{"$f":"IFERROR(RIGHT(регистрация!F341,LEN(регистрация!F341)-FIND(\"*\",SUBSTITUTE(регистрация!F341,\" \",\"*\",LEN(регистрация!F341)-LEN(SUBSTITUTE(регистрация!F341,\" \",\"\"))))),регистрация!F341)","v":0},"",{"$error":"#VALUE!"},{"$error":"#VALUE!"},null,null,null,null,{"$f":"TRIM(регистрация!H341)","v":""}]
[{"$f":"регистрация!A342","v":0},{"$f":"регистрация!G342","v":"00:00:00"},{"$f":"IFERROR(RIGHT(регистрация!F342,LEN(регистрация!F342)-FIND(\"*\",SUBSTITUTE(регистрация!F342,\" \",\"*\",LEN(регистрация!F342)-LEN(SUBSTITUTE(регистрация!F342,\" \",\"\"))))),регистрация!F342)","v":0},"",{"$error":"#VALUE!"},{"$error":"#VALUE!"},null,null,null,null,{"$f":"TRIM(регистрация!H342)","v":""}]
[{"$f":"регистрация!A343","v":0},{"$f":"регистрация!G343","v":"00:00:00"},{"$f":"IFERROR(RIGHT(регистрация!F343,LEN(регистрация!F343)-FIND(\"*\",SUBSTITUTE(регистрация!F343,\" \",\"*\",LEN(регистрация!F343)-LEN(SUBSTITUTE(регистрация!F343,\" \",\"\"))))),регистрация!F343)","v":0},"",{"$error":"#VALUE!"},{"$error":"#VALUE!"},null,null,null,null,{"$f":"TRIM(регистрация!H343)","v":""}]
[{"$f":"регистрация!A344","v":0},{"$f":"регистрация!G344","v":"00:00:00"},{"$f":"IFERROR(RIGHT(регистрация!F344,LEN(регистрация!F344)-FIND(\"*\",SUBSTITUTE(регистрация!F344,\" \",\"*\",LEN(регистрация!F344)-LEN(SUBSTITUTE(регистрация!F344,\" \",\"\"))))),регистрация!F344)","v":0},"",{"$error":"#VALUE!"},{"$error":"#VALUE!"},null,null,null,null,{"$f":"TRIM(регистрация!H344)","v":""}]
[{"$f":"регистрация!A345","v":0},{"$f":"регистрация!G345","v":"00:00:00"},{"$f":"IFERROR(RIGHT(регистрация!F345,LEN(регистрация!F345)-FIND(\"*\",SUBSTITUTE(регистрация!F345,\" \",\"*\",LEN(регистрация!F345)-LEN(SUBSTITUTE(регистрация!F345,\" \",\"\"))))),регистрация!F345)","v":0},"",{"$error":"#VALUE!"},{"$error":"#VALUE!"},null,null,null,null,{"$f":"TRIM(регистрация!H345)","v":""}]
[{"$f":"регистрация!A346","v":0},{"$f":"регистрация!G346","v":"00:00:00"},{"$f":"IFERROR(RIGHT(регистрация!F346,LEN(регистрация!F346)-FIND(\"*\",SUBSTITUTE(регистрация!F346,\" \",\"*\",LEN(регистрация!F346)-LEN(SUBSTITUTE(регистрация!F346,\" \",\"\"))))),регистрация!F346)","v":0},"",{"$error":"#VALUE!"},{"$error":"#VALUE!"},null,null,null,null,{"$f":"TRIM(регистрация!H346)","v":""}]
[{"$f":"регистрация!A347","v":0},{"$f":"регистрация!G347","v":"00:00:00"},{"$f":"IFERROR(RIGHT(регистрация!F347,LEN(регистрация!F347)-FIND(\"*\",SUBSTITUTE(регистрация!F347,\" \",\"*\",LEN(регистрация!F347)-LEN(SUBSTITUTE(регистрация!F347,\" \",\"\"))))),регистрация!F347)","v":0},"",{"$error":"#VALUE!"},{"$error":"#VALUE!"},null,null,null,null,{"$f":"TRIM(регистрация!H347)","v":""}]
[{"$f":"регистрация!A348","v":0},{"$f":"регистрация!G348","v":"00:00:00"},{"$f":"IFERROR(RIGHT(регистрация!F348,LEN(регистрация!F348)-FIND(\"*\",SUBSTITUTE(регистрация!F348,\" \",\"*\",LEN(регистрация!F348)-LEN(SUBSTITUTE(регистрация!F348,\" \",\"\"))))),регистрация!F348)","v":0},"",{"$error":"#VALUE!"},{"$error":"#VALUE!"},null,null,null,null,{"$f":"TRIM(регистрация!H348)","v":""}]
[{"$f":"регистрация!A349","v":0},{"$f":"регистрация!G349","v":"00:00:00"},{"$f":"IFERROR(RIGHT(регистрация!F349,LEN(регистрация!F349)-FIND(\"*\",SUBSTITUTE(регистрация!F349,\" \",\"*\",LEN(регистрация!F349)-LEN(SUBSTITUTE(регистрация!F349,\" \",\"\"))))),регистрация!F349)","v":0},"",{"$error":"#VALUE!"},{"$error":"#VALUE!"},null,null,null,null,{"$f":"TRIM(регистрация!H349)","v":""}]
[{"$f":"регистрация!A350","v":0},{"$f":"регистрация!G350","v":"00:00:00"},{"$f":"IFERROR(RIGHT(регистрация!F350,LEN(регистрация!F350)-FIND(\"*\",SUBSTITUTE(регистрация!F350,\" \",\"*\",LEN(регистрация!F350)-LEN(SUBSTITUTE(регистрация!F350,\" \",\"\"))))),регистрация!F350)","v":0},"",{"$error":"#VALUE!"},{"$error":"#VALUE!"},null,null,null,null,{"$f":"TRIM(регистрация!H350)","v":""}]
[{"$f":"регистрация!A351","v":0},{"$f":"регистрация!G351","v":"00:00:00"},{"$f":"IFERROR(RIGHT(регистрация!F351,LEN(регистрация!F351)-FIND(\"*\",SUBSTITUTE(регистрация!F351,\" \",\"*\",LEN(регистрация!F351)-LEN(SUBSTITUTE(регистрация!F351,\" \",\"\"))))),регистрация!F351)","v":0},"",{"$error":"#VALUE!"},{"$error":"#VALUE!"},null,null,null,null,{"$f":"TRIM(регистрация!H351)","v":""}]
[{"$f":"регистрация!A352","v":0},{"$f":"регистрация!G352","v":"00:00:00"},{"$f":"IFERROR(RIGHT(регистрация!F352,LEN(регистрация!F352)-FIND(\"*\",SUBSTITUTE(регистрация!F352,\" \",\"*\",LEN(регистрация!F352)-LEN(SUBSTITUTE(регистрация!F352,\" \",\"\"))))),регистрация!F352)","v":0},"",{"$error":"#VALUE!"},{"$error":"#VALUE!"},null,null,null,null,{"$f":"TRIM(регистрация!H352)","v":""}]
[{"$f":"регистрация!A353","v":0},{"$f":"регистрация!G353","v":"00:00:00"},{"$f":"IFERROR(RIGHT(регистрация!F353,LEN(регистрация!F353)-FIND(\"*\",SUBSTITUTE(регистрация!F353,\" \",\"*\",LEN(регистрация!F353)-LEN(SUBSTITUTE(регистрация!F353,\" \",\"\"))))),регистрация!F353)","v":0},"",{"$error":"#VALUE!"},{"$error":"#VALUE!"},null,null,null,null,{"$f":"TRIM(регистрация!H353)","v":""}]
[{"$f":"регистрация!A354","v":0},{"$f":"регистрация!G354","v":"00:00:00"},{"$f":"IFERROR(RIGHT(регистрация!F354,LEN(регистрация!F354)-FIND(\"*\",SUBSTITUTE(регистрация!F354,\" \",\"*\",LEN(регистрация!F354)-LEN(SUBSTITUTE(регистрация!F354,\" \",\"\"))))),регистрация!F354)","v":0},"",{"$error":"#VALUE!"},{"$error":"#VALUE!"},null,null,null,null,{"$f":"TRIM(регистрация!H354)","v":""}]
[{"$f":"регистрация!A355","v":0},{"$f":"регистрация!G355","v":"00:00:00"},{"$f":"IFERROR(RIGHT(регистрация!F355,LEN(регистрация!F355)-FIND(\"*\",SUBSTITUTE(регистрация!F355,\" \",\"*\",LEN(регистрация!F355)-LEN(SUBSTITUTE(регистрация!F355,\" \",\"\"))))),регистрация!F355)","v":0},"",{"$error":"#VALUE!"},{"$error":"#VALUE!"},null,null,null,null,{"$f":"TRIM(регистрация!H355)","v":""}]
[{"$f":"регистрация!A356","v":0},{"$f":"регистрация!G356","v":"00:00:00"},{"$f":"IFERROR(RIGHT(регистрация!F356,LEN(регистрация!F356)-FIND(\"*\",SUBSTITUTE(регистрация!F356,\" \",\"*\",LEN(регистрация!F356)-LEN(SUBSTITUTE(регистрация!F356,\" \",\"\"))))),регистрация!F356)","v":0},"",{"$error":"#VALUE!"},{"$error":"#VALUE!"},null,null,null,null,{"$f":"TRIM(регистрация!H356)","v":""}]
[{"$f":"регистрация!A357","v":0},{"$f":"регистрация!G357","v":"00:00:00"},{"$f":"IFERROR(RIGHT(регистрация!F357,LEN(регистрация!F357)-FIND(\"*\",SUBSTITUTE(регистрация!F357,\" \",\"*\",LEN(регистрация!F357)-LEN(SUBSTITUTE(регистрация!F357,\" \",\"\"))))),регистрация!F357)","v":0},"",{"$error":"#VALUE!"},{"$error":"#VALUE!"},null,null,null,null,{"$f":"TRIM(регистрация!H357)","v":""}]
[{"$f":"регистрация!A358","v":0},{"$f":"регистрация!G358","v":"00:00:00"},{"$f":"IFERROR(RIGHT(регистрация!F358,LEN(регистрация!F358)-FIND(\"*\",SUBSTITUTE(регистрация!F358,\" \",\"*\",LEN(регистрация!F358)-LEN(SUBSTITUTE(регистрация!F358,\" \",\"\"))))),регистрация!F358)","v":0},"",{"$error":"#VALUE!"},{"$error":"#VALUE!"},null,null,null,null,{"$f":"TRIM(регистрация!H358)","v":""}]
[{"$f":"регистрация!A359","v":0},{"$f":"регистрация!G359","v":"00:00:00"},{"$f":"IFERROR(RIGHT(регистрация!F359,LEN(регистрация!F359)-FIND(\"*\",SUBSTITUTE(регистрация!F359,\" \",\"*\",LEN(регистрация!F359)-LEN(SUBSTITUTE(регистрация!F359,\" \",\"\"))))),регистрация!F359)","v":0},"",{"$error":"#VALUE!"},{"$error":"#VALUE!"},null,null,null,null,{"$f":"TRIM(регистрация!H359)","v":""}]
[{"$f":"регистрация!A360","v":0},{"$f":"регистрация!G360","v":"00:00:00"},{"$f":"IFERROR(RIGHT(регистрация!F360,LEN(регистрация!F360)-FIND(\"*\",SUBSTITUTE(регистрация!F360,\" \",\"*\",LEN(регистрация!F360)-LEN(SUBSTITUTE(регистрация!F360,\" \",\"\"))))),регистрация!F360)","v":0},"",{"$error":"#VALUE!"},{"$error":"#VALUE!"},null,null,null,null,{"$f":"TRIM(регистрация!H360)","v":""}]
[{"$f":"регистрация!A361","v":0},{"$f":"регистрация!G361","v":"00:00:00"},{"$f":"IFERROR(RIGHT(регистрация!F361,LEN(регистрация!F361)-FIND(\"*\",SUBSTITUTE(регистрация!F361,\" \",\"*\",LEN(регистрация!F361)-LEN(SUBSTITUTE(регистрация!F361,\" \",\"\"))))),регистрация!F361)","v":0},"",{"$error":"#VALUE!"},{"$error":"#VALUE!"},null,null,null,null,{"$f":"TRIM(регистрация!H361)","v":""}]
[{"$f":"регистрация!A362","v":0},{"$f":"регистрация!G362","v":"00:00:00"},{"$f":"IFERROR(RIGHT(регистрация!F362,LEN(регистрация!F362)-FIND(\"*\",SUBSTITUTE(регистрация!F362,\" \",\"*\",LEN(регистрация!F362)-LEN(SUBSTITUTE(регистрация!F362,\" \",\"\"))))),регистрация!F362)","v":0},"",{"$error":"#VALUE!"},{"$error":"#VALUE!"},null,null,null,null,{"$f":"TRIM(регистрация!H362)","v":""}]
[{"$f":"регистрация!A363","v":0},{"$f":"регистрация!G363","v":"00:00:00"},{"$f":"IFERROR(RIGHT(регистрация!F363,LEN(регистрация!F363)-FIND(\"*\",SUBSTITUTE(регистрация!F363,\" \",\"*\",LEN(регистрация!F363)-LEN(SUBSTITUTE(регистрация!F363,\" \",\"\"))))),регистрация!F363)","v":0},"",{"$error":"#VALUE!"},{"$error":"#VALUE!"},null,null,null,null,{"$f":"TRIM(регистрация!H363)","v":""}]
[{"$f":"регистрация!A364","v":0},{"$f":"регистрация!G364","v":"00:00:00"},{"$f":"IFERROR(RIGHT(регистрация!F364,LEN(регистрация!F364)-FIND(\"*\",SUBSTITUTE(регистрация!F364,\" \",\"*\",LEN(регистрация!F364)-LEN(SUBSTITUTE(регистрация!F364,\" \",\"\"))))),регистрация!F364)","v":0},"",{"$error":"#VALUE!"},{"$error":"#VALUE!"},null,null,null,null,{"$f":"TRIM(регистрация!H364)","v":""}]
[{"$f":"регистрация!A365","v":0},{"$f":"регистрация!G365","v":"00:00:00"},{"$f":"IFERROR(RIGHT(регистрация!F365,LEN(регистрация!F365)-FIND(\"*\",SUBSTITUTE(регистрация!F365,\" \",\"*\",LEN(регистрация!F365)-LEN(SUBSTITUTE(регистрация!F365,\" \",\"\"))))),регистрация!F365)","v":0},"",{"$error":"#VALUE!"},{"$error":"#VALUE!"},null,null,null,null,{"$f":"TRIM(регистрация!H365)","v":""}]
[{"$f":"регистрация!A366","v":0},{"$f":"регистрация!G366","v":"00:00:00"},{"$f":"IFERROR(RIGHT(регистрация!F366,LEN(регистрация!F366)-FIND(\"*\",SUBSTITUTE(регистрация!F366,\" \",\"*\",LEN(регистрация!F366)-LEN(SUBSTITUTE(регистрация!F366,\" \",\"\"))))),регистрация!F366)","v":0},"",{"$error":"#VALUE!"},{"$error":"#VALUE!"},null,null,null,null,{"$f":"TRIM(регистрация!H366)","v":""}]
[{"$f":"регистрация!A367","v":0},{"$f":"регистрация!G367","v":"00:00:00"},{"$f":"IFERROR(RIGHT(регистрация!F367,LEN(регистрация!F367)-FIND(\"*\",SUBSTITUTE(регистрация!F367,\" \",\"*\",LEN(регистрация!F367)-LEN(SUBSTITUTE(регистрация!F367,\" \",\"\"))))),регистрация!F367)","v":0},"",{"$error":"#VALUE!"},{"$error":"#VALUE!"},null,null,null,null,{"$f":"TRIM(регистрация!H367)","v":""}]
[{"$f":"регистрация!A368","v":0},{"$f":"регистрация!G368","v":"00:00:00"},{"$f":"IFERROR(RIGHT(регистрация!F368,LEN(регистрация!F368)-FIND(\"*\",SUBSTITUTE(регистрация!F368,\" \",\"*\",LEN(регистрация!F368)-LEN(SUBSTITUTE(регистрация!F368,\" \",\"\"))))),регистрация!F368)","v":0},"",{"$error":"#VALUE!"},{"$error":"#VALUE!"},null,null,null,null,{"$f":"TRIM(регистрация!H368)","v":""}]
[{"$f":"регистрация!A369","v":0},{"$f":"регистрация!G369","v":"00:00:00"},{"$f":"IFERROR(RIGHT(регистрация!F369,LEN(регистрация!F369)-FIND(\"*\",SUBSTITUTE(регистрация!F369,\" \",\"*\",LEN(регистрация!F369)-LEN(SUBSTITUTE(регистрация!F369,\" \",\"\"))))),регистрация!F369)","v":0},"",{"$error":"#VALUE!"},{"$error":"#VALUE!"},null,null,null,null,{"$f":"TRIM(регистрация!H369)","v":""}]
[{"$f":"регистрация!A370","v":0},{"$f":"регистрация!G370","v":"00:00:00"},{"$f":"IFERROR(RIGHT(регистрация!F370,LEN(регистрация!F370)-FIND(\"*\",SUBSTITUTE(регистрация!F370,\" \",\"*\",LEN(регистрация!F370)-LEN(SUBSTITUTE(регистрация!F370,\" \",\"\"))))),регистрация!F370)","v":0},"",{"$error":"#VALUE!"},{"$error":"#VALUE!"},null,null,null,null,{"$f":"TRIM(регистрация!H370)","v":""}]
[{"$f":"регистрация!A371","v":0},{"$f":"регистрация!G371","v":"00:00:00"},{"$f":"IFERROR(RIGHT(регистрация!F371,LEN(регистрация!F371)-FIND(\"*\",SUBSTITUTE(регистрация!F371,\" \",\"*\",LEN(регистрация!F371)-LEN(SUBSTITUTE(регистрация!F371,\" \",\"\"))))),регистрация!F371)","v":0},"",{"$error":"#VALUE!"},{"$error":"#VALUE!"},null,null,null,null,{"$f":"TRIM(регистрация!H371)","v":""}]
[{"$f":"регистрация!A372","v":0},{"$f":"регистрация!G372","v":"00:00:00"},{"$f":"IFERROR(RIGHT(регистрация!F372,LEN(регистрация!F372)-FIND(\"*\",SUBSTITUTE(регистрация!F372,\" \",\"*\",LEN(регистрация!F372)-LEN(SUBSTITUTE(регистрация!F372,\" \",\"\"))))),регистрация!F372)","v":0},"",{"$error":"#VALUE!"},{"$error":"#VALUE!"},null,null,null,null,{"$f":"TRIM(регистрация!H372)","v":""}]
[{"$f":"регистрация!A373","v":0},{"$f":"регистрация!G373","v":"00:00:00"},{"$f":"IFERROR(RIGHT(регистрация!F373,LEN(регистрация!F373)-FIND(\"*\",SUBSTITUTE(регистрация!F373,\" \",\"*\",LEN(регистрация!F373)-LEN(SUBSTITUTE(регистрация!F373,\" \",\"\"))))),регистрация!F373)","v":0},"",{"$error":"#VALUE!"},{"$error":"#VALUE!"},null,null,null,null,{"$f":"TRIM(регистрация!H373)","v":""}]
[{"$f":"регистрация!A374","v":0},{"$f":"регистрация!G374","v":"00:00:00"},{"$f":"IFERROR(RIGHT(регистрация!F374,LEN(регистрация!F374)-FIND(\"*\",SUBSTITUTE(регистрация!F374,\" \",\"*\",LEN(регистрация!F374)-LEN(SUBSTITUTE(регистрация!F374,\" \",\"\"))))),регистрация!F374)","v":0},"",{"$error":"#VALUE!"},{"$error":"#VALUE!"},null,null,null,null,{"$f":"TRIM(регистрация!H374)","v":""}]
[{"$f":"регистрация!A375","v":0},{"$f":"регистрация!G375","v":"00:00:00"},{"$f":"IFERROR(RIGHT(регистрация!F375,LEN(регистрация!F375)-FIND(\"*\",SUBSTITUTE(регистрация!F375,\" \",\"*\",LEN(регистрация!F375)-LEN(SUBSTITUTE(регистрация!F375,\" \",\"\"))))),регистрация!F375)","v":0},"",{"$error":"#VALUE!"},{"$error":"#VALUE!"},null,null,null,null,{"$f":"TRIM(регистрация!H375)","v":""}]
[{"$f":"регистрация!A376","v":0},{"$f":"регистрация!G376","v":"00:00:00"},{"$f":"IFERROR(RIGHT(регистрация!F376,LEN(регистрация!F376)-FIND(\"*\",SUBSTITUTE(регистрация!F376,\" \",\"*\",LEN(регистрация!F376)-LEN(SUBSTITUTE(регистрация!F376,\" \",\"\"))))),регистрация!F376)","v":0},"",{"$error":"#VALUE!"},{"$error":"#VALUE!"},null,null,null,null,{"$f":"TRIM(регистрация!H376)","v":""}]
[{"$f":"регистрация!A377","v":0},{"$f":"регистрация!G377","v":"00:00:00"},{"$f":"IFERROR(RIGHT(регистрация!F377,LEN(регистрация!F377)-FIND(\"*\",SUBSTITUTE(регистрация!F377,\" \",\"*\",LEN(регистрация!F377)-LEN(SUBSTITUTE(регистрация!F377,\" \",\"\"))))),регистрация!F377)","v":0},"",{"$error":"#VALUE!"},{"$error":"#VALUE!"},null,null,null,null,{"$f":"TRIM(регистрация!H377)","v":""}]
[{"$f":"регистрация!A378","v":0},{"$f":"регистрация!G378","v":"00:00:00"},{"$f":"IFERROR(RIGHT(регистрация!F378,LEN(регистрация!F378)-FIND(\"*\",SUBSTITUTE(регистрация!F378,\" \",\"*\",LEN(регистрация!F378)-LEN(SUBSTITUTE(регистрация!F378,\" \",\"\"))))),регистрация!F378)","v":0},"",{"$error":"#VALUE!"},{"$error":"#VALUE!"},null,null,null,null,{"$f":"TRIM(регистрация!H378)","v":""}]
[{"$f":"регистрация!A379","v":0},{"$f":"регистрация!G379","v":"00:00:00"},{"$f":"IFERROR(RIGHT(регистрация!F379,LEN(регистрация!F379)-FIND(\"*\",SUBSTITUTE(регистрация!F379,\" \",\"*\",LEN(регистрация!F379)-LEN(SUBSTITUTE(регистрация!F379,\" \",\"\"))))),регистрация!F379)","v":0},"",{"$error":"#VALUE!"},{"$error":"#VALUE!"},null,null,null,null,{"$f":"TRIM(регистрация!H379)","v":""}]
[{"$f":"регистрация!A380","v":0},{"$f":"регистрация!G380","v":"00:00:00"},{"$f":"IFERROR(RIGHT(регистрация!F380,LEN(регистрация!F380)-FIND(\"*\",SUBSTITUTE(регистрация!F380,\" \",\"*\",LEN(регистрация!F380)-LEN(SUBSTITUTE(регистрация!F380,\" \",\"\"))))),регистрация!F380)","v":0},"",{"$error":"#VALUE!"},{"$error":"#VALUE!"},null,null,null,null,{"$f":"TRIM(регистрация!H380)","v":""}]
[{"$f":"регистрация!A381","v":0},{"$f":"регистрация!G381","v":"00:00:00"},{"$f":"IFERROR(RIGHT(регистрация!F381,LEN(регистрация!F381)-FIND(\"*\",SUBSTITUTE(регистрация!F381,\" \",\"*\",LEN(регистрация!F381)-LEN(SUBSTITUTE(регистрация!F381,\" \",\"\"))))),регистрация!F381)","v":0},"",{"$error":"#VALUE!"},{"$error":"#VALUE!"},null,null,null,null,{"$f":"TRIM(регистрация!H381)","v":""}]
[{"$f":"регистрация!A382","v":0},{"$f":"регистрация!G382","v":"00:00:00"},{"$f":"IFERROR(RIGHT(регистрация!F382,LEN(регистрация!F382)-FIND(\"*\",SUBSTITUTE(регистрация!F382,\" \",\"*\",LEN(регистрация!F382)-LEN(SUBSTITUTE(регистрация!F382,\" \",\"\"))))),регистрация!F382)","v":0},"",{"$error":"#VALUE!"},{"$error":"#VALUE!"},null,null,null,null,{"$f":"TRIM(регистрация!H382)","v":""}]
[{"$f":"регистрация!A383","v":0},{"$f":"регистрация!G383","v":"00:00:00"},{"$f":"IFERROR(RIGHT(регистрация!F383,LEN(регистрация!F383)-FIND(\"*\",SUBSTITUTE(регистрация!F383,\" \",\"*\",LEN(регистрация!F383)-LEN(SUBSTITUTE(регистрация!F383,\" \",\"\"))))),регистрация!F383)","v":0},"",{"$error":"#VALUE!"},{"$error":"#VALUE!"},null,null,null,null,{"$f":"TRIM(регистрация!H383)","v":""}]
[{"$f":"регистрация!A384","v":0},{"$f":"регистрация!G384","v":"00:00:00"},{"$f":"IFERROR(RIGHT(регистрация!F384,LEN(регистрация!F384)-FIND(\"*\",SUBSTITUTE(регистрация!F384,\" \",\"*\",LEN(регистрация!F384)-LEN(SUBSTITUTE(регистрация!F384,\" \",\"\"))))),регистрация!F384)","v":0},"",{"$error":"#VALUE!"},{"$error":"#VALUE!"},null,null,null,null,{"$f":"TRIM(регистрация!H384)","v":""}]
[{"$f":"регистрация!A385","v":0},{"$f":"регистрация!G385","v":"00:00:00"},{"$f":"IFERROR(RIGHT(регистрация!F385,LEN(регистрация!F385)-FIND(\"*\",SUBSTITUTE(регистрация!F385,\" \",\"*\",LEN(регистрация!F385)-LEN(SUBSTITUTE(регистрация!F385,\" \",\"\"))))),регистрация!F385)","v":0},"",{"$error":"#VALUE!"},{"$error":"#VALUE!"},null,null,null,null,{"$f":"TRIM(регистрация!H385)","v":""}]
[{"$f":"регистрация!A386","v":0},{"$f":"регистрация!G386","v":"00:00:00"},{"$f":"IFERROR(RIGHT(регистрация!F386,LEN(регистрация!F386)-FIND(\"*\",SUBSTITUTE(регистрация!F386,\" \",\"*\",LEN(регистрация!F386)-LEN(SUBSTITUTE(регистрация!F386,\" \",\"\"))))),регистрация!F386)","v":0},"",{"$error":"#VALUE!"},{"$error":"#VALUE!"},null,null,null,null,{"$f":"TRIM(регистрация!H386)","v":""}]
[{"$f":"регистрация!A387","v":0},{"$f":"регистрация!G387","v":"00:00:00"},{"$f":"IFERROR(RIGHT(регистрация!F387,LEN(регистрация!F387)-FIND(\"*\",SUBSTITUTE(регистрация!F387,\" \",\"*\",LEN(регистрация!F387)-LEN(SUBSTITUTE(регистрация!F387,\" \",\"\"))))),регистрация!F387)","v":0},"",{"$error":"#VALUE!"},{"$error":"#VALUE!"},null,null,null,null,{"$f":"TRIM(регистрация!H387)","v":""}]
[{"$f":"регистрация!A388","v":0},{"$f":"регистрация!G388","v":"00:00:00"},{"$f":"IFERROR(RIGHT(регистрация!F388,LEN(регистрация!F388)-FIND(\"*\",SUBSTITUTE(регистрация!F388,\" \",\"*\",LEN(регистрация!F388)-LEN(SUBSTITUTE(регистрация!F388,\" \",\"\"))))),регистрация!F388)","v":0},"",{"$error":"#VALUE!"},{"$error":"#VALUE!"},null,null,null,null,{"$f":"TRIM(регистрация!H388)","v":""}]
[{"$f":"регистрация!A389","v":0},{"$f":"регистрация!G389","v":"00:00:00"},{"$f":"IFERROR(RIGHT(регистрация!F389,LEN(регистрация!F389)-FIND(\"*\",SUBSTITUTE(регистрация!F389,\" \",\"*\",LEN(регистрация!F389)-LEN(SUBSTITUTE(регистрация!F389,\" \",\"\"))))),регистрация!F389)","v":0},"",{"$error":"#VALUE!"},{"$error":"#VALUE!"},null,null,null,null,{"$f":"TRIM(регистрация!H389)","v":""}]
[{"$f":"регистрация!A390","v":0},{"$f":"регистрация!G390","v":"00:00:00"},{"$f":"IFERROR(RIGHT(регистрация!F390,LEN(регистрация!F390)-FIND(\"*\",SUBSTITUTE(регистрация!F390,\" \",\"*\",LEN(регистрация!F390)-LEN(SUBSTITUTE(регистрация!F390,\" \",\"\"))))),регистрация!F390)","v":0},"",{"$f":"IFERROR(LEFT(F390,FIND(\",\",F390)-1),F390)","v":{"$error":"#VALUE!"}},{"$error":"#VALUE!"},null,null,null,null,{"$f":"TRIM(регистрация!H390)","v":""}]
[{"$f":"регистрация!A391","v":0},{"$f":"регистрация!G391","v":"00:00:00"},{"$f":"IFERROR(RIGHT(регистрация!F391,LEN(регистрация!F391)-FIND(\"*\",SUBSTITUTE(регистрация!F391,\" \",\"*\",LEN(регистрация!F391)-LEN(SUBSTITUTE(регистрация!F391,\" \",\"\"))))),регистрация!F391)","v":0},{"$f":"IFERROR(LEFT(K391,FIND(\",\",K391)-1),K391)","v":""},{"$error":"#VALUE!"},{"$f":"MID(K391,FIND(\" \",K391)*1,27)","v":{"$error":"#VALUE!"}},null,null,null,null,{"$f":"TRIM(регистрация!H391)","v":""}]
[{"$f":"регистрация!A392","v":0},{"$f":"регистрация!G392","v":"00:00:00"},{"$f":"IFERROR(RIGHT(регистрация!F392,LEN(регистрация!F392)-FIND(\"*\",SUBSTITUTE(регистрация!F392,\" \",\"*\",LEN(регистрация!F392)-LEN(SUBSTITUTE(регистрация!F392,\" \",\"\"))))),регистрация!F392)","v":0},"",{"$error":"#VALUE!"},{"$error":"#VALUE!"},null,null,null,null,{"$f":"TRIM(регистрация!H392)","v":""}]
[{"$f":"регистрация!A393","v":0},{"$f":"регистрация!G393","v":"00:00:00"},{"$f":"IFERROR(RIGHT(регистрация!F393,LEN(регистрация!F393)-FIND(\"*\",SUBSTITUTE(регистрация!F393,\" \",\"*\",LEN(регистрация!F393)-LEN(SUBSTITUTE(регистрация!F393,\" \",\"\"))))),регистрация!F393)","v":0},"",{"$error":"#VALUE!"},{"$error":"#VALUE!"},null,null,null,null,{"$f":"TRIM(регистрация!H393)","v":""}]
[{"$f":"регистрация!A394","v":0},{"$f":"регистрация!G394","v":"00:00:00"},{"$f":"IFERROR(RIGHT(регистрация!F394,LEN(регистрация!F394)-FIND(\"*\",SUBSTITUTE(регистрация!F394,\" \",\"*\",LEN(регистрация!F394)-LEN(SUBSTITUTE(регистрация!F394,\" \",\"\"))))),регистрация!F394)","v":0},"",{"$error":"#VALUE!"},{"$error":"#VALUE!"},null,null,null,null,{"$f":"TRIM(регистрация!H394)","v":""}]
[{"$f":"регистрация!A395","v":0},{"$f":"регистрация!G395","v":"00:00:00"},{"$f":"IFERROR(RIGHT(регистрация!F395,LEN(регистрация!F395)-FIND(\"*\",SUBSTITUTE(регистрация!F395,\" \",\"*\",LEN(регистрация!F395)-LEN(SUBSTITUTE(регистрация!F395,\" \",\"\"))))),регистрация!F395)","v":0},"",{"$error":"#VALUE!"},{"$error":"#VALUE!"},null,null,null,null,{"$f":"TRIM(регистрация!H395)","v":""}]
[{"$f":"регистрация!A396","v":0},{"$f":"регистрация!G396","v":"00:00:00"},{"$f":"IFERROR(RIGHT(регистрация!F396,LEN(регистрация!F396)-FIND(\"*\",SUBSTITUTE(регистрация!F396,\" \",\"*\",LEN(регистрация!F396)-LEN(SUBSTITUTE(регистрация!F396,\" \",\"\"))))),регистрация!F396)","v":0},"",{"$error":"#VALUE!"},{"$error":"#VALUE!"},null,null,null,null,{"$f":"TRIM(регистрация!H396)","v":""}]
[{"$f":"регистрация!A397","v":0},{"$f":"регистрация!G397","v":"00:00:00"},{"$f":"IFERROR(RIGHT(регистрация!F397,LEN(регистрация!F397)-FIND(\"*\",SUBSTITUTE(регистрация!F397,\" \",\"*\",LEN(регистрация!F397)-LEN(SUBSTITUTE(регистрация!F397,\" \",\"\"))))),регистрация!F397)","v":0},"",{"$error":"#VALUE!"},{"$error":"#VALUE!"},null,null,null,null,{"$f":"TRIM(регистрация!H397)","v":""}]
[{"$f":"регистрация!A398","v":0},{"$f":"регистрация!G398","v":"00:00:00"},{"$f":"IFERROR(RIGHT(регистрация!F398,LEN(регистрация!F398)-FIND(\"*\",SUBSTITUTE(регистрация!F398,\" \",\"*\",LEN(регистрация!F398)-LEN(SUBSTITUTE(регистрация!F398,\" \",\"\"))))),регистрация!F398)","v":0},"",{"$error":"#VALUE!"},{"$error":"#VALUE!"},null,null,null,null,{"$f":"TRIM(регистрация!H398)","v":""}]
[{"$f":"регистрация!A399","v":0},{"$f":"регистрация!G399","v":"00:00:00"},{"$f":"IFERROR(RIGHT(регистрация!F399,LEN(регистрация!F399)-FIND(\"*\",SUBSTITUTE(регистрация!F399,\" \",\"*\",LEN(регистрация!F399)-LEN(SUBSTITUTE(регистрация!F399,\" \",\"\"))))),регистрация!F399)","v":0},"",{"$error":"#VALUE!"},{"$error":"#VALUE!"},null,null,null,null,{"$f":"TRIM(регистрация!H399)","v":""}]
[{"$f":"регистрация!A400","v":0},{"$f":"регистрация!G400","v":"00:00:00"},{"$f":"IFERROR(RIGHT(регистрация!F400,LEN(регистрация!F400)-FIND(\"*\",SUBSTITUTE(регистрация!F400,\" \",\"*\",LEN(регистрация!F400)-LEN(SUBSTITUTE(регистрация!F400,\" \",\"\"))))),регистрация!F400)","v":0},"",{"$error":"#VALUE!"},{"$error":"#VALUE!"},null,null,null,null,{"$f":"TRIM(регистрация!H400)","v":""}]
[{"$f":"регистрация!A401","v":0},{"$f":"регистрация!G401","v":"00:00:00"},{"$f":"IFERROR(RIGHT(регистрация!F401,LEN(регистрация!F401)-FIND(\"*\",SUBSTITUTE(регистрация!F401,\" \",\"*\",LEN(регистрация!F401)-LEN(SUBSTITUTE(регистрация!F401,\" \",\"\"))))),регистрация!F401)","v":0},"",{"$error":"#VALUE!"},{"$error":"#VALUE!"},null,null,null,null,{"$f":"TRIM(регистрация!H401)","v":""}]
[{"$f":"регистрация!A402","v":0},{"$f":"регистрация!G402","v":"00:00:00"},{"$f":"IFERROR(RIGHT(регистрация!F402,LEN(регистрация!F402)-FIND(\"*\",SUBSTITUTE(регистрация!F402,\" \",\"*\",LEN(регистрация!F402)-LEN(SUBSTITUTE(регистрация!F402,\" \",\"\"))))),регистрация!F402)","v":0},"",{"$error":"#VALUE!"},{"$error":"#VALUE!"},null,null,null,null,{"$f":"TRIM(регистрация!H402)","v":""}]
[{"$f":"регистрация!A403","v":0},{"$f":"регистрация!G403","v":"00:00:00"},{"$f":"IFERROR(RIGHT(регистрация!F403,LEN(регистрация!F403)-FIND(\"*\",SUBSTITUTE(регистрация!F403,\" \",\"*\",LEN(регистрация!F403)-LEN(SUBSTITUTE(регистрация!F403,\" \",\"\"))))),регистрация!F403)","v":0},"",{"$error":"#VALUE!"},{"$error":"#VALUE!"},null,null,null,null,{"$f":"TRIM(регистрация!H403)","v":""}]
[{"$f":"регистрация!A404","v":0},{"$f":"регистрация!G404","v":"00:00:00"},{"$f":"IFERROR(RIGHT(регистрация!F404,LEN(регистрация!F404)-FIND(\"*\",SUBSTITUTE(регистрация!F404,\" \",\"*\",LEN(регистрация!F404)-LEN(SUBSTITUTE(регистрация!F404,\" \",\"\"))))),регистрация!F404)","v":0},"",{"$error":"#VALUE!"},{"$error":"#VALUE!"},null,null,null,null,{"$f":"TRIM(регистрация!H404)","v":""}]
[{"$f":"регистрация!A405","v":0},{"$f":"регистрация!G405","v":"00:00:00"},{"$f":"IFERROR(RIGHT(регистрация!F405,LEN(регистрация!F405)-FIND(\"*\",SUBSTITUTE(регистрация!F405,\" \",\"*\",LEN(регистрация!F405)-LEN(SUBSTITUTE(регистрация!F405,\" \",\"\"))))),регистрация!F405)","v":0},"",{"$error":"#VALUE!"},{"$error":"#VALUE!"},null,null,null,null,{"$f":"TRIM(регистрация!H405)","v":""}]
[{"$f":"регистрация!A406","v":0},{"$f":"регистрация!G406","v":"00:00:00"},{"$f":"IFERROR(RIGHT(регистрация!F406,LEN(регистрация!F406)-FIND(\"*\",SUBSTITUTE(регистрация!F406,\" \",\"*\",LEN(регистрация!F406)-LEN(SUBSTITUTE(регистрация!F406,\" \",\"\"))))),регистрация!F406)","v":0},"",{"$error":"#VALUE!"},{"$error":"#VALUE!"},null,null,null,null,{"$f":"TRIM(регистрация!H406)","v":""}]
[{"$f":"регистрация!A407","v":0},{"$f":"регистрация!G407","v":"00:00:00"},{"$f":"IFERROR(RIGHT(регистрация!F407,LEN(регистрация!F407)-FIND(\"*\",SUBSTITUTE(регистрация!F407,\" \",\"*\",LEN(регистрация!F407)-LEN(SUBSTITUTE(регистрация!F407,\" \",\"\"))))),регистрация!F407)","v":0},"",{"$error":"#VALUE!"},{"$error":"#VALUE!"},null,null,null,null,{"$f":"TRIM(регистрация!H407)","v":""}]
[{"$f":"регистрация!A408","v":0},{"$f":"регистрация!G408","v":"00:00:00"},{"$f":"IFERROR(RIGHT(регистрация!F408,LEN(регистрация!F408)-FIND(\"*\",SUBSTITUTE(регистрация!F408,\" \",\"*\",LEN(регистрация!F408)-LEN(SUBSTITUTE(регистрация!F408,\" \",\"\"))))),регистрация!F408)","v":0},"",{"$error":"#VALUE!"},{"$error":"#VALUE!"},null,null,null,null,{"$f":"TRIM(регистрация!H408)","v":""}]
[{"$f":"регистрация!A409","v":0},{"$f":"регистрация!G409","v":"00:00:00"},{"$f":"IFERROR(RIGHT(регистрация!F409,LEN(регистрация!F409)-FIND(\"*\",SUBSTITUTE(регистрация!F409,\" \",\"*\",LEN(регистрация!F409)-LEN(SUBSTITUTE(регистрация!F409,\" \",\"\"))))),регистрация!F409)","v":0},"",{"$error":"#VALUE!"},{"$error":"#VALUE!"},null,null,null,null,{"$f":"TRIM(регистрация!H409)","v":""}]
[{"$f":"регистрация!A410","v":0},{"$f":"регистрация!G410","v":"00:00:00"},{"$f":"IFERROR(RIGHT(регистрация!F410,LEN(регистрация!F410)-FIND(\"*\",SUBSTITUTE(регистрация!F410,\" \",\"*\",LEN(регистрация!F410)-LEN(SUBSTITUTE(регистрация!F410,\" \",\"\"))))),регистрация!F410)","v":0},"",{"$error":"#VALUE!"},{"$error":"#VALUE!"},null,null,null,null,{"$f":"TRIM(регистрация!H410)","v":""}]
[{"$f":"регистрация!A411","v":0},{"$f":"регистрация!G411","v":"00:00:00"},{"$f":"IFERROR(RIGHT(регистрация!F411,LEN(регистрация!F411)-FIND(\"*\",SUBSTITUTE(регистрация!F411,\" \",\"*\",LEN(регистрация!F411)-LEN(SUBSTITUTE(регистрация!F411,\" \",\"\"))))),регистрация!F411)","v":0},"",{"$error":"#VALUE!"},{"$error":"#VALUE!"},null,null,null,null,{"$f":"TRIM(регистрация!H411)","v":""}]
[{"$f":"регистрация!A412","v":0},{"$f":"регистрация!G412","v":"00:00:00"},{"$f":"IFERROR(RIGHT(регистрация!F412,LEN(регистрация!F412)-FIND(\"*\",SUBSTITUTE(регистрация!F412,\" \",\"*\",LEN(регистрация!F412)-LEN(SUBSTITUTE(регистрация!F412,\" \",\"\"))))),регистрация!F412)","v":0},"",{"$error":"#VALUE!"},{"$error":"#VALUE!"},null,null,null,null,{"$f":"TRIM(регистрация!H412)","v":""}]
[{"$f":"регистрация!A413","v":0},{"$f":"регистрация!G413","v":"00:00:00"},{"$f":"IFERROR(RIGHT(регистрация!F413,LEN(регистрация!F413)-FIND(\"*\",SUBSTITUTE(регистрация!F413,\" \",\"*\",LEN(регистрация!F413)-LEN(SUBSTITUTE(регистрация!F413,\" \",\"\"))))),регистрация!F413)","v":0},"",{"$error":"#VALUE!"},{"$error":"#VALUE!"},null,null,null,null,{"$f":"TRIM(регистрация!H413)","v":""}]
[{"$f":"регистрация!A414","v":0},{"$f":"регистрация!G414","v":"00:00:00"},{"$f":"IFERROR(RIGHT(регистрация!F414,LEN(регистрация!F414)-FIND(\"*\",SUBSTITUTE(регистрация!F414,\" \",\"*\",LEN(регистрация!F414)-LEN(SUBSTITUTE(регистрация!F414,\" \",\"\"))))),регистрация!F414)","v":0},"",{"$error":"#VALUE!"},{"$error":"#VALUE!"},null,null,null,null,{"$f":"TRIM(регистрация!H414)","v":""}]
[{"$f":"регистрация!A415","v":0},{"$f":"регистрация!G415","v":"00:00:00"},{"$f":"IFERROR(RIGHT(регистрация!F415,LEN(регистрация!F415)-FIND(\"*\",SUBSTITUTE(регистрация!F415,\" \",\"*\",LEN(регистрация!F415)-LEN(SUBSTITUTE(регистрация!F415,\" \",\"\"))))),регистрация!F415)","v":0},"",{"$error":"#VALUE!"},{"$error":"#VALUE!"},null,null,null,null,{"$f":"TRIM(регистрация!H415)","v":""}]
[{"$f":"регистрация!A416","v":0},{"$f":"регистрация!G416","v":"00:00:00"},{"$f":"IFERROR(RIGHT(регистрация!F416,LEN(регистрация!F416)-FIND(\"*\",SUBSTITUTE(регистрация!F416,\" \",\"*\",LEN(регистрация!F416)-LEN(SUBSTITUTE(регистрация!F416,\" \",\"\"))))),регистрация!F416)","v":0},"",{"$error":"#VALUE!"},{"$error":"#VALUE!"},null,null,null,null,{"$f":"TRIM(регистрация!H416)","v":""}]
[{"$f":"регистрация!A417","v":0},{"$f":"регистрация!G417","v":"00:00:00"},{"$f":"IFERROR(RIGHT(регистрация!F417,LEN(регистрация!F417)-FIND(\"*\",SUBSTITUTE(регистрация!F417,\" \",\"*\",LEN(регистрация!F417)-LEN(SUBSTITUTE(регистрация!F417,\" \",\"\"))))),регистрация!F417)","v":0},"",{"$error":"#VALUE!"},{"$error":"#VALUE!"},null,null,null,null,{"$f":"TRIM(регистрация!H417)","v":""}]
[{"$f":"регистрация!A418","v":0},{"$f":"регистрация!G418","v":"00:00:00"},{"$f":"IFERROR(RIGHT(регистрация!F418,LEN(регистрация!F418)-FIND(\"*\",SUBSTITUTE(регистрация!F418,\" \",\"*\",LEN(регистрация!F418)-LEN(SUBSTITUTE(регистрация!F418,\" \",\"\"))))),регистрация!F418)","v":0},"",{"$error":"#VALUE!"},{"$error":"#VALUE!"},null,null,null,null,{"$f":"TRIM(регистрация!H418)","v":""}]
[{"$f":"регистрация!A419","v":0},{"$f":"регистрация!G419","v":"00:00:00"},{"$f":"IFERROR(RIGHT(регистрация!F419,LEN(регистрация!F419)-FIND(\"*\",SUBSTITUTE(регистрация!F419,\" \",\"*\",LEN(регистрация!F419)-LEN(SUBSTITUTE(регистрация!F419,\" \",\"\"))))),регистрация!F419)","v":0},"",{"$error":"#VALUE!"},{"$error":"#VALUE!"},null,null,null,null,{"$f":"TRIM(регистрация!H419)","v":""}]
[{"$f":"регистрация!A420","v":0},{"$f":"регистрация!G420","v":"00:00:00"},{"$f":"IFERROR(RIGHT(регистрация!F420,LEN(регистрация!F420)-FIND(\"*\",SUBSTITUTE(регистрация!F420,\" \",\"*\",LEN(регистрация!F420)-LEN(SUBSTITUTE(регистрация!F420,\" \",\"\"))))),регистрация!F420)","v":0},"",{"$error":"#VALUE!"},{"$error":"#VALUE!"},null,null,null,null,{"$f":"TRIM(регистрация!H420)","v":""}]
[{"$f":"регистрация!A421","v":0},{"$f":"регистрация!G421","v":"00:00:00"},{"$f":"IFERROR(RIGHT(регистрация!F421,LEN(регистрация!F421)-FIND(\"*\",SUBSTITUTE(регистрация!F421,\" \",\"*\",LEN(регистрация!F421)-LEN(SUBSTITUTE(регистрация!F421,\" \",\"\"))))),регистрация!F421)","v":0},"",{"$error":"#VALUE!"},{"$error":"#VALUE!"},null,null,null,null,{"$f":"TRIM(регистрация!H421)","v":""}]
[{"$f":"регистрация!A422","v":0},{"$f":"регистрация!G422","v":"00:00:00"},{"$f":"IFERROR(RIGHT(регистрация!F422,LEN(регистрация!F422)-FIND(\"*\",SUBSTITUTE(регистрация!F422,\" \",\"*\",LEN(регистрация!F422)-LEN(SUBSTITUTE(регистрация!F422,\" \",\"\"))))),регистрация!F422)","v":0},"",{"$error":"#VALUE!"},{"$error":"#VALUE!"},null,null,null,null,{"$f":"TRIM(регистрация!H422)","v":""}]
[{"$f":"регистрация!A423","v":0},{"$f":"регистрация!G423","v":"00:00:00"},{"$f":"IFERROR(RIGHT(регистрация!F423,LEN(регистрация!F423)-FIND(\"*\",SUBSTITUTE(регистрация!F423,\" \",\"*\",LEN(регистрация!F423)-LEN(SUBSTITUTE(регистрация!F423,\" \",\"\"))))),регистрация!F423)","v":0},"",{"$error":"#VALUE!"},{"$error":"#VALUE!"},null,null,null,null,{"$f":"TRIM(регистрация!H423)","v":""}]
[{"$f":"регистрация!A424","v":0},{"$f":"регистрация!G424","v":"00:00:00"},{"$f":"IFERROR(RIGHT(регистрация!F424,LEN(регистрация!F424)-FIND(\"*\",SUBSTITUTE(регистрация!F424,\" \",\"*\",LEN(регистрация!F424)-LEN(SUBSTITUTE(регистрация!F424,\" \",\"\"))))),регистрация!F424)","v":0},"",{"$error":"#VALUE!"},{"$error":"#VALUE!"},null,null,null,null,{"$f":"TRIM(регистрация!H424)","v":""}]
[{"$f":"регистрация!A425","v":0},{"$f":"регистрация!G425","v":"00:00:00"},{"$f":"IFERROR(RIGHT(регистрация!F425,LEN(регистрация!F425)-FIND(\"*\",SUBSTITUTE(регистрация!F425,\" \",\"*\",LEN(регистрация!F425)-LEN(SUBSTITUTE(регистрация!F425,\" \",\"\"))))),регистрация!F425)","v":0},"",{"$error":"#VALUE!"},{"$error":"#VALUE!"},null,null,null,null,{"$f":"TRIM(регистрация!H425)","v":""}]
[{"$f":"регистрация!A426","v":0},{"$f":"регистрация!G426","v":"00:00:00"},{"$f":"IFERROR(RIGHT(регистрация!F426,LEN(регистрация!F426)-FIND(\"*\",SUBSTITUTE(регистрация!F426,\" \",\"*\",LEN(регистрация!F426)-LEN(SUBSTITUTE(регистрация!F426,\" \",\"\"))))),регистрация!F426)","v":0},"",{"$error":"#VALUE!"},{"$error":"#VALUE!"},null,null,null,null,{"$f":"TRIM(регистрация!H426)","v":""}]
[{"$f":"регистрация!A427","v":0},{"$f":"регистрация!G427","v":"00:00:00"},{"$f":"IFERROR(RIGHT(регистрация!F427,LEN(регистрация!F427)-FIND(\"*\",SUBSTITUTE(регистрация!F427,\" \",\"*\",LEN(регистрация!F427)-LEN(SUBSTITUTE(регистрация!F427,\" \",\"\"))))),регистрация!F427)","v":0},"",{"$error":"#VALUE!"},{"$error":"#VALUE!"},null,null,null,null,{"$f":"TRIM(регистрация!H427)","v":""}]
[{"$f":"регистрация!A428","v":0},{"$f":"регистрация!G428","v":"00:00:00"},{"$f":"IFERROR(RIGHT(регистрация!F428,LEN(регистрация!F428)-FIND(\"*\",SUBSTITUTE(регистрация!F428,\" \",\"*\",LEN(регистрация!F428)-LEN(SUBSTITUTE(регистрация!F428,\" \",\"\"))))),регистрация!F428)","v":0},"",{"$error":"#VALUE!"},{"$error":"#VALUE!"},null,null,null,null,{"$f":"TRIM(регистрация!H428)","v":""}]
[{"$f":"регистрация!A429","v":0},{"$f":"регистрация!G429","v":"00:00:00"},{"$f":"IFERROR(RIGHT(регистрация!F429,LEN(регистрация!F429)-FIND(\"*\",SUBSTITUTE(регистрация!F429,\" \",\"*\",LEN(регистрация!F429)-LEN(SUBSTITUTE(регистрация!F429,\" \",\"\"))))),регистрация!F429)","v":0},"",{"$error":"#VALUE!"},{"$error":"#VALUE!"},null,null,null,null,{"$f":"TRIM(регистрация!H429)","v":""}]
[{"$f":"регистрация!A430","v":0},{"$f":"регистрация!G430","v":"00:00:00"},{"$f":"IFERROR(RIGHT(регистрация!F430,LEN(регистрация!F430)-FIND(\"*\",SUBSTITUTE(регистрация!F430,\" \",\"*\",LEN(регистрация!F430)-LEN(SUBSTITUTE(регистрация!F430,\" \",\"\"))))),регистрация!F430)","v":0},"",{"$error":"#VALUE!"},{"$error":"#VALUE!"},null,null,null,null,{"$f":"TRIM(регистрация!H430)","v":""}]
[{"$f":"регистрация!A431","v":0},{"$f":"регистрация!G431","v":"00:00:00"},{"$f":"IFERROR(RIGHT(регистрация!F431,LEN(регистрация!F431)-FIND(\"*\",SUBSTITUTE(регистрация!F431,\" \",\"*\",LEN(регистрация!F431)-LEN(SUBSTITUTE(регистрация!F431,\" \",\"\"))))),регистрация!F431)","v":0},"",{"$error":"#VALUE!"},{"$error":"#VALUE!"},null,null,null,null,{"$f":"TRIM(регистрация!H431)","v":""}]
[{"$f":"регистрация!A432","v":0},{"$f":"регистрация!G432","v":"00:00:00"},{"$f":"IFERROR(RIGHT(регистрация!F432,LEN(регистрация!F432)-FIND(\"*\",SUBSTITUTE(регистрация!F432,\" \",\"*\",LEN(регистрация!F432)-LEN(SUBSTITUTE(регистрация!F432,\" \",\"\"))))),регистрация!F432)","v":0},"",{"$error":"#VALUE!"},{"$error":"#VALUE!"},null,null,null,null,{"$f":"TRIM(регистрация!H432)","v":""}]
[{"$f":"регистрация!A433","v":0},{"$f":"регистрация!G433","v":"00:00:00"},{"$f":"IFERROR(RIGHT(регистрация!F433,LEN(регистрация!F433)-FIND(\"*\",SUBSTITUTE(регистрация!F433,\" \",\"*\",LEN(регистрация!F433)-LEN(SUBSTITUTE(регистрация!F433,\" \",\"\"))))),регистрация!F433)","v":0},"",{"$error":"#VALUE!"},{"$error":"#VALUE!"},null,null,null,null,{"$f":"TRIM(регистрация!H433)","v":""}]
[{"$f":"регистрация!A434","v":0},{"$f":"регистрация!G434","v":"00:00:00"},{"$f":"IFERROR(RIGHT(регистрация!F434,LEN(регистрация!F434)-FIND(\"*\",SUBSTITUTE(регистрация!F434,\" \",\"*\",LEN(регистрация!F434)-LEN(SUBSTITUTE(регистрация!F434,\" \",\"\"))))),регистрация!F434)","v":0},"",{"$error":"#VALUE!"},{"$error":"#VALUE!"},null,null,null,null,{"$f":"TRIM(регистрация!H434)","v":""}]
[{"$f":"регистрация!A435","v":0},{"$f":"регистрация!G435","v":"00:00:00"},{"$f":"IFERROR(RIGHT(регистрация!F435,LEN(регистрация!F435)-FIND(\"*\",SUBSTITUTE(регистрация!F435,\" \",\"*\",LEN(регистрация!F435)-LEN(SUBSTITUTE(регистрация!F435,\" \",\"\"))))),регистрация!F435)","v":0},"",{"$error":"#VALUE!"},{"$error":"#VALUE!"},null,null,null,null,{"$f":"TRIM(регистрация!H435)","v":""}]
[{"$f":"регистрация!A436","v":0},{"$f":"регистрация!G436","v":"00:00:00"},{"$f":"IFERROR(RIGHT(регистрация!F436,LEN(регистрация!F436)-FIND(\"*\",SUBSTITUTE(регистрация!F436,\" \",\"*\",LEN(регистрация!F436)-LEN(SUBSTITUTE(регистрация!F436,\" \",\"\"))))),регистрация!F436)","v":0},"",{"$error":"#VALUE!"},{"$error":"#VALUE!"},null,null,null,null,{"$f":"TRIM(регистрация!H436)","v":""}]
[{"$f":"регистрация!A437","v":0},{"$f":"регистрация!G437","v":"00:00:00"},{"$f":"IFERROR(RIGHT(регистрация!F437,LEN(регистрация!F437)-FIND(\"*\",SUBSTITUTE(регистрация!F437,\" \",\"*\",LEN(регистрация!F437)-LEN(SUBSTITUTE(регистрация!F437,\" \",\"\"))))),регистрация!F437)","v":0},"",{"$error":"#VALUE!"},{"$error":"#VALUE!"},null,null,null,null,{"$f":"TRIM(регистрация!H437)","v":""}]
[{"$f":"регистрация!A438","v":0},{"$f":"регистрация!G438","v":"00:00:00"},{"$f":"IFERROR(RIGHT(регистрация!F438,LEN(регистрация!F438)-FIND(\"*\",SUBSTITUTE(регистрация!F438,\" \",\"*\",LEN(регистрация!F438)-LEN(SUBSTITUTE(регистрация!F438,\" \",\"\"))))),регистрация!F438)","v":0},"",{"$error":"#VALUE!"},{"$error":"#VALUE!"},null,null,null,null,{"$f":"TRIM(регистрация!H438)","v":""}]
[{"$f":"регистрация!A439","v":0},{"$f":"регистрация!G439","v":"00:00:00"},{"$f":"IFERROR(RIGHT(регистрация!F439,LEN(регистрация!F439)-FIND(\"*\",SUBSTITUTE(регистрация!F439,\" \",\"*\",LEN(регистрация!F439)-LEN(SUBSTITUTE(регистрация!F439,\" \",\"\"))))),регистрация!F439)","v":0},"",{"$error":"#VALUE!"},{"$error":"#VALUE!"},null,null,null,null,{"$f":"TRIM(регистрация!H439)","v":""}]
[{"$f":"регистрация!A440","v":0},{"$f":"регистрация!G440","v":"00:00:00"},{"$f":"IFERROR(RIGHT(регистрация!F440,LEN(регистрация!F440)-FIND(\"*\",SUBSTITUTE(регистрация!F440,\" \",\"*\",LEN(регистрация!F440)-LEN(SUBSTITUTE(регистрация!F440,\" \",\"\"))))),регистрация!F440)","v":0},"",{"$error":"#VALUE!"},{"$error":"#VALUE!"},null,null,null,null,{"$f":"TRIM(регистрация!H440)","v":""}]
[{"$f":"регистрация!A441","v":0},{"$f":"регистрация!G441","v":"00:00:00"},{"$f":"IFERROR(RIGHT(регистрация!F441,LEN(регистрация!F441)-FIND(\"*\",SUBSTITUTE(регистрация!F441,\" \",\"*\",LEN(регистрация!F441)-LEN(SUBSTITUTE(регистрация!F441,\" \",\"\"))))),регистрация!F441)","v":0},"",{"$error":"#VALUE!"},{"$error":"#VALUE!"},null,null,null,null,{"$f":"TRIM(регистрация!H441)","v":""}]
[{"$f":"регистрация!A442","v":0},{"$f":"регистрация!G442","v":"00:00:00"},{"$f":"IFERROR(RIGHT(регистрация!F442,LEN(регистрация!F442)-FIND(\"*\",SUBSTITUTE(регистрация!F442,\" \",\"*\",LEN(регистрация!F442)-LEN(SUBSTITUTE(регистрация!F442,\" \",\"\"))))),регистрация!F442)","v":0},"",{"$error":"#VALUE!"},{"$error":"#VALUE!"},null,null,null,null,{"$f":"TRIM(регистрация!H442)","v":""}]
[{"$f":"регистрация!A443","v":0},{"$f":"регистрация!G443","v":"00:00:00"},{"$f":"IFERROR(RIGHT(регистрация!F443,LEN(регистрация!F443)-FIND(\"*\",SUBSTITUTE(регистрация!F443,\" \",\"*\",LEN(регистрация!F443)-LEN(SUBSTITUTE(регистрация!F443,\" \",\"\"))))),регистрация!F443)","v":0},"",{"$error":"#VALUE!"},{"$error":"#VALUE!"},null,null,null,null,{"$f":"TRIM(регистрация!H443)","v":""}]
[{"$f":"регистрация!A444","v":0},{"$f":"регистрация!G444","v":"00:00:00"},{"$f":"IFERROR(RIGHT(регистрация!F444,LEN(регистрация!F444)-FIND(\"*\",SUBSTITUTE(регистрация!F444,\" \",\"*\",LEN(регистрация!F444)-LEN(SUBSTITUTE(регистрация!F444,\" \",\"\"))))),регистрация!F444)","v":0},"",{"$error":"#VALUE!"},{"$error":"#VALUE!"},null,null,null,null,{"$f":"TRIM(регистрация!H444)","v":""}]
[{"$f":"регистрация!A445","v":0},{"$f":"регистрация!G445","v":"00:00:00"},{"$f":"IFERROR(RIGHT(регистрация!F445,LEN(регистрация!F445)-FIND(\"*\",SUBSTITUTE(регистрация!F445,\" \",\"*\",LEN(регистрация!F445)-LEN(SUBSTITUTE(регистрация!F445,\" \",\"\"))))),регистрация!F445)","v":0},"",{"$error":"#VALUE!"},{"$error":"#VALUE!"},null,null,null,null,{"$f":"TRIM(регистрация!H445)","v":""}]
[{"$f":"регистрация!A446","v":0},{"$f":"регистрация!G446","v":"00:00:00"},{"$f":"IFERROR(RIGHT(регистрация!F446,LEN(регистрация!F446)-FIND(\"*\",SUBSTITUTE(регистрация!F446,\" \",\"*\",LEN(регистрация!F446)-LEN(SUBSTITUTE(регистрация!F446,\" \",\"\"))))),регистрация!F446)","v":0},"",{"$error":"#VALUE!"},{"$error":"#VALUE!"},null,null,null,null,{"$f":"TRIM(регистрация!H446)","v":""}]
[{"$f":"регистрация!A447","v":0},{"$f":"регистрация!G447","v":"00:00:00"},{"$f":"IFERROR(RIGHT(регистрация!F447,LEN(регистрация!F447)-FIND(\"*\",SUBSTITUTE(регистрация!F447,\" \",\"*\",LEN(регистрация!F447)-LEN(SUBSTITUTE(регистрация!F447,\" \",\"\"))))),регистрация!F447)","v":0},"",{"$error":"#VALUE!"},{"$error":"#VALUE!"},null,null,null,null,{"$f":"TRIM(регистрация!H447)","v":""}]
[{"$f":"регистрация!A448","v":0},{"$f":"регистрация!G448","v":"00:00:00"},{"$f":"IFERROR(RIGHT(регистрация!F448,LEN(регистрация!F448)-FIND(\"*\",SUBSTITUTE(регистрация!F448,\" \",\"*\",LEN(регистрация!F448)-LEN(SUBSTITUTE(регистрация!F448,\" \",\"\"))))),регистрация!F448)","v":0},"",{"$error":"#VALUE!"},{"$error":"#VALUE!"},null,null,null,null,{"$f":"TRIM(регистрация!H448)","v":""}]
[{"$f":"регистрация!A449","v":0},{"$f":"регистрация!G449","v":"00:00:00"},{"$f":"IFERROR(RIGHT(регистрация!F449,LEN(регистрация!F449)-FIND(\"*\",SUBSTITUTE(регистрация!F449,\" \",\"*\",LEN(регистрация!F449)-LEN(SUBSTITUTE(регистрация!F449,\" \",\"\"))))),регистрация!F449)","v":0},"",{"$error":"#VALUE!"},{"$error":"#VALUE!"},null,null,null,null,{"$f":"TRIM(регистрация!H449)","v":""}]
[{"$f":"регистрация!A450","v":0},{"$f":"регистрация!G450","v":"00:00:00"},{"$f":"IFERROR(RIGHT(регистрация!F450,LEN(регистрация!F450)-FIND(\"*\",SUBSTITUTE(регистрация!F450,\" \",\"*\",LEN(регистрация!F450)-LEN(SUBSTITUTE(регистрация!F450,\" \",\"\"))))),регистрация!F450)","v":0},"",{"$error":"#VALUE!"},{"$error":"#VALUE!"},null,null,null,null,{"$f":"TRIM(регистрация!H450)","v":""}]
[{"$f":"регистрация!A451","v":0},{"$f":"регистрация!G451","v":"00:00:00"},{"$f":"IFERROR(RIGHT(регистрация!F451,LEN(регистрация!F451)-FIND(\"*\",SUBSTITUTE(регистрация!F451,\" \",\"*\",LEN(регистрация!F451)-LEN(SUBSTITUTE(регистрация!F451,\" \",\"\"))))),регистрация!F451)","v":0},"",{"$error":"#VALUE!"},{"$error":"#VALUE!"},null,null,null,null,{"$f":"TRIM(регистрация!H451)","v":""}]
[{"$f":"регистрация!A452","v":0},{"$f":"регистрация!G452","v":"00:00:00"},{"$f":"IFERROR(RIGHT(регистрация!F452,LEN(регистрация!F452)-FIND(\"*\",SUBSTITUTE(регистрация!F452,\" \",\"*\",LEN(регистрация!F452)-LEN(SUBSTITUTE(регистрация!F452,\" \",\"\"))))),регистрация!F452)","v":0},"",{"$error":"#VALUE!"},{"$error":"#VALUE!"},null,null,null,null,{"$f":"TRIM(регистрация!H452)","v":""}]
[{"$f":"регистрация!A453","v":0},{"$f":"регистрация!G453","v":"00:00:00"},{"$f":"IFERROR(RIGHT(регистрация!F453,LEN(регистрация!F453)-FIND(\"*\",SUBSTITUTE(регистрация!F453,\" \",\"*\",LEN(регистрация!F453)-LEN(SUBSTITUTE(регистрация!F453,\" \",\"\"))))),регистрация!F453)","v":0},"",{"$error":"#VALUE!"},{"$error":"#VALUE!"},null,null,null,null,{"$f":"TRIM(регистрация!H453)","v":""}]
[{"$f":"регистрация!A454","v":0},{"$f":"регистрация!G454","v":"00:00:00"},{"$f":"IFERROR(RIGHT(регистрация!F454,LEN(регистрация!F454)-FIND(\"*\",SUBSTITUTE(регистрация!F454,\" \",\"*\",LEN(регистрация!F454)-LEN(SUBSTITUTE(регистрация!F454,\" \",\"\"))))),регистрация!F454)","v":0},"",{"$f":"IFERROR(LEFT(F454,FIND(\",\",F454)-1),F454)","v":{"$error":"#VALUE!"}},{"$error":"#VALUE!"},null,null,null,null,{"$f":"TRIM(регистрация!H454)","v":""}]
[{"$f":"регистрация!A455","v":0},{"$f":"регистрация!G455","v":"00:00:00"},{"$f":"IFERROR(RIGHT(регистрация!F455,LEN(регистрация!F455)-FIND(\"*\",SUBSTITUTE(регистрация!F455,\" \",\"*\",LEN(регистрация!F455)-LEN(SUBSTITUTE(регистрация!F455,\" \",\"\"))))),регистрация!F455)","v":0},{"$f":"IFERROR(LEFT(K455,FIND(\",\",K455)-1),K455)","v":""},{"$error":"#VALUE!"},{"$f":"MID(K455,FIND(\" \",K455)*1,27)","v":{"$error":"#VALUE!"}},null,null,null,null,{"$f":"TRIM(регистрация!H455)","v":""}]
[{"$f":"регистрация!A456","v":0},{"$f":"регистрация!G456","v":"00:00:00"},{"$f":"IFERROR(RIGHT(регистрация!F456,LEN(регистрация!F456)-FIND(\"*\",SUBSTITUTE(регистрация!F456,\" \",\"*\",LEN(регистрация!F456)-LEN(SUBSTITUTE(регистрация!F456,\" \",\"\"))))),регистрация!F456)","v":0},"",{"$error":"#VALUE!"},{"$error":"#VALUE!"},null,null,null,null,{"$f":"TRIM(регистрация!H456)","v":""}]
[{"$f":"регистрация!A457","v":0},{"$f":"регистрация!G457","v":"00:00:00"},{"$f":"IFERROR(RIGHT(регистрация!F457,LEN(регистрация!F457)-FIND(\"*\",SUBSTITUTE(регистрация!F457,\" \",\"*\",LEN(регистрация!F457)-LEN(SUBSTITUTE(регистрация!F457,\" \",\"\"))))),регистрация!F457)","v":0},"",{"$error":"#VALUE!"},{"$error":"#VALUE!"},null,null,null,null,{"$f":"TRIM(регистрация!H457)","v":""}]
[{"$f":"регистрация!A458","v":0},{"$f":"регистрация!G458","v":"00:00:00"},{"$f":"IFERROR(RIGHT(регистрация!F458,LEN(регистрация!F458)-FIND(\"*\",SUBSTITUTE(регистрация!F458,\" \",\"*\",LEN(регистрация!F458)-LEN(SUBSTITUTE(регистрация!F458,\" \",\"\"))))),регистрация!F458)","v":0},"",{"$error":"#VALUE!"},{"$error":"#VALUE!"},null,null,null,null,{"$f":"TRIM(регистрация!H458)","v":""}]
[{"$f":"регистрация!A459","v":0},{"$f":"регистрация!G459","v":"00:00:00"},{"$f":"IFERROR(RIGHT(регистрация!F459,LEN(регистрация!F459)-FIND(\"*\",SUBSTITUTE(регистрация!F459,\" \",\"*\",LEN(регистрация!F459)-LEN(SUBSTITUTE(регистрация!F459,\" \",\"\"))))),регистрация!F459)","v":0},"",{"$error":"#VALUE!"},{"$error":"#VALUE!"},null,null,null,null,{"$f":"TRIM(регистрация!H459)","v":""}]
[{"$f":"регистрация!A460","v":0},{"$f":"регистрация!G460","v":"00:00:00"},{"$f":"IFERROR(RIGHT(регистрация!F460,LEN(регистрация!F460)-FIND(\"*\",SUBSTITUTE(регистрация!F460,\" \",\"*\",LEN(регистрация!F460)-LEN(SUBSTITUTE(регистрация!F460,\" \",\"\"))))),регистрация!F460)","v":0},"",{"$error":"#VALUE!"},{"$error":"#VALUE!"},null,null,null,null,{"$f":"TRIM(регистрация!H460)","v":""}]
[{"$f":"регистрация!A461","v":0},{"$f":"регистрация!G461","v":"00:00:00"},{"$f":"IFERROR(RIGHT(регистрация!F461,LEN(регистрация!F461)-FIND(\"*\",SUBSTITUTE(регистрация!F461,\" \",\"*\",LEN(регистрация!F461)-LEN(SUBSTITUTE(регистрация!F461,\" \",\"\"))))),регистрация!F461)","v":0},"",{"$error":"#VALUE!"},{"$error":"#VALUE!"},null,null,null,null,{"$f":"TRIM(регистрация!H461)","v":""}]
[{"$f":"регистрация!A462","v":0},{"$f":"регистрация!G462","v":"00:00:00"},{"$f":"IFERROR(RIGHT(регистрация!F462,LEN(регистрация!F462)-FIND(\"*\",SUBSTITUTE(регистрация!F462,\" \",\"*\",LEN(регистрация!F462)-LEN(SUBSTITUTE(регистрация!F462,\" \",\"\"))))),регистрация!F462)","v":0},"",{"$error":"#VALUE!"},{"$error":"#VALUE!"},null,null,null,null,{"$f":"TRIM(регистрация!H462)","v":""}]
[{"$f":"регистрация!A463","v":0},{"$f":"регистрация!G463","v":"00:00:00"},{"$f":"IFERROR(RIGHT(регистрация!F463,LEN(регистрация!F463)-FIND(\"*\",SUBSTITUTE(регистрация!F463,\" \",\"*\",LEN(регистрация!F463)-LEN(SUBSTITUTE(регистрация!F463,\" \",\"\"))))),регистрация!F463)","v":0},"",{"$error":"#VALUE!"},{"$error":"#VALUE!"},null,null,null,null,{"$f":"TRIM(регистрация!H463)","v":""}]
[{"$f":"регистрация!A464","v":0},{"$f":"регистрация!G464","v":"00:00:00"},{"$f":"IFERROR(RIGHT(регистрация!F464,LEN(регистрация!F464)-FIND(\"*\",SUBSTITUTE(регистрация!F464,\" \",\"*\",LEN(регистрация!F464)-LEN(SUBSTITUTE(регистрация!F464,\" \",\"\"))))),регистрация!F464)","v":0},"",{"$error":"#VALUE!"},{"$error":"#VALUE!"},null,null,null,null,{"$f":"TRIM(регистрация!H464)","v":""}]
[{"$f":"регистрация!A465","v":0},{"$f":"регистрация!G465","v":"00:00:00"},{"$f":"IFERROR(RIGHT(регистрация!F465,LEN(регистрация!F465)-FIND(\"*\",SUBSTITUTE(регистрация!F465,\" \",\"*\",LEN(регистрация!F465)-LEN(SUBSTITUTE(регистрация!F465,\" \",\"\"))))),регистрация!F465)","v":0},"",{"$error":"#VALUE!"},{"$error":"#VALUE!"},null,null,null,null,{"$f":"TRIM(регистрация!H465)","v":""}]
[{"$f":"регистрация!A466","v":0},{"$f":"регистрация!G466","v":"00:00:00"},{"$f":"IFERROR(RIGHT(регистрация!F466,LEN(регистрация!F466)-FIND(\"*\",SUBSTITUTE(регистрация!F466,\" \",\"*\",LEN(регистрация!F466)-LEN(SUBSTITUTE(регистрация!F466,\" \",\"\"))))),регистрация!F466)","v":0},"",{"$error":"#VALUE!"},{"$error":"#VALUE!"},null,null,null,null,{"$f":"TRIM(регистрация!H466)","v":""}]
[{"$f":"регистрация!A467","v":0},{"$f":"регистрация!G467","v":"00:00:00"},{"$f":"IFERROR(RIGHT(регистрация!F467,LEN(регистрация!F467)-FIND(\"*\",SUBSTITUTE(регистрация!F467,\" \",\"*\",LEN(регистрация!F467)-LEN(SUBSTITUTE(регистрация!F467,\" \",\"\"))))),регистрация!F467)","v":0},"",{"$error":"#VALUE!"},{"$error":"#VALUE!"},null,null,null,null,{"$f":"TRIM(регистрация!H467)","v":""}]
[{"$f":"регистрация!A468","v":0},{"$f":"регистрация!G468","v":"00:00:00"},{"$f":"IFERROR(RIGHT(регистрация!F468,LEN(регистрация!F468)-FIND(\"*\",SUBSTITUTE(регистрация!F468,\" \",\"*\",LEN(регистрация!F468)-LEN(SUBSTITUTE(регистрация!F468,\" \",\"\"))))),регистрация!F468)","v":0},"",{"$error":"#VALUE!"},{"$error":"#VALUE!"},null,null,null,null,{"$f":"TRIM(регистрация!H468)","v":""}]
[{"$f":"регистрация!A469","v":0},{"$f":"регистрация!G469","v":"00:00:00"},{"$f":"IFERROR(RIGHT(регистрация!F469,LEN(регистрация!F469)-FIND(\"*\",SUBSTITUTE(регистрация!F469,\" \",\"*\",LEN(регистрация!F469)-LEN(SUBSTITUTE(регистрация!F469,\" \",\"\"))))),регистрация!F469)","v":0},"",{"$error":"#VALUE!"},{"$error":"#VALUE!"},null,null,null,null,{"$f":"TRIM(регистрация!H469)","v":""}]
[{"$f":"регистрация!A470","v":0},{"$f":"регистрация!G470","v":"00:00:00"},{"$f":"IFERROR(RIGHT(регистрация!F470,LEN(регистрация!F470)-FIND(\"*\",SUBSTITUTE(регистрация!F470,\" \",\"*\",LEN(регистрация!F470)-LEN(SUBSTITUTE(регистрация!F470,\" \",\"\"))))),регистрация!F470)","v":0},"",{"$error":"#VALUE!"},{"$error":"#VALUE!"},null,null,null,null,{"$f":"TRIM(регистрация!H470)","v":""}]
[{"$f":"регистрация!A471","v":0},{"$f":"регистрация!G471","v":"00:00:00"},{"$f":"IFERROR(RIGHT(регистрация!F471,LEN(регистрация!F471)-FIND(\"*\",SUBSTITUTE(регистрация!F471,\" \",\"*\",LEN(регистрация!F471)-LEN(SUBSTITUTE(регистрация!F471,\" \",\"\"))))),регистрация!F471)","v":0},"",{"$error":"#VALUE!"},{"$error":"#VALUE!"},null,null,null,null,{"$f":"TRIM(регистрация!H471)","v":""}]
[{"$f":"регистрация!A472","v":0},{"$f":"регистрация!G472","v":"00:00:00"},{"$f":"IFERROR(RIGHT(регистрация!F472,LEN(регистрация!F472)-FIND(\"*\",SUBSTITUTE(регистрация!F472,\" \",\"*\",LEN(регистрация!F472)-LEN(SUBSTITUTE(регистрация!F472,\" \",\"\"))))),регистрация!F472)","v":0},"",{"$error":"#VALUE!"},{"$error":"#VALUE!"},null,null,null,null,{"$f":"TRIM(регистрация!H472)","v":""}]
[{"$f":"регистрация!A473","v":0},{"$f":"регистрация!G473","v":"00:00:00"},{"$f":"IFERROR(RIGHT(регистрация!F473,LEN(регистрация!F473)-FIND(\"*\",SUBSTITUTE(регистрация!F473,\" \",\"*\",LEN(регистрация!F473)-LEN(SUBSTITUTE(регистрация!F473,\" \",\"\"))))),регистрация!F473)","v":0},"",{"$error":"#VALUE!"},{"$error":"#VALUE!"},null,null,null,null,{"$f":"TRIM(регистрация!H473)","v":""}]
[{"$f":"регистрация!A474","v":0},{"$f":"регистрация!G474","v":"00:00:00"},{"$f":"IFERROR(RIGHT(регистрация!F474,LEN(регистрация!F474)-FIND(\"*\",SUBSTITUTE(регистрация!F474,\" \",\"*\",LEN(регистрация!F474)-LEN(SUBSTITUTE(регистрация!F474,\" \",\"\"))))),регистрация!F474)","v":0},"",{"$error":"#VALUE!"},{"$error":"#VALUE!"},null,null,null,null,{"$f":"TRIM(регистрация!H474)","v":""}]
[{"$f":"регистрация!A475","v":0},{"$f":"регистрация!G475","v":"00:00:00"},{"$f":"IFERROR(RIGHT(регистрация!F475,LEN(регистрация!F475)-FIND(\"*\",SUBSTITUTE(регистрация!F475,\" \",\"*\",LEN(регистрация!F475)-LEN(SUBSTITUTE(регистрация!F475,\" \",\"\"))))),регистрация!F475)","v":0},"",{"$error":"#VALUE!"},{"$error":"#VALUE!"},null,null,null,null,{"$f":"TRIM(регистрация!H475)","v":""}]
[{"$f":"регистрация!A476","v":0},{"$f":"регистрация!G476","v":"00:00:00"},{"$f":"IFERROR(RIGHT(регистрация!F476,LEN(регистрация!F476)-FIND(\"*\",SUBSTITUTE(регистрация!F476,\" \",\"*\",LEN(регистрация!F476)-LEN(SUBSTITUTE(регистрация!F476,\" \",\"\"))))),регистрация!F476)","v":0},"",{"$error":"#VALUE!"},{"$error":"#VALUE!"},null,null,null,null,{"$f":"TRIM(регистрация!H476)","v":""}]
[{"$f":"регистрация!A477","v":0},{"$f":"регистрация!G477","v":"00:00:00"},{"$f":"IFERROR(RIGHT(регистрация!F477,LEN(регистрация!F477)-FIND(\"*\",SUBSTITUTE(регистрация!F477,\" \",\"*\",LEN(регистрация!F477)-LEN(SUBSTITUTE(регистрация!F477,\" \",\"\"))))),регистрация!F477)","v":0},"",{"$error":"#VALUE!"},{"$error":"#VALUE!"},null,null,null,null,{"$f":"TRIM(регистрация!H477)","v":""}]
[{"$f":"регистрация!A478","v":0},{"$f":"регистрация!G478","v":"00:00:00"},{"$f":"IFERROR(RIGHT(регистрация!F478,LEN(регистрация!F478)-FIND(\"*\",SUBSTITUTE(регистрация!F478,\" \",\"*\",LEN(регистрация!F478)-LEN(SUBSTITUTE(регистрация!F478,\" \",\"\"))))),регистрация!F478)","v":0},"",{"$error":"#VALUE!"},{"$error":"#VALUE!"},null,null,null,null,{"$f":"TRIM(регистрация!H478)","v":""}]
[{"$f":"регистрация!A479","v":0},{"$f":"регистрация!G479","v":"00:00:00"},{"$f":"IFERROR(RIGHT(регистрация!F479,LEN(регистрация!F479)-FIND(\"*\",SUBSTITUTE(регистрация!F479,\" \",\"*\",LEN(регистрация!F479)-LEN(SUBSTITUTE(регистрация!F479,\" \",\"\"))))),регистрация!F479)","v":0},"",{"$error":"#VALUE!"},{"$error":"#VALUE!"},null,null,null,null,{"$f":"TRIM(регистрация!H479)","v":""}]
[{"$f":"регистрация!A480","v":0},{"$f":"регистрация!G480","v":"00:00:00"},{"$f":"IFERROR(RIGHT(регистрация!F480,LEN(регистрация!F480)-FIND(\"*\",SUBSTITUTE(регистрация!F480,\" \",\"*\",LEN(регистрация!F480)-LEN(SUBSTITUTE(регистрация!F480,\" \",\"\"))))),регистрация!F480)","v":0},"",{"$error":"#VALUE!"},{"$error":"#VALUE!"},null,null,null,null,{"$f":"TRIM(регистрация!H480)","v":""}]
[{"$f":"регистрация!A481","v":0},{"$f":"регистрация!G481","v":"00:00:00"},{"$f":"IFERROR(RIGHT(регистрация!F481,LEN(регистрация!F481)-FIND(\"*\",SUBSTITUTE(регистрация!F481,\" \",\"*\",LEN(регистрация!F481)-LEN(SUBSTITUTE(регистрация!F481,\" \",\"\"))))),регистрация!F481)","v":0},"",{"$error":"#VALUE!"},{"$error":"#VALUE!"},null,null,null,null,{"$f":"TRIM(регистрация!H481)","v":""}]
[{"$f":"регистрация!A482","v":0},{"$f":"регистрация!G482","v":"00:00:00"},{"$f":"IFERROR(RIGHT(регистрация!F482,LEN(регистрация!F482)-FIND(\"*\",SUBSTITUTE(регистрация!F482,\" \",\"*\",LEN(регистрация!F482)-LEN(SUBSTITUTE(регистрация!F482,\" \",\"\"))))),регистрация!F482)","v":0},"",{"$error":"#VALUE!"},{"$error":"#VALUE!"},null,null,null,null,{"$f":"TRIM(регистрация!H482)","v":""}]
[{"$f":"регистрация!A483","v":0},{"$f":"регистрация!G483","v":"00:00:00"},{"$f":"IFERROR(RIGHT(регистрация!F483,LEN(регистрация!F483)-FIND(\"*\",SUBSTITUTE(регистрация!F483,\" \",\"*\",LEN(регистрация!F483)-LEN(SUBSTITUTE(регистрация!F483,\" \",\"\"))))),регистрация!F483)","v":0},"",{"$error":"#VALUE!"},{"$error":"#VALUE!"},null,null,null,null,{"$f":"TRIM(регистрация!H483)","v":""}]
[{"$f":"регистрация!A484","v":0},{"$f":"регистрация!G484","v":"00:00:00"},{"$f":"IFERROR(RIGHT(регистрация!F484,LEN(регистрация!F484)-FIND(\"*\",SUBSTITUTE(регистрация!F484,\" \",\"*\",LEN(регистрация!F484)-LEN(SUBSTITUTE(регистрация!F484,\" \",\"\"))))),регистрация!F484)","v":0},"",{"$error":"#VALUE!"},{"$error":"#VALUE!"},null,null,null,null,{"$f":"TRIM(регистрация!H484)","v":""}]
[{"$f":"регистрация!A485","v":0},{"$f":"регистрация!G485","v":"00:00:00"},{"$f":"IFERROR(RIGHT(регистрация!F485,LEN(регистрация!F485)-FIND(\"*\",SUBSTITUTE(регистрация!F485,\" \",\"*\",LEN(регистрация!F485)-LEN(SUBSTITUTE(регистрация!F485,\" \",\"\"))))),регистрация!F485)","v":0},"",{"$error":"#VALUE!"},{"$error":"#VALUE!"},null,null,null,null,{"$f":"TRIM(регистрация!H485)","v":""}]
[{"$f":"регистрация!A486","v":0},{"$f":"регистрация!G486","v":"00:00:00"},{"$f":"IFERROR(RIGHT(регистрация!F486,LEN(регистрация!F486)-FIND(\"*\",SUBSTITUTE(регистрация!F486,\" \",\"*\",LEN(регистрация!F486)-LEN(SUBSTITUTE(регистрация!F486,\" \",\"\"))))),регистрация!F486)","v":0},"",{"$error":"#VALUE!"},{"$error":"#VALUE!"},null,null,null,null,{"$f":"TRIM(регистрация!H486)","v":""}]
[{"$f":"регистрация!A487","v":0},{"$f":"регистрация!G487","v":"00:00:00"},{"$f":"IFERROR(RIGHT(регистрация!F487,LEN(регистрация!F487)-FIND(\"*\",SUBSTITUTE(регистрация!F487,\" \",\"*\",LEN(регистрация!F487)-LEN(SUBSTITUTE(регистрация!F487,\" \",\"\"))))),регистрация!F487)","v":0},"",{"$error":"#VALUE!"},{"$error":"#VALUE!"},null,null,null,null,{"$f":"TRIM(регистрация!H487)","v":""}]
[{"$f":"регистрация!A488","v":0},{"$f":"регистрация!G488","v":"00:00:00"},{"$f":"IFERROR(RIGHT(регистрация!F488,LEN(регистрация!F488)-FIND(\"*\",SUBSTITUTE(регистрация!F488,\" \",\"*\",LEN(регистрация!F488)-LEN(SUBSTITUTE(регистрация!F488,\" \",\"\"))))),регистрация!F488)","v":0},"",{"$error":"#VALUE!"},{"$error":"#VALUE!"},null,null,null,null,{"$f":"TRIM(регистрация!H488)","v":""}]
[{"$f":"регистрация!A489","v":0},{"$f":"регистрация!G489","v":"00:00:00"},{"$f":"IFERROR(RIGHT(регистрация!F489,LEN(регистрация!F489)-FIND(\"*\",SUBSTITUTE(регистрация!F489,\" \",\"*\",LEN(регистрация!F489)-LEN(SUBSTITUTE(регистрация!F489,\" \",\"\"))))),регистрация!F489)","v":0},"",{"$error":"#VALUE!"},{"$error":"#VALUE!"},null,null,null,null,{"$f":"TRIM(регистрация!H489)","v":""}]
[{"$f":"регистрация!A490","v":0},{"$f":"регистрация!G490","v":"00:00:00"},{"$f":"IFERROR(RIGHT(регистрация!F490,LEN(регистрация!F490)-FIND(\"*\",SUBSTITUTE(регистрация!F490,\" \",\"*\",LEN(регистрация!F490)-LEN(SUBSTITUTE(регистрация!F490,\" \",\"\"))))),регистрация!F490)","v":0},"",{"$error":"#VALUE!"},{"$error":"#VALUE!"},null,null,null,null,{"$f":"TRIM(регистрация!H490)","v":""}]
[{"$f":"регистрация!A491","v":0},{"$f":"регистрация!G491","v":"00:00:00"},{"$f":"IFERROR(RIGHT(регистрация!F491,LEN(регистрация!F491)-FIND(\"*\",SUBSTITUTE(регистрация!F491,\" \",\"*\",LEN(регистрация!F491)-LEN(SUBSTITUTE(регистрация!F491,\" \",\"\"))))),регистрация!F491)","v":0},"",{"$error":"#VALUE!"},{"$error":"#VALUE!"},null,null,null,null,{"$f":"TRIM(регистрация!H491)","v":""}]
[{"$f":"регистрация!A492","v":0},{"$f":"регистрация!G492","v":"00:00:00"},{"$f":"IFERROR(RIGHT(регистрация!F492,LEN(регистрация!F492)-FIND(\"*\",SUBSTITUTE(регистрация!F492,\" \",\"*\",LEN(регистрация!F492)-LEN(SUBSTITUTE(регистрация!F492,\" \",\"\"))))),регистрация!F492)","v":0},"",{"$error":"#VALUE!"},{"$error":"#VALUE!"},null,null,null,null,{"$f":"TRIM(регистрация!H492)","v":""}]
[{"$f":"регистрация!A493","v":0},{"$f":"регистрация!G493","v":"00:00:00"},{"$f":"IFERROR(RIGHT(регистрация!F493,LEN(регистрация!F493)-FIND(\"*\",SUBSTITUTE(регистрация!F493,\" \",\"*\",LEN(регистрация!F493)-LEN(SUBSTITUTE(регистрация!F493,\" \",\"\"))))),регистрация!F493)","v":0},"",{"$error":"#VALUE!"},{"$error":"#VALUE!"},null,null,null,null,{"$f":"TRIM(регистрация!H493)","v":""}]
[{"$f":"регистрация!A494","v":0},{"$f":"регистрация!G494","v":"00:00:00"},{"$f":"IFERROR(RIGHT(регистрация!F494,LEN(регистрация!F494)-FIND(\"*\",SUBSTITUTE(регистрация!F494,\" \",\"*\",LEN(регистрация!F494)-LEN(SUBSTITUTE(регистрация!F494,\" \",\"\"))))),регистрация!F494)","v":0},"",{"$error":"#VALUE!"},{"$error":"#VALUE!"},null,null,null,null,{"$f":"TRIM(регистрация!H494)","v":""}]
[{"$f":"регистрация!A495","v":0},{"$f":"регистрация!G495","v":"00:00:00"},{"$f":"IFERROR(RIGHT(регистрация!F495,LEN(регистрация!F495)-FIND(\"*\",SUBSTITUTE(регистрация!F495,\" \",\"*\",LEN(регистрация!F495)-LEN(SUBSTITUTE(регистрация!F495,\" \",\"\"))))),регистрация!F495)","v":0},"",{"$error":"#VALUE!"},{"$error":"#VALUE!"},null,null,null,null,{"$f":"TRIM(регистрация!H495)","v":""}]
[{"$f":"регистрация!A496","v":0},{"$f":"регистрация!G496","v":"00:00:00"},{"$f":"IFERROR(RIGHT(регистрация!F496,LEN(регистрация!F496)-FIND(\"*\",SUBSTITUTE(регистрация!F496,\" \",\"*\",LEN(регистрация!F496)-LEN(SUBSTITUTE(регистрация!F496,\" \",\"\"))))),регистрация!F496)","v":0},"",{"$error":"#VALUE!"},{"$error":"#VALUE!"},null,null,null,null,{"$f":"TRIM(регистрация!H496)","v":""}]
[{"$f":"регистрация!A497","v":0},{"$f":"регистрация!G497","v":"00:00:00"},{"$f":"IFERROR(RIGHT(регистрация!F497,LEN(регистрация!F497)-FIND(\"*\",SUBSTITUTE(регистрация!F497,\" \",\"*\",LEN(регистрация!F497)-LEN(SUBSTITUTE(регистрация!F497,\" \",\"\"))))),регистрация!F497)","v":0},"",{"$error":"#VALUE!"},{"$error":"#VALUE!"},null,null,null,null,{"$f":"TRIM(регистрация!H497)","v":""}]
[{"$f":"регистрация!A498","v":0},{"$f":"регистрация!G498","v":"00:00:00"},{"$f":"IFERROR(RIGHT(регистрация!F498,LEN(регистрация!F498)-FIND(\"*\",SUBSTITUTE(регистрация!F498,\" \",\"*\",LEN(регистрация!F498)-LEN(SUBSTITUTE(регистрация!F498,\" \",\"\"))))),регистрация!F498)","v":0},"",{"$error":"#VALUE!"},{"$error":"#VALUE!"},null,null,null,null,{"$f":"TRIM(регистрация!H498)","v":""}]
[{"$f":"регистрация!A499","v":0},{"$f":"регистрация!G499","v":"00:00:00"},{"$f":"IFERROR(RIGHT(регистрация!F499,LEN(регистрация!F499)-FIND(\"*\",SUBSTITUTE(регистрация!F499,\" \",\"*\",LEN(регистрация!F499)-LEN(SUBSTITUTE(регистрация!F499,\" \",\"\"))))),регистрация!F499)","v":0},"",{"$error":"#VALUE!"},{"$error":"#VALUE!"},null,null,null,null,{"$f":"TRIM(регистрация!H499)","v":""}]
[{"$f":"регистрация!A500","v":0},{"$f":"регистрация!G500","v":"00:00:00"},{"$f":"IFERROR(RIGHT(регистрация!F500,LEN(регистрация!F500)-FIND(\"*\",SUBSTITUTE(регистрация!F500,\" \",\"*\",LEN(регистрация!F500)-LEN(SUBSTITUTE(регистрация!F500,\" \",\"\"))))),регистрация!F500)","v":0},"",{"$error":"#VALUE!"},{"$error":"#VALUE!"},null,null,null,null,{"$f":"TRIM(регистрация!H500)","v":""}]
[]
[0,"00:00:00",{"$f":"TRIM(D502)","v":"0"},0]
[]
[0,"00:00:00",{"$f":"TRIM(D504)","v":"0"},0]
[]
[0,"00:00:00",{"$f":"TRIM(D506)","v":"0"},0]
[]
[0,"00:00:00",{"$f":"TRIM(D508)","v":"0"},0]
[]
[0,"00:00:00",{"$f":"TRIM(D510)","v":"0"},0]
[]
[0,"00:00:00",{"$f":"TRIM(D512)","v":"0"},0]
[]
[0,"00:00:00",{"$f":"TRIM(D514)","v":"0"},0]
[]
[0,"00:00:00",{"$f":"TRIM(D516)","v":"0"},0]
[]
[0,"00:00:00",{"$f":"TRIM(D518)","v":"0"},0]
[]
[0,"00:00:00",{"$f":"TRIM(D520)","v":"0"},0]
[]
[0,"00:00:00",{"$f":"TRIM(D522)","v":"0"},0]
[]
[0,"00:00:00",{"$f":"TRIM(D524)","v":"0"},0]
[]
[0,"00:00:00",{"$f":"TRIM(D526)","v":"0"},0]
[]
[0,"00:00:00",{"$f":"TRIM(D528)","v":"0"},0]
[]
[0,"00:00:00",{"$f":"TRIM(D530)","v":"0"},0]
[]
[0,"00:00:00",{"$f":"TRIM(D532)","v":"0"},0]
[]
[0,"00:00:00",{"$f":"TRIM(D534)","v":"0"},0]
[]
[0,"00:00:00",{"$f":"TRIM(D536)","v":"0"},0]
[]
[0,"00:00:00",{"$f":"TRIM(D538)","v":"0"},0]
[]
[0,"00:00:00",{"$f":"TRIM(D540)","v":"0"},0]
[]
[0,"00:00:00",{"$f":"TRIM(D542)","v":"0"},0]
[]
[0,"00:00:00",{"$f":"TRIM(D544)","v":"0"},0]
[]
[0,"00:00:00",{"$f":"TRIM(D546)","v":"0"},0]
[]
[0,"00:00:00",{"$f":"TRIM(D548)","v":"0"},0]
[]
[0,"00:00:00",{"$f":"TRIM(D550)","v":"0"},0]
[]
[0,"00:00:00",{"$f":"TRIM(D552)","v":"0"},0]
[]
[0,"00:00:00",{"$f":"TRIM(D554)","v":"0"},0]
[]
[0,"00:00:00",{"$f":"TRIM(D556)","v":"0"},0]
[]
[0,"00:00:00",{"$f":"TRIM(D558)","v":"0"},0]
[]
[0,"00:00:00",{"$f":"TRIM(D560)","v":"0"},0]
[]
[0,"00:00:00",{"$f":"TRIM(D562)","v":"0"},0]
[]
[0,"00:00:00",{"$f":"TRIM(D564)","v":"0"},0]
[]
[0,"00:00:00",{"$f":"TRIM(D566)","v":"0"},0]
[]
[0,"00:00:00",{"$f":"TRIM(D568)","v":"0"},0]
[]
[0,"00:00:00",{"$f":"TRIM(D570)","v":"0"},0]
[]
[0,"00:00:00",{"$f":"TRIM(D572)","v":"0"},0]
[]
[0,"00:00:00",{"$f":"TRIM(D574)","v":"0"},0]
[]
[0,"00:00:00",{"$f":"TRIM(D576)","v":"0"},0]
[]
[0,"00:00:00",{"$f":"TRIM(D578)","v":"0"},0]
[]
[0,"00:00:00",{"$f":"TRIM(D580)","v":"0"},0]
[]
[0,"00:00:00",{"$f":"TRIM(D582)","v":"0"},0]
[]
[0,"00:00:00",{"$f":"TRIM(D584)","v":"0"},0]
[]
[0,"00:00:00",{"$f":"TRIM(D586)","v":"0"},0]
[]
[0,"00:00:00",{"$f":"TRIM(D588)","v":"0"},0]
[]
[0,"00:00:00",{"$f":"TRIM(D590)","v":"0"},0]
[]
[0,"00:00:00",{"$f":"TRIM(D592)","v":"0"},0]
[]
[0,"00:00:00",{"$f":"TRIM(D594)","v":"0"},0]
[]
[0,"00:00:00",{"$f":"TRIM(D596)","v":"0"},0]
[]
[0,"00:00:00",{"$f":"TRIM(D598)","v":"0"},0]
[]
[0,"00:00:00",{"$f":"TRIM(D600)","v":"0"},0]
[]
[0,"00:00:00",{"$f":"TRIM(D602)","v":"0"},0]
[]
[0,"00:00:00",{"$f":"TRIM(D604)","v":"0"},0]
[]
[0,"00:00:00",{"$f":"TRIM(D606)","v":"0"},0]
[]
[0,"00:00:00"]
[]
[0,"00:00:00"]
[]
[0,"00:00:00"]
[]
[0,"00:00:00"]
[]
[0,"00:00:00"]
[]
[0,"00:00:00"]
[]
[0,"00:00:00"]
[]
[0,"00:00:00"]
[]
[0,"00:00:00"]
[]
[0,"00:00:00"]
[]
[0,"00:00:00"]
[]
[0,"00:00:00"]
[]
[0,"00:00:00"]
[]
[0,"00:00:00"]
[]
[0,"00:00:00"]
[]
[0,"00:00:00"]
[]
[0,"00:00:00"]
[]
[0,"00:00:00"]
[]
[0,"00:00:00"]
[]
[0,"00:00:00"]
[]
[0,"00:00:00"]
[]
[0,"00:00:00"]
[]
[0,"00:00:00"]
[]
[0,"00:00:00"]
[]
[0,"00:00:00"]
[]
[0,"00:00:00"]
[]
[null,"00:00:00"]
[]
[null,"00:00:00"]
[]
[null,"00:00:00"]
[]
[null,"00:00:00"]
[]
[null,"00:00:00"]
[]
[null,"00:00:00"]
[]
[null,"00:00:00"]
[]
[null,"00:00:00"]
[]
[null,"00:00:00"]
[]
[null,"00:00:00"]
[]
[null,"00:00:00"]
[]
[null,"00:00:00"]
[]
[null,"00:00:00"]
[]
[null,"00:00:00"]
[]
[null,"00:00:00"]
[]
[null,"00:00:00"]
[]
[null,"00:00:00"]
[]
[null,"00:00:00"]
[]
[null,"00:00:00"]
[]
[null,"00:00:00"]
[]
[null,"00:00:00"]
[]
[null,"00:00:00"]
[]
[null,"00:00:00"]
[]
[null,"00:00:00"]
[]
[null,"00:00:00"]
[]
[null,"00:00:00"]
[]
[null,"00:00:00"]
[]
[null,"00:00:00"]
[]
[null,"00:00:00"]
[]
[null,"00:00:00"]
[]
[null,"00:00:00"]
[]
[null,"00:00:00"]
[]
[null,"00:00:00"]
[]
[null,"00:00:00"]
[]
[null,"00:00:00"]
[]
[null,"00:00:00"]
[]
[null,"00:00:00"]
[]
[null,"00:00:00"]
[]
[null,"00:00:00"]
[]
[null,"00:00:00"]
[]
[null,"00:00:00"]
[]
[null,"00:00:00"]
[]
[null,"00:00:00"]
[]
[null,"00:00:00"]
[]
[null,"00:00:00"]
[]
[null,"00:00:00"]
[]
[null,"00:00:00"]
[]
[null,"00:00:00"]
[]
[null,"00:00:00"]
[]
[null,"00:00:00"]
[]
[null,"00:00:00"]
[]
[null,"00:00:00"]
[]
[null,"00:00:00"]
[]
[null,"00:00:00"]
[]
[null,"00:00:00"]
[]
[null,"00:00:00"]
[]
[null,"00:00:00"]
[]
[null,"00:00:00"]
[]
[null,"00:00:00"]
[]
[null,"00:00:00"]
[]
[null,"00:00:00"]

{"sheet":"реквизиты","index":2,"n_rows":19,"n_cols":15,"rows_kept":19,"cut":false,"hidden":true,"merged":[[5,14,8,15],[10,6,18,7],[1,0,1,10],[2,0,2,10],[1,11,2,12],[4,0,4,7]]}
[]
["Первенство Центрального Федерального округа по самбо среди юношей и девушек 2007-2009 гг.р.",null,null,null,null,null,null,null,null,null,null,"для всех протоколов"]
["27 апреля 2021 года по 01 мая 2021 года       г.Александров"]
[]
["для подпси всех документов"]
["Гл. судья, судья ВК",null,null,null,null,null,"А.А.Степанов","ВК","Степанов А.А.","вк","судья Международной категории",null,null,null,"для списка судей"]
[null,null,null,null,null,null,"/Костромская/",null,"Кострома",null,"категория гл.судьи (БУКВЫ)","Г-Алтайск"]
["Гл. секретарь, судья ВК",null,null,null,null,null,"А.С.Тимошин","ВК","Тимошин А.С.","вк","категория гл.секретаря (БУКВЫ)"]
[null,null,null,null,null,null,"/ Ярославская /",null,"Рыбинск",null,null,"Бийск"]
[null,null,null,"для отчета гл. судьи"]
[27,"апреля","2021 г.","г.Александров",null,{"$f":"A11&\" \"&B11&\" \"&C11","v":"27 апреля 2021 г."},"для акта приемки, отчета гл. судьи, отчета врача"]
[]
["представитель спортсооружения",null,null,"С.В.Рычев",null,"Первенство Центрального Федерального округа по самбо среди юношей и девушек 2007-2009 гг.р."]
[]
[null,"врач",null,"Иванова И.И."]
[]
[null,"адрес:",null,"г.Александров"]
[]
[null,"спортсооружение",null,"СК","/ г.Александров/"]

{"sheet":"Лист1","index":3,"n_rows":17,"n_cols":13,"rows_kept":17,"cut":false,"hidden":true,"merged":[]}
[]
[]
["Количество по полю в.к.","Названия столбцов"]
["Названия строк",42,46,50,55,60,66,72,78,84,"84+","(пусто)","Общий итог"]
["ДФО",1,1,2,1,4,3,3,2,1,2,null,20]
["МОС",6,6,5,7,4,9,4,4,4,3,null,52]
["Москва",null,null,2,null,1,null,null,null,2,null,null,5]
["ПФО",3,4,6,7,7,7,10,4,5,4,null,57]
["СЗФО",1,1,null,2,1,3,1,2,1,2,null,14]
["СКФО",5,6,9,10,3,9,4,1,2,1,null,50]
["СПБ",1,null,2,2,3,1,3,1,2,1,null,16]
["СФО",1,7,6,7,5,4,3,3,3,2,null,41]
["УФО",2,6,6,7,4,7,4,4,4,6,null,50]
["ЦФО",4,7,9,7,9,12,5,3,4,5,null,65]
["ЮФО",13,10,9,18,12,7,9,5,4,8,null,95]
["(пусто)"]
["Общий итог",37,48,56,68,53,62,46,29,32,34,null,465]

{"sheet":"Лист2","index":4,"n_rows":18,"n_cols":12,"rows_kept":18,"cut":false,"hidden":true,"merged":[[2,0,2,11],[0,0,0,11],[1,0,1,11]]}
["Первенство России по самбо среди юношей и девушек (15-16 лет)  2003-04гг.р."]
["ЮНОШИ"]
["30.09.-05.10.2019г.                                              г.Новороссийск"]
[]
["Количество по полю в.к.","Названия столбцов"]
["Названия строк",42,46,50,55,60,66,72,78,84,"84+","Общий итог"]
["ДФО",1,1,2,1,4,3,3,2,1,2,20]
["МОС",5,5,5,7,4,9,4,4,4,3,50]
["Москва",null,null,2,null,1,null,null,null,2,null,5]
["ПФО",3,4,6,7,7,7,10,4,5,4,57]
["СЗФО",1,null,null,2,1,3,1,2,1,2,13]
["СКФО",3,4,7,10,3,9,4,1,2,null,43]
["СПБ",1,null,2,2,3,1,3,1,2,1,16]
["СФО",1,7,6,7,5,4,3,3,3,2,41]
["УФО",2,6,6,7,4,7,4,4,4,6,50]
["ЦФО",4,7,9,7,9,12,5,3,4,4,64]
["ЮФО",13,10,9,18,12,7,9,5,4,8,95]
["Общий итог",34,44,54,68,53,62,46,29,32,32,454]

{"sheet":"регистрация","index":5,"n_rows":579,"n_cols":16,"rows_kept":579,"cut":false,"hidden":false,"merged":[[1225,10,1226,10],[1225,11,1226,11],[1225,12,1226,12],[1227,10,1228,10],[1227,11,1228,11],[1227,12,1228,12],[1221,10,1222,10],[1221,11,1222,11],[1241,10,1242,10],[1241,11,1242,11],[1241,12,1242,12],[1237,10,1238,10],[1237,11,1238,11],[1237,12,1238,12],[1239,10,1240,10],[1239,11,1240,11],[1239,12,1240,12],[1233,10,1234,10],[1233,11,1234,11],[1233,12,1234,12],[1235,10,1236,10],[1235,11,1236,11],[1235,12,1236,12],[1229,10,1230,10],[1229,11,1230,11],[1229,12,1230,12],[1231,10,1232,10],[1231,11,1232,11],[1231,12,1232,12],[1221,12,1222,12],[1223,10,1224,10],[1223,11,1224,11],[1223,12,1224,12],[1217,10,1218,10],[1217,11,1218,11],[1217,12,1218,12],[1219,10,1220,10],[1219,11,1220,11],[1219,12,1220,12],[1213,10,1214,10],[1213,11,1214,11],[1213,12,1214,12],[1215,10,1216,10],[1215,11,1216,11],[1215,12,1216,12],[1209,10,1210,10],[1209,11,1210,11],[1209,12,1210,12],[1211,10,1212,10],[1211,11,1212,11],[1211,12,1212,12],[1205,10,1206,10],[1205,11,1206,11],[1205,12,1206,12],[1207,10,1208,10],[1207,11,1208,11],[1207,12,1208,12],[1201,10,1202,10],[1201,11,1202,11],[1201,12,1202,12],[1203,10,1204,10],[1203,11,1204,11],[1203,12,1204,12],[1197,10,1198,10],[1197,11,1198,11],[1197,12,1198,12],[1199,10,1200,10],[1199,11,1200,11],[1199,12,1200,12],[1193,10,1194,10],[1193,11,1194,11],[1193,12,1194,12],[1195,10,1196,10],[1195,11,1196,11],[1195,12,1196,12],[1189,10,1190,10],[1189,11,1190,11],[1189,12,1190,12],[1191,10,1192,10],[1191,11,1192,11],[1191,12,1192,12],[1185,10,1186,10],[1185,11,1186,11],[1185,12,1186,12],[1187,10,1188,10],[1187,11,1188,11],[1187,12,1188,12],[1181,10,1182,10],[1181,11,1182,11],[1181,12,1182,12],[1183,10,1184,10],[1183,11,1184,11],[1183,12,1184,12],[1177,10,1178,10],[1177,11,1178,11],[1177,12,1178,12],[1179,10,1180,10],[1179,11,1180,11],[1179,12,1180,12],[1173,10,1174,10],[1173,11,1174,11],[1173,12,1174,12],[1175,10,1176,10],[1175,11,1176,11],[1175,12,1176,12],[1169,10,1170,10],[1169,11,1170,11],[1169,12,1170,12],[1171,10,1172,10],[1171,11,1172,11],[1171,12,1172,12],[1165,10,1166,10],[1165,11,1166,11],[1165,12,1166,12],[1167,10,1168,10],[1167,11,1168,11],[1167,12,1168,12],[1161,10,1162,10],[1161,11,1162,11],[1161,12,1162,12],[1163,10,1164,10],[1163,11,1164,11],[1163,12,1164,12],[1157,10,1158,10],[1157,11,1158,11],[1157,12,1158,12],[1159,10,1160,10],[1159,11,1160,11],[1159,12,1160,12],[1153,10,1154,10],[1153,11,1154,11],[1153,12,1154,12],[1155,10,1156,10],[1155,11,1156,11],[1155,12,1156,12],[1149,10,1150,10],[1149,11,1150,11],[1149,12,1150,12],[1151,10,1152,10],[1151,11,1152,11],[1151,12,1152,12],[1145,10,1146,10],[1145,11,1146,11],[1145,12,1146,12],[1147,10,1148,10],[1147,11,1148,11],[1147,12,1148,12],[1141,10,1142,10],[1141,11,1142,11],[1141,12,1142,12],[1143,10,1144,10],[1143,11,1144,11],[1143,12,1144,12],[1137,10,1138,10],[1137,11,1138,11],[1137,12,1138,12],[1139,10,1140,10],[1139,11,1140,11],[1139,12,1140,12],[1133,10,1134,10],[1133,11,1134,11],[1133,12,1134,12],[1135,10,1136,10],[1135,11,1136,11],[1135,12,1136,12],[1129,10,1130,10],[1129,11,1130,11],[1129,12,1130,12],[1131,10,1132,10],[1131,11,1132,11],[1131,12,1132,12],[1125,10,1126,10],[1125,11,1126,11],[1125,12,1126,12],[1127,10,1128,10],[1127,11,1128,11],[1127,12,1128,12],[1121,10,1122,10],[1121,11,1122,11],[1121,12,1122,12],[1123,10,1124,10],[1123,11,1124,11],[1123,12,1124,12],[1117,10,1118,10],[1117,11,1118,11],[1117,12,1118,12],[1119,10,1120,10],[1119,11,1120,11],[1119,12,1120,12],[1113,10,1114,10],[1113,11,1114,11],[1113,12,1114,12],[1115,10,1116,10],[1115,11,1116,11],[1115,12,1116,12],[1109,10,1110,10],[1109,11,1110,11],[1109,12,1110,12],[1111,10,1112,10],[1111,11,1112,11],[1111,12,1112,12],[1105,10,1106,10],[1105,11,1106,11],[1105,12,1106,12],[1107,10,1108,10],[1107,11,1108,11],[1107,12,1108,12],[1101,10,1102,10],[1101,11,1102,11],[1101,12,1102,12],[1103,10,1104,10],[1103,11,1104,11],[1103,12,1104,12],[1097,10,1098,10],[1097,11,1098,11],[1097,12,1098,12],[1099,10,1100,10],[1099,11,1100,11],[1099,12,1100,12],[1093,10,1094,10],[1093,11,1094,11],[1093,12,1094,12],[1095,10,1096,10],[1095,11,1096,11],[1095,12,1096,12],[1089,10,1090,10],[1089,11,1090,11],[1089,12,1090,12],[1091,10,1092,10],[1091,11,1092,11],[1091,12,1092,12],[1085,10,1086,10],[1085,11,1086,11],[1085,12,1086,12],[1087,10,1088,10],[1087,11,1088,11],[1087,12,1088,12],[1081,10,1082,10],[1081,11,1082,11],[1081,12,1082,12],[1083,10,1084,10],[1083,11,1084,11],[1083,12,1084,12],[1077,10,1078,10],[1077,11,1078,11],[1077,12,1078,12],[1079,10,1080,10],[1079,11,1080,11],[1079,12,1080,12],[1073,10,1074,10],[1073,11,1074,11],[1073,12,1074,12],[1075,10,1076,10],[1075,11,1076,11],[1075,12,1076,12],[1069,10,1070,10],[1069,11,1070,11],[1069,12,1070,12],[1071,10,1072,10],[1071,11,1072,11],[1071,12,1072,12],[1065,10,1066,10],[1065,11,1066,11],[1065,12,1066,12],[1067,10,1068,10],[1067,11,1068,11],[1067,12,1068,12],[1061,10,1062,10],[1061,11,1062,11],[1061,12,1062,12],[1063,10,1064,10],[1063,11,1064,11],[1063,12,1064,12],[1057,10,1058,10],[1057,11,1058,11],[1057,12,1058,12],[1059,10,1060,10],[1059,11,1060,11],[1059,12,1060,12],[1053,10,1054,10],[1053,11,1054,11],[1053,12,1054,12],[1055,10,1056,10],[1055,11,1056,11],[1055,12,1056,12],[1049,10,1050,10],[1049,11,1050,11],[1049,12,1050,12],[1051,10,1052,10],[1051,11,1052,11],[1051,12,1052,12],[1045,10,1046,10],[1045,11,1046,11],[1045,12,1046,12],[1047,10,1048,10],[1047,11,1048,11],[1047,12,1048,12],[1041,10,1042,10],[1041,11,1042,11],[1041,12,1042,12],[1043,10,1044,10],[1043,11,1044,11],[1043,12,1044,12],[1037,10,1038,10],[1037,11,1038,11],[1037,12,1038,12],[1039,10,1040,10],[1039,11,1040,11],[1039,12,1040,12],[1033,10,1034,10],[1033,11,1034,11],[1033,12,1034,12],[1035,10,1036,10],[1035,11,1036,11],[1035,12,1036,12],[1029,10,1030,10],[1029,11,1030,11],[1029,12,1030,12],[1031,10,1032,10],[1031,11,1032,11],[1031,12,1032,12],[1025,10,1026,10],[1025,11,1026,11],[1025,12,1026,12],[1027,10,1028,10],[1027,11,1028,11],[1027,12,1028,12],[1021,10,1022,10],[1021,11,1022,11],[1021,12,1022,12],[1023,10,1024,10],[1023,11,1024,11],[1023,12,1024,12],[1017,10,1018,10],[1017,11,1018,11],[1017,12,1018,12],[1019,10,1020,10],[1019,11,1020,11],[1019,12,1020,12],[1013,10,1014,10],[1013,11,1014,11],[1013,12,1014,12],[1015,10,1016,10],[1015,11,1016,11],[1015,12,1016,12],[1009,10,1010,10],[1009,11,1010,11],[1009,12,1010,12],[1011,10,1012,10],[1011,11,1012,11],[1011,12,1012,12],[1005,10,1006,10],[1005,11,1006,11],[1005,12,1006,12],[1007,10,1008,10],[1007,11,1008,11],[1007,12,1008,12],[1001,10,1002,10],[1001,11,1002,11],[1001,12,1002,12],[1003,10,1004,10],[1003,11,1004,11],[1003,12,1004,12],[997,10,998,10],[997,11,998,11],[997,12,998,12],[999,10,1000,10],[999,11,1000,11],[999,12,1000,12],[993,10,994,10],[993,11,994,11],[993,12,994,12],[995,10,996,10],[995,11,996,11],[995,12,996,12],[989,10,990,10],[989,11,990,11],[989,12,990,12],[991,10,992,10],[991,11,992,11],[991,12,992,12],[985,10,986,10],[985,11,986,11],[985,12,986,12],[987,10,988,10],[987,11,988,11],[987,12,988,12],[981,10,982,10],[981,11,982,11],[981,12,982,12],[983,10,984,10],[983,11,984,11],[983,12,984,12],[977,10,978,10],[977,11,978,11],[977,12,978,12],[979,10,980,10],[979,11,980,11],[979,12,980,12],[973,10,974,10],[973,11,974,11],[973,12,974,12],[975,10,976,10],[975,11,976,11],[975,12,976,12],[969,10,970,10],[969,11,970,11],[969,12,970,12],[971,10,972,10],[971,11,972,11],[971,12,972,12],[965,10,966,10],[965,11,966,11],[965,12,966,12],[967,10,968,10],[967,11,968,11],[967,12,968,12],[961,10,962,10],[961,11,962,11],[961,12,962,12],[963,10,964,10],[963,11,964,11],[963,12,964,12],[957,10,958,10],[957,11,958,11],[957,12,958,12],[959,10,960,10],[959,11,960,11],[959,12,960,12],[953,10,954,10],[953,11,954,11],[953,12,954,12],[955,10,956,10],[955,11,956,11],[955,12,956,12],[949,10,950,10],[949,11,950,11],[949,12,950,12],[951,10,952,10],[951,11,952,11],[951,12,952,12],[945,10,946,10],[945,11,946,11],[945,12,946,12],[947,10,948,10],[947,11,948,11],[947,12,948,12],[941,10,942,10],[941,11,942,11],[941,12,942,12],[943,10,944,10],[943,11,944,11],[943,12,944,12],[937,10,938,10],[937,11,938,11],[937,12,938,12],[939,10,940,10],[939,11,940,11],[939,12,940,12],[933,10,934,10],[933,11,934,11],[933,12,934,12],[935,10,936,10],[935,11,936,11],[935,12,936,12],[929,10,930,10],[929,11,930,11],[929,12,930,12],[931,10,932,10],[931,11,932,11],[931,12,932,12],[925,10,926,10],[925,11,926,11],[925,12,926,12],[927,10,928,10],[927,11,928,11],[927,12,928,12],[921,10,922,10],[921,11,922,11],[921,12,922,12],[923,10,924,10],[923,11,924,11],[923,12,924,12],[917,10,918,10],[917,11,918,11],[917,12,918,12],[919,10,920,10],[919,11,920,11],[919,12,920,12],[913,10,914,10],[913,11,914,11],[913,12,914,12],[915,10,916,10],[915,11,916,11],[915,12,916,12],[909,10,910,10],[909,11,910,11],[909,12,910,12],[911,10,912,10],[911,11,912,11],[911,12,912,12],[905,10,906,10],[905,11,906,11],[905,12,906,12],[907,10,908,10],[907,11,908,11],[907,12,908,12],[901,10,902,10],[901,11,902,11],[901,12,902,12],[903,10,904,10],[903,11,904,11],[903,12,904,12],[897,10,898,10],[897,11,898,11],[897,12,898,12],[899,10,900,10],[899,11,900,11],[899,12,900,12],[893,10,894,10],[893,11,894,11],[893,12,894,12],[895,10,896,10],[895,11,896,11],[895,12,896,12],[889,10,890,10],[889,11,890,11],[889,12,890,12],[891,10,892,10],[891,11,892,11],[891,12,892,12],[885,10,886,10],[885,11,886,11],[885,12,886,12],[887,10,888,10],[887,11,888,11],[887,12,888,12],[881,10,882,10],[881,11,882,11],[881,12,882,12],[883,10,884,10],[883,11,884,11],[883,12,884,12],[877,10,878,10],[877,11,878,11],[877,12,878,12],[879,10,880,10],[879,11,880,11],[879,12,880,12],[873,10,874,10],[873,11,874,11],[873,12,874,12],[875,10,876,10],[875,11,876,11],[875,12,876,12],[869,10,870,10],[869,11,870,11],[869,12,870,12],[871,10,872,10],[871,11,872,11],[871,12,872,12],[865,10,866,10],[865,11,866,11],[865,12,866,12],[867,10,868,10],[867,11,868,11],[867,12,868,12],[861,10,862,10],[861,11,862,11],[861,12,862,12],[863,10,864,10],[863,11,864,11],[863,12,864,12],[857,10,858,10],[857,11,858,11],[857,12,858,12],[859,10,860,10],[859,11,860,11],[859,12,860,12],[853,10,854,10],[853,11,854,11],[853,12,854,12],[855,10,856,10],[855,11,856,11],[855,12,856,12],[849,10,850,10],[849,11,850,11],[849,12,850,12],[851,10,852,10],[851,11,852,11],[851,12,852,12],[845,10,846,10],[845,11,846,11],[845,12,846,12],[847,10,848,10],[847,11,848,11],[847,12,848,12],[841,10,842,10],[841,11,842,11],[841,12,842,12],[843,10,844,10],[843,11,844,11],[843,12,844,12],[837,10,838,10],[837,11,838,11],[837,12,838,12],[839,10,840,10],[839,11,840,11],[839,12,840,12],[833,10,834,10],[833,11,834,11],[833,12,834,12],[835,10,836,10],[835,11,836,11],[835,12,836,12],[829,10,830,10],[829,11,830,11],[829,12,830,12],[831,10,832,10],[831,11,832,11],[831,12,832,12],[825,10,826,10],[825,11,826,11],[825,12,826,12],[827,10,828,10],[827,11,828,11],[827,12,828,12],[821,10,822,10],[821,11,822,11],[821,12,822,12],[823,10,824,10],[823,11,824,11],[823,12,824,12],[817,10,818,10],[817,11,818,11],[817,12,818,12],[819,10,820,10],[819,11,820,11],[819,12,820,12],[813,10,814,10],[813,11,814,11],[813,12,814,12],[815,10,816,10],[815,11,816,11],[815,12,816,12],[809,10,810,10],[809,11,810,11],[809,12,810,12],[811,10,812,10],[811,11,812,11],[811,12,812,12],[805,10,806,10],[805,11,806,11],[805,12,806,12],[807,10,808,10],[807,11,808,11],[807,12,808,12],[801,10,802,10],[801,11,802,11],[801,12,802,12],[803,10,804,10],[803,11,804,11],[803,12,804,12],[797,10,798,10],[797,11,798,11],[797,12,798,12],[799,10,800,10],[799,11,800,11],[799,12,800,12],[793,10,794,10],[793,11,794,11],[793,12,794,12],[795,10,796,10],[795,11,796,11],[795,12,796,12],[789,10,790,10],[789,11,790,11],[789,12,790,12],[791,10,792,10],[791,11,792,11],[791,12,792,12],[785,10,786,10],[785,11,786,11],[785,12,786,12],[787,10,788,10],[787,11,788,11],[787,12,788,12],[781,10,782,10],[781,11,782,11],[781,12,782,12],[783,10,784,10],[783,11,784,11],[783,12,784,12],[777,10,778,10],[777,11,778,11],[777,12,778,12],[779,10,780,10],[779,11,780,11],[779,12,780,12],[773,10,774,10],[773,11,774,11],[773,12,774,12],[775,10,776,10],[775,11,776,11],[775,12,776,12],[769,10,770,10],[769,11,770,11],[769,12,770,12],[771,10,772,10],[771,11,772,11],[771,12,772,12],[765,10,766,10],[765,11,766,11],[765,12,766,12],[767,10,768,10],[767,11,768,11],[767,12,768,12],[761,10,762,10],[761,11,762,11],[761,12,762,12],[763,10,764,10],[763,11,764,11],[763,12,764,12],[757,10,758,10],[757,11,758,11],[757,12,758,12],[759,10,760,10],[759,11,760,11],[759,12,760,12],[753,10,754,10],[753,11,754,11],[753,12,754,12],[755,10,756,10],[755,11,756,11],[755,12,756,12],[749,10,750,10],[749,11,750,11],[749,12,750,12],[751,10,752,10],[751,11,752,11],[751,12,752,12],[745,10,746,10],[745,11,746,11],[745,12,746,12],[747,10,748,10],[747,11,748,11],[747,12,748,12],[741,10,742,10],[741,11,742,11],[741,12,742,12],[743,10,744,10],[743,11,744,11],[743,12,744,12],[737,10,738,10],[737,11,738,11],[737,12,738,12],[739,10,740,10],[739,11,740,11],[739,12,740,12],[733,10,734,10],[733,11,734,11],[733,12,734,12],[735,10,736,10],[735,11,736,11],[735,12,736,12],[729,10,730,10],[729,11,730,11],[729,12,730,12],[731,10,732,10],[731,11,732,11],[731,12,732,12],[725,10,726,10],[725,11,726,11],[725,12,726,12],[727,10,728,10],[727,11,728,11],[727,12,728,12],[721,10,722,10],[721,11,722,11],[721,12,722,12],[723,10,724,10],[723,11,724,11],[723,12,724,12],[717,10,718,10],[717,11,718,11],[717,12,718,12],[719,10,720,10],[719,11,720,11],[719,12,720,12],[713,10,714,10],[713,11,714,11],[713,12,714,12],[715,10,716,10],[715,11,716,11],[715,12,716,12],[709,10,710,10],[709,11,710,11],[709,12,710,12],[711,10,712,10],[711,11,712,11],[711,12,712,12],[705,10,706,10],[705,11,706,11],[705,12,706,12],[707,10,708,10],[707,11,708,11],[707,12,708,12],[701,10,702,10],[701,11,702,11],[701,12,702,12],[703,10,704,10],[703,11,704,11],[703,12,704,12],[697,10,698,10],[697,11,698,11],[697,12,698,12],[699,10,700,10],[699,11,700,11],[699,12,700,12],[693,10,694,10],[693,11,694,11],[693,12,694,12],[695,10,696,10],[695,11,696,11],[695,12,696,12],[689,10,690,10],[689,11,690,11],[689,12,690,12],[691,10,692,10],[691,11,692,11],[691,12,692,12],[685,10,686,10],[685,11,686,11],[685,12,686,12],[687,10,688,10],[687,11,688,11],[687,12,688,12],[681,10,682,10],[681,11,682,11],[681,12,682,12],[683,10,684,10],[683,11,684,11],[683,12,684,12],[677,10,678,10],[677,11,678,11],[677,12,678,12],[679,10,680,10],[679,11,680,11],[679,12,680,12],[673,10,674,10],[673,11,674,11],[673,12,674,12],[675,10,676,10],[675,11,676,11],[675,12,676,12],[669,10,670,10],[669,11,670,11],[669,12,670,12],[671,10,672,10],[671,11,672,11],[671,12,672,12],[665,10,666,10],[665,11,666,11],[665,12,666,12],[667,10,668,10],[667,11,668,11],[667,12,668,12],[661,10,662,10],[661,11,662,11],[661,12,662,12],[663,10,664,10],[663,11,664,11],[663,12,664,12],[657,10,658,10],[657,11,658,11],[657,12,658,12],[659,10,660,10],[659,11,660,11],[659,12,660,12],[653,10,654,10],[653,11,654,11],[653,12,654,12],[655,10,656,10],[655,11,656,11],[655,12,656,12],[649,10,650,10],[649,11,650,11],[649,12,650,12],[651,10,652,10],[651,11,652,11],[651,12,652,12],[645,10,646,10],[645,11,646,11],[645,12,646,12],[647,10,648,10],[647,11,648,11],[647,12,648,12],[641,10,642,10],[641,11,642,11],[641,12,642,12],[643,10,644,10],[643,11,644,11],[643,12,644,12],[637,10,638,10],[637,11,638,11],[637,12,638,12],[639,10,640,10],[639,11,640,11],[639,12,640,12],[633,10,634,10],[633,11,634,11],[633,12,634,12],[635,10,636,10],[635,11,636,11],[635,12,636,12],[629,10,630,10],[629,11,630,11],[629,12,630,12],[631,10,632,10],[631,11,632,11],[631,12,632,12],[627,10,628,10],[627,11,628,11],[627,12,628,12],[623,10,624,10],[623,11,624,11],[623,12,624,12],[625,10,626,10],[625,11,626,11],[625,12,626,12],[619,10,620,10],[619,11,620,11],[619,12,620,12],[621,10,622,10],[621,11,622,11],[621,12,622,12],[615,10,616,10],[615,11,616,11],[615,12,616,12],[617,10,618,10],[617,11,618,11],[617,12,618,12],[611,10,612,10],[611,11,612,11],[611,12,612,12],[613,10,614,10],[613,11,614,11],[613,12,614,12],[607,10,608,10],[607,11,608,11],[607,12,608,12],[609,10,610,10],[609,11,610,11],[609,12,610,12],[603,10,604,10],[603,11,604,11],[603,12,604,12],[605,10,606,10],[605,11,606,11],[605,12,606,12],[599,10,600,10],[599,11,600,11],[599,12,600,12],[601,10,602,10],[601,11,602,11],[601,12,602,12],[595,10,596,10],[595,11,596,11],[595,12,596,12],[597,10,598,10],[597,11,598,11],[597,12,598,12],[591,10,592,10],[591,11,592,11],[591,12,592,12],[593,10,594,10],[593,11,594,11],[593,12,594,12],[587,10,588,10],[587,11,588,11],[587,12,588,12],[589,10,590,10],[589,11,590,11],[589,12,590,12],[583,10,584,10],[583,11,584,11],[583,12,584,12],[585,10,586,10],[585,11,586,11],[585,12,586,12],[579,10,580,10],[579,11,580,11],[579,12,580,12],[581,10,582,10],[581,11,582,11],[581,12,582,12],[575,10,576,10],[575,12,576,12],[577,10,578,10],[577,12,578,12]],"merged_total":1788,"flags":["merged_cut"]}
["ПРОТОКОЛ ВЗВЕШИВАНИЯ"]
[{"$f":"HYPERLINK(реквизиты!A2)","v":"Первенство Центрального Федерального округа по самбо среди юношей и девушек 2007-2009 гг.р."}]
[{"$f":"HYPERLINK(реквизиты!A3)","v":"27 апреля 2021 года по 01 мая 2021 года       г.Александров"}]
["в.к.","№ рег.","№ п/п","№ п/ж","Ф.И.О.","Дата рожд., разряд","Округ","Cубъект, город, ведомство","№ карточки","Тренер",null,null,null,null,"субъекты","В регистрацию необходимо внести всех участников, а лишних убрать. Иначе мандатка и ком.пер.  отразяться не корректно. Название субъекта необходимо вносить точно в соответствии с мандаткой. После названия субъекта обязательно ставить запятую и пробел. Информация в мандатке и ком. пер. появляется после открытия протокола. Имя протокола обозначается толбко цифрами. Например 57. (57кг не верно)"]
[]
["74",null,null,null,"Иванов Иван Иванович","29.04.08, 3р","ЦФО","Ярославская, Рыбинск, МУ СШОР \"Металлист\"",null,"Петров П.П.",{"$f":"MID(E6,FIND(\"\",E6)*1,1)","v":"И"},{"$f":"IF(COUNTIF(E$4:E6,E6)=1,ROW()-1)","v":5},1,null,{"$f":"IFERROR(INDEX(субъект,MATCH(SUM(COUNTIF(O$4:O5,субъект)),COUNTIF(субъект,\"<\"&субъект),0)),\"\")","v":"Ярославская"}]
[null,null,null,null,null,null,null,null,null,null,{"$f":"MID(E7,FIND(\"\",E7)*1,1)","v":""},{"$f":"IF(COUNTIF(E$4:E7,E7)=1,ROW()-1)","v":false},2,null,{"$f":"IFERROR(INDEX(субъект,MATCH(SUM(COUNTIF(O$4:O6,субъект)),COUNTIF(субъект,\"<\"&субъект),0)),\"\")","v":""}]
[null,null,null,null,null,null,null,null,null,null,null,{"$f":"IF(COUNTIF(E$4:E8,E8)=1,ROW()-1)","v":false},3,null,{"$f":"IFERROR(INDEX(субъект,MATCH(SUM(COUNTIF(O$4:O7,субъект)),COUNTIF(субъект,\"<\"&субъект),0)),\"\")","v":""}]
[null,null,null,null,null,null,null,null,null,null,null,{"$f":"IF(COUNTIF(E$4:E9,E9)=1,ROW()-1)","v":false},4,null,{"$f":"IFERROR(INDEX(субъект,MATCH(SUM(COUNTIF(O$4:O8,субъект)),COUNTIF(субъект,\"<\"&субъект),0)),\"\")","v":""}]
[null,null,null,null,null,null,null,null,null,null,null,{"$f":"IF(COUNTIF(E$4:E10,E10)=1,ROW()-1)","v":false},5,null,{"$f":"IFERROR(INDEX(субъект,MATCH(SUM(COUNTIF(O$4:O9,субъект)),COUNTIF(субъект,\"<\"&субъект),0)),\"\")","v":""}]
[null,null,null,null,null,null,null,null,null,null,null,{"$f":"IF(COUNTIF(E$4:E11,E11)=1,ROW()-1)","v":false},6,null,{"$f":"IFERROR(INDEX(субъект,MATCH(SUM(COUNTIF(O$4:O10,субъект)),COUNTIF(субъект,\"<\"&субъект),0)),\"\")","v":""}]
[null,null,null,null,null,null,null,null,null,null,null,{"$f":"IF(COUNTIF(E$4:E12,E12)=1,ROW()-1)","v":false},7,null,{"$f":"IFERROR(INDEX(субъект,MATCH(SUM(COUNTIF(O$4:O11,субъект)),COUNTIF(субъект,\"<\"&субъект),0)),\"\")","v":""}]
[null,null,null,null,null,null,null,null,null,null,null,{"$f":"IF(COUNTIF(E$4:E13,E13)=1,ROW()-1)","v":false},8,null,{"$f":"IFERROR(INDEX(субъект,MATCH(SUM(COUNTIF(O$4:O12,субъект)),COUNTIF(субъект,\"<\"&субъект),0)),\"\")","v":""}]
[null,null,null,null,null,null,null,null,null,null,null,{"$f":"IF(COUNTIF(E$4:E14,E14)=1,ROW()-1)","v":false},9,null,{"$f":"IFERROR(INDEX(субъект,MATCH(SUM(COUNTIF(O$4:O13,субъект)),COUNTIF(субъект,\"<\"&субъект),0)),\"\")","v":""}]
[null,null,null,null,null,null,null,null,null,null,null,{"$f":"IF(COUNTIF(E$4:E15,E15)=1,ROW()-1)","v":false},10,null,{"$f":"IFERROR(INDEX(субъект,MATCH(SUM(COUNTIF(O$4:O14,субъект)),COUNTIF(субъект,\"<\"&субъект),0)),\"\")","v":""}]
[null,null,null,null,null,null,null,null,null,null,null,{"$f":"IF(COUNTIF(E$4:E16,E16)=1,ROW()-1)","v":false},11,null,{"$f":"IFERROR(INDEX(субъект,MATCH(SUM(COUNTIF(O$4:O15,субъект)),COUNTIF(субъект,\"<\"&субъект),0)),\"\")","v":""}]
[null,null,null,null,null,null,null,null,null,null,null,{"$f":"IF(COUNTIF(E$4:E17,E17)=1,ROW()-1)","v":false},12,null,{"$f":"IFERROR(INDEX(субъект,MATCH(SUM(COUNTIF(O$4:O16,субъект)),COUNTIF(субъект,\"<\"&субъект),0)),\"\")","v":""}]
[null,null,null,null,null,null,null,null,null,null,null,{"$f":"IF(COUNTIF(E$4:E18,E18)=1,ROW()-1)","v":false},13,null,{"$f":"IFERROR(INDEX(субъект,MATCH(SUM(COUNTIF(O$4:O17,субъект)),COUNTIF(субъект,\"<\"&субъект),0)),\"\")","v":""}]
[null,null,null,null,null,null,null,null,null,null,null,{"$f":"IF(COUNTIF(E$4:E19,E19)=1,ROW()-1)","v":false},14,null,{"$f":"IFERROR(INDEX(субъект,MATCH(SUM(COUNTIF(O$4:O18,субъект)),COUNTIF(субъект,\"<\"&субъект),0)),\"\")","v":""}]
[null,null,null,null,null,null,null,null,null,null,null,{"$f":"IF(COUNTIF(E$4:E20,E20)=1,ROW()-1)","v":false},15,null,{"$f":"IFERROR(INDEX(субъект,MATCH(SUM(COUNTIF(O$4:O19,субъект)),COUNTIF(субъект,\"<\"&субъект),0)),\"\")","v":""}]
[null,null,null,null,null,null,null,null,null,null,null,{"$f":"IF(COUNTIF(E$4:E21,E21)=1,ROW()-1)","v":false},16,null,{"$f":"IFERROR(INDEX(субъект,MATCH(SUM(COUNTIF(O$4:O20,субъект)),COUNTIF(субъект,\"<\"&субъект),0)),\"\")","v":""}]
[null,null,null,null,null,null,null,null,null,null,null,{"$f":"IF(COUNTIF(E$4:E22,E22)=1,ROW()-1)","v":false},17,null,{"$f":"IFERROR(INDEX(субъект,MATCH(SUM(COUNTIF(O$4:O21,субъект)),COUNTIF(субъект,\"<\"&субъект),0)),\"\")","v":""}]
[null,null,null,null,null,null,null,null,null,null,null,{"$f":"IF(COUNTIF(E$4:E23,E23)=1,ROW()-1)","v":false},18,null,{"$f":"IFERROR(INDEX(субъект,MATCH(SUM(COUNTIF(O$4:O22,субъект)),COUNTIF(субъект,\"<\"&субъект),0)),\"\")","v":""}]
[null,null,null,null,null,null,null,null,null,null,null,{"$f":"IF(COUNTIF(E$4:E24,E24)=1,ROW()-1)","v":false},19,null,{"$f":"IFERROR(INDEX(субъект,MATCH(SUM(COUNTIF(O$4:O23,субъект)),COUNTIF(субъект,\"<\"&субъект),0)),\"\")","v":""}]
[null,null,null,null,null,null,null,null,null,null,null,{"$f":"IF(COUNTIF(E$4:E25,E25)=1,ROW()-1)","v":false},20,null,{"$f":"IFERROR(INDEX(субъект,MATCH(SUM(COUNTIF(O$4:O24,субъект)),COUNTIF(субъект,\"<\"&субъект),0)),\"\")","v":""}]
[null,null,null,null,null,null,null,null,null,null,null,{"$f":"IF(COUNTIF(E$4:E26,E26)=1,ROW()-1)","v":false},21,null,{"$f":"IFERROR(INDEX(субъект,MATCH(SUM(COUNTIF(O$4:O25,субъект)),COUNTIF(субъект,\"<\"&субъект),0)),\"\")","v":""}]
[null,null,null,null,null,null,null,null,null,null,null,{"$f":"IF(COUNTIF(E$4:E27,E27)=1,ROW()-1)","v":false},22,null,{"$f":"IFERROR(INDEX(субъект,MATCH(SUM(COUNTIF(O$4:O26,субъект)),COUNTIF(субъект,\"<\"&субъект),0)),\"\")","v":""}]
[null,null,null,null,null,null,null,null,null,null,null,{"$f":"IF(COUNTIF(E$4:E28,E28)=1,ROW()-1)","v":false},23,null,{"$f":"IFERROR(INDEX(субъект,MATCH(SUM(COUNTIF(O$4:O27,субъект)),COUNTIF(субъект,\"<\"&субъект),0)),\"\")","v":""}]
[null,null,null,null,null,null,null,null,null,null,null,{"$f":"IF(COUNTIF(E$4:E29,E29)=1,ROW()-1)","v":false},24,null,{"$f":"IFERROR(INDEX(субъект,MATCH(SUM(COUNTIF(O$4:O28,субъект)),COUNTIF(субъект,\"<\"&субъект),0)),\"\")","v":""}]
[null,null,null,null,null,null,null,null,null,null,null,{"$f":"IF(COUNTIF(E$4:E30,E30)=1,ROW()-1)","v":false},25,null,{"$f":"IFERROR(INDEX(субъект,MATCH(SUM(COUNTIF(O$4:O29,субъект)),COUNTIF(субъект,\"<\"&субъект),0)),\"\")","v":""}]
[null,null,null,null,null,null,null,null,null,null,null,{"$f":"IF(COUNTIF(E$4:E31,E31)=1,ROW()-1)","v":false},26,null,{"$f":"IFERROR(INDEX(субъект,MATCH(SUM(COUNTIF(O$4:O30,субъект)),COUNTIF(субъект,\"<\"&субъект),0)),\"\")","v":""}]
[null,null,null,null,null,null,null,null,null,null,null,{"$f":"IF(COUNTIF(E$4:E32,E32)=1,ROW()-1)","v":false},27,null,{"$f":"IFERROR(INDEX(субъект,MATCH(SUM(COUNTIF(O$4:O31,субъект)),COUNTIF(субъект,\"<\"&субъект),0)),\"\")","v":""}]
[null,null,null,null,null,null,null,null,null,null,null,{"$f":"IF(COUNTIF(E$4:E33,E33)=1,ROW()-1)","v":false},28,null,{"$f":"IFERROR(INDEX(субъект,MATCH(SUM(COUNTIF(O$4:O32,субъект)),COUNTIF(субъект,\"<\"&субъект),0)),\"\")","v":""}]
[null,null,null,null,null,null,null,null,null,null,null,{"$f":"IF(COUNTIF(E$4:E34,E34)=1,ROW()-1)","v":false},29,null,{"$f":"IFERROR(INDEX(субъект,MATCH(SUM(COUNTIF(O$4:O33,субъект)),COUNTIF(субъект,\"<\"&субъект),0)),\"\")","v":""}]
[null,null,null,null,null,null,null,null,null,null,null,{"$f":"IF(COUNTIF(E$4:E35,E35)=1,ROW()-1)","v":false},30,null,{"$f":"IFERROR(INDEX(субъект,MATCH(SUM(COUNTIF(O$4:O34,субъект)),COUNTIF(субъект,\"<\"&субъект),0)),\"\")","v":""}]
[null,null,null,null,null,null,null,null,null,null,null,{"$f":"IF(COUNTIF(E$4:E36,E36)=1,ROW()-1)","v":false},31,null,{"$f":"IFERROR(INDEX(субъект,MATCH(SUM(COUNTIF(O$4:O35,субъект)),COUNTIF(субъект,\"<\"&субъект),0)),\"\")","v":""}]
[null,null,null,null,null,null,null,null,null,null,null,{"$f":"IF(COUNTIF(E$4:E37,E37)=1,ROW()-1)","v":false},32,null,{"$f":"IFERROR(INDEX(субъект,MATCH(SUM(COUNTIF(O$4:O36,субъект)),COUNTIF(субъект,\"<\"&субъект),0)),\"\")","v":""}]
[null,null,null,null,null,null,null,null,null,null,null,{"$f":"IF(COUNTIF(E$4:E38,E38)=1,ROW()-1)","v":false},33,null,{"$f":"IFERROR(INDEX(субъект,MATCH(SUM(COUNTIF(O$4:O37,субъект)),COUNTIF(субъект,\"<\"&субъект),0)),\"\")","v":""}]
[null,null,null,null,null,null,null,null,null,null,null,{"$f":"IF(COUNTIF(E$4:E39,E39)=1,ROW()-1)","v":false},34,null,{"$f":"IFERROR(INDEX(субъект,MATCH(SUM(COUNTIF(O$4:O38,субъект)),COUNTIF(субъект,\"<\"&субъект),0)),\"\")","v":""}]
[null,null,null,null,null,null,null,null,null,null,null,{"$f":"IF(COUNTIF(E$4:E40,E40)=1,ROW()-1)","v":false},35,null,{"$f":"IFERROR(INDEX(субъект,MATCH(SUM(COUNTIF(O$4:O39,субъект)),COUNTIF(субъект,\"<\"&субъект),0)),\"\")","v":""}]
[null,null,null,null,null,null,null,null,null,null,null,{"$f":"IF(COUNTIF(E$4:E41,E41)=1,ROW()-1)","v":false},36,null,{"$f":"IFERROR(INDEX(субъект,MATCH(SUM(COUNTIF(O$4:O40,субъект)),COUNTIF(субъект,\"<\"&субъект),0)),\"\")","v":""}]
[null,null,null,null,null,null,null,null,null,null,null,{"$f":"IF(COUNTIF(E$4:E42,E42)=1,ROW()-1)","v":false},37,null,{"$f":"IFERROR(INDEX(субъект,MATCH(SUM(COUNTIF(O$4:O41,субъект)),COUNTIF(субъект,\"<\"&субъект),0)),\"\")","v":""}]
[null,null,null,null,null,null,null,null,null,null,null,{"$f":"IF(COUNTIF(E$4:E43,E43)=1,ROW()-1)","v":false},38,null,{"$f":"IFERROR(INDEX(субъект,MATCH(SUM(COUNTIF(O$4:O42,субъект)),COUNTIF(субъект,\"<\"&субъект),0)),\"\")","v":""}]
[null,null,null,null,null,null,null,null,null,null,null,{"$f":"IF(COUNTIF(E$4:E44,E44)=1,ROW()-1)","v":false},39,null,{"$f":"IFERROR(INDEX(субъект,MATCH(SUM(COUNTIF(O$4:O43,субъект)),COUNTIF(субъект,\"<\"&субъект),0)),\"\")","v":""}]
[null,null,null,null,null,null,null,null,null,null,null,{"$f":"IF(COUNTIF(E$4:E45,E45)=1,ROW()-1)","v":false},40,null,{"$f":"IFERROR(INDEX(субъект,MATCH(SUM(COUNTIF(O$4:O44,субъект)),COUNTIF(субъект,\"<\"&субъект),0)),\"\")","v":""}]
[null,null,null,null,null,null,null,null,null,null,null,{"$f":"IF(COUNTIF(E$4:E46,E46)=1,ROW()-1)","v":false},41,null,{"$f":"IFERROR(INDEX(субъект,MATCH(SUM(COUNTIF(O$4:O45,субъект)),COUNTIF(субъект,\"<\"&субъект),0)),\"\")","v":""}]
[null,null,null,null,null,null,null,null,null,null,null,{"$f":"IF(COUNTIF(E$4:E47,E47)=1,ROW()-1)","v":false},42,null,{"$f":"IFERROR(INDEX(субъект,MATCH(SUM(COUNTIF(O$4:O46,субъект)),COUNTIF(субъект,\"<\"&субъект),0)),\"\")","v":""}]
[null,null,null,null,null,null,null,null,null,null,null,{"$f":"IF(COUNTIF(E$4:E48,E48)=1,ROW()-1)","v":false},43,null,{"$f":"IFERROR(INDEX(субъект,MATCH(SUM(COUNTIF(O$4:O47,субъект)),COUNTIF(субъект,\"<\"&субъект),0)),\"\")","v":""}]
[null,null,null,null,null,null,null,null,null,null,null,{"$f":"IF(COUNTIF(E$4:E49,E49)=1,ROW()-1)","v":false},44,null,{"$f":"IFERROR(INDEX(субъект,MATCH(SUM(COUNTIF(O$4:O48,субъект)),COUNTIF(субъект,\"<\"&субъект),0)),\"\")","v":""}]
[null,null,null,null,null,null,null,null,null,null,null,{"$f":"IF(COUNTIF(E$4:E50,E50)=1,ROW()-1)","v":false},45,null,{"$f":"IFERROR(INDEX(субъект,MATCH(SUM(COUNTIF(O$4:O49,субъект)),COUNTIF(субъект,\"<\"&субъект),0)),\"\")","v":""}]
[null,null,null,null,null,null,null,null,null,null,null,{"$f":"IF(COUNTIF(E$4:E51,E51)=1,ROW()-1)","v":false},46,null,{"$f":"IFERROR(INDEX(субъект,MATCH(SUM(COUNTIF(O$4:O50,субъект)),COUNTIF(субъект,\"<\"&субъект),0)),\"\")","v":""}]
[null,null,null,null,null,null,null,null,null,null,null,{"$f":"IF(COUNTIF(E$4:E52,E52)=1,ROW()-1)","v":false},47,null,{"$f":"IFERROR(INDEX(субъект,MATCH(SUM(COUNTIF(O$4:O51,субъект)),COUNTIF(субъект,\"<\"&субъект),0)),\"\")","v":""}]
[null,null,null,null,null,null,null,null,null,null,null,{"$f":"IF(COUNTIF(E$4:E53,E53)=1,ROW()-1)","v":false},48,null,{"$f":"IFERROR(INDEX(субъект,MATCH(SUM(COUNTIF(O$4:O52,субъект)),COUNTIF(субъект,\"<\"&субъект),0)),\"\")","v":""}]
[null,null,null,null,null,null,null,null,null,null,null,{"$f":"IF(COUNTIF(E$4:E54,E54)=1,ROW()-1)","v":false},49,null,{"$f":"IFERROR(INDEX(субъект,MATCH(SUM(COUNTIF(O$4:O53,субъект)),COUNTIF(субъект,\"<\"&субъект),0)),\"\")","v":""}]
[null,null,null,null,null,null,null,null,null,null,null,{"$f":"IF(COUNTIF(E$4:E55,E55)=1,ROW()-1)","v":false},50,null,{"$f":"IFERROR(INDEX(субъект,MATCH(SUM(COUNTIF(O$4:O54,субъект)),COUNTIF(субъект,\"<\"&субъект),0)),\"\")","v":""}]
[null,null,null,null,null,null,null,null,null,null,null,{"$f":"IF(COUNTIF(E$4:E56,E56)=1,ROW()-1)","v":false},51,null,{"$f":"IFERROR(INDEX(субъект,MATCH(SUM(COUNTIF(O$4:O55,субъект)),COUNTIF(субъект,\"<\"&субъект),0)),\"\")","v":""}]
[null,null,null,null,null,null,null,null,null,null,null,{"$f":"IF(COUNTIF(E$4:E57,E57)=1,ROW()-1)","v":false},52,null,{"$f":"IFERROR(INDEX(субъект,MATCH(SUM(COUNTIF(O$4:O56,субъект)),COUNTIF(субъект,\"<\"&субъект),0)),\"\")","v":""}]
[null,null,null,null,null,null,null,null,null,null,null,{"$f":"IF(COUNTIF(E$4:E58,E58)=1,ROW()-1)","v":false},53,null,{"$f":"IFERROR(INDEX(субъект,MATCH(SUM(COUNTIF(O$4:O57,субъект)),COUNTIF(субъект,\"<\"&субъект),0)),\"\")","v":""}]
[null,null,null,null,null,null,null,null,null,null,null,{"$f":"IF(COUNTIF(E$4:E59,E59)=1,ROW()-1)","v":false},54,null,{"$f":"IFERROR(INDEX(субъект,MATCH(SUM(COUNTIF(O$4:O58,субъект)),COUNTIF(субъект,\"<\"&субъект),0)),\"\")","v":""}]
[null,null,null,null,null,null,null,null,null,null,null,{"$f":"IF(COUNTIF(E$4:E60,E60)=1,ROW()-1)","v":false},55,null,{"$f":"IFERROR(INDEX(субъект,MATCH(SUM(COUNTIF(O$4:O59,субъект)),COUNTIF(субъект,\"<\"&субъект),0)),\"\")","v":""}]
[null,null,null,null,null,null,null,null,null,null,null,{"$f":"IF(COUNTIF(E$4:E61,E61)=1,ROW()-1)","v":false},56,null,{"$f":"IFERROR(INDEX(субъект,MATCH(SUM(COUNTIF(O$4:O60,субъект)),COUNTIF(субъект,\"<\"&субъект),0)),\"\")","v":""}]
[null,null,null,null,null,null,null,null,null,null,null,{"$f":"IF(COUNTIF(E$4:E62,E62)=1,ROW()-1)","v":false},57,null,{"$f":"IFERROR(INDEX(субъект,MATCH(SUM(COUNTIF(O$4:O61,субъект)),COUNTIF(субъект,\"<\"&субъект),0)),\"\")","v":""}]
[null,null,null,null,null,null,null,null,null,null,null,{"$f":"IF(COUNTIF(E$4:E63,E63)=1,ROW()-1)","v":false},58,null,{"$f":"IFERROR(INDEX(субъект,MATCH(SUM(COUNTIF(O$4:O62,субъект)),COUNTIF(субъект,\"<\"&субъект),0)),\"\")","v":""}]
[null,null,null,null,null,null,null,null,null,null,null,{"$f":"IF(COUNTIF(E$4:E64,E64)=1,ROW()-1)","v":false},59,null,{"$f":"IFERROR(INDEX(субъект,MATCH(SUM(COUNTIF(O$4:O63,субъект)),COUNTIF(субъект,\"<\"&субъект),0)),\"\")","v":""}]
[null,null,null,null,null,null,null,null,null,null,null,{"$f":"IF(COUNTIF(E$4:E65,E65)=1,ROW()-1)","v":false},60,null,{"$f":"IFERROR(INDEX(субъект,MATCH(SUM(COUNTIF(O$4:O64,субъект)),COUNTIF(субъект,\"<\"&субъект),0)),\"\")","v":""}]
[null,null,null,null,null,null,null,null,null,null,null,{"$f":"IF(COUNTIF(E$4:E66,E66)=1,ROW()-1)","v":false},61,null,{"$f":"IFERROR(INDEX(субъект,MATCH(SUM(COUNTIF(O$4:O65,субъект)),COUNTIF(субъект,\"<\"&субъект),0)),\"\")","v":""}]
[null,null,null,null,null,null,null,null,null,null,null,{"$f":"IF(COUNTIF(E$4:E67,E67)=1,ROW()-1)","v":false},62,null,{"$f":"IFERROR(INDEX(субъект,MATCH(SUM(COUNTIF(O$4:O66,субъект)),COUNTIF(субъект,\"<\"&субъект),0)),\"\")","v":""}]
[null,null,null,null,null,null,null,null,null,null,null,{"$f":"IF(COUNTIF(E$4:E68,E68)=1,ROW()-1)","v":false},63,null,{"$f":"IFERROR(INDEX(субъект,MATCH(SUM(COUNTIF(O$4:O67,субъект)),COUNTIF(субъект,\"<\"&субъект),0)),\"\")","v":""}]
[null,null,null,null,null,null,null,null,null,null,null,{"$f":"IF(COUNTIF(E$4:E69,E69)=1,ROW()-1)","v":false},64,null,{"$f":"IFERROR(INDEX(субъект,MATCH(SUM(COUNTIF(O$4:O68,субъект)),COUNTIF(субъект,\"<\"&субъект),0)),\"\")","v":""}]
[null,null,null,null,null,null,null,null,null,null,null,{"$f":"IF(COUNTIF(E$4:E70,E70)=1,ROW()-1)","v":false},65,null,{"$f":"IFERROR(INDEX(субъект,MATCH(SUM(COUNTIF(O$4:O69,субъект)),COUNTIF(субъект,\"<\"&субъект),0)),\"\")","v":""}]
[null,null,null,null,null,null,null,null,null,null,null,{"$f":"IF(COUNTIF(E$4:E71,E71)=1,ROW()-1)","v":false},66,null,{"$f":"IFERROR(INDEX(субъект,MATCH(SUM(COUNTIF(O$4:O70,субъект)),COUNTIF(субъект,\"<\"&субъект),0)),\"\")","v":""}]
[null,null,null,null,null,null,null,null,null,null,null,{"$f":"IF(COUNTIF(E$4:E72,E72)=1,ROW()-1)","v":false},67,null,{"$f":"IFERROR(INDEX(субъект,MATCH(SUM(COUNTIF(O$4:O71,субъект)),COUNTIF(субъект,\"<\"&субъект),0)),\"\")","v":""}]
[null,null,null,null,null,null,null,null,null,null,null,{"$f":"IF(COUNTIF(E$4:E73,E73)=1,ROW()-1)","v":false},68,null,{"$f":"IFERROR(INDEX(субъект,MATCH(SUM(COUNTIF(O$4:O72,субъект)),COUNTIF(субъект,\"<\"&субъект),0)),\"\")","v":""}]
[null,null,null,null,null,null,null,null,null,null,null,{"$f":"IF(COUNTIF(E$4:E74,E74)=1,ROW()-1)","v":false},69,null,{"$f":"IFERROR(INDEX(субъект,MATCH(SUM(COUNTIF(O$4:O73,субъект)),COUNTIF(субъект,\"<\"&субъект),0)),\"\")","v":""}]
[null,null,null,null,null,null,null,null,null,null,null,{"$f":"IF(COUNTIF(E$4:E75,E75)=1,ROW()-1)","v":false},null,null,{"$f":"IFERROR(INDEX(субъект,MATCH(SUM(COUNTIF(O$4:O74,субъект)),COUNTIF(субъект,\"<\"&субъект),0)),\"\")","v":""}]
[null,null,null,null,null,null,null,null,null,null,null,{"$f":"IF(COUNTIF(E$4:E76,E76)=1,ROW()-1)","v":false},null,null,{"$f":"IFERROR(INDEX(субъект,MATCH(SUM(COUNTIF(O$4:O75,субъект)),COUNTIF(субъект,\"<\"&субъект),0)),\"\")","v":""}]
[null,null,null,null,null,null,null,null,null,null,null,{"$f":"IF(COUNTIF(E$4:E77,E77)=1,ROW()-1)","v":false},null,null,{"$f":"IFERROR(INDEX(субъект,MATCH(SUM(COUNTIF(O$4:O76,субъект)),COUNTIF(субъект,\"<\"&субъект),0)),\"\")","v":""}]
[null,null,null,null,null,null,null,null,null,null,null,{"$f":"IF(COUNTIF(E$4:E78,E78)=1,ROW()-1)","v":false},null,null,{"$f":"IFERROR(INDEX(субъект,MATCH(SUM(COUNTIF(O$4:O77,субъект)),COUNTIF(субъект,\"<\"&субъект),0)),\"\")","v":""}]
[null,null,null,null,null,null,null,null,null,null,null,{"$f":"IF(COUNTIF(E$4:E79,E79)=1,ROW()-1)","v":false},null,null,{"$f":"IFERROR(INDEX(субъект,MATCH(SUM(COUNTIF(O$4:O78,субъект)),COUNTIF(субъект,\"<\"&субъект),0)),\"\")","v":""}]
[null,null,null,null,null,null,null,null,null,null,null,{"$f":"IF(COUNTIF(E$4:E80,E80)=1,ROW()-1)","v":false},null,null,{"$f":"IFERROR(INDEX(субъект,MATCH(SUM(COUNTIF(O$4:O79,субъект)),COUNTIF(субъект,\"<\"&субъект),0)),\"\")","v":""}]
[null,null,null,null,null,null,null,null,null,null,null,{"$f":"IF(COUNTIF(E$4:E81,E81)=1,ROW()-1)","v":false},null,null,{"$f":"IFERROR(INDEX(субъект,MATCH(SUM(COUNTIF(O$4:O80,субъект)),COUNTIF(субъект,\"<\"&субъект),0)),\"\")","v":""}]
[null,null,null,null,null,null,null,null,null,null,null,{"$f":"IF(COUNTIF(E$4:E82,E82)=1,ROW()-1)","v":false},null,null,{"$f":"IFERROR(INDEX(субъект,MATCH(SUM(COUNTIF(O$4:O81,субъект)),COUNTIF(субъект,\"<\"&субъект),0)),\"\")","v":""}]
[null,null,null,null,null,null,null,null,null,null,null,{"$f":"IF(COUNTIF(E$4:E83,E83)=1,ROW()-1)","v":false},null,null,{"$f":"IFERROR(INDEX(субъект,MATCH(SUM(COUNTIF(O$4:O82,субъект)),COUNTIF(субъект,\"<\"&субъект),0)),\"\")","v":""}]
[null,null,null,null,null,null,null,null,null,null,null,{"$f":"IF(COUNTIF(E$4:E84,E84)=1,ROW()-1)","v":false}]
[null,null,null,null,null,null,null,null,null,null,null,{"$f":"IF(COUNTIF(E$4:E85,E85)=1,ROW()-1)","v":false}]
[null,null,null,null,null,null,null,null,null,null,null,{"$f":"IF(COUNTIF(E$4:E86,E86)=1,ROW()-1)","v":false}]
[null,null,null,null,null,null,null,null,null,null,null,{"$f":"IF(COUNTIF(E$4:E87,E87)=1,ROW()-1)","v":false}]
[null,null,null,null,null,null,null,null,null,null,null,{"$f":"IF(COUNTIF(E$4:E88,E88)=1,ROW()-1)","v":false}]
[null,null,null,null,null,null,null,null,null,null,null,{"$f":"IF(COUNTIF(E$4:E89,E89)=1,ROW()-1)","v":false}]
[null,null,null,null,null,null,null,null,null,null,null,{"$f":"IF(COUNTIF(E$4:E90,E90)=1,ROW()-1)","v":false}]
[null,null,null,null,null,null,null,null,null,null,null,{"$f":"IF(COUNTIF(E$4:E91,E91)=1,ROW()-1)","v":false}]
[null,null,null,null,null,null,null,null,null,null,null,{"$f":"IF(COUNTIF(E$4:E92,E92)=1,ROW()-1)","v":false}]
[null,null,null,null,null,null,null,null,null,null,null,{"$f":"IF(COUNTIF(E$4:E93,E93)=1,ROW()-1)","v":false}]
[null,null,null,null,null,null,null,null,null,null,null,{"$f":"IF(COUNTIF(E$4:E94,E94)=1,ROW()-1)","v":false}]
[null,null,null,null,null,null,null,null,null,null,null,{"$f":"IF(COUNTIF(E$4:E95,E95)=1,ROW()-1)","v":false}]
[null,null,null,null,null,null,null,null,null,null,null,{"$f":"IF(COUNTIF(E$4:E96,E96)=1,ROW()-1)","v":false}]
[null,null,null,null,null,null,null,null,null,null,null,{"$f":"IF(COUNTIF(E$4:E97,E97)=1,ROW()-1)","v":false}]
[null,null,null,null,null,null,null,null,null,null,null,{"$f":"IF(COUNTIF(E$4:E98,E98)=1,ROW()-1)","v":false}]
[null,null,null,null,null,null,null,null,null,null,null,{"$f":"IF(COUNTIF(E$4:E99,E99)=1,ROW()-1)","v":false}]
[null,null,null,null,null,null,null,null,null,null,null,{"$f":"IF(COUNTIF(E$4:E100,E100)=1,ROW()-1)","v":false}]
[null,null,null,null,null,null,null,null,null,null,null,{"$f":"IF(COUNTIF(E$4:E101,E101)=1,ROW()-1)","v":false}]
[null,null,null,null,null,null,null,null,null,null,null,{"$f":"IF(COUNTIF(E$4:E102,E102)=1,ROW()-1)","v":false}]
[null,null,null,null,null,null,null,null,null,null,null,{"$f":"IF(COUNTIF(E$4:E103,E103)=1,ROW()-1)","v":false}]
[null,null,null,null,null,null,null,null,null,null,null,{"$f":"IF(COUNTIF(E$4:E104,E104)=1,ROW()-1)","v":false}]
[null,null,null,null,null,null,null,null,null,null,null,{"$f":"IF(COUNTIF(E$4:E105,E105)=1,ROW()-1)","v":false}]
[null,null,null,null,null,null,null,null,null,null,null,{"$f":"IF(COUNTIF(E$4:E106,E106)=1,ROW()-1)","v":false}]
[null,null,null,null,null,null,null,null,null,null,null,{"$f":"IF(COUNTIF(E$4:E107,E107)=1,ROW()-1)","v":false}]
[null,null,null,null,null,null,null,null,null,null,null,{"$f":"IF(COUNTIF(E$4:E108,E108)=1,ROW()-1)","v":false}]
[null,null,null,null,null,null,null,null,null,null,null,{"$f":"IF(COUNTIF(E$4:E109,E109)=1,ROW()-1)","v":false}]
[null,null,null,null,null,null,null,null,null,null,null,{"$f":"IF(COUNTIF(E$4:E110,E110)=1,ROW()-1)","v":false}]
[null,null,null,null,null,null,null,null,null,null,null,{"$f":"IF(COUNTIF(E$4:E111,E111)=1,ROW()-1)","v":false}]
[null,null,null,null,null,null,null,null,null,null,null,{"$f":"IF(COUNTIF(E$4:E112,E112)=1,ROW()-1)","v":false}]
[null,null,null,null,null,null,null,null,null,null,null,{"$f":"IF(COUNTIF(E$4:E113,E113)=1,ROW()-1)","v":false}]
[null,null,null,null,null,null,null,null,null,null,null,{"$f":"IF(COUNTIF(E$4:E114,E114)=1,ROW()-1)","v":false}]
[null,null,null,null,null,null,null,null,null,null,null,{"$f":"IF(COUNTIF(E$4:E115,E115)=1,ROW()-1)","v":false}]
[null,null,null,null,null,null,null,null,null,null,null,{"$f":"IF(COUNTIF(E$4:E116,E116)=1,ROW()-1)","v":false}]
[null,null,null,null,null,null,null,null,null,null,null,{"$f":"IF(COUNTIF(E$4:E117,E117)=1,ROW()-1)","v":false}]
[null,null,null,null,null,null,null,null,null,null,null,{"$f":"IF(COUNTIF(E$4:E118,E118)=1,ROW()-1)","v":false}]
[null,null,null,null,null,null,null,null,null,null,null,{"$f":"IF(COUNTIF(E$4:E119,E119)=1,ROW()-1)","v":false}]
[null,null,null,null,null,null,null,null,null,null,null,{"$f":"IF(COUNTIF(E$4:E120,E120)=1,ROW()-1)","v":false}]
[null,null,null,null,null,null,null,null,null,null,null,{"$f":"IF(COUNTIF(E$4:E121,E121)=1,ROW()-1)","v":false}]
[null,null,null,null,null,null,null,null,null,null,null,{"$f":"IF(COUNTIF(E$4:E122,E122)=1,ROW()-1)","v":false}]
[null,null,null,null,null,null,null,null,null,null,null,{"$f":"IF(COUNTIF(E$4:E123,E123)=1,ROW()-1)","v":false}]
[null,null,null,null,null,null,null,null,null,null,null,{"$f":"IF(COUNTIF(E$4:E124,E124)=1,ROW()-1)","v":false}]
[null,null,null,null,null,null,null,null,null,null,null,{"$f":"IF(COUNTIF(E$4:E125,E125)=1,ROW()-1)","v":false}]
[null,null,null,null,null,null,null,null,null,null,null,{"$f":"IF(COUNTIF(E$4:E126,E126)=1,ROW()-1)","v":false}]
[null,null,null,null,null,null,null,null,null,null,null,{"$f":"IF(COUNTIF(E$4:E127,E127)=1,ROW()-1)","v":false}]
[null,null,null,null,null,null,null,null,null,null,null,{"$f":"IF(COUNTIF(E$4:E128,E128)=1,ROW()-1)","v":false}]
[null,null,null,null,null,null,null,null,null,null,null,{"$f":"IF(COUNTIF(E$4:E129,E129)=1,ROW()-1)","v":false}]
[null,null,null,null,null,null,null,null,null,null,null,{"$f":"IF(COUNTIF(E$4:E130,E130)=1,ROW()-1)","v":false}]
[null,null,null,null,null,null,null,null,null,null,null,{"$f":"IF(COUNTIF(E$4:E131,E131)=1,ROW()-1)","v":false}]
[null,null,null,null,null,null,null,null,null,null,null,{"$f":"IF(COUNTIF(E$4:E132,E132)=1,ROW()-1)","v":false}]
[null,null,null,null,null,null,null,null,null,null,null,{"$f":"IF(COUNTIF(E$4:E133,E133)=1,ROW()-1)","v":false}]
[null,null,null,null,null,null,null,null,null,null,null,{"$f":"IF(COUNTIF(E$4:E134,E134)=1,ROW()-1)","v":false}]
[null,null,null,null,null,null,null,null,null,null,null,{"$f":"IF(COUNTIF(E$4:E135,E135)=1,ROW()-1)","v":false}]
[null,null,null,null,null,null,null,null,null,null,null,{"$f":"IF(COUNTIF(E$4:E136,E136)=1,ROW()-1)","v":false}]
[null,null,null,null,null,null,null,null,null,null,null,{"$f":"IF(COUNTIF(E$4:E137,E137)=1,ROW()-1)","v":false}]
[null,null,null,null,null,null,null,null,null,null,null,{"$f":"IF(COUNTIF(E$4:E138,E138)=1,ROW()-1)","v":false}]
[null,null,null,null,null,null,null,null,null,null,null,{"$f":"IF(COUNTIF(E$4:E139,E139)=1,ROW()-1)","v":false}]
[null,null,null,null,null,null,null,null,null,null,null,{"$f":"IF(COUNTIF(E$4:E140,E140)=1,ROW()-1)","v":false}]
[null,null,null,null,null,null,null,null,null,null,null,{"$f":"IF(COUNTIF(E$4:E141,E141)=1,ROW()-1)","v":false}]
[null,null,null,null,null,null,null,null,null,null,null,{"$f":"IF(COUNTIF(E$4:E142,E142)=1,ROW()-1)","v":false}]
[null,null,null,null,null,null,null,null,null,null,null,{"$f":"IF(COUNTIF(E$4:E143,E143)=1,ROW()-1)","v":false}]
[null,null,null,null,null,null,null,null,null,null,null,{"$f":"IF(COUNTIF(E$4:E144,E144)=1,ROW()-1)","v":false}]
[null,null,null,null,null,null,null,null,null,null,null,{"$f":"IF(COUNTIF(E$4:E145,E145)=1,ROW()-1)","v":false}]
[null,null,null,null,null,null,null,null,null,null,null,{"$f":"IF(COUNTIF(E$4:E146,E146)=1,ROW()-1)","v":false}]
[null,null,null,null,null,null,null,null,null,null,null,{"$f":"IF(COUNTIF(E$4:E147,E147)=1,ROW()-1)","v":false}]
[null,null,null,null,null,null,null,null,null,null,null,{"$f":"IF(COUNTIF(E$4:E148,E148)=1,ROW()-1)","v":false}]
[null,null,null,null,null,null,null,null,null,null,null,{"$f":"IF(COUNTIF(E$4:E149,E149)=1,ROW()-1)","v":false}]
[null,null,null,null,null,null,null,null,null,null,null,{"$f":"IF(COUNTIF(E$4:E150,E150)=1,ROW()-1)","v":false}]
[null,null,null,null,null,null,null,null,null,null,null,{"$f":"IF(COUNTIF(E$4:E151,E151)=1,ROW()-1)","v":false}]
[null,null,null,null,null,null,null,null,null,null,null,{"$f":"IF(COUNTIF(E$4:E152,E152)=1,ROW()-1)","v":false}]
[null,null,null,null,null,null,null,null,null,null,null,{"$f":"IF(COUNTIF(E$4:E153,E153)=1,ROW()-1)","v":false}]
[null,null,null,null,null,null,null,null,null,null,null,{"$f":"IF(COUNTIF(E$4:E154,E154)=1,ROW()-1)","v":false}]
[null,null,null,null,null,null,null,null,null,null,null,{"$f":"IF(COUNTIF(E$4:E155,E155)=1,ROW()-1)","v":false}]
[null,null,null,null,null,null,null,null,null,null,null,{"$f":"IF(COUNTIF(E$4:E156,E156)=1,ROW()-1)","v":false}]
[null,null,null,null,null,null,null,null,null,null,null,{"$f":"IF(COUNTIF(E$4:E157,E157)=1,ROW()-1)","v":false}]
[null,null,null,null,null,null,null,null,null,null,null,{"$f":"IF(COUNTIF(E$4:E158,E158)=1,ROW()-1)","v":false}]
[null,null,null,null,null,null,null,null,null,null,null,{"$f":"IF(COUNTIF(E$4:E159,E159)=1,ROW()-1)","v":false}]
[null,null,null,null,null,null,null,null,null,null,null,{"$f":"IF(COUNTIF(E$4:E160,E160)=1,ROW()-1)","v":false}]
[null,null,null,null,null,null,null,null,null,null,null,{"$f":"IF(COUNTIF(E$4:E161,E161)=1,ROW()-1)","v":false}]
[null,null,null,null,null,null,null,null,null,null,null,{"$f":"IF(COUNTIF(E$4:E162,E162)=1,ROW()-1)","v":false}]
[null,null,null,null,null,null,null,null,null,null,null,{"$f":"IF(COUNTIF(E$4:E163,E163)=1,ROW()-1)","v":false}]
[null,null,null,null,null,null,null,null,null,null,null,{"$f":"IF(COUNTIF(E$4:E164,E164)=1,ROW()-1)","v":false}]
[null,null,null,null,null,null,null,null,null,null,null,{"$f":"IF(COUNTIF(E$4:E165,E165)=1,ROW()-1)","v":false}]
[null,null,null,null,null,null,null,null,null,null,null,{"$f":"IF(COUNTIF(E$4:E166,E166)=1,ROW()-1)","v":false}]
[null,null,null,null,null,null,null,null,null,null,null,{"$f":"IF(COUNTIF(E$4:E167,E167)=1,ROW()-1)","v":false}]
[null,null,null,null,null,null,null,null,null,null,null,{"$f":"IF(COUNTIF(E$4:E168,E168)=1,ROW()-1)","v":false}]
[null,null,null,null,null,null,null,null,null,null,null,{"$f":"IF(COUNTIF(E$4:E169,E169)=1,ROW()-1)","v":false}]
[null,null,null,null,null,null,null,null,null,null,null,{"$f":"IF(COUNTIF(E$4:E170,E170)=1,ROW()-1)","v":false}]
[null,null,null,null,null,null,null,null,null,null,null,{"$f":"IF(COUNTIF(E$4:E171,E171)=1,ROW()-1)","v":false}]
[null,null,null,null,null,null,null,null,null,null,null,{"$f":"IF(COUNTIF(E$4:E172,E172)=1,ROW()-1)","v":false}]
[null,null,null,null,null,null,null,null,null,null,null,{"$f":"IF(COUNTIF(E$4:E173,E173)=1,ROW()-1)","v":false}]
[null,null,null,null,null,null,null,null,null,null,null,{"$f":"IF(COUNTIF(E$4:E174,E174)=1,ROW()-1)","v":false}]
[null,null,null,null,null,null,null,null,null,null,null,{"$f":"IF(COUNTIF(E$4:E175,E175)=1,ROW()-1)","v":false}]
[null,null,null,null,null,null,null,null,null,null,null,{"$f":"IF(COUNTIF(E$4:E176,E176)=1,ROW()-1)","v":false}]
[null,null,null,null,null,null,null,null,null,null,null,{"$f":"IF(COUNTIF(E$4:E177,E177)=1,ROW()-1)","v":false}]
[null,null,null,null,null,null,null,null,null,null,null,{"$f":"IF(COUNTIF(E$4:E178,E178)=1,ROW()-1)","v":false}]
[null,null,null,null,null,null,null,null,null,null,null,{"$f":"IF(COUNTIF(E$4:E179,E179)=1,ROW()-1)","v":false}]
[null,null,null,null,null,null,null,null,null,null,null,{"$f":"IF(COUNTIF(E$4:E180,E180)=1,ROW()-1)","v":false}]
[null,null,null,null,null,null,null,null,null,null,null,{"$f":"IF(COUNTIF(E$4:E181,E181)=1,ROW()-1)","v":false}]
[null,null,null,null,null,null,null,null,null,null,null,{"$f":"IF(COUNTIF(E$4:E182,E182)=1,ROW()-1)","v":false}]
[null,null,null,null,null,null,null,null,null,null,null,{"$f":"IF(COUNTIF(E$4:E183,E183)=1,ROW()-1)","v":false}]
[null,null,null,null,null,null,null,null,null,null,null,{"$f":"IF(COUNTIF(E$4:E184,E184)=1,ROW()-1)","v":false}]
[null,null,null,null,null,null,null,null,null,null,null,{"$f":"IF(COUNTIF(E$4:E185,E185)=1,ROW()-1)","v":false}]
[null,null,null,null,null,null,null,null,null,null,null,{"$f":"IF(COUNTIF(E$4:E186,E186)=1,ROW()-1)","v":false}]
[null,null,null,null,null,null,null,null,null,null,null,{"$f":"IF(COUNTIF(E$4:E187,E187)=1,ROW()-1)","v":false}]
[null,null,null,null,null,null,null,null,null,null,null,{"$f":"IF(COUNTIF(E$4:E188,E188)=1,ROW()-1)","v":false}]
[null,null,null,null,null,null,null,null,null,null,null,{"$f":"IF(COUNTIF(E$4:E189,E189)=1,ROW()-1)","v":false}]
[null,null,null,null,null,null,null,null,null,null,null,{"$f":"IF(COUNTIF(E$4:E190,E190)=1,ROW()-1)","v":false}]
[null,null,null,null,null,null,null,null,null,null,null,{"$f":"IF(COUNTIF(E$4:E191,E191)=1,ROW()-1)","v":false}]
[null,null,null,null,null,null,null,null,null,null,null,{"$f":"IF(COUNTIF(E$4:E192,E192)=1,ROW()-1)","v":false}]
[null,null,null,null,null,null,null,null,null,null,null,{"$f":"IF(COUNTIF(E$4:E193,E193)=1,ROW()-1)","v":false}]
[null,null,null,null,null,null,null,null,null,null,null,{"$f":"IF(COUNTIF(E$4:E194,E194)=1,ROW()-1)","v":false}]
[null,null,null,null,null,null,null,null,null,null,null,{"$f":"IF(COUNTIF(E$4:E195,E195)=1,ROW()-1)","v":false}]
[null,null,null,null,null,null,null,null,null,null,null,{"$f":"IF(COUNTIF(E$4:E196,E196)=1,ROW()-1)","v":false}]
[null,null,null,null,null,null,null,null,null,null,null,{"$f":"IF(COUNTIF(E$4:E197,E197)=1,ROW()-1)","v":false}]
[null,null,null,null,null,null,null,null,null,null,null,{"$f":"IF(COUNTIF(E$4:E198,E198)=1,ROW()-1)","v":false}]
[null,null,null,null,null,null,null,null,null,null,null,{"$f":"IF(COUNTIF(E$4:E199,E199)=1,ROW()-1)","v":false}]
[null,null,null,null,null,null,null,null,null,null,null,{"$f":"IF(COUNTIF(E$4:E200,E200)=1,ROW()-1)","v":false}]
[null,null,null,null,null,null,null,null,null,null,null,{"$f":"IF(COUNTIF(E$4:E201,E201)=1,ROW()-1)","v":false}]
[null,null,null,null,null,null,null,null,null,null,null,{"$f":"IF(COUNTIF(E$4:E202,E202)=1,ROW()-1)","v":false}]
[null,null,null,null,null,null,null,null,null,null,null,{"$f":"IF(COUNTIF(E$4:E203,E203)=1,ROW()-1)","v":false}]
[null,null,null,null,null,null,null,null,null,null,null,{"$f":"IF(COUNTIF(E$4:E204,E204)=1,ROW()-1)","v":false}]
[null,null,null,null,null,null,null,null,null,null,null,{"$f":"IF(COUNTIF(E$4:E205,E205)=1,ROW()-1)","v":false}]
[null,null,null,null,null,null,null,null,null,null,null,{"$f":"IF(COUNTIF(E$4:E206,E206)=1,ROW()-1)","v":false}]
[null,null,null,null,null,null,null,null,null,null,null,{"$f":"IF(COUNTIF(E$4:E207,E207)=1,ROW()-1)","v":false}]
[null,null,null,null,null,null,null,null,null,null,null,{"$f":"IF(COUNTIF(E$4:E208,E208)=1,ROW()-1)","v":false}]
[null,null,null,null,null,null,null,null,null,null,null,{"$f":"IF(COUNTIF(E$4:E209,E209)=1,ROW()-1)","v":false}]
[null,null,null,null,null,null,null,null,null,null,null,{"$f":"IF(COUNTIF(E$4:E210,E210)=1,ROW()-1)","v":false}]
[null,null,null,null,null,null,null,null,null,null,null,{"$f":"IF(COUNTIF(E$4:E211,E211)=1,ROW()-1)","v":false}]
[null,null,null,null,null,null,null,null,null,null,null,{"$f":"IF(COUNTIF(E$4:E212,E212)=1,ROW()-1)","v":false}]
[null,null,null,null,null,null,null,null,null,null,null,{"$f":"IF(COUNTIF(E$4:E213,E213)=1,ROW()-1)","v":false}]
[null,null,null,null,null,null,null,null,null,null,null,{"$f":"IF(COUNTIF(E$4:E214,E214)=1,ROW()-1)","v":false}]
[null,null,null,null,null,null,null,null,null,null,null,{"$f":"IF(COUNTIF(E$4:E215,E215)=1,ROW()-1)","v":false}]
[null,null,null,null,null,null,null,null,null,null,null,{"$f":"IF(COUNTIF(E$4:E216,E216)=1,ROW()-1)","v":false}]
[null,null,null,null,null,null,null,null,null,null,null,{"$f":"IF(COUNTIF(E$4:E217,E217)=1,ROW()-1)","v":false}]
[null,null,null,null,null,null,null,null,null,null,null,{"$f":"IF(COUNTIF(E$4:E218,E218)=1,ROW()-1)","v":false}]
[null,null,null,null,null,null,null,null,null,null,null,{"$f":"IF(COUNTIF(E$4:E219,E219)=1,ROW()-1)","v":false}]
[null,null,null,null,null,null,null,null,null,null,null,{"$f":"IF(COUNTIF(E$4:E220,E220)=1,ROW()-1)","v":false}]
[null,null,null,null,null,null,null,null,null,null,null,{"$f":"IF(COUNTIF(E$4:E221,E221)=1,ROW()-1)","v":false}]
[null,null,null,null,null,null,null,null,null,null,null,{"$f":"IF(COUNTIF(E$4:E222,E222)=1,ROW()-1)","v":false}]
[null,null,null,null,null,null,null,null,null,null,null,{"$f":"IF(COUNTIF(E$4:E223,E223)=1,ROW()-1)","v":false}]
[null,null,null,null,null,null,null,null,null,null,null,{"$f":"IF(COUNTIF(E$4:E224,E224)=1,ROW()-1)","v":false}]
[null,null,null,null,null,null,null,null,null,null,null,{"$f":"IF(COUNTIF(E$4:E225,E225)=1,ROW()-1)","v":false}]
[null,null,null,null,null,null,null,null,null,null,null,{"$f":"IF(COUNTIF(E$4:E226,E226)=1,ROW()-1)","v":false}]
[null,null,null,null,null,null,null,null,null,null,null,{"$f":"IF(COUNTIF(E$4:E227,E227)=1,ROW()-1)","v":false}]
[null,null,null,null,null,null,null,null,null,null,null,{"$f":"IF(COUNTIF(E$4:E228,E228)=1,ROW()-1)","v":false}]
[null,null,null,null,null,null,null,null,null,null,null,{"$f":"IF(COUNTIF(E$4:E229,E229)=1,ROW()-1)","v":false}]
[null,null,null,null,null,null,null,null,null,null,null,{"$f":"IF(COUNTIF(E$4:E230,E230)=1,ROW()-1)","v":false}]
[null,null,null,null,null,null,null,null,null,null,null,{"$f":"IF(COUNTIF(E$4:E231,E231)=1,ROW()-1)","v":false}]
[null,null,null,null,null,null,null,null,null,null,null,{"$f":"IF(COUNTIF(E$4:E232,E232)=1,ROW()-1)","v":false}]
[null,null,null,null,null,null,null,null,null,null,null,{"$f":"IF(COUNTIF(E$4:E233,E233)=1,ROW()-1)","v":false}]
[null,null,null,null,null,null,null,null,null,null,null,{"$f":"IF(COUNTIF(E$4:E234,E234)=1,ROW()-1)","v":false}]
[null,null,null,null,null,null,null,null,null,null,null,{"$f":"IF(COUNTIF(E$4:E235,E235)=1,ROW()-1)","v":false}]
[null,null,null,null,null,null,null,null,null,null,null,{"$f":"IF(COUNTIF(E$4:E236,E236)=1,ROW()-1)","v":false}]
[null,null,null,null,null,null,null,null,null,null,null,{"$f":"IF(COUNTIF(E$4:E237,E237)=1,ROW()-1)","v":false}]
[null,null,null,null,null,null,null,null,null,null,null,{"$f":"IF(COUNTIF(E$4:E238,E238)=1,ROW()-1)","v":false}]
[null,null,null,null,null,null,null,null,null,null,null,{"$f":"IF(COUNTIF(E$4:E239,E239)=1,ROW()-1)","v":false}]
[null,null,null,null,null,null,null,null,null,null,null,{"$f":"IF(COUNTIF(E$4:E240,E240)=1,ROW()-1)","v":false}]
[null,null,null,null,null,null,null,null,null,null,null,{"$f":"IF(COUNTIF(E$4:E241,E241)=1,ROW()-1)","v":false}]
[null,null,null,null,null,null,null,null,null,null,null,{"$f":"IF(COUNTIF(E$4:E242,E242)=1,ROW()-1)","v":false}]
[null,null,null,null,null,null,null,null,null,null,null,{"$f":"IF(COUNTIF(E$4:E243,E243)=1,ROW()-1)","v":false}]
[null,null,null,null,null,null,null,null,null,null,null,{"$f":"IF(COUNTIF(E$4:E244,E244)=1,ROW()-1)","v":false}]
[null,null,null,null,null,null,null,null,null,null,null,{"$f":"IF(COUNTIF(E$4:E245,E245)=1,ROW()-1)","v":false}]
[null,null,null,null,null,null,null,null,null,null,null,{"$f":"IF(COUNTIF(E$4:E246,E246)=1,ROW()-1)","v":false}]
[null,null,null,null,null,null,null,null,null,null,null,{"$f":"IF(COUNTIF(E$4:E247,E247)=1,ROW()-1)","v":false}]
[null,null,null,null,null,null,null,null,null,null,null,{"$f":"IF(COUNTIF(E$4:E248,E248)=1,ROW()-1)","v":false}]
[null,null,null,null,null,null,null,null,null,null,null,{"$f":"IF(COUNTIF(E$4:E249,E249)=1,ROW()-1)","v":false}]
[null,null,null,null,null,null,null,null,null,null,null,{"$f":"IF(COUNTIF(E$4:E250,E250)=1,ROW()-1)","v":false}]
[null,null,null,null,null,null,null,null,null,null,null,{"$f":"IF(COUNTIF(E$4:E251,E251)=1,ROW()-1)","v":false}]
[null,null,null,null,null,null,null,null,null,null,null,{"$f":"IF(COUNTIF(E$4:E252,E252)=1,ROW()-1)","v":false}]
[null,null,null,null,null,null,null,null,null,null,null,{"$f":"IF(COUNTIF(E$4:E253,E253)=1,ROW()-1)","v":false}]
[null,null,null,null,null,null,null,null,null,null,null,{"$f":"IF(COUNTIF(E$4:E254,E254)=1,ROW()-1)","v":false}]
[null,null,null,null,null,null,null,null,null,null,null,{"$f":"IF(COUNTIF(E$4:E255,E255)=1,ROW()-1)","v":false}]
[null,null,null,null,null,null,null,null,null,null,null,{"$f":"IF(COUNTIF(E$4:E256,E256)=1,ROW()-1)","v":false}]
[null,null,null,null,null,null,null,null,null,null,null,{"$f":"IF(COUNTIF(E$4:E257,E257)=1,ROW()-1)","v":false}]
[null,null,null,null,null,null,null,null,null,null,null,{"$f":"IF(COUNTIF(E$4:E258,E258)=1,ROW()-1)","v":false}]
[null,null,null,null,null,null,null,null,null,null,null,{"$f":"IF(COUNTIF(E$4:E259,E259)=1,ROW()-1)","v":false}]
[null,null,null,null,null,null,null,null,null,null,null,{"$f":"IF(COUNTIF(E$4:E260,E260)=1,ROW()-1)","v":false}]
[null,null,null,null,null,null,null,null,null,null,null,{"$f":"IF(COUNTIF(E$4:E261,E261)=1,ROW()-1)","v":false}]
[null,null,null,null,null,null,null,null,null,null,null,{"$f":"IF(COUNTIF(E$4:E262,E262)=1,ROW()-1)","v":false}]
[null,null,null,null,null,null,null,null,null,null,null,{"$f":"IF(COUNTIF(E$4:E263,E263)=1,ROW()-1)","v":false}]
[null,null,null,null,null,null,null,null,null,null,null,{"$f":"IF(COUNTIF(E$4:E264,E264)=1,ROW()-1)","v":false}]
[null,null,null,null,null,null,null,null,null,null,null,{"$f":"IF(COUNTIF(E$4:E265,E265)=1,ROW()-1)","v":false}]
[null,null,null,null,null,null,null,null,null,null,null,{"$f":"IF(COUNTIF(E$4:E266,E266)=1,ROW()-1)","v":false}]
[null,null,null,null,null,null,null,null,null,null,null,{"$f":"IF(COUNTIF(E$4:E267,E267)=1,ROW()-1)","v":false}]
[null,null,null,null,null,null,null,null,null,null,null,{"$f":"IF(COUNTIF(E$4:E268,E268)=1,ROW()-1)","v":false}]
[null,null,null,null,null,null,null,null,null,null,null,{"$f":"IF(COUNTIF(E$4:E269,E269)=1,ROW()-1)","v":false}]
[null,null,null,null,null,null,null,null,null,null,null,{"$f":"IF(COUNTIF(E$4:E270,E270)=1,ROW()-1)","v":false}]
[null,null,null,null,null,null,null,null,null,null,null,{"$f":"IF(COUNTIF(E$4:E271,E271)=1,ROW()-1)","v":false}]
[null,null,null,null,null,null,null,null,null,null,null,{"$f":"IF(COUNTIF(E$4:E272,E272)=1,ROW()-1)","v":false}]
[null,null,null,null,null,null,null,null,null,null,null,{"$f":"IF(COUNTIF(E$4:E273,E273)=1,ROW()-1)","v":false}]
[null,null,null,null,null,null,null,null,null,null,null,{"$f":"IF(COUNTIF(E$4:E274,E274)=1,ROW()-1)","v":false}]
[null,null,null,null,null,null,null,null,null,null,null,{"$f":"IF(COUNTIF(E$4:E275,E275)=1,ROW()-1)","v":false}]
[null,null,null,null,null,null,null,null,null,null,null,{"$f":"IF(COUNTIF(E$4:E276,E276)=1,ROW()-1)","v":false}]
[null,null,null,null,null,null,null,null,null,null,null,{"$f":"IF(COUNTIF(E$4:E277,E277)=1,ROW()-1)","v":false}]
[null,null,null,null,null,null,null,null,null,null,null,{"$f":"IF(COUNTIF(E$4:E278,E278)=1,ROW()-1)","v":false}]
[null,null,null,null,null,null,null,null,null,null,null,{"$f":"IF(COUNTIF(E$4:E279,E279)=1,ROW()-1)","v":false}]
[null,null,null,null,null,null,null,null,null,null,null,{"$f":"IF(COUNTIF(E$4:E280,E280)=1,ROW()-1)","v":false}]
[null,null,null,null,null,null,null,null,null,null,null,{"$f":"IF(COUNTIF(E$4:E281,E281)=1,ROW()-1)","v":false}]
[null,null,null,null,null,null,null,null,null,null,null,{"$f":"IF(COUNTIF(E$4:E282,E282)=1,ROW()-1)","v":false}]
[null,null,null,null,null,null,null,null,null,null,null,{"$f":"IF(COUNTIF(E$4:E283,E283)=1,ROW()-1)","v":false}]
[null,null,null,null,null,null,null,null,null,null,null,{"$f":"IF(COUNTIF(E$4:E284,E284)=1,ROW()-1)","v":false}]
[null,null,null,null,null,null,null,null,null,null,null,{"$f":"IF(COUNTIF(E$4:E285,E285)=1,ROW()-1)","v":false}]
[null,null,null,null,null,null,null,null,null,null,null,{"$f":"IF(COUNTIF(E$4:E286,E286)=1,ROW()-1)","v":false}]
[null,null,null,null,null,null,null,null,null,null,null,{"$f":"IF(COUNTIF(E$4:E287,E287)=1,ROW()-1)","v":false}]
[null,null,null,null,null,null,null,null,null,null,null,{"$f":"IF(COUNTIF(E$4:E288,E288)=1,ROW()-1)","v":false}]
[null,null,null,null,null,null,null,null,null,null,null,{"$f":"IF(COUNTIF(E$4:E289,E289)=1,ROW()-1)","v":false}]
[null,null,null,null,null,null,null,null,null,null,null,{"$f":"IF(COUNTIF(E$4:E290,E290)=1,ROW()-1)","v":false}]
[null,null,null,null,null,null,null,null,null,null,null,{"$f":"IF(COUNTIF(E$4:E291,E291)=1,ROW()-1)","v":false}]
[null,null,null,null,null,null,null,null,null,null,null,{"$f":"IF(COUNTIF(E$4:E292,E292)=1,ROW()-1)","v":false}]
[null,null,null,null,null,null,null,null,null,null,null,{"$f":"IF(COUNTIF(E$4:E293,E293)=1,ROW()-1)","v":false}]
[null,null,null,null,null,null,null,null,null,null,null,{"$f":"IF(COUNTIF(E$4:E294,E294)=1,ROW()-1)","v":false}]
[null,null,null,null,null,null,null,null,null,null,null,{"$f":"IF(COUNTIF(E$4:E295,E295)=1,ROW()-1)","v":false}]
[null,null,null,null,null,null,null,null,null,null,null,{"$f":"IF(COUNTIF(E$4:E296,E296)=1,ROW()-1)","v":false}]
[null,null,null,null,null,null,null,null,null,null,null,{"$f":"IF(COUNTIF(E$4:E297,E297)=1,ROW()-1)","v":false}]
[null,null,null,null,null,null,null,null,null,null,null,{"$f":"IF(COUNTIF(E$4:E298,E298)=1,ROW()-1)","v":false}]
[null,null,null,null,null,null,null,null,null,null,null,{"$f":"IF(COUNTIF(E$4:E299,E299)=1,ROW()-1)","v":false}]
[null,null,null,null,null,null,null,null,null,null,null,{"$f":"IF(COUNTIF(E$4:E300,E300)=1,ROW()-1)","v":false}]
[null,null,null,null,null,null,null,null,null,null,null,{"$f":"IF(COUNTIF(E$4:E301,E301)=1,ROW()-1)","v":false}]
[null,null,null,null,null,null,null,null,null,null,null,{"$f":"IF(COUNTIF(E$4:E302,E302)=1,ROW()-1)","v":false}]
[null,null,null,null,null,null,null,null,null,null,null,{"$f":"IF(COUNTIF(E$4:E303,E303)=1,ROW()-1)","v":false}]
[null,null,null,null,null,null,null,null,null,null,null,{"$f":"IF(COUNTIF(E$4:E304,E304)=1,ROW()-1)","v":false}]
[null,null,null,null,null,null,null,null,null,null,null,{"$f":"IF(COUNTIF(E$4:E305,E305)=1,ROW()-1)","v":false}]
[null,null,null,null,null,null,null,null,null,null,null,{"$f":"IF(COUNTIF(E$4:E306,E306)=1,ROW()-1)","v":false}]
[null,null,null,null,null,null,null,null,null,null,null,{"$f":"IF(COUNTIF(E$4:E307,E307)=1,ROW()-1)","v":false}]
[null,null,null,null,null,null,null,null,null,null,null,{"$f":"IF(COUNTIF(E$4:E308,E308)=1,ROW()-1)","v":false}]
[null,null,null,null,null,null,null,null,null,null,null,{"$f":"IF(COUNTIF(E$4:E309,E309)=1,ROW()-1)","v":false}]
[null,null,null,null,null,null,null,null,null,null,null,{"$f":"IF(COUNTIF(E$4:E310,E310)=1,ROW()-1)","v":false}]
[null,null,null,null,null,null,null,null,null,null,null,{"$f":"IF(COUNTIF(E$4:E311,E311)=1,ROW()-1)","v":false}]
[null,null,null,null,null,null,null,null,null,null,null,{"$f":"IF(COUNTIF(E$4:E312,E312)=1,ROW()-1)","v":false}]
[null,null,null,null,null,null,null,null,null,null,null,{"$f":"IF(COUNTIF(E$4:E313,E313)=1,ROW()-1)","v":false}]
[null,null,null,null,null,null,null,null,null,null,null,{"$f":"IF(COUNTIF(E$4:E314,E314)=1,ROW()-1)","v":false}]
[null,null,null,null,null,null,null,null,null,null,null,{"$f":"IF(COUNTIF(E$4:E315,E315)=1,ROW()-1)","v":false}]
[null,null,null,null,null,null,null,null,null,null,null,{"$f":"IF(COUNTIF(E$4:E316,E316)=1,ROW()-1)","v":false}]
[null,null,null,null,null,null,null,null,null,null,null,{"$f":"IF(COUNTIF(E$4:E317,E317)=1,ROW()-1)","v":false}]
[null,null,null,null,null,null,null,null,null,null,null,{"$f":"IF(COUNTIF(E$4:E318,E318)=1,ROW()-1)","v":false}]
[null,null,null,null,null,null,null,null,null,null,null,{"$f":"IF(COUNTIF(E$4:E319,E319)=1,ROW()-1)","v":false}]
[null,null,null,null,null,null,null,null,null,null,null,{"$f":"IF(COUNTIF(E$4:E320,E320)=1,ROW()-1)","v":false}]
[null,null,null,null,null,null,null,null,null,null,null,{"$f":"IF(COUNTIF(E$4:E321,E321)=1,ROW()-1)","v":false}]
[null,null,null,null,null,null,null,null,null,null,null,{"$f":"IF(COUNTIF(E$4:E322,E322)=1,ROW()-1)","v":false}]
[null,null,null,null,null,null,null,null,null,null,null,{"$f":"IF(COUNTIF(E$4:E323,E323)=1,ROW()-1)","v":false}]
[null,null,null,null,null,null,null,null,null,null,null,{"$f":"IF(COUNTIF(E$4:E324,E324)=1,ROW()-1)","v":false}]
[null,null,null,null,null,null,null,null,null,null,null,{"$f":"IF(COUNTIF(E$4:E325,E325)=1,ROW()-1)","v":false}]
[null,null,null,null,null,null,null,null,null,null,null,{"$f":"IF(COUNTIF(E$4:E326,E326)=1,ROW()-1)","v":false}]
[null,null,null,null,null,null,null,null,null,null,null,{"$f":"IF(COUNTIF(E$4:E327,E327)=1,ROW()-1)","v":false}]
[null,null,null,null,null,null,null,null,null,null,null,{"$f":"IF(COUNTIF(E$4:E328,E328)=1,ROW()-1)","v":false}]
[null,null,null,null,null,null,null,null,null,null,null,{"$f":"IF(COUNTIF(E$4:E329,E329)=1,ROW()-1)","v":false}]
[null,null,null,null,null,null,null,null,null,null,null,{"$f":"IF(COUNTIF(E$4:E330,E330)=1,ROW()-1)","v":false}]
[null,null,null,null,null,null,null,null,null,null,null,{"$f":"IF(COUNTIF(E$4:E331,E331)=1,ROW()-1)","v":false}]
[null,null,null,null,null,null,null,null,null,null,null,{"$f":"IF(COUNTIF(E$4:E332,E332)=1,ROW()-1)","v":false}]
[null,null,null,null,null,null,null,null,null,null,null,{"$f":"IF(COUNTIF(E$4:E333,E333)=1,ROW()-1)","v":false}]
[null,null,null,null,null,null,null,null,null,null,null,{"$f":"IF(COUNTIF(E$4:E334,E334)=1,ROW()-1)","v":false}]
[null,null,null,null,null,null,null,null,null,null,null,{"$f":"IF(COUNTIF(E$4:E335,E335)=1,ROW()-1)","v":false}]
[null,null,null,null,null,null,null,null,null,null,null,{"$f":"IF(COUNTIF(E$4:E336,E336)=1,ROW()-1)","v":false}]
[null,null,null,null,null,null,null,null,null,null,null,{"$f":"IF(COUNTIF(E$4:E337,E337)=1,ROW()-1)","v":false}]
[null,null,null,null,null,null,null,null,null,null,null,{"$f":"IF(COUNTIF(E$4:E338,E338)=1,ROW()-1)","v":false}]
[null,null,null,null,null,null,null,null,null,null,null,{"$f":"IF(COUNTIF(E$4:E339,E339)=1,ROW()-1)","v":false}]
[null,null,null,null,null,null,null,null,null,null,null,{"$f":"IF(COUNTIF(E$4:E340,E340)=1,ROW()-1)","v":false}]
[null,null,null,null,null,null,null,null,null,null,null,{"$f":"IF(COUNTIF(E$4:E341,E341)=1,ROW()-1)","v":false}]
[null,null,null,null,null,null,null,null,null,null,null,{"$f":"IF(COUNTIF(E$4:E342,E342)=1,ROW()-1)","v":false}]
[null,null,null,null,null,null,null,null,null,null,null,{"$f":"IF(COUNTIF(E$4:E343,E343)=1,ROW()-1)","v":false}]
[null,null,null,null,null,null,null,null,null,null,null,{"$f":"IF(COUNTIF(E$4:E344,E344)=1,ROW()-1)","v":false}]
[null,null,null,null,null,null,null,null,null,null,null,{"$f":"IF(COUNTIF(E$4:E345,E345)=1,ROW()-1)","v":false}]
[null,null,null,null,null,null,null,null,null,null,null,{"$f":"IF(COUNTIF(E$4:E346,E346)=1,ROW()-1)","v":false}]
[null,null,null,null,null,null,null,null,null,null,null,{"$f":"IF(COUNTIF(E$4:E347,E347)=1,ROW()-1)","v":false}]
[null,null,null,null,null,null,null,null,null,null,null,{"$f":"IF(COUNTIF(E$4:E348,E348)=1,ROW()-1)","v":false}]
[null,null,null,null,null,null,null,null,null,null,null,{"$f":"IF(COUNTIF(E$4:E349,E349)=1,ROW()-1)","v":false}]
[null,null,null,null,null,null,null,null,null,null,null,{"$f":"IF(COUNTIF(E$4:E350,E350)=1,ROW()-1)","v":false}]
[null,null,null,null,null,null,null,null,null,null,null,{"$f":"IF(COUNTIF(E$4:E351,E351)=1,ROW()-1)","v":false}]
[null,null,null,null,null,null,null,null,null,null,null,{"$f":"IF(COUNTIF(E$4:E352,E352)=1,ROW()-1)","v":false}]
[null,null,null,null,null,null,null,null,null,null,null,{"$f":"IF(COUNTIF(E$4:E353,E353)=1,ROW()-1)","v":false}]
[null,null,null,null,null,null,null,null,null,null,null,{"$f":"IF(COUNTIF(E$4:E354,E354)=1,ROW()-1)","v":false}]
[null,null,null,null,null,null,null,null,null,null,null,{"$f":"IF(COUNTIF(E$4:E355,E355)=1,ROW()-1)","v":false}]
[null,null,null,null,null,null,null,null,null,null,null,{"$f":"IF(COUNTIF(E$4:E356,E356)=1,ROW()-1)","v":false}]
[null,null,null,null,null,null,null,null,null,null,null,{"$f":"IF(COUNTIF(E$4:E357,E357)=1,ROW()-1)","v":false}]
[null,null,null,null,null,null,null,null,null,null,null,{"$f":"IF(COUNTIF(E$4:E358,E358)=1,ROW()-1)","v":false}]
[null,null,null,null,null,null,null,null,null,null,null,{"$f":"IF(COUNTIF(E$4:E359,E359)=1,ROW()-1)","v":false}]
[null,null,null,null,null,null,null,null,null,null,null,{"$f":"IF(COUNTIF(E$4:E360,E360)=1,ROW()-1)","v":false}]
[null,null,null,null,null,null,null,null,null,null,null,{"$f":"IF(COUNTIF(E$4:E361,E361)=1,ROW()-1)","v":false}]
[null,null,null,null,null,null,null,null,null,null,null,{"$f":"IF(COUNTIF(E$4:E362,E362)=1,ROW()-1)","v":false}]
[null,null,null,null,null,null,null,null,null,null,null,{"$f":"IF(COUNTIF(E$4:E363,E363)=1,ROW()-1)","v":false}]
[null,null,null,null,null,null,null,null,null,null,null,{"$f":"IF(COUNTIF(E$4:E364,E364)=1,ROW()-1)","v":false}]
[null,null,null,null,null,null,null,null,null,null,null,{"$f":"IF(COUNTIF(E$4:E365,E365)=1,ROW()-1)","v":false}]
[null,null,null,null,null,null,null,null,null,null,null,{"$f":"IF(COUNTIF(E$4:E366,E366)=1,ROW()-1)","v":false}]
[null,null,null,null,null,null,null,null,null,null,null,{"$f":"IF(COUNTIF(E$4:E367,E367)=1,ROW()-1)","v":false}]
[null,null,null,null,null,null,null,null,null,null,null,{"$f":"IF(COUNTIF(E$4:E368,E368)=1,ROW()-1)","v":false}]
[null,null,null,null,null,null,null,null,null,null,null,{"$f":"IF(COUNTIF(E$4:E369,E369)=1,ROW()-1)","v":false}]
[null,null,null,null,null,null,null,null,null,null,null,{"$f":"IF(COUNTIF(E$4:E370,E370)=1,ROW()-1)","v":false}]
[null,null,null,null,null,null,null,null,null,null,null,{"$f":"IF(COUNTIF(E$4:E371,E371)=1,ROW()-1)","v":false}]
[null,null,null,null,null,null,null,null,null,null,null,{"$f":"IF(COUNTIF(E$4:E372,E372)=1,ROW()-1)","v":false}]
[null,null,null,null,null,null,null,null,null,null,null,{"$f":"IF(COUNTIF(E$4:E373,E373)=1,ROW()-1)","v":false}]
[null,null,null,null,null,null,null,null,null,null,null,{"$f":"IF(COUNTIF(E$4:E374,E374)=1,ROW()-1)","v":false}]
[null,null,null,null,null,null,null,null,null,null,null,{"$f":"IF(COUNTIF(E$4:E375,E375)=1,ROW()-1)","v":false}]
[null,null,null,null,null,null,null,null,null,null,null,{"$f":"IF(COUNTIF(E$4:E376,E376)=1,ROW()-1)","v":false}]
[null,null,null,null,null,null,null,null,null,null,null,{"$f":"IF(COUNTIF(E$4:E377,E377)=1,ROW()-1)","v":false}]
[null,null,null,null,null,null,null,null,null,null,null,{"$f":"IF(COUNTIF(E$4:E378,E378)=1,ROW()-1)","v":false}]
[null,null,null,null,null,null,null,null,null,null,null,{"$f":"IF(COUNTIF(E$4:E379,E379)=1,ROW()-1)","v":false}]
[null,null,null,null,null,null,null,null,null,null,null,{"$f":"IF(COUNTIF(E$4:E380,E380)=1,ROW()-1)","v":false}]
[null,null,null,null,null,null,null,null,null,null,null,{"$f":"IF(COUNTIF(E$4:E381,E381)=1,ROW()-1)","v":false}]
[null,null,null,null,null,null,null,null,null,null,null,{"$f":"IF(COUNTIF(E$4:E382,E382)=1,ROW()-1)","v":false}]
[null,null,null,null,null,null,null,null,null,null,null,{"$f":"IF(COUNTIF(E$4:E383,E383)=1,ROW()-1)","v":false}]
[null,null,null,null,null,null,null,null,null,null,null,{"$f":"IF(COUNTIF(E$4:E384,E384)=1,ROW()-1)","v":false}]
[null,null,null,null,null,null,null,null,null,null,null,{"$f":"IF(COUNTIF(E$4:E385,E385)=1,ROW()-1)","v":false}]
[null,null,null,null,null,null,null,null,null,null,null,{"$f":"IF(COUNTIF(E$4:E386,E386)=1,ROW()-1)","v":false}]
[null,null,null,null,null,null,null,null,null,null,null,{"$f":"IF(COUNTIF(E$4:E387,E387)=1,ROW()-1)","v":false}]
[null,null,null,null,null,null,null,null,null,null,null,{"$f":"IF(COUNTIF(E$4:E388,E388)=1,ROW()-1)","v":false}]
[null,null,null,null,null,null,null,null,null,null,null,{"$f":"IF(COUNTIF(E$4:E389,E389)=1,ROW()-1)","v":false}]
[null,null,null,null,null,null,null,null,null,null,null,{"$f":"IF(COUNTIF(E$4:E390,E390)=1,ROW()-1)","v":false}]
[null,null,null,null,null,null,null,null,null,null,null,{"$f":"IF(COUNTIF(E$4:E391,E391)=1,ROW()-1)","v":false}]
[null,null,null,null,null,null,null,null,null,null,null,{"$f":"IF(COUNTIF(E$4:E392,E392)=1,ROW()-1)","v":false}]
[null,null,null,null,null,null,null,null,null,null,null,{"$f":"IF(COUNTIF(E$4:E393,E393)=1,ROW()-1)","v":false}]
[null,null,null,null,null,null,null,null,null,null,null,{"$f":"IF(COUNTIF(E$4:E394,E394)=1,ROW()-1)","v":false}]
[null,null,null,null,null,null,null,null,null,null,null,{"$f":"IF(COUNTIF(E$4:E395,E395)=1,ROW()-1)","v":false}]
[null,null,null,null,null,null,null,null,null,null,null,{"$f":"IF(COUNTIF(E$4:E396,E396)=1,ROW()-1)","v":false}]
[null,null,null,null,null,null,null,null,null,null,null,{"$f":"IF(COUNTIF(E$4:E397,E397)=1,ROW()-1)","v":false}]
[null,null,null,null,null,null,null,null,null,null,null,{"$f":"IF(COUNTIF(E$4:E398,E398)=1,ROW()-1)","v":false}]
[null,null,null,null,null,null,null,null,null,null,null,{"$f":"IF(COUNTIF(E$4:E399,E399)=1,ROW()-1)","v":false}]
[null,null,null,null,null,null,null,null,null,null,null,{"$f":"IF(COUNTIF(E$4:E400,E400)=1,ROW()-1)","v":false}]
[null,null,null,null,null,null,null,null,null,null,null,{"$f":"IF(COUNTIF(E$4:E401,E401)=1,ROW()-1)","v":false}]
[null,null,null,null,null,null,null,null,null,null,null,{"$f":"IF(COUNTIF(E$4:E402,E402)=1,ROW()-1)","v":false}]
[null,null,null,null,null,null,null,null,null,null,null,{"$f":"IF(COUNTIF(E$4:E403,E403)=1,ROW()-1)","v":false}]
[null,null,null,null,null,null,null,null,null,null,null,{"$f":"IF(COUNTIF(E$4:E404,E404)=1,ROW()-1)","v":false}]
[null,null,null,null,null,null,null,null,null,null,null,{"$f":"IF(COUNTIF(E$4:E405,E405)=1,ROW()-1)","v":false}]
[null,null,null,null,null,null,null,null,null,null,null,{"$f":"IF(COUNTIF(E$4:E406,E406)=1,ROW()-1)","v":false}]
[null,null,null,null,null,null,null,null,null,null,null,{"$f":"IF(COUNTIF(E$4:E407,E407)=1,ROW()-1)","v":false}]
[null,null,null,null,null,null,null,null,null,null,null,{"$f":"IF(COUNTIF(E$4:E408,E408)=1,ROW()-1)","v":false}]
[null,null,null,null,null,null,null,null,null,null,null,{"$f":"IF(COUNTIF(E$4:E409,E409)=1,ROW()-1)","v":false}]
[null,null,null,null,null,null,null,null,null,null,null,{"$f":"IF(COUNTIF(E$4:E410,E410)=1,ROW()-1)","v":false}]
[null,null,null,null,null,null,null,null,null,null,null,{"$f":"IF(COUNTIF(E$4:E411,E411)=1,ROW()-1)","v":false}]
[null,null,null,null,null,null,null,null,null,null,null,{"$f":"IF(COUNTIF(E$4:E412,E412)=1,ROW()-1)","v":false}]
[null,null,null,null,null,null,null,null,null,null,null,{"$f":"IF(COUNTIF(E$4:E413,E413)=1,ROW()-1)","v":false}]
[null,null,null,null,null,null,null,null,null,null,null,{"$f":"IF(COUNTIF(E$4:E414,E414)=1,ROW()-1)","v":false}]
[null,null,null,null,null,null,null,null,null,null,null,{"$f":"IF(COUNTIF(E$4:E415,E415)=1,ROW()-1)","v":false}]
[null,null,null,null,null,null,null,null,null,null,null,{"$f":"IF(COUNTIF(E$4:E416,E416)=1,ROW()-1)","v":false}]
[null,null,null,null,null,null,null,null,null,null,null,{"$f":"IF(COUNTIF(E$4:E417,E417)=1,ROW()-1)","v":false}]
[null,null,null,null,null,null,null,null,null,null,null,{"$f":"IF(COUNTIF(E$4:E418,E418)=1,ROW()-1)","v":false}]
[null,null,null,null,null,null,null,null,null,null,null,{"$f":"IF(COUNTIF(E$4:E419,E419)=1,ROW()-1)","v":false}]
[null,null,null,null,null,null,null,null,null,null,null,{"$f":"IF(COUNTIF(E$4:E420,E420)=1,ROW()-1)","v":false}]
[null,null,null,null,null,null,null,null,null,null,null,{"$f":"IF(COUNTIF(E$4:E421,E421)=1,ROW()-1)","v":false}]
[null,null,null,null,null,null,null,null,null,null,null,{"$f":"IF(COUNTIF(E$4:E422,E422)=1,ROW()-1)","v":false}]
[null,null,null,null,null,null,null,null,null,null,null,{"$f":"IF(COUNTIF(E$4:E423,E423)=1,ROW()-1)","v":false}]
[null,null,null,null,null,null,null,null,null,null,null,{"$f":"IF(COUNTIF(E$4:E424,E424)=1,ROW()-1)","v":false}]
[null,null,null,null,null,null,null,null,null,null,null,{"$f":"IF(COUNTIF(E$4:E425,E425)=1,ROW()-1)","v":false}]
[null,null,null,null,null,null,null,null,null,null,null,{"$f":"IF(COUNTIF(E$4:E426,E426)=1,ROW()-1)","v":false}]
[null,null,null,null,null,null,null,null,null,null,null,{"$f":"IF(COUNTIF(E$4:E427,E427)=1,ROW()-1)","v":false}]
[null,null,null,null,null,null,null,null,null,null,null,{"$f":"IF(COUNTIF(E$4:E428,E428)=1,ROW()-1)","v":false}]
[null,null,null,null,null,null,null,null,null,null,null,{"$f":"IF(COUNTIF(E$4:E429,E429)=1,ROW()-1)","v":false}]
[null,null,null,null,null,null,null,null,null,null,null,{"$f":"IF(COUNTIF(E$4:E430,E430)=1,ROW()-1)","v":false}]
[null,null,null,null,null,null,null,null,null,null,null,{"$f":"IF(COUNTIF(E$4:E431,E431)=1,ROW()-1)","v":false}]
[null,null,null,null,null,null,null,null,null,null,null,{"$f":"IF(COUNTIF(E$4:E432,E432)=1,ROW()-1)","v":false}]
[null,null,null,null,null,null,null,null,null,null,null,{"$f":"IF(COUNTIF(E$4:E433,E433)=1,ROW()-1)","v":false}]
[null,null,null,null,null,null,null,null,null,null,null,{"$f":"IF(COUNTIF(E$4:E434,E434)=1,ROW()-1)","v":false}]
[null,null,null,null,null,null,null,null,null,null,null,{"$f":"IF(COUNTIF(E$4:E435,E435)=1,ROW()-1)","v":false}]
[null,null,null,null,null,null,null,null,null,null,null,{"$f":"IF(COUNTIF(E$4:E436,E436)=1,ROW()-1)","v":false}]
[null,null,null,null,null,null,null,null,null,null,null,{"$f":"IF(COUNTIF(E$4:E437,E437)=1,ROW()-1)","v":false}]
[null,null,null,null,null,null,null,null,null,null,null,{"$f":"IF(COUNTIF(E$4:E438,E438)=1,ROW()-1)","v":false}]
[null,null,null,null,null,null,null,null,null,null,null,{"$f":"IF(COUNTIF(E$4:E439,E439)=1,ROW()-1)","v":false}]
[null,null,null,null,null,null,null,null,null,null,null,{"$f":"IF(COUNTIF(E$4:E440,E440)=1,ROW()-1)","v":false}]
[null,null,null,null,null,null,null,null,null,null,null,{"$f":"IF(COUNTIF(E$4:E441,E441)=1,ROW()-1)","v":false}]
[null,null,null,null,null,null,null,null,null,null,null,{"$f":"IF(COUNTIF(E$4:E442,E442)=1,ROW()-1)","v":false}]
[null,null,null,null,null,null,null,null,null,null,null,{"$f":"IF(COUNTIF(E$4:E443,E443)=1,ROW()-1)","v":false}]
[null,null,null,null,null,null,null,null,null,null,null,{"$f":"IF(COUNTIF(E$4:E444,E444)=1,ROW()-1)","v":false}]
[null,null,null,null,null,null,null,null,null,null,null,{"$f":"IF(COUNTIF(E$4:E445,E445)=1,ROW()-1)","v":false}]
[null,null,null,null,null,null,null,null,null,null,null,{"$f":"IF(COUNTIF(E$4:E446,E446)=1,ROW()-1)","v":false}]
[null,null,null,null,null,null,null,null,null,null,null,{"$f":"IF(COUNTIF(E$4:E447,E447)=1,ROW()-1)","v":false}]
[null,null,null,null,null,null,null,null,null,null,null,{"$f":"IF(COUNTIF(E$4:E448,E448)=1,ROW()-1)","v":false}]
[null,null,null,null,null,null,null,null,null,null,null,{"$f":"IF(COUNTIF(E$4:E449,E449)=1,ROW()-1)","v":false}]
[null,null,null,null,null,null,null,null,null,null,null,{"$f":"IF(COUNTIF(E$4:E450,E450)=1,ROW()-1)","v":false}]
[null,null,null,null,null,null,null,null,null,null,null,{"$f":"IF(COUNTIF(E$4:E451,E451)=1,ROW()-1)","v":false}]
[null,null,null,null,null,null,null,null,null,null,null,{"$f":"IF(COUNTIF(E$4:E452,E452)=1,ROW()-1)","v":false}]
[null,null,null,null,null,null,null,null,null,null,null,{"$f":"IF(COUNTIF(E$4:E453,E453)=1,ROW()-1)","v":false}]
[null,null,null,null,null,null,null,null,null,null,null,{"$f":"IF(COUNTIF(E$4:E454,E454)=1,ROW()-1)","v":false}]
[null,null,null,null,null,null,null,null,null,null,null,{"$f":"IF(COUNTIF(E$4:E455,E455)=1,ROW()-1)","v":false}]
[null,null,null,null,null,null,null,null,null,null,null,{"$f":"IF(COUNTIF(E$4:E456,E456)=1,ROW()-1)","v":false}]
[null,null,null,null,null,null,null,null,null,null,null,{"$f":"IF(COUNTIF(E$4:E457,E457)=1,ROW()-1)","v":false}]
[null,null,null,null,null,null,null,null,null,null,null,{"$f":"IF(COUNTIF(E$4:E458,E458)=1,ROW()-1)","v":false}]
[null,null,null,null,null,null,null,null,null,null,null,{"$f":"IF(COUNTIF(E$4:E459,E459)=1,ROW()-1)","v":false}]
[null,null,null,null,null,null,null,null,null,null,null,{"$f":"IF(COUNTIF(E$4:E460,E460)=1,ROW()-1)","v":false}]
[null,null,null,null,null,null,null,null,null,null,null,{"$f":"IF(COUNTIF(E$4:E461,E461)=1,ROW()-1)","v":false}]
[null,null,null,null,null,null,null,null,null,null,null,{"$f":"IF(COUNTIF(E$4:E462,E462)=1,ROW()-1)","v":false}]
[null,null,null,null,null,null,null,null,null,null,null,{"$f":"IF(COUNTIF(E$4:E463,E463)=1,ROW()-1)","v":false}]
[null,null,null,null,null,null,null,null,null,null,null,{"$f":"IF(COUNTIF(E$4:E464,E464)=1,ROW()-1)","v":false}]
[null,null,null,null,null,null,null,null,null,null,null,{"$f":"IF(COUNTIF(E$4:E465,E465)=1,ROW()-1)","v":false}]
[null,null,null,null,null,null,null,null,null,null,null,{"$f":"IF(COUNTIF(E$4:E466,E466)=1,ROW()-1)","v":false}]
[null,null,null,null,null,null,null,null,null,null,null,{"$f":"IF(COUNTIF(E$4:E467,E467)=1,ROW()-1)","v":false}]
[null,null,null,null,null,null,null,null,null,null,null,{"$f":"IF(COUNTIF(E$4:E468,E468)=1,ROW()-1)","v":false}]
[null,null,null,null,null,null,null,null,null,null,null,{"$f":"IF(COUNTIF(E$4:E469,E469)=1,ROW()-1)","v":false}]
[null,null,null,null,null,null,null,null,null,null,null,{"$f":"IF(COUNTIF(E$4:E470,E470)=1,ROW()-1)","v":false}]
[null,null,null,null,null,null,null,null,null,null,null,{"$f":"IF(COUNTIF(E$4:E471,E471)=1,ROW()-1)","v":false}]
[null,null,null,null,null,null,null,null,null,null,null,{"$f":"IF(COUNTIF(E$4:E472,E472)=1,ROW()-1)","v":false}]
[null,null,null,null,null,null,null,null,null,null,null,{"$f":"IF(COUNTIF(E$4:E473,E473)=1,ROW()-1)","v":false}]
[null,null,null,null,null,null,null,null,null,null,null,{"$f":"IF(COUNTIF(E$4:E474,E474)=1,ROW()-1)","v":false}]
[null,null,null,null,null,null,null,null,null,null,null,{"$f":"IF(COUNTIF(E$4:E475,E475)=1,ROW()-1)","v":false}]
[null,null,null,null,null,null,null,null,null,null,null,{"$f":"IF(COUNTIF(E$4:E476,E476)=1,ROW()-1)","v":false}]
[null,null,null,null,null,null,null,null,null,null,null,{"$f":"IF(COUNTIF(E$4:E477,E477)=1,ROW()-1)","v":false}]
[null,null,null,null,null,null,null,null,null,null,null,{"$f":"IF(COUNTIF(E$4:E478,E478)=1,ROW()-1)","v":false}]
[null,null,null,null,null,null,null,null,null,null,null,{"$f":"IF(COUNTIF(E$4:E479,E479)=1,ROW()-1)","v":false}]
[null,null,null,null,null,null,null,null,null,null,null,{"$f":"IF(COUNTIF(E$4:E480,E480)=1,ROW()-1)","v":false}]
[null,null,null,null,null,null,null,null,null,null,null,{"$f":"IF(COUNTIF(E$4:E481,E481)=1,ROW()-1)","v":false}]
[null,null,null,null,null,null,null,null,null,null,null,{"$f":"IF(COUNTIF(E$4:E482,E482)=1,ROW()-1)","v":false}]
[null,null,null,null,null,null,null,null,null,null,null,{"$f":"IF(COUNTIF(E$4:E483,E483)=1,ROW()-1)","v":false}]
[null,null,null,null,null,null,null,null,null,null,null,{"$f":"IF(COUNTIF(E$4:E484,E484)=1,ROW()-1)","v":false}]
[null,null,null,null,null,null,null,null,null,null,null,{"$f":"IF(COUNTIF(E$4:E485,E485)=1,ROW()-1)","v":false}]
[null,null,null,null,null,null,null,null,null,null,null,{"$f":"IF(COUNTIF(E$4:E486,E486)=1,ROW()-1)","v":false}]
[null,null,null,null,null,null,null,null,null,null,null,{"$f":"IF(COUNTIF(E$4:E487,E487)=1,ROW()-1)","v":false}]
[null,null,null,null,null,null,null,null,null,null,null,{"$f":"IF(COUNTIF(E$4:E488,E488)=1,ROW()-1)","v":false}]
[null,null,null,null,null,null,null,null,null,null,null,{"$f":"IF(COUNTIF(E$4:E489,E489)=1,ROW()-1)","v":false}]
[null,null,null,null,null,null,null,null,null,null,null,{"$f":"IF(COUNTIF(E$4:E490,E490)=1,ROW()-1)","v":false}]
[null,null,null,null,null,null,null,null,null,null,null,{"$f":"IF(COUNTIF(E$4:E491,E491)=1,ROW()-1)","v":false}]
[null,null,null,null,null,null,null,null,null,null,null,{"$f":"IF(COUNTIF(E$4:E492,E492)=1,ROW()-1)","v":false}]
[null,null,null,null,null,null,null,null,null,null,null,{"$f":"IF(COUNTIF(E$4:E493,E493)=1,ROW()-1)","v":false}]
[null,null,null,null,null,null,null,null,null,null,null,{"$f":"IF(COUNTIF(E$4:E494,E494)=1,ROW()-1)","v":false}]
[null,null,null,null,null,null,null,null,null,null,null,{"$f":"IF(COUNTIF(E$4:E495,E495)=1,ROW()-1)","v":false}]
[null,null,null,null,null,null,null,null,null,null,null,{"$f":"IF(COUNTIF(E$4:E496,E496)=1,ROW()-1)","v":false}]
[null,null,null,null,null,null,null,null,null,null,null,{"$f":"IF(COUNTIF(E$4:E497,E497)=1,ROW()-1)","v":false}]
[null,null,null,null,null,null,null,null,null,null,null,{"$f":"IF(COUNTIF(E$4:E498,E498)=1,ROW()-1)","v":false}]
[null,null,null,null,null,null,null,null,null,null,null,{"$f":"IF(COUNTIF(E$4:E499,E499)=1,ROW()-1)","v":false}]
[null,null,null,null,null,null,null,null,null,null,null,{"$f":"IF(COUNTIF(E$4:E500,E500)=1,ROW()-1)","v":false}]
[null,null,null,null,null,null,null,null,null,null,null,{"$f":"IF(COUNTIF(E$4:E501,E501)=1,ROW()-1)","v":false}]
[null,null,null,null,null,null,null,null,null,null,null,{"$f":"IF(COUNTIF(E$4:E502,E502)=1,ROW()-1)","v":false}]
[null,null,null,null,null,null,null,null,null,null,null,{"$f":"IF(COUNTIF(E$4:E503,E503)=1,ROW()-1)","v":false}]
[null,null,null,null,null,null,null,null,null,null,null,{"$f":"IF(COUNTIF(E$4:E504,E504)=1,ROW()-1)","v":false}]
[null,null,null,null,null,null,null,null,null,null,null,{"$f":"IF(COUNTIF(E$4:E505,E505)=1,ROW()-1)","v":false}]
[null,null,null,null,null,null,null,null,null,null,null,{"$f":"IF(COUNTIF(E$4:E506,E506)=1,ROW()-1)","v":false}]
[null,null,null,null,null,null,null,null,null,null,null,{"$f":"IF(COUNTIF(E$4:E507,E507)=1,ROW()-1)","v":false}]
[null,null,null,null,null,null,null,null,null,null,null,{"$f":"IF(COUNTIF(E$4:E508,E508)=1,ROW()-1)","v":false}]
[null,null,null,null,null,null,null,null,null,null,null,{"$f":"IF(COUNTIF(E$4:E509,E509)=1,ROW()-1)","v":false}]
[null,null,null,null,null,null,null,null,null,null,null,{"$f":"IF(COUNTIF(E$4:E510,E510)=1,ROW()-1)","v":false}]
[null,null,null,null,null,null,null,null,null,null,null,{"$f":"IF(COUNTIF(E$4:E511,E511)=1,ROW()-1)","v":false}]
[null,null,null,null,null,null,null,null,null,null,null,{"$f":"IF(COUNTIF(E$4:E512,E512)=1,ROW()-1)","v":false}]
[null,null,null,null,null,null,null,null,null,null,null,{"$f":"IF(COUNTIF(E$4:E513,E513)=1,ROW()-1)","v":false}]
[null,null,null,null,null,null,null,null,null,null,null,{"$f":"IF(COUNTIF(E$4:E514,E514)=1,ROW()-1)","v":false}]
[null,null,null,null,null,null,null,null,null,null,null,{"$f":"IF(COUNTIF(E$4:E515,E515)=1,ROW()-1)","v":false}]
[null,null,null,null,null,null,null,null,null,null,null,{"$f":"IF(COUNTIF(E$4:E516,E516)=1,ROW()-1)","v":false}]
[null,null,null,null,null,null,null,null,null,null,null,{"$f":"IF(COUNTIF(E$4:E517,E517)=1,ROW()-1)","v":false}]
[null,null,null,null,null,null,null,null,null,null,null,{"$f":"IF(COUNTIF(E$4:E518,E518)=1,ROW()-1)","v":false}]
[null,null,null,null,null,null,null,null,null,null,null,{"$f":"IF(COUNTIF(E$4:E519,E519)=1,ROW()-1)","v":false}]
[null,null,null,null,null,null,null,null,null,null,null,{"$f":"IF(COUNTIF(E$4:E520,E520)=1,ROW()-1)","v":false}]
[null,null,null,null,null,null,null,null,null,null,null,{"$f":"IF(COUNTIF(E$4:E521,E521)=1,ROW()-1)","v":false}]
[null,null,null,null,null,null,null,null,null,null,null,{"$f":"IF(COUNTIF(E$4:E522,E522)=1,ROW()-1)","v":false}]
[null,null,null,null,null,null,null,null,null,null,null,{"$f":"IF(COUNTIF(E$4:E523,E523)=1,ROW()-1)","v":false}]
[null,null,null,null,null,null,null,null,null,null,null,{"$f":"IF(COUNTIF(E$4:E524,E524)=1,ROW()-1)","v":false}]
[null,null,null,null,null,null,null,null,null,null,null,{"$f":"IF(COUNTIF(E$4:E525,E525)=1,ROW()-1)","v":false}]
[null,null,null,null,null,null,null,null,null,null,null,{"$f":"IF(COUNTIF(E$4:E526,E526)=1,ROW()-1)","v":false}]
[null,null,null,null,null,null,null,null,null,null,null,{"$f":"IF(COUNTIF(E$4:E527,E527)=1,ROW()-1)","v":false}]
[null,null,null,null,null,null,null,null,null,null,null,{"$f":"IF(COUNTIF(E$4:E528,E528)=1,ROW()-1)","v":false}]
[null,null,null,null,null,null,null,null,null,null,null,{"$f":"IF(COUNTIF(E$4:E529,E529)=1,ROW()-1)","v":false}]
[null,null,null,null,null,null,null,null,null,null,null,{"$f":"IF(COUNTIF(E$4:E530,E530)=1,ROW()-1)","v":false}]
[null,null,null,null,null,null,null,null,null,null,null,{"$f":"IF(COUNTIF(E$4:E531,E531)=1,ROW()-1)","v":false}]
[null,null,null,null,null,null,null,null,null,null,null,{"$f":"IF(COUNTIF(E$4:E532,E532)=1,ROW()-1)","v":false}]
[null,null,null,null,null,null,null,null,null,null,null,{"$f":"IF(COUNTIF(E$4:E533,E533)=1,ROW()-1)","v":false}]
[null,null,null,null,null,null,null,null,null,null,null,{"$f":"IF(COUNTIF(E$4:E534,E534)=1,ROW()-1)","v":false}]
[null,null,null,null,null,null,null,null,null,null,null,{"$f":"IF(COUNTIF(E$4:E535,E535)=1,ROW()-1)","v":false}]
[null,null,null,null,null,null,null,null,null,null,null,{"$f":"IF(COUNTIF(E$4:E536,E536)=1,ROW()-1)","v":false}]
[null,null,null,null,null,null,null,null,null,null,null,{"$f":"IF(COUNTIF(E$4:E537,E537)=1,ROW()-1)","v":false}]
[null,null,null,null,null,null,null,null,null,null,null,{"$f":"IF(COUNTIF(E$4:E538,E538)=1,ROW()-1)","v":false}]
[null,null,null,null,null,null,null,null,null,null,null,{"$f":"IF(COUNTIF(E$4:E539,E539)=1,ROW()-1)","v":false}]
[null,null,null,null,null,null,null,null,null,null,null,{"$f":"IF(COUNTIF(E$4:E540,E540)=1,ROW()-1)","v":false}]
[null,null,null,null,null,null,null,null,null,null,null,{"$f":"IF(COUNTIF(E$4:E541,E541)=1,ROW()-1)","v":false}]
[null,null,null,null,null,null,null,null,null,null,null,{"$f":"IF(COUNTIF(E$4:E542,E542)=1,ROW()-1)","v":false}]
[null,null,null,null,null,null,null,null,null,null,null,{"$f":"IF(COUNTIF(E$4:E543,E543)=1,ROW()-1)","v":false}]
[null,null,null,null,null,null,null,null,null,null,null,{"$f":"IF(COUNTIF(E$4:E544,E544)=1,ROW()-1)","v":false}]
[null,null,null,null,null,null,null,null,null,null,null,{"$f":"IF(COUNTIF(E$4:E545,E545)=1,ROW()-1)","v":false}]
[null,null,null,null,null,null,null,null,null,null,null,{"$f":"IF(COUNTIF(E$4:E546,E546)=1,ROW()-1)","v":false}]
[null,null,null,null,null,null,null,null,null,null,null,{"$f":"IF(COUNTIF(E$4:E547,E547)=1,ROW()-1)","v":false}]
[null,null,null,null,null,null,null,null,null,null,null,{"$f":"IF(COUNTIF(E$4:E548,E548)=1,ROW()-1)","v":false}]
[null,null,null,null,null,null,null,null,null,null,null,{"$f":"IF(COUNTIF(E$4:E549,E549)=1,ROW()-1)","v":false}]
[null,null,null,null,null,null,null,null,null,null,null,{"$f":"IF(COUNTIF(E$4:E550,E550)=1,ROW()-1)","v":false}]
[null,null,null,null,null,null,null,null,null,null,null,{"$f":"IF(COUNTIF(E$4:E551,E551)=1,ROW()-1)","v":false}]
[null,null,null,null,null,null,null,null,null,null,null,{"$f":"IF(COUNTIF(E$4:E552,E552)=1,ROW()-1)","v":false}]
[null,null,null,null,null,null,null,null,null,null,null,{"$f":"IF(COUNTIF(E$4:E553,E553)=1,ROW()-1)","v":false}]
[null,null,null,null,null,null,null,null,null,null,null,{"$f":"IF(COUNTIF(E$4:E554,E554)=1,ROW()-1)","v":false}]
[null,null,null,null,null,null,null,null,null,null,null,{"$f":"IF(COUNTIF(E$4:E555,E555)=1,ROW()-1)","v":false}]
[null,null,null,null,null,null,null,null,null,null,null,{"$f":"IF(COUNTIF(E$4:E556,E556)=1,ROW()-1)","v":false}]
[null,null,null,null,null,null,null,null,null,null,null,{"$f":"IF(COUNTIF(E$4:E557,E557)=1,ROW()-1)","v":false}]
[null,null,null,null,null,null,null,null,null,null,null,{"$f":"IF(COUNTIF(E$4:E558,E558)=1,ROW()-1)","v":false}]
[null,null,null,null,null,null,null,null,null,null,null,{"$f":"IF(COUNTIF(E$4:E559,E559)=1,ROW()-1)","v":false}]
[null,null,null,null,null,null,null,null,null,null,null,{"$f":"IF(COUNTIF(E$4:E560,E560)=1,ROW()-1)","v":false}]
[null,null,null,null,null,null,null,null,null,null,null,{"$f":"IF(COUNTIF(E$4:E561,E561)=1,ROW()-1)","v":false}]
[null,null,null,null,null,null,null,null,null,null,null,{"$f":"IF(COUNTIF(E$4:E562,E562)=1,ROW()-1)","v":false}]
[null,null,null,null,null,null,null,null,null,null,null,{"$f":"IF(COUNTIF(E$4:E563,E563)=1,ROW()-1)","v":false}]
[null,null,null,null,null,null,null,null,null,null,null,{"$f":"IF(COUNTIF(E$4:E564,E564)=1,ROW()-1)","v":false}]
[null,null,null,null,null,null,null,null,null,null,null,{"$f":"IF(COUNTIF(E$4:E565,E565)=1,ROW()-1)","v":false}]
[null,null,null,null,null,null,null,null,null,null,null,{"$f":"IF(COUNTIF(E$4:E566,E566)=1,ROW()-1)","v":false}]
[null,null,null,null,null,null,null,null,null,null,null,{"$f":"IF(COUNTIF(E$4:E567,E567)=1,ROW()-1)","v":false}]
[null,null,null,null,null,null,null,null,null,null,null,{"$f":"IF(COUNTIF(E$4:E568,E568)=1,ROW()-1)","v":false}]
[null,null,null,null,null,null,null,null,null,null,null,{"$f":"IF(COUNTIF(E$4:E569,E569)=1,ROW()-1)","v":false}]
[null,null,null,null,null,null,null,null,null,null,null,{"$f":"IF(COUNTIF(E$4:E570,E570)=1,ROW()-1)","v":false}]
[null,null,null,null,null,null,null,null,null,null,null,{"$f":"IF(COUNTIF(E$4:E571,E571)=1,ROW()-1)","v":false}]
[null,null,null,null,null,null,null,null,null,null,null,{"$f":"IF(COUNTIF(E$4:E572,E572)=1,ROW()-1)","v":false}]
[null,null,null,null,null,null,null,null,null,null,null,{"$f":"IF(COUNTIF(E$4:E573,E573)=1,ROW()-1)","v":false}]
[null,null,null,null,null,null,null,null,null,null,null,{"$f":"IF(COUNTIF(E$4:E574,E574)=1,ROW()-1)","v":false}]
[null,null,null,null,null,null,null,null,null,null,null,{"$f":"IF(COUNTIF(E$4:E575,E575)=1,ROW()-1)","v":false}]
[null,null,null,null,null,null,null,null,null,null,null,{"$f":"IF(COUNTIF(E$4:E576,E576)=1,ROW()-1)","v":false}]
[null,null,null,null,null,null,null,null,null,null,null,{"$f":"IF(COUNTIF(E$4:E577,E577)=1,ROW()-1)","v":false}]
[null,null,null,null,null,null,null,null,null,null,null,{"$f":"IF(COUNTIF(E$4:E578,E578)=1,ROW()-1)","v":false}]
[null,null,null,null,null,null,null,null,null,null,null,{"$f":"IF(COUNTIF(E$4:E579,E579)=1,ROW()-1)","v":false}]